{"text_format":"1","workbook":"xlsx","n_sheets":37,"sheets":["Options","ПРОЧИТАТЬ - Описание","Результаты_1","Результаты 2","Основная информация","Финансирование проекта","Инфраструктура","Инфраструктура (формат РЖД)","Debt_Sensitivity","Inputs","Капитальные затраты","Кредит","Фонд оплаты труда","Амортизация","Рассчет себестоимости","Прибыль","Рассчет выручки","Налоги","ОПУ","Баланс","ДДС","Дисконтированные потоки","EBITDA_Sensitivity","NPV_Sensitivity","DSCR_Sensitivity","NPV_Sensitivity test","Лист1","ПРИМЕРЫ","Scenarios_Summary","Формы реализации проекта","Субъекты","ФОИВы","Нац.проекты","Отрасли ОКВЭД","Типы проектов","Макет","Формулы"],"not_rendered":{"charts":21,"images":1,"macros":1,"external_links":6,"defined_names":11497,"comments":1,"pivot_tables":0},"unopened":[],"bounds":{"document_bytes":16777216,"sheet_cells":100000,"rows_first":2000,"rows_last":500,"rows_between":2000,"halvings":0,"cell_chars":16384,"cell_head_chars":4096},"cells_cut":0,"cells_raw":0,"read":"whole","date_system":"1900"}

{"sheet":"Options","index":0,"n_rows":21,"n_cols":3,"rows_kept":21,"cut":false,"hidden":true,"merged":[]}
["Параметры программы"]
["Внимание! Измение этих параметров вручную приведет к неправильной работе ряда формул и макросов"]
[]
["Сборка дистрибутива выполнена?",false]
["Версия программы","6.04"]
["Дата сборки","2010-01-21"]
["Это демоверсия?",false]
["Это пробная версия?",false,"2008-10-15"]
["Показывать диалог \"О программе\"?",false]
["Это версия СУММ?",true]
["Это версия Строительство?",false]
["Метка ESTATE (всегда должна быть равна 0)",0]
[]
["Число строк из проекта на листе Портфель",122]
[]
["СБОРКА ДИСТРИБУТИВА"]
["Сейчас будет собрана модификация:",{"$f":"IF(B21=1,\"Альт-Инвест \",\"ALT-invest \")&IF(B18=1,IF(B21=1,\"Сумм \",\"Summ \"),\"\")&IF(B19=1,IF(B21=1,\"Строительство \",\"Estate \"),\"\")&IF(B20=1,IF(B21=1,\"Демо \",\"Demo \"),\"\")&IF(B20=2,IF(B21=1,\"Пробная \",\"Trial \"),\"\")&IF(B21=1,\"(русская)\",\"(english)\")","v":"Альт-Инвест Сумм (русская)"}]
["Сумм?",1,"0 - нет, 1 - да"]
["Строительство?",0,"0 - нет, 1 - да"]
["Демо или пробная версия?",0,"0 - рабочая, 1 - демо, 2 - пробная"]
["Базовый язык интерфейса?",1,"1 - русский, 2 - английский"]

{"sheet":"ПРОЧИТАТЬ - Описание","index":1,"n_rows":33,"n_cols":4,"rows_kept":33,"cut":false,"hidden":false,"merged":[[20,3,20,4],[31,2,31,4],[32,2,32,4],[2,1,2,4],[3,1,3,4],[9,3,9,4],[13,3,14,4],[16,3,16,4],[19,3,19,4]]}
[null,null,"Описание"]
[]
[null,"Предоставляемая в Минфин России/АНО ИТР финансовая модель проекта должна соответствовать требованиям к архитектуре, содержанию и оформлению финансовых моделей. \nЛисты файла являются примерами оформления отдельных блоков финансовой модели."]
[null,"Предоставляемая в Минфин России/АНО ИТР финансовая модель должна содержать полный набор расчетных и итоговых листов, связанных посредством расчетных формул, построенных с учетом специфики отрасли и конкретного проекта, основные графики, ссылки на источники и прочую необходимую для расчетов и анализа информацию."]
[null,null,"Цвета листов:"]
[null,null,"Результаты","Подтягиваются результаты для сведения Минфина (по умолчанию не меняются)."]
[]
[null,null,"Информация","Представляется общая информация по проекту, переключатели сценариев мер поддержки и проч."]
[]
[null,null,"ОПУ","Ключевые сводные листы. Детальная информация и расчеты подтягиваются с детальных листов."]
[]
[null,null,"Лист А","Листы для блоков детальной информации и расчетов."]
[null,null,null,"Исходные параметры (Исходная информация или Inputs. См. листы ПРИМЕР). "]
[null,null,null,"Детальные блоки расчетов с учетом специфики проекта / бизнеса: выручка, себестоимость и иные расходы, капитальные затраты и амортизация и проч."]
[]
[]
[null,null,"Примеры","Примеры представления листов, инструкция по формированию переключателей, примеры анализа чувствительности и сценариев, упрощения формул."]
[]
[null,null,"Используемые форматы ячеек на листах далее (для информации):"]
[null,null,43124.626039873699,"- ячейки, предназначенные для заполнения с помощью активных ссылок (связи с расчетными листами модели)"]
[null,null,{"$f":"C20*2","v":86249.252079747399},"- ячейки с формулами, заполнять не требуется. Возможны корректировки при необходимости"]
[]
[]
[]
[]
[]
[]
[]
[]
[]
[]
[null,null,"Возможно добавлять свои расчетные блоки"]
[null,null,"Сведения, представленные в данной модели, являются конфиденциальными (ограниченного доступа)"]

{"sheet":"Результаты_1","index":2,"n_rows":168,"n_cols":32,"rows_kept":168,"cut":false,"hidden":false,"merged":[[47,5,47,6],[48,5,48,6]]}
[]
[null,null,"1. Оценка коммерческой эффективности проекта"]
[]
[null,null,"Ключевые финансовые показатели "]
[]
[null,"Структура финансирования капитальных и иных затрат "]
[]
[null,null,"Затраты \\ источники",null,null,null,null,"с НДС / без НДС","Заемные средства","Собственные средства","Итого"]
[null,null,"ПИР","в валюте (руб)",null,{"$f":"'Капитальные затраты'!E26","v":1604644.8},null,"тыс. руб.",{"$f":"F9*49%","v":786275.95200000005},{"$f":"F9*51%","v":818368.848},{"$f":"SUM(I9:J9)","v":1604644.8}]
[null,null,"СМР","в валюте (руб)",null,{"$f":"'Капитальные затраты'!E27","v":24932472},null,"тыс. руб.",{"$f":"F10*80%","v":19945977.600000001},{"$f":"F10*14%","v":3490546.0800000005},23436523.680000003]
[null,null,"Российское оборудование","в валюте  (руб)",null,{"$f":"'Капитальные затраты'!E28","v":23436050.399999999},null,"тыс. руб.",{"$f":"F11*80%","v":18748840.32},{"$f":"F11*13%","v":3046686.5520000001},21795526.872000001]
[null,null,"Импортное оборудование (импорт пересчитан в руб.)","в валюте  (руб)",null,{"$f":"'Капитальные затраты'!E29","v":43524093.600000001},null,"тыс. руб.",{"$f":"F12*80%","v":34819274.880000003},{"$f":"F12*13%","v":5658132.1680000005},40477407.048]
[null,null,"НИОКР","в валюте  (руб)",null,{"$f":"'Капитальные затраты'!E30","v":0},null,"тыс. руб.",null,null,0]
[null,null,"Оборотный капитал","в валюте (руб)",null,{"$f":"'Капитальные затраты'!I17","v":0},null,"тыс. руб.",{"$f":"F14*80%","v":0},{"$f":"F14*20%","v":0},0]
[null,null,"Иное","в валюте  (руб)",null,{"$f":"'Капитальные затраты'!E32","v":0},null,"тыс. руб.",{"$f":"F15*80%","v":0},{"$f":"F15*20%","v":0},0]
[null,null,"Финансирование итого ","в валюте  (руб)",null,{"$f":"'Капитальные затраты'!E33","v":0},null,"тыс. руб.",{"$f":"SUM(I9:I15)","v":74300368.752000004},{"$f":"SUM(J9:J15)","v":13013733.648000002},{"$f":"SUM(K9:K15)","v":87314102.400000006}]
[null,null,"Итого структура финансирования",null,null,null,null,"%",{"$f":"IFERROR(I16/$K$16,\"н/д\")","v":0.85095496271172799},{"$f":"IFERROR(J16/$K$16,\"н/д\")","v":0.14904503728827201}]
[null,"*возможно добавление нескольких столбцов при наличии нескольких валют"]
[]
[null,"Сроки реализации"]
[]
[null,null,"Инвестиционная фаза",2019,null,2024]
[null,null,"Период финансирования ОС (выборка)",2020,null,2024]
[null,null,"Год выхода на прибыльность",2025]
[null,null,"Год выхода на полную мощность",2024]
[]
[null,null,"Периоды строительства инфраструктуры"]
[null,null,"Инфраструктура в модели проекта "]
[null,null,"Указать наименование объекта","ОТ",null,"ДО"]
[null,null,"Указать наименование объекта","ОТ",null,"ДО"]
[null,null,"Указать наименование объекта","ОТ",null,"ДО"]
[null,null,"Инфраструктура за периметром проекта"]
[null,null,"Указать наименование объекта","ОТ",null,"ДО"]
[null,null,"Указать наименование объекта","ОТ",null,"ДО"]
[null,null,"Указать наименование объекта","ОТ",null,"ДО"]
[]
[]
[null,"Результаты реализации проекта"]
[]
[null,null,null,null,null,"База расчета"]
[null,null,null,null,null,"Для Проекта","Для акционеров"]
[null,null,"NPV","тыс. руб.",null,{"$f":"'Дисконтированные потоки'!E45","v":173247438.74000129},{"$f":"'Дисконтированные потоки'!E48","v":114701169.46812618}]
[null,null,"   в т.ч. Терминальная стоимость","тыс. руб.",null,{"$f":"'Дисконтированные потоки'!AJ29","v":447166048.55403769},{"$f":"'Дисконтированные потоки'!AJ30","v":355527925.62556911}]
[null,null,"IRR","%",null,{"$f":"'Дисконтированные потоки'!E51","v":0.19198467334795116},{"$f":"'Дисконтированные потоки'!E58","v":0.4803598855497917}]
[]
[null,null,"Период окупаемости","лет",null,{"$f":"'Дисконтированные потоки'!E67","v":9.6074839564251171},{"$f":"'Дисконтированные потоки'!E74","v":5.487237964494887}]
[null,null,"Дисконтированный период окупаемости","лет",null,{"$f":"'Дисконтированные потоки'!E70","v":10.461332492411936},{"$f":"'Дисконтированные потоки'!E77","v":5.4743098883947843}]
[null,null,"Прогнозный период финансовой модели","лет",null,{"$f":"AE65-F65","v":25}]
[null,null,"Дисконтированный бюджетный эффект (прогнозный период)","тыс. руб.",null,{"$f":"F141","v":58072532.848909408}]
[]
[]
[null,null,"Показатели операционной стадии:"]
[null,null,"DSCR min",{"$f":"SMALL(F97:AE97,COUNTIF(F97:AE97,0)+1)","v":1.1447023751489024E-15}]
[null,null,"DSCR срзнач",{"$f":"AVERAGE(F96:AE96)","v":20.61696035812853}]
[null,null,"EBITDA рентабельность max",{"$f":"MAX(F68:AE68)/MAX(F66:AE66)","v":0.54011608422444279}]
[null,null,"EBITDA рентабельность срзнач",{"$f":"AVERAGE(F68:AE68)/AVERAGE(F66:AE66)","v":0.5749006287527233}]
[null,null,"D/EBITDA max",{"$f":"MAX(F97:AE97)","v":4.6169168964051392}]
[null,null,"D/EBITDA срзнач",{"$f":"AVERAGE(F97:AE97)","v":1.5417037151841606}]
[null,null,"WACC срзнач",{"$f":"'Дисконтированные потоки'!E24","v":4.7986131187980195E-2}]
[null,null,"Стоимость акционерного капитала (Cost of equity)",{"$f":"'Дисконтированные потоки'!E16","v":9.3581999999999999E-2}]
[null,null,"Максимальная загрузка (мощность), %",0.95]
[]
[]
[null,"Финансовые результаты"]
[null,null,null,null,null,2019,2020,2021,2022,2023,2024,2025,2026,2027,2028,2029,2030,2031,2032,2033,2034,2035,2036,2037,2038,2039,2040,2041,2042,2043,2044,"Итого"]
[null,null,"Выручка","тыс. руб.",null,{"$f":"ОПУ!I36","v":0},{"$f":"ОПУ!J36","v":0},{"$f":"ОПУ!K36","v":0},{"$f":"ОПУ!L36","v":0},{"$f":"ОПУ!M36","v":0},{"$f":"ОПУ!N36","v":28988201.476258855},{"$f":"ОПУ!O36","v":29992215.597453158},{"$f":"ОПУ!P36","v":30970633.784749489},{"$f":"ОПУ!Q36","v":31938764.000573851},{"$f":"ОПУ!R36","v":32916482.011973489},{"$f":"ОПУ!S36","v":33878403.398010649},{"$f":"ОПУ!T36","v":34826688.218083411},{"$f":"ОПУ!U36","v":35758600.909276903},{"$f":"ОПУ!V36","v":36671386.491056524},{"$f":"ОПУ!W36","v":37562283.577195913},{"$f":"ОПУ!X36","v":38428537.807420872},{"$f":"ОПУ!Y36","v":39267415.611727476},{"$f":"ОПУ!Z36","v":40076218.214918934},{"$f":"ОПУ!AA36","v":40852295.784246229},{"$f":"ОПУ!AB36","v":41643402.126757234},{"$f":"ОПУ!AC36","v":42449828.275246009},{"$f":"ОПУ!AD36","v":43271870.898368321},{"$f":"ОПУ!AE36","v":44109832.409780301},{"$f":"ОПУ!AF36","v":44964021.079390675},{"$f":"ОПУ!AG36","v":45834751.146767244},{"$f":"ОПУ!AH36","v":46722342.936739653},{"$f":"SUM(F66:AE66)","v":801124175.75599515}]
[null,null,"Валовая прибыль","тыс. руб.",null,{"$f":"ОПУ!I50","v":0},{"$f":"ОПУ!J50","v":0},{"$f":"ОПУ!K50","v":0},{"$f":"ОПУ!L50","v":0},{"$f":"ОПУ!M50","v":0},{"$f":"ОПУ!N50","v":18864456.289455492},{"$f":"ОПУ!O50","v":19496906.046192825},{"$f":"ОПУ!P50","v":20089220.763066664},{"$f":"ОПУ!Q50","v":20656126.838264383},{"$f":"ОПУ!R50","v":21217906.051439926},{"$f":"ОПУ!S50","v":21747534.122360177},{"$f":"ОПУ!T50","v":22245506.090332665},{"$f":"ОПУ!U50","v":22713460.241614029},{"$f":"ОПУ!V50","v":23142879.836776562},{"$f":"ОПУ!W50","v":23532289.304132007},{"$f":"ОПУ!X50","v":23877158.145128038},{"$f":"ОПУ!Y50","v":24173956.878942937},{"$f":"ОПУ!Z50","v":24418148.14371454},{"$f":"ОПУ!AA50","v":24612286.286042422},{"$f":"ОПУ!AB50","v":24798175.624474037},{"$f":"ОПУ!AC50","v":24998449.074832439},{"$f":"ОПУ!AD50","v":25165888.986342482},{"$f":"ОПУ!AE50","v":25323063.677677698},{"$f":"ОПУ!AF50","v":25469234.054408245},{"$f":"ОПУ!AG50","v":25603625.097189792},{"$f":"ОПУ!AH50","v":25725424.30158338},487871695.85397065]
[null,null,"EBITDA","тыс. руб.",null,{"$f":"ОПУ!I60","v":0},{"$f":"ОПУ!J60","v":0},{"$f":"ОПУ!K60","v":0},{"$f":"ОПУ!L60","v":0},{"$f":"ОПУ!M60","v":0},{"$f":"ОПУ!N60","v":16823178.726148825},{"$f":"ОПУ!O60","v":17551204.574192829},{"$f":"ОПУ!P60","v":18176942.544918098},{"$f":"ОПУ!Q60","v":18836264.016931057},{"$f":"ОПУ!R60","v":19489440.490053263},{"$f":"ОПУ!S60","v":20034104.543693513},{"$f":"ОПУ!T60","v":20595206.244999334},{"$f":"ОПУ!U60","v":21143411.456547365},{"$f":"ОПУ!V60","v":21653487.052776564},{"$f":"ОПУ!W60","v":22123957.461998675},{"$f":"ОПУ!X60","v":22550292.185661372},{"$f":"ОПУ!Y60","v":22928961.742942937},{"$f":"ОПУ!Z60","v":23255428.771981202},{"$f":"ОПУ!AA60","v":23532247.61937575},{"$f":"ОПУ!AB60","v":23801222.603674036},{"$f":"ОПУ!AC60","v":24084986.640699103},{"$f":"ОПУ!AD60","v":24336322.079675812},{"$f":"ОПУ!AE60","v":24577797.239277694},{"$f":"ОПУ!AF60","v":24808673.02507491},{"$f":"ОПУ!AG60","v":25028174.417723123},{"$f":"ОПУ!AH60","v":25235488.912783377},460566792.35112888]
[null,null,"EBIT","тыс. руб.",null,{"$f":"ОПУ!I65","v":0},{"$f":"ОПУ!J65","v":0},{"$f":"ОПУ!K65","v":0},{"$f":"ОПУ!L65","v":0},{"$f":"ОПУ!M65","v":0},{"$f":"ОПУ!N65","v":12868657.86430544},{"$f":"ОПУ!O65","v":13628866.995050102},{"$f":"ОПУ!P65","v":14158917.169888593},{"$f":"ОПУ!Q65","v":14843525.506880639},{"$f":"ОПУ!R65","v":15521988.844981931},{"$f":"ОПУ!S65","v":15910621.44767167},{"$f":"ОПУ!T65","v":16421436.769757714},{"$f":"ОПУ!U65","v":16959584.705461789},{"$f":"ОПУ!V65","v":17459603.025847033},{"$f":"ОПУ!W65","v":17920016.159225188},{"$f":"ОПУ!X65","v":18336293.607043929},{"$f":"ОПУ!Y65","v":18704905.888481539},{"$f":"ОПУ!Z65","v":19021315.641675849},{"$f":"ОПУ!AA65","v":19288077.213226438},{"$f":"ОПУ!AB65","v":19546994.921680771},{"$f":"ОПУ!AC65","v":19951258.129242495},{"$f":"ОПУ!AD65","v":20192844.208522372},{"$f":"ОПУ!AE65","v":20424570.008427422},{"$f":"ОПУ!AF65","v":20645696.434527807},{"$f":"ОПУ!AG65","v":20855448.467479188},{"$f":"ОПУ!AH65","v":21053013.60284261},373713636.61222053]
[null,null,"EBT","тыс. руб.",null,{"$f":"ОПУ!I71","v":0},{"$f":"ОПУ!J71","v":0},{"$f":"ОПУ!K71","v":0},{"$f":"ОПУ!L71","v":0},{"$f":"ОПУ!M71","v":0},{"$f":"ОПУ!N71","v":8891414.5684387758},{"$f":"ОПУ!O71","v":9886726.3850501031},{"$f":"ОПУ!P71","v":10533165.088145738},{"$f":"ОПУ!Q71","v":11446964.878547309},{"$f":"ОПУ!R71","v":12352005.657715265},{"$f":"ОПУ!S71","v":12829100.671005007},{"$f":"ОПУ!T71","v":13518066.751424385},{"$f":"ОПУ!U71","v":14265468.726795129},{"$f":"ОПУ!V71","v":14975780.75084704},{"$f":"ОПУ!W71","v":15647527.251891863},{"$f":"ОПУ!X71","v":16276177.73137727},{"$f":"ОПУ!Y71","v":16858202.708481546},{"$f":"ОПУ!Z71","v":17389064.821342524},{"$f":"ОПУ!AA71","v":17871318.416559782},{"$f":"ОПУ!AB71","v":18346767.812680781},{"$f":"ОПУ!AC71","v":18968602.371909171},{"$f":"ОПУ!AD71","v":19428799.466855716},{"$f":"ОПУ!AE71","v":19880175.946427431},{"$f":"ОПУ!AF71","v":20321992.716194484},{"$f":"ОПУ!AG71","v":20753474.756812532},{"$f":"ОПУ!AH71","v":21053013.60284261},331493811.08134449]
[null,null,"Чистая прибыль","тыс. руб.",null,{"$f":"ОПУ!I80","v":0},{"$f":"ОПУ!J80","v":0},{"$f":"ОПУ!K80","v":0},{"$f":"ОПУ!L80","v":0},{"$f":"ОПУ!M80","v":0},{"$f":"ОПУ!N80","v":7113131.6547510205},{"$f":"ОПУ!O80","v":7909381.1080400823},{"$f":"ОПУ!P80","v":8426532.07051659},{"$f":"ОПУ!Q80","v":9157571.9028378464},{"$f":"ОПУ!R80","v":9881604.5261722114},{"$f":"ОПУ!S80","v":10263280.536804006},{"$f":"ОПУ!T80","v":10814453.401139509},{"$f":"ОПУ!U80","v":11412374.981436104},{"$f":"ОПУ!V80","v":11980624.600677632},{"$f":"ОПУ!W80","v":12518021.801513489},{"$f":"ОПУ!X80","v":13020942.185101816},{"$f":"ОПУ!Y80","v":13486562.166785236},{"$f":"ОПУ!Z80","v":13911251.857074019},{"$f":"ОПУ!AA80","v":14297054.733247826},{"$f":"ОПУ!AB80","v":14677414.250144625},{"$f":"ОПУ!AC80","v":15174881.897527337},{"$f":"ОПУ!AD80","v":15543039.573484574},{"$f":"ОПУ!AE80","v":15904140.757141944},{"$f":"ОПУ!AF80","v":16257594.172955588},{"$f":"ОПУ!AG80","v":16602779.805450026},{"$f":"ОПУ!AH80","v":16842410.882274088},265195048.86507559]
[]
[null,null,"Балансовые показатели"]
[null,null,"Активы итого","тыс. руб.",null,{"$f":"Баланс!I23","v":594099.19999999995},{"$f":"Баланс!J23","v":10518976},{"$f":"Баланс!K23","v":36864520},{"$f":"Баланс!L23","v":63034368},{"$f":"Баланс!M23","v":96288100},{"$f":"Баланс!N23","v":134667422.88989535},{"$f":"Баланс!O23","v":123787070.87848859},{"$f":"Баланс!P23","v":131874401.69872209},{"$f":"Баланс!Q23","v":138074217.22915739},{"$f":"Баланс!R23","v":145104176.29175621},{"$f":"Баланс!S23","v":156013908.72829396},{"$f":"Баланс!T23","v":165360130.55973709},{"$f":"Баланс!U23","v":174596218.5483439},{"$f":"Баланс!V23","v":184448515.88803354},{"$f":"Баланс!W23","v":194888861.63357356},{"$f":"Баланс!X23","v":205885578.09981662},{"$f":"Баланс!Y23","v":217404275.98224196},{"$f":"Баланс!Z23","v":229407052.53073448},{"$f":"Баланс!AA23","v":241858169.57410991},{"$f":"Баланс!AB23","v":254755458.34173915},{"$f":"Баланс!AC23","v":268212118.7565881},{"$f":"Баланс!AD23","v":282109969.83921295},{"$f":"Баланс!AE23","v":296445638.56419879},{"$f":"Баланс!AF23","v":311215307.96926218},{"$f":"Баланс!AG23","v":326414694.30886656},{"$f":"Баланс!AH23","v":341942386.42663544}]
[null,null,"Долгосрочные кредиты","тыс. руб.",null,{"$f":"Баланс!I33","v":0},{"$f":"Баланс!J33","v":4890076.8},{"$f":"Баланс!K33","v":22178624},{"$f":"Баланс!L33","v":48043859.199999996},{"$f":"Баланс!M33","v":80573960},{"$f":"Баланс!N33","v":77671218.112000003},{"$f":"Баланс!O33","v":72984412.800000012},{"$f":"Баланс!P33","v":70611305.458285689},{"$f":"Баланс!Q33","v":66039457.280000016},{"$f":"Баланс!R33","v":61519889.348571479},{"$f":"Баланс!S33","v":59676713.600000024},{"$f":"Баланс!T33","v":56089872.800000027},{"$f":"Баланс!U33","v":51900026.880000032},{"$f":"Баланс!V33","v":47689387.680000037},{"$f":"Баланс!W33","v":43457955.200000033},{"$f":"Баланс!X33","v":39205729.440000035},{"$f":"Баланс!Y33","v":34932710.400000036},{"$f":"Баланс!Z33","v":30638898.080000032},{"$f":"Баланс!AA33","v":26324292.480000034},{"$f":"Баланс!AB33","v":21988893.600000028},{"$f":"Баланс!AC33","v":17632701.440000027},{"$f":"Баланс!AD33","v":13255716.000000028},{"$f":"Баланс!AE33","v":8857937.2800000291},{"$f":"Баланс!AF33","v":4439365.2800000282},{"$f":"Баланс!AG33","v":2.8649810701608657E-8},{"$f":"Баланс!AH33","v":0}]
[]
[null,null,"Финансирование"]
[null,null,"Участие государства в создании инфраструктурных условий","тыс. руб.",null,{"$f":"ДДС!I34","v":0},{"$f":"ДДС!J34","v":0},{"$f":"ДДС!K34","v":0},{"$f":"ДДС!L34","v":0},{"$f":"ДДС!M34","v":0},{"$f":"ДДС!N34","v":0},{"$f":"ДДС!O34","v":0},{"$f":"ДДС!P34","v":0},{"$f":"ДДС!Q34","v":0},{"$f":"ДДС!R34","v":0},{"$f":"ДДС!S34","v":0},{"$f":"ДДС!T34","v":0},{"$f":"ДДС!U34","v":0},{"$f":"ДДС!V34","v":0},{"$f":"ДДС!W34","v":0},{"$f":"ДДС!X34","v":0},{"$f":"ДДС!Y34","v":0},{"$f":"ДДС!Z34","v":0},{"$f":"ДДС!AA34","v":0},{"$f":"ДДС!AB34","v":0},{"$f":"ДДС!AC34","v":0},{"$f":"ДДС!AD34","v":0},{"$f":"ДДС!AE34","v":0},{"$f":"ДДС!AF34","v":0},{"$f":"ДДС!AG34","v":0},{"$f":"ДДС!AH34","v":0},{"$f":"SUM(F78:AE78)","v":0}]
[null,null,"Компенсация части капитальных затрат на реализацию проекта","тыс. руб.",null,{"$f":"ДДС!I35","v":0},{"$f":"ДДС!J35","v":0},{"$f":"ДДС!K35","v":0},{"$f":"ДДС!L35","v":0},{"$f":"ДДС!M35","v":0},{"$f":"ДДС!N35","v":0},{"$f":"ДДС!O35","v":0},{"$f":"ДДС!P35","v":0},{"$f":"ДДС!Q35","v":0},{"$f":"ДДС!R35","v":0},{"$f":"ДДС!S35","v":0},{"$f":"ДДС!T35","v":0},{"$f":"ДДС!U35","v":0},{"$f":"ДДС!V35","v":0},{"$f":"ДДС!W35","v":0},{"$f":"ДДС!X35","v":0},{"$f":"ДДС!Y35","v":0},{"$f":"ДДС!Z35","v":0},{"$f":"ДДС!AA35","v":0},{"$f":"ДДС!AB35","v":0},{"$f":"ДДС!AC35","v":0},{"$f":"ДДС!AD35","v":0},{"$f":"ДДС!AE35","v":0},{"$f":"ДДС!AF35","v":0},{"$f":"ДДС!AG35","v":0},{"$f":"ДДС!AH35","v":0},{"$f":"SUM(F79:AE79)","v":0}]
[null,null,"Собственный капитал","тыс. руб.",null,{"$f":"Баланс!I38","v":594099.19999999995},{"$f":"Баланс!J38","v":5628899.2000000002},{"$f":"Баланс!K38","v":14685896},{"$f":"Баланс!L38","v":14990508.799999999},{"$f":"Баланс!M38","v":15714140},{"$f":"Баланс!N38","v":56428127.263228685},{"$f":"Баланс!O38","v":50005026.878488585},{"$f":"Баланс!P38","v":59731903.207293563},{"$f":"Баланс!Q38","v":70245977.495824069},{"$f":"Баланс!R38","v":81542454.729851395},{"$f":"Баланс!S38","v":93275160.72829397},{"$f":"Баланс!T38","v":105619553.22640377},{"$f":"Баланс!U38","v":118626226.81501056},{"$f":"Баланс!V38","v":132268097.48803353},{"$f":"Баланс!W38","v":146517004.30024022},{"$f":"Баланс!X38","v":161341269.56648329},{"$f":"Баланс!Y38","v":176706503.98224196},{"$f":"Баланс!Z38","v":192574804.79740113},{"$f":"Баланс!AA38","v":208910433.84077656},{"$f":"Баланс!AB38","v":225711222.34173915},{"$f":"Баланс!AC38","v":242967127.55658808},{"$f":"Баланс!AD38","v":260682629.83921295},{"$f":"Баланс!AE38","v":278854356.16419882},{"$f":"Баланс!AF38","v":297478489.56926221},{"$f":"Баланс!AG38","v":316550746.30886656},{"$f":"Баланс!AH38","v":335969715.22663546},{"$f":"SUM(F80:AE80)","v":3663620374.5260744}]
[null,null,"Привлечение кредитов","тыс. руб.",null,{"$f":"ДДС!I39","v":0},{"$f":"ДДС!J39","v":4890076.8},{"$f":"ДДС!K39","v":17169920},{"$f":"ДДС!L39","v":25923600},{"$f":"ДДС!M39","v":31452600},{"$f":"ДДС!N39","v":0},{"$f":"ДДС!O39","v":0},{"$f":"ДДС!P39","v":0},{"$f":"ДДС!Q39","v":0},{"$f":"ДДС!R39","v":0},{"$f":"ДДС!S39","v":0},{"$f":"ДДС!T39","v":0},{"$f":"ДДС!U39","v":0},{"$f":"ДДС!V39","v":0},{"$f":"ДДС!W39","v":0},{"$f":"ДДС!X39","v":0},{"$f":"ДДС!Y39","v":0},{"$f":"ДДС!Z39","v":0},{"$f":"ДДС!AA39","v":0},{"$f":"ДДС!AB39","v":0},{"$f":"ДДС!AC39","v":0},{"$f":"ДДС!AD39","v":0},{"$f":"ДДС!AE39","v":0},{"$f":"ДДС!AF39","v":0},{"$f":"ДДС!AG39","v":0},{"$f":"ДДС!AH39","v":0},{"$f":"ДДС!AI39","v":0}]
[null,null,"Выплата кредитов","тыс. руб.",null,{"$f":"ДДС!I40","v":0},{"$f":"ДДС!J40","v":0},{"$f":"ДДС!K40","v":0},{"$f":"ДДС!L40","v":0},{"$f":"ДДС!M40","v":0},{"$f":"ДДС!N40","v":4087958.8479999998},{"$f":"ДДС!O40","v":4054689.5999999996},{"$f":"ДДС!P40","v":4153606.2034285692},{"$f":"ДДС!Q40","v":4127466.08},{"$f":"ДДС!R40","v":4101325.9565714304},{"$f":"ДДС!S40","v":4262622.3999999994},{"$f":"ДДС!T40","v":4314605.5999999996},{"$f":"ДДС!U40","v":4325002.24},{"$f":"ДДС!V40","v":4335398.88},{"$f":"ДДС!W40","v":4345795.5199999996},{"$f":"ДДС!X40","v":4356192.1599999992},{"$f":"ДДС!Y40","v":4366588.8},{"$f":"ДДС!Z40","v":4376985.4399999995},{"$f":"ДДС!AA40","v":4387382.08},{"$f":"ДДС!AB40","v":4397778.72},{"$f":"ДДС!AC40","v":4408175.3599999994},{"$f":"ДДС!AD40","v":4418572},{"$f":"ДДС!AE40","v":4428968.6399999997},{"$f":"ДДС!AF40","v":4439365.28},{"$f":"ДДС!AG40","v":4449761.919999999},{"$f":"ДДС!AH40","v":4460158.5599999996},{"$f":"ДДС!AI40","v":0}]
[null,null,"Процентные и комиссионные выплаты","тыс. руб.",null,{"$f":"ДДС!I41","v":0},{"$f":"ДДС!J41","v":0},{"$f":"ДДС!K41","v":0},{"$f":"ДДС!L41","v":0},{"$f":"ДДС!M41","v":0},{"$f":"ДДС!N41","v":3977243.2958666654},{"$f":"ДДС!O41","v":3742140.6099999994},{"$f":"ДДС!P41","v":3625752.0817428543},{"$f":"ДДС!Q41","v":3396560.6283333302},{"$f":"ДДС!R41","v":3169983.1872666655},{"$f":"ДДС!S41","v":3081520.7766666627},{"$f":"ДДС!T41","v":2903370.0183333284},{"$f":"ДДС!U41","v":2694115.9786666604},{"$f":"ДДС!V41","v":2483822.2749999929},{"$f":"ДДС!W41","v":2272488.9073333265},{"$f":"ДДС!X41","v":2060115.8756666589},{"$f":"ДДС!Y41","v":1846703.1799999913},{"$f":"ДДС!Z41","v":1632250.8203333232},{"$f":"ДДС!AA41","v":1416758.7966666562},{"$f":"ДДС!AB41","v":1200227.1089999883},{"$f":"ДДС!AC41","v":982655.75733332196},{"$f":"ДДС!AD41","v":764044.74166665599},{"$f":"ДДС!AE41","v":544394.06199998991},{"$f":"ДДС!AF41","v":323703.7183333232},{"$f":"ДДС!AG41","v":101973.71066665644},{"$f":"ДДС!AH41","v":0},{"$f":"ДДС!AI41","v":0}]
[]
[]
[null,"Ключевые показатели эффективности"]
[null,null,null,null,null,2019,2020,2021,2022,2023,2024,2025,2026,2027,2028,2029,2030,2031,2032,2033,2034,2035,2036,2037,2038,2039,2040,2041,2042,2043,2044]
[null,null,"Коэф-ты рентабельности"]
[null,null,"Валовая рент-ть","%",null,{"$f":"ОПУ!I51","v":0},{"$f":"ОПУ!J51","v":0},{"$f":"ОПУ!K51","v":0},{"$f":"ОПУ!L51","v":0},{"$f":"ОПУ!M51","v":0},{"$f":"ОПУ!N51","v":0.65076325293603865},{"$f":"ОПУ!O51","v":0.65006554726982024},{"$f":"ОПУ!P51","v":0.64865384747014665},{"$f":"ОПУ!Q51","v":0.64674158454889641},{"$f":"ОПУ!R51","v":0.64459823026415264},{"$f":"ОПУ!S51","v":0.64192913304873156},{"$f":"ОПУ!T51","v":0.638748822484416},{"$f":"ОПУ!U51","v":0.63518872841922192},{"$f":"ОПУ!V51","v":0.63108821485167144},{"$f":"ОПУ!W51","v":0.62648718509804546},{"$f":"ОПУ!X51","v":0.62133923140102298},{"$f":"ОПУ!Y51","v":0.6156238321862777},{"$f":"ОПУ!Z51","v":0.60929272349915842},{"$f":"ОПУ!AA51","v":0.60247008922160983},{"$f":"ОПУ!AB51","v":0.59548870548548205},{"$f":"ОПУ!AC51","v":0.58889399770339979},{"$f":"ОПУ!AD51","v":0.58157617093675118},{"$f":"ОПУ!AE51","v":0.57409113329714023},{"$f":"ОПУ!AF51","v":0.56643586234065946},{"$f":"ОПУ!AG51","v":0.55860726755567069},{"$f":"ОПУ!AH51","v":0.55060218911570136}]
[null,null,"EBITDA рент-ть","%",null,{"$f":"ОПУ!I61","v":0},{"$f":"ОПУ!J61","v":0},{"$f":"ОПУ!K61","v":0},{"$f":"ОПУ!L61","v":0},{"$f":"ОПУ!M61","v":0},{"$f":"ОПУ!N61","v":0.58034572237697801},{"$f":"ОПУ!O61","v":0.58519199814245204},{"$f":"ОПУ!P61","v":0.58690896257566283},{"$f":"ОПУ!Q61","v":0.5897618335071646},{"$f":"ОПУ!R61","v":0.59208758952320328},{"$f":"ОПУ!S61","v":0.59135326739954697},{"$f":"ОПУ!T61","v":0.59136275364550683},{"$f":"ОПУ!U61","v":0.59128184321837096},{"$f":"ОПУ!V61","v":0.5904736396606507},{"$f":"ОПУ!W61","v":0.5889939416630714},{"$f":"ОПУ!X61","v":0.58681109072296578},{"$f":"ОПУ!Y61","v":0.58391827895327675},{"$f":"ОПУ!Z61","v":0.58028002161451553},{"$f":"ОПУ!AA61","v":0.57603243997979747},{"$f":"ОПУ!AB61","v":0.57154846597850317},{"$f":"ОПУ!AC61","v":0.56737536096804209},{"$f":"ОПУ!AD61","v":0.56240512772914275},{"$f":"ОПУ!AE61","v":0.55719543459041021},{"$f":"ОПУ!AF61","v":0.55174498253329041},{"$f":"ОПУ!AG61","v":0.54605236837831894},{"$f":"ОПУ!AH61","v":0.54011608422444279}]
[null,null,"Чистая рент-ть","%",null,{"$f":"ОПУ!I81","v":0},{"$f":"ОПУ!J81","v":0},{"$f":"ОПУ!K81","v":0},{"$f":"ОПУ!L81","v":0},{"$f":"ОПУ!M81","v":0},{"$f":"ОПУ!N81","v":0.24538023376774956},{"$f":"ОПУ!O81","v":0.26371446558658779},{"$f":"ОПУ!P81","v":0.27208135710370801},{"$f":"ОПУ!Q81","v":0.28672280188028909},{"$f":"ОПУ!R81","v":0.30020232789694057},{"$f":"ОПУ!S81","v":0.3029446345575621},{"$f":"ОПУ!T81","v":0.31052201499665455},{"$f":"ОПУ!U81","v":0.31915048942743662},{"$f":"ОПУ!V81","v":0.32670225336583564},{"$f":"ОПУ!W81","v":0.3332604040376605},{"$f":"ОПУ!X81","v":0.33883522319674009},{"$f":"ОПУ!Y81","v":0.34345428535809686},{"$f":"ОПУ!Z81","v":0.34711987499597358},{"$f":"ОПУ!AA81","v":0.34996943155300381},{"$f":"ОПУ!AB81","v":0.35245473473729255},{"$f":"ОПУ!AC81","v":0.35747805148074874},{"$f":"ОПУ!AD81","v":0.35919499783104281},{"$f":"ОПУ!AE81","v":0.3605577234887789},{"$f":"ОПУ!AF81","v":0.36156895630509522},{"$f":"ОПУ!AG81","v":0.36223126318033977},{"$f":"ОПУ!AH81","v":0.36047873080932813}]
[]
[]
[null,null,"Показатели долговой нагрузки"]
[null,null,"CFADS ","тыс. руб.",null,{"$f":"'Дисконтированные потоки'!I38","v":8072},{"$f":"'Дисконтированные потоки'!J38","v":131808},{"$f":"'Дисконтированные потоки'!K38","v":338880},{"$f":"'Дисконтированные потоки'!L38","v":342000},{"$f":"'Дисконтированные потоки'!M38","v":405840},{"$f":"'Дисконтированные потоки'!N38","v":35201915.103545219},{"$f":"'Дисконтированные потоки'!O38","v":19954051.052461445},{"$f":"'Дисконтированные потоки'!P38","v":20377234.250986792},{"$f":"'Дисконтированные потоки'!Q38","v":20669774.136666074},{"$f":"'Дисконтированные потоки'!R38","v":20963675.939078037},{"$f":"'Дисконтированные потоки'!S38","v":21374984.977734108},{"$f":"'Дисконтированные потоки'!T38","v":21671962.354448743},{"$f":"'Дисконтированные потоки'!U38","v":21919692.393347189},{"$f":"'Дисконтированные потоки'!V38","v":22137152.408565745},{"$f":"'Дисконтированные потоки'!W38","v":22325283.30577511},{"$f":"'Дисконтированные потоки'!X38","v":22479553.518277835},{"$f":"'Дисконтированные потоки'!Y38","v":22597247.279838175},{"$f":"'Дисконтированные потоки'!Z38","v":22673835.992710058},{"$f":"'Дисконтированные потоки'!AA38","v":22717544.787067097},{"$f":"'Дисконтированные потоки'!AB38","v":22756884.201734036},{"$f":"'Дисконтированные потоки'!AC38","v":22807248.398508839},{"$f":"'Дисконтированные потоки'!AD38","v":22836609.457465466},{"$f":"'Дисконтированные потоки'!AE38","v":22860381.73830767},{"$f":"'Дисконтированные потоки'!AF38","v":22878115.847178984},{"$f":"'Дисконтированные потоки'!AG38","v":22889339.325558871},{"$f":"'Дисконтированные потоки'!AH38","v":23038510.782329276}]
[null,null,"DSCR ",null,null,{"$f":"'Дисконтированные потоки'!I39","v":0},{"$f":"'Дисконтированные потоки'!J39","v":0},{"$f":"'Дисконтированные потоки'!K39","v":0},{"$f":"'Дисконтированные потоки'!L39","v":0},{"$f":"'Дисконтированные потоки'!M39","v":0},{"$f":"'Дисконтированные потоки'!N39","v":8.8508327212792519},{"$f":"'Дисконтированные потоки'!O39","v":5.3322558214779239},{"$f":"'Дисконтированные потоки'!P39","v":5.6201399851894198},{"$f":"'Дисконтированные потоки'!Q39","v":6.0855013051271794},{"$f":"'Дисконтированные потоки'!R39","v":6.6131820582790146},{"$f":"'Дисконтированные потоки'!S39","v":6.9365052280633392},{"$f":"'Дисконтированные потоки'!T39","v":7.4644162533886993},{"$f":"'Дисконтированные потоки'!U39","v":8.1361354028253157},{"$f":"'Дисконтированные потоки'!V39","v":8.9125347781035611},{"$f":"'Дисконтированные потоки'!W39","v":9.824155019516871},{"$f":"'Дисконтированные потоки'!X39","v":10.911790828757821},{"$f":"'Дисконтированные потоки'!Y39","v":12.236534557674981},{"$f":"'Дисконтированные потоки'!Z39","v":13.891146942771831},{"$f":"'Дисконтированные потоки'!AA39","v":16.034871172507867},{"$f":"'Дисконтированные потоки'!AB39","v":18.960481754736186},{"$f":"'Дисконтированные потоки'!AC39","v":23.209804886710192},{"$f":"'Дисконтированные потоки'!AD39","v":29.889099698076084},{"$f":"'Дисконтированные потоки'!AE39","v":41.992342191102175},{"$f":"'Дисконтированные потоки'!AF39","v":70.676098393225757},{"$f":"'Дисконтированные потоки'!AG39","v":224.46314031252834},{"$f":"'Дисконтированные потоки'!AH39","v":0}]
[null,null,"Долг / EBITDA",null,null,{"$f":"IF(F68=0, 0, IF(F75/F68<0, neg, IF(F75/F68>10, \">10х\",F75/F68)))","v":0},{"$f":"IF(G68=0, 0, IF(G75/G68<0, neg, IF(G75/G68>10, \">10х\",G75/G68)))","v":0},{"$f":"IF(H68=0, 0, IF(H75/H68<0, neg, IF(H75/H68>10, \">10х\",H75/H68)))","v":0},{"$f":"IF(I68=0, 0, IF(I75/I68<0, neg, IF(I75/I68>10, \">10х\",I75/I68)))","v":0},{"$f":"IF(J68=0, 0, IF(J75/J68<0, neg, IF(J75/J68>10, \">10х\",J75/J68)))","v":0},{"$f":"IF(K68=0, 0, IF(K75/K68<0, neg, IF(K75/K68>10, \">10х\",K75/K68)))","v":4.6169168964051392},{"$f":"IF(L68=0, 0, IF(L75/L68<0, neg, IF(L75/L68>10, \">10х\",L75/L68)))","v":4.1583705831402469},{"$f":"IF(M68=0, 0, IF(M75/M68<0, neg, IF(M75/M68>10, \">10х\",M75/M68)))","v":3.8846635116876227},{"$f":"IF(N68=0, 0, IF(N75/N68<0, neg, IF(N75/N68>10, \">10х\",N75/N68)))","v":3.5059742855929481},{"$f":"IF(O68=0, 0, IF(O75/O68<0, neg, IF(O75/O68>10, \">10х\",O75/O68)))","v":3.1565754481237729},{"$f":"IF(P68=0, 0, IF(P75/P68<0, neg, IF(P75/P68>10, \">10х\",P75/P68)))","v":2.9787562239104672},{"$f":"IF(Q68=0, 0, IF(Q75/Q68<0, neg, IF(Q75/Q68>10, \">10х\",Q75/Q68)))","v":2.7234431222857531},{"$f":"IF(R68=0, 0, IF(R75/R68<0, neg, IF(R75/R68>10, \">10х\",R75/R68)))","v":2.4546666457615776},{"$f":"IF(S68=0, 0, IF(S75/S68<0, neg, IF(S75/S68>10, \">10х\",S75/S68)))","v":2.2023883526826671},{"$f":"IF(T68=0, 0, IF(T75/T68<0, neg, IF(T75/T68>10, \">10х\",T75/T68)))","v":1.9642939232117855},{"$f":"IF(U68=0, 0, IF(U75/U68<0, neg, IF(U75/U68>10, \">10х\",U75/U68)))","v":1.7385907516058281},{"$f":"IF(V68=0, 0, IF(V75/V68<0, neg, IF(V75/V68>10, \">10х\",V75/V68)))","v":1.5235190669176988},{"$f":"IF(W68=0, 0, IF(W75/W68<0, neg, IF(W75/W68>10, \">10х\",W75/W68)))","v":1.3174944388432279},{"$f":"IF(X68=0, 0, IF(X75/X68<0, neg, IF(X75/X68>10, \">10х\",X75/X68)))","v":1.1186476067133255},{"$f":"IF(Y68=0, 0, IF(Y75/Y68<0, neg, IF(Y75/Y68>10, \">10х\",Y75/Y68)))","v":0.92385563406334215},{"$f":"IF(Z68=0, 0, IF(Z75/Z68<0, neg, IF(Z75/Z68>10, \">10х\",Z75/Z68)))","v":0.73210343451899929},{"$f":"IF(AA68=0, 0, IF(AA75/AA68<0, neg, IF(AA75/AA68>10, \">10х\",AA75/AA68)))","v":0.54468855057890531},{"$f":"IF(AB68=0, 0, IF(AB75/AB68<0, neg, IF(AB75/AB68>10, \">10х\",AB75/AB68)))","v":0.36040403433079793},{"$f":"IF(AC68=0, 0, IF(AC75/AC68<0, neg, IF(AC75/AC68>10, \">10х\",AC75/AC68)))","v":0.17894408441406848},{"$f":"IF(AD68=0, 0, IF(AD75/AD68<0, neg, IF(AD75/AD68>10, \">10х\",AD75/AD68)))","v":1.1447023751489024E-15},{"$f":"IF(AE68=0, 0, IF(AE75/AE68<0, neg, IF(AE75/AE68>10, \">10х\",AE75/AE68)))","v":0}]
[null,null,"Долг / Собственные средства",null,null,{"$f":"IFERROR(SUM(F75)/F80,0)","v":0},{"$f":"IFERROR(SUM(G75)/G80,0)","v":0.868744780506995},{"$f":"IFERROR(SUM(H75)/H80,0)","v":1.5101989010408354},3.20495186927878,5.1274813639181014,1.3764628010721587,1.4595415172428756,1.1821372108843788,0.94011727979621151,0.7544522611244131,0.63979212830128918,0.53105576653753683,0.43750887365687313,0.3605509460383261,0.29660690516813126,0.24299876618886204,0.19768774557110011,0.15910128073209667,0.12600755259578555,9.7420471042009765E-2,7.257237477894328E-2,5.0850016390336601E-2,3.1765461375056224E-2,1.492331525021545E-2,9.0506217520189681E-17,0]
[]
[]
[]
[null,null,"2. Оценка бюджетной эффективности проекта"]
[]
[null,null,"Бюджетная эффективность** "]
[null,null,null,null,null,2019,2020,2021,2022,2023,2024,2025,2026,2027,2028,2029,2030,2031,2032,2033,2034,2035,2036,2037,2038,2039,2040,2041,2042,2043,2044]
[null,null,"Всего выплаты в бюджет и внебюджетные фонды","тыс. руб.",null,{"$f":"F107+F120+F124","v":0},{"$f":"G107+G120+G124","v":0},0,0,0,4010556.8077486325,4121682.9329943988,4225492.8671214692,4324100.6936402954,4422305.3853911217,4511625.9530275268,{"$f":"Q107+Q120+Q124","v":4595584.4853844643},4674480.6717825979,4745940.6011805898,4809684.6262033368,4864822.7327814167,4910665.7538171792,4946323.6151675433,{"$f":"X107+X120+X124","v":4972326.2803109568},4997052.4308817834,5051159.5099626202,5073063.3455431601,5093348.4750110488,5111889.0937908152,5128553.0928965006,5119042.5899185427]
[null,null,"1. Всего налоги","тыс. руб.",null,{"$f":"SUM(F108,F114)","v":0},{"$f":"SUM(G108,G114)","v":0},0,0,0,3877303.553734066,3983099.5488192495,4081366.1475793142,4174208.9053164544,4266417.9255343266,4349502.9947764603,4426976.6088033551,4499128.4801382441,4563574.321870462,4620023.6957208039,4667575.3650795827,4705528.4914072715,4732980.8622612394,{"$f":"SUM(X108,X114)","v":4750448.8172884006},4766298.9093383253,4811174.9275574237,4823478.4998417553,4833779.3954815883,4841936.451080176,4847801.5844774358,4827060.3011627151]
[null,null,"Федеральный бюджет",null,null,{"$f":"SUM(F109:F113)","v":0},{"$f":"SUM(G109:G113)","v":0},0,0,0,373439.41187442862,415242.50817210437,442392.93370212108,480772.52489898703,518784.2376240411,538822.22818221024,567758.80355982424,599149.68652539537,628982.79153557564,657196.14457945828,683599.46471784532,708044.513756225,730340.72249638604,{"$f":"SUM(X109:X113)","v":750595.37349551078},770564.24813259277,796681.29962018516,816009.57760794007,834967.38974995213,853523.69408016826,871645.93978612637,884226.57131938951]
[null,null,"НДС","тыс. руб."]
[null,null,"Акцизы","тыс. руб."]
[null,null,"Налог на прибыль","тыс. руб.",null,{"$f":"ОПУ!I78*21%","v":0},{"$f":"ОПУ!J78*21%","v":0},{"$f":"ОПУ!K78*21%","v":0},{"$f":"ОПУ!L78*21%","v":0},{"$f":"ОПУ!M78*21%","v":0},{"$f":"ОПУ!N78*21%","v":373439.41187442862},{"$f":"ОПУ!O78*21%","v":415242.50817210437},{"$f":"ОПУ!P78*21%","v":442392.93370212108},{"$f":"ОПУ!Q78*21%","v":480772.52489898703},{"$f":"ОПУ!R78*21%","v":518784.2376240411},{"$f":"ОПУ!S78*21%","v":538822.22818221024},{"$f":"ОПУ!T78*21%","v":567758.80355982424},{"$f":"ОПУ!U78*21%","v":599149.68652539537},{"$f":"ОПУ!V78*21%","v":628982.79153557564},{"$f":"ОПУ!W78*21%","v":657196.14457945828},{"$f":"ОПУ!X78*21%","v":683599.46471784532},{"$f":"ОПУ!Y78*21%","v":708044.513756225},{"$f":"ОПУ!Z78*21%","v":730340.72249638604},{"$f":"ОПУ!AA78*21%","v":750595.37349551078},{"$f":"ОПУ!AB78*21%","v":770564.24813259277},{"$f":"ОПУ!AC78*21%","v":796681.29962018516},{"$f":"ОПУ!AD78*21%","v":816009.57760794007},{"$f":"ОПУ!AE78*21%","v":834967.38974995213},{"$f":"ОПУ!AF78*21%","v":853523.69408016826},{"$f":"ОПУ!AG78*21%","v":871645.93978612637},{"$f":"ОПУ!AH78*21%","v":884226.57131938951}]
[null,null,"НДПИ","тыс. руб."]
[null,null,"Прочие","тыс. руб."]
[null,null,"Региональный бюджет",null,null,{"$f":"SUM(F115:F119)","v":0},0,0,0,0,3503864.1418596376,3567857.0406471454,3638973.2138771932,3693436.3804174671,3747633.6879102858,3810680.7665942502,3859217.8052435312,3899978.7936128485,3934591.5303348866,3962827.5511413454,3983975.9003617377,3997483.9776510461,4002640.1397648533,{"$f":"SUM(X115:X119)","v":3999853.4437928898},3995734.6612057327,4014493.6279372382,4007468.9222338153,3998812.0057316367,3988412.7570000081,3976155.6446913099,3942833.7298433259]
[null,null,"Налог на имущество организаций","тыс. руб.",null,{"$f":"ОПУ!I55","v":0},{"$f":"ОПУ!J55","v":0},{"$f":"ОПУ!K55","v":0},{"$f":"ОПУ!L55","v":0},{"$f":"ОПУ!M55","v":0},{"$f":"ОПУ!N55","v":2041277.5633066655},{"$f":"ОПУ!O55","v":1945701.4719999973},{"$f":"ОПУ!P55","v":1912278.2181485659},{"$f":"ОПУ!Q55","v":1819862.8213333278},{"$f":"ОПУ!R55","v":1728465.5613866628},{"$f":"ОПУ!S55","v":1713429.578666663},{"$f":"ОПУ!T55","v":1650299.8453333301},{"$f":"ОПУ!U55","v":1570048.7850666647},{"$f":"ОПУ!V55","v":1489392.7839999988},{"$f":"ОПУ!W55","v":1408331.842133333},{"$f":"ОПУ!X55","v":1326865.9594666671},{"$f":"ОПУ!Y55","v":1244995.1360000013},{"$f":"ОПУ!Z55","v":1162719.3717333358},{"$f":"ОПУ!AA55","v":1080038.6666666698},{"$f":"ОПУ!AB55","v":996953.02080000367},{"$f":"ОПУ!AC55","v":913462.43413333688},{"$f":"ОПУ!AD55","v":829566.90666667023},{"$f":"ОПУ!AE55","v":745266.43840000278},{"$f":"ОПУ!AF55","v":660561.02933333581},{"$f":"ОПУ!AG55","v":575450.67946666863},{"$f":"ОПУ!AH55","v":489935.38880000164}]
[null,null,"Налог на прибыль","тыс. руб.",null,{"$f":"ОПУ!I78*79%","v":0},{"$f":"ОПУ!J78*79%","v":0},{"$f":"ОПУ!K78*79%","v":0},{"$f":"ОПУ!L78*79%","v":0},{"$f":"ОПУ!M78*79%","v":0},{"$f":"ОПУ!N78*79%","v":1404843.5018133267},{"$f":"ОПУ!O78*79%","v":1562102.7688379164},{"$f":"ОПУ!P78*79%","v":1664240.0839270269},{"$f":"ОПУ!Q78*79%","v":1808620.450810475},{"$f":"ОПУ!R78*79%","v":1951616.8939190118},{"$f":"ОПУ!S78*79%","v":2026997.9060187913},{"$f":"ОПУ!T78*79%","v":2135854.5467250533},{"$f":"ОПУ!U78*79%","v":2253944.0588336308},{"$f":"ОПУ!V78*79%","v":2366173.3586338325},{"$f":"ОПУ!W78*79%","v":2472309.3057989147},{"$f":"ОПУ!X78*79%","v":2571636.0815576087},{"$f":"ОПУ!Y78*79%","v":2663596.0279400847},{"$f":"ОПУ!Z78*79%","v":2747472.241772119},{"$f":"ОПУ!AA78*79%","v":2823668.3098164457},{"$f":"ОПУ!AB78*79%","v":2898789.3144035637},{"$f":"ОПУ!AC78*79%","v":2997039.1747616492},{"$f":"ОПУ!AD78*79%","v":3069750.3157632034},{"$f":"ОПУ!AE78*79%","v":3141067.7995355343},{"$f":"ОПУ!AF78*79%","v":3210874.8491587285},{"$f":"ОПУ!AG78*79%","v":3279049.0115763801},{"$f":"ОПУ!AH78*79%","v":3326376.1492491323}]
[null,null,"НДФЛ","тыс. руб.",null,{"$f":"'Фонд оплаты труда'!C8+'Фонд оплаты труда'!C18+'Фонд оплаты труда'!C28+'Фонд оплаты труда'!C38","v":0},{"$f":"'Фонд оплаты труда'!D8+'Фонд оплаты труда'!D18+'Фонд оплаты труда'!D28+'Фонд оплаты труда'!D38","v":0},{"$f":"'Фонд оплаты труда'!E8+'Фонд оплаты труда'!E18+'Фонд оплаты труда'!E28+'Фонд оплаты труда'!E38","v":0},{"$f":"'Фонд оплаты труда'!F8+'Фонд оплаты труда'!F18+'Фонд оплаты труда'!F28+'Фонд оплаты труда'!F38","v":0},{"$f":"'Фонд оплаты труда'!G8+'Фонд оплаты труда'!G18+'Фонд оплаты труда'!G28+'Фонд оплаты труда'!G38","v":0},{"$f":"'Фонд оплаты труда'!H8+'Фонд оплаты труда'!H18+'Фонд оплаты труда'!H28+'Фонд оплаты труда'!H38","v":57743.076739645454},{"$f":"'Фонд оплаты труда'!I8+'Фонд оплаты труда'!I18+'Фонд оплаты труда'!I28+'Фонд оплаты труда'!I38","v":60052.799809231263},{"$f":"'Фонд оплаты труда'!J8+'Фонд оплаты труда'!J18+'Фонд оплаты труда'!J28+'Фонд оплаты труда'!J38","v":62454.911801600509},{"$f":"'Фонд оплаты труда'!K8+'Фонд оплаты труда'!K18+'Фонд оплаты труда'!K28+'Фонд оплаты труда'!K38","v":64953.108273664548},{"$f":"'Фонд оплаты труда'!L8+'Фонд оплаты труда'!L18+'Фонд оплаты труда'!L28+'Фонд оплаты труда'!L38","v":67551.232604611127},{"$f":"'Фонд оплаты труда'!M8+'Фонд оплаты труда'!M18+'Фонд оплаты труда'!M28+'Фонд оплаты труда'!M38","v":70253.281908795558},{"$f":"'Фонд оплаты труда'!N8+'Фонд оплаты труда'!N18+'Фонд оплаты труда'!N28+'Фонд оплаты труда'!N38","v":73063.413185147394},{"$f":"'Фонд оплаты труда'!O8+'Фонд оплаты труда'!O18+'Фонд оплаты труда'!O28+'Фонд оплаты труда'!O38","v":75985.94971255328},{"$f":"'Фонд оплаты труда'!P8+'Фонд оплаты труда'!P18+'Фонд оплаты труда'!P28+'Фонд оплаты труда'!P38","v":79025.387701055413},{"$f":"'Фонд оплаты труда'!Q8+'Фонд оплаты труда'!Q18+'Фонд оплаты труда'!Q28+'Фонд оплаты труда'!Q38","v":82186.403209097625},{"$f":"'Фонд оплаты труда'!R8+'Фонд оплаты труда'!R18+'Фонд оплаты труда'!R28+'Фонд оплаты труда'!R38","v":85473.85933746153},{"$f":"'Фонд оплаты труда'!S8+'Фонд оплаты труда'!S18+'Фонд оплаты труда'!S28+'Фонд оплаты труда'!S38","v":88892.813710960021},{"$f":"'Фонд оплаты труда'!T8+'Фонд оплаты труда'!T18+'Фонд оплаты труда'!T28+'Фонд оплаты труда'!T38","v":92448.526259398408},{"$f":"'Фонд оплаты труда'!U8+'Фонд оплаты труда'!U18+'Фонд оплаты труда'!U28+'Фонд оплаты труда'!U38","v":96146.467309774351},{"$f":"'Фонд оплаты труда'!V8+'Фонд оплаты труда'!V18+'Фонд оплаты труда'!V28+'Фонд оплаты труда'!V38","v":99992.326002165311},{"$f":"'Фонд оплаты труда'!W8+'Фонд оплаты труда'!W18+'Фонд оплаты труда'!W28+'Фонд оплаты труда'!W38","v":103992.01904225192},{"$f":"'Фонд оплаты труда'!X8+'Фонд оплаты труда'!X18+'Фонд оплаты труда'!X28+'Фонд оплаты труда'!X38","v":108151.69980394201},{"$f":"'Фонд оплаты труда'!Y8+'Фонд оплаты труда'!Y18+'Фонд оплаты труда'!Y28+'Фонд оплаты труда'!Y38","v":112477.76779609968},{"$f":"'Фонд оплаты труда'!Z8+'Фонд оплаты труда'!Z18+'Фонд оплаты труда'!Z28+'Фонд оплаты труда'!Z38","v":116976.87850794365},{"$f":"'Фонд оплаты труда'!AA8+'Фонд оплаты труда'!AA18+'Фонд оплаты труда'!AA28+'Фонд оплаты труда'!AA38","v":121655.95364826141},{"$f":"'Фонд оплаты труда'!AB8+'Фонд оплаты труда'!AB18+'Фонд оплаты труда'!AB28+'Фонд оплаты труда'!AB38","v":126522.19179419187}]
[null,null,"НДПИ","тыс. руб."]
[null,null,"Прочие","тыс. руб."]
[null,null,"2. Страховые взносы во внебюджетные фонды","тыс. руб.",null,{"$f":"F121+F122+F123","v":0},{"$f":"G121+G122+G123","v":0},0,0,0,133253.25401456642,138583.38417514908,144126.71954215504,149891.78832384123,155887.45985679486,162122.95825106668,168607.87658110936,175352.19164435373,182366.27931012789,189660.930482533,197247.3677018343,205137.26240990771,213342.752906304,{"$f":"X121+X122+X123","v":221876.46302255619},230751.5215434584,239981.58240519674,249580.84570140459,259564.07952946075,269946.64271063916,280744.5084190648,291974.28875582735]
[null,null,"Пенсионный фонд","тыс. руб.",null,{"$f":"'Фонд оплаты труда'!C9+'Фонд оплаты труда'!C19+'Фонд оплаты труда'!C29+'Фонд оплаты труда'!C39","v":0},{"$f":"'Фонд оплаты труда'!D9+'Фонд оплаты труда'!D19+'Фонд оплаты труда'!D29+'Фонд оплаты труда'!D39","v":0},{"$f":"'Фонд оплаты труда'!E9+'Фонд оплаты труда'!E19+'Фонд оплаты труда'!E29+'Фонд оплаты труда'!E39","v":0},{"$f":"'Фонд оплаты труда'!F9+'Фонд оплаты труда'!F19+'Фонд оплаты труда'!F29+'Фонд оплаты труда'!F39","v":0},{"$f":"'Фонд оплаты труда'!G9+'Фонд оплаты труда'!G19+'Фонд оплаты труда'!G29+'Фонд оплаты труда'!G39","v":0},{"$f":"'Фонд оплаты труда'!H9+'Фонд оплаты труда'!H19+'Фонд оплаты труда'!H29+'Фонд оплаты труда'!H39","v":97719.052944015377},{"$f":"'Фонд оплаты труда'!I9+'Фонд оплаты труда'!I19+'Фонд оплаты труда'!I29+'Фонд оплаты труда'!I39","v":101627.815061776},{"$f":"'Фонд оплаты труда'!J9+'Фонд оплаты труда'!J19+'Фонд оплаты труда'!J29+'Фонд оплаты труда'!J39","v":105692.92766424702},{"$f":"'Фонд оплаты труда'!K9+'Фонд оплаты труда'!K19+'Фонд оплаты труда'!K29+'Фонд оплаты труда'!K39","v":109920.64477081691},{"$f":"'Фонд оплаты труда'!L9+'Фонд оплаты труда'!L19+'Фонд оплаты труда'!L29+'Фонд оплаты труда'!L39","v":114317.47056164958},{"$f":"'Фонд оплаты труда'!M9+'Фонд оплаты труда'!M19+'Фонд оплаты труда'!M29+'Фонд оплаты труда'!M39","v":118890.16938411556},{"$f":"'Фонд оплаты труда'!N9+'Фонд оплаты труда'!N19+'Фонд оплаты труда'!N29+'Фонд оплаты труда'!N39","v":123645.7761594802},{"$f":"'Фонд оплаты труда'!O9+'Фонд оплаты труда'!O19+'Фонд оплаты труда'!O29+'Фонд оплаты труда'!O39","v":128591.60720585941},{"$f":"'Фонд оплаты труда'!P9+'Фонд оплаты труда'!P19+'Фонд оплаты труда'!P29+'Фонд оплаты труда'!P39","v":133735.27149409379},{"$f":"'Фонд оплаты труда'!Q9+'Фонд оплаты труда'!Q19+'Фонд оплаты труда'!Q29+'Фонд оплаты труда'!Q39","v":139084.68235385753},{"$f":"'Фонд оплаты труда'!R9+'Фонд оплаты труда'!R19+'Фонд оплаты труда'!R29+'Фонд оплаты труда'!R39","v":144648.06964801182},{"$f":"'Фонд оплаты труда'!S9+'Фонд оплаты труда'!S19+'Фонд оплаты труда'!S29+'Фонд оплаты труда'!S39","v":150433.99243393232},{"$f":"'Фонд оплаты труда'!T9+'Фонд оплаты труда'!T19+'Фонд оплаты труда'!T29+'Фонд оплаты труда'!T39","v":156451.3521312896},{"$f":"'Фонд оплаты труда'!U9+'Фонд оплаты труда'!U19+'Фонд оплаты труда'!U29+'Фонд оплаты труда'!U39","v":162709.40621654122},{"$f":"'Фонд оплаты труда'!V9+'Фонд оплаты труда'!V19+'Фонд оплаты труда'!V29+'Фонд оплаты труда'!V39","v":169217.78246520282},{"$f":"'Фонд оплаты труда'!W9+'Фонд оплаты труда'!W19+'Фонд оплаты труда'!W29+'Фонд оплаты труда'!W39","v":175986.49376381095},{"$f":"'Фонд оплаты труда'!X9+'Фонд оплаты труда'!X19+'Фонд оплаты труда'!X29+'Фонд оплаты труда'!X39","v":183025.95351436338},{"$f":"'Фонд оплаты труда'!Y9+'Фонд оплаты труда'!Y19+'Фонд оплаты труда'!Y29+'Фонд оплаты труда'!Y39","v":190346.99165493788},{"$f":"'Фонд оплаты труда'!Z9+'Фонд оплаты труда'!Z19+'Фонд оплаты труда'!Z29+'Фонд оплаты труда'!Z39","v":197960.8713211354},{"$f":"'Фонд оплаты труда'!AA9+'Фонд оплаты труда'!AA19+'Фонд оплаты труда'!AA29+'Фонд оплаты труда'!AA39","v":205879.30617398085},{"$f":"'Фонд оплаты труда'!AB9+'Фонд оплаты труда'!AB19+'Фонд оплаты труда'!AB29+'Фонд оплаты труда'!AB39","v":214114.47842094008}]
[null,null,"Фонд обязательного медицинского страхования","тыс. руб.",null,{"$f":"'Фонд оплаты труда'!C10+'Фонд оплаты труда'!C20+'Фонд оплаты труда'!C30+'Фонд оплаты труда'!C40","v":0},{"$f":"'Фонд оплаты труда'!D10+'Фонд оплаты труда'!D20+'Фонд оплаты труда'!D30+'Фонд оплаты труда'!D40","v":0},{"$f":"'Фонд оплаты труда'!E10+'Фонд оплаты труда'!E20+'Фонд оплаты труда'!E30+'Фонд оплаты труда'!E40","v":0},{"$f":"'Фонд оплаты труда'!F10+'Фонд оплаты труда'!F20+'Фонд оплаты труда'!F30+'Фонд оплаты труда'!F40","v":0},{"$f":"'Фонд оплаты труда'!G10+'Фонд оплаты труда'!G20+'Фонд оплаты труда'!G30+'Фонд оплаты труда'!G40","v":0},{"$f":"'Фонд оплаты труда'!H10+'Фонд оплаты труда'!H20+'Фонд оплаты труда'!H30+'Фонд оплаты труда'!H40","v":22653.053182476291},{"$f":"'Фонд оплаты труда'!I10+'Фонд оплаты труда'!I20+'Фонд оплаты труда'!I30+'Фонд оплаты труда'!I40","v":23559.175309775339},{"$f":"'Фонд оплаты труда'!J10+'Фонд оплаты труда'!J20+'Фонд оплаты труда'!J30+'Фонд оплаты труда'!J40","v":24501.542322166359},{"$f":"'Фонд оплаты труда'!K10+'Фонд оплаты труда'!K20+'Фонд оплаты труда'!K30+'Фонд оплаты труда'!K40","v":25481.60401505301},{"$f":"'Фонд оплаты труда'!L10+'Фонд оплаты труда'!L20+'Фонд оплаты труда'!L30+'Фонд оплаты труда'!L40","v":26500.868175655123},{"$f":"'Фонд оплаты труда'!M10+'Фонд оплаты труда'!M20+'Фонд оплаты труда'!M30+'Фонд оплаты труда'!M40","v":27560.902902681333},{"$f":"'Фонд оплаты труда'!N10+'Фонд оплаты труда'!N20+'Фонд оплаты труда'!N30+'Фонд оплаты труда'!N40","v":28663.339018788589},{"$f":"'Фонд оплаты труда'!O10+'Фонд оплаты труда'!O20+'Фонд оплаты труда'!O30+'Фонд оплаты труда'!O40","v":29809.872579540133},{"$f":"'Фонд оплаты труда'!P10+'Фонд оплаты труда'!P20+'Фонд оплаты труда'!P30+'Фонд оплаты труда'!P40","v":31002.267482721738},{"$f":"'Фонд оплаты труда'!Q10+'Фонд оплаты труда'!Q20+'Фонд оплаты труда'!Q30+'Фонд оплаты труда'!Q40","v":32242.358182030606},{"$f":"'Фонд оплаты труда'!R10+'Фонд оплаты труда'!R20+'Фонд оплаты труда'!R30+'Фонд оплаты труда'!R40","v":33532.052509311834},{"$f":"'Фонд оплаты труда'!S10+'Фонд оплаты труда'!S20+'Фонд оплаты труда'!S30+'Фонд оплаты труда'!S40","v":34873.334609684302},{"$f":"'Фонд оплаты труда'!T10+'Фонд оплаты труда'!T20+'Фонд оплаты труда'!T30+'Фонд оплаты труда'!T40","v":36268.267994071677},{"$f":"'Фонд оплаты труда'!U10+'Фонд оплаты труда'!U20+'Фонд оплаты труда'!U30+'Фонд оплаты труда'!U40","v":37718.998713834546},{"$f":"'Фонд оплаты труда'!V10+'Фонд оплаты труда'!V20+'Фонд оплаты труда'!V30+'Фонд оплаты труда'!V40","v":39227.758662387925},{"$f":"'Фонд оплаты труда'!W10+'Фонд оплаты труда'!W20+'Фонд оплаты труда'!W30+'Фонд оплаты труда'!W40","v":40796.869008883441},{"$f":"'Фонд оплаты труда'!X10+'Фонд оплаты труда'!X20+'Фонд оплаты труда'!X30+'Фонд оплаты труда'!X40","v":42428.743769238776},{"$f":"'Фонд оплаты труда'!Y10+'Фонд оплаты труда'!Y20+'Фонд оплаты труда'!Y30+'Фонд оплаты труда'!Y40","v":44125.893520008329},{"$f":"'Фонд оплаты труда'!Z10+'Фонд оплаты труда'!Z20+'Фонд оплаты труда'!Z30+'Фонд оплаты труда'!Z40","v":45890.929260808654},{"$f":"'Фонд оплаты труда'!AA10+'Фонд оплаты труда'!AA20+'Фонд оплаты труда'!AA30+'Фонд оплаты труда'!AA40","v":47726.566431241008},{"$f":"'Фонд оплаты труда'!AB10+'Фонд оплаты труда'!AB20+'Фонд оплаты труда'!AB30+'Фонд оплаты труда'!AB40","v":49635.629088490656}]
[null,null,"Фонд социального страхования","тыс. руб.",null,{"$f":"'Фонд оплаты труда'!C11+'Фонд оплаты труда'!C21+'Фонд оплаты труда'!C31+'Фонд оплаты труда'!C41","v":0},{"$f":"'Фонд оплаты труда'!D11+'Фонд оплаты труда'!D21+'Фонд оплаты труда'!D31+'Фонд оплаты труда'!D41","v":0},{"$f":"'Фонд оплаты труда'!E11+'Фонд оплаты труда'!E21+'Фонд оплаты труда'!E31+'Фонд оплаты труда'!E41","v":0},{"$f":"'Фонд оплаты труда'!F11+'Фонд оплаты труда'!F21+'Фонд оплаты труда'!F31+'Фонд оплаты труда'!F41","v":0},{"$f":"'Фонд оплаты труда'!G11+'Фонд оплаты труда'!G21+'Фонд оплаты труда'!G31+'Фонд оплаты труда'!G41","v":0},{"$f":"'Фонд оплаты труда'!H11+'Фонд оплаты труда'!H21+'Фонд оплаты труда'!H31+'Фонд оплаты труда'!H41","v":12881.147888074755},{"$f":"'Фонд оплаты труда'!I11+'Фонд оплаты труда'!I21+'Фонд оплаты труда'!I31+'Фонд оплаты труда'!I41","v":13396.393803597744},{"$f":"'Фонд оплаты труда'!J11+'Фонд оплаты труда'!J21+'Фонд оплаты труда'!J31+'Фонд оплаты труда'!J41","v":13932.249555741655},{"$f":"'Фонд оплаты труда'!K11+'Фонд оплаты труда'!K21+'Фонд оплаты труда'!K31+'Фонд оплаты труда'!K41","v":14489.539537971319},{"$f":"'Фонд оплаты труда'!L11+'Фонд оплаты труда'!L21+'Фонд оплаты труда'!L31+'Фонд оплаты труда'!L41","v":15069.12111949017},{"$f":"'Фонд оплаты труда'!M11+'Фонд оплаты труда'!M21+'Фонд оплаты труда'!M31+'Фонд оплаты труда'!M41","v":15671.885964269781},{"$f":"'Фонд оплаты труда'!N11+'Фонд оплаты труда'!N21+'Фонд оплаты труда'!N31+'Фонд оплаты труда'!N41","v":16298.761402840573},{"$f":"'Фонд оплаты труда'!O11+'Фонд оплаты труда'!O21+'Фонд оплаты труда'!O31+'Фонд оплаты труда'!O41","v":16950.711858954193},{"$f":"'Фонд оплаты труда'!P11+'Фонд оплаты труда'!P21+'Фонд оплаты труда'!P31+'Фонд оплаты труда'!P41","v":17628.740333312362},{"$f":"'Фонд оплаты труда'!Q11+'Фонд оплаты труда'!Q21+'Фонд оплаты труда'!Q31+'Фонд оплаты труда'!Q41","v":18333.889946644857},{"$f":"'Фонд оплаты труда'!R11+'Фонд оплаты труда'!R21+'Фонд оплаты труда'!R31+'Фонд оплаты труда'!R41","v":19067.24554451065},{"$f":"'Фонд оплаты труда'!S11+'Фонд оплаты труда'!S21+'Фонд оплаты труда'!S31+'Фонд оплаты труда'!S41","v":19829.93536629108},{"$f":"'Фонд оплаты труда'!T11+'Фонд оплаты труда'!T21+'Фонд оплаты труда'!T31+'Фонд оплаты труда'!T41","v":20623.13278094272},{"$f":"'Фонд оплаты труда'!U11+'Фонд оплаты труда'!U21+'Фонд оплаты труда'!U31+'Фонд оплаты труда'!U41","v":21448.058092180429},{"$f":"'Фонд оплаты труда'!V11+'Фонд оплаты труда'!V21+'Фонд оплаты труда'!V31+'Фонд оплаты труда'!V41","v":22305.980415867649},{"$f":"'Фонд оплаты труда'!W11+'Фонд оплаты труда'!W21+'Фонд оплаты труда'!W31+'Фонд оплаты труда'!W41","v":23198.219632502354},{"$f":"'Фонд оплаты труда'!X11+'Фонд оплаты труда'!X21+'Фонд оплаты труда'!X31+'Фонд оплаты труда'!X41","v":24126.148417802448},{"$f":"'Фонд оплаты труда'!Y11+'Фонд оплаты труда'!Y21+'Фонд оплаты труда'!Y31+'Фонд оплаты труда'!Y41","v":25091.194354514544},{"$f":"'Фонд оплаты труда'!Z11+'Фонд оплаты труда'!Z21+'Фонд оплаты труда'!Z31+'Фонд оплаты труда'!Z41","v":26094.842128695123},{"$f":"'Фонд оплаты труда'!AA11+'Фонд оплаты труда'!AA21+'Фонд оплаты труда'!AA31+'Фонд оплаты труда'!AA41","v":27138.635813842931},{"$f":"'Фонд оплаты труда'!AB11+'Фонд оплаты труда'!AB21+'Фонд оплаты труда'!AB31+'Фонд оплаты труда'!AB41","v":28224.181246396649}]
[null,null,"3. Иные обязательные платежи в бюджетную систему","тыс. руб.",null,0,0,0,0,0,0,0,0,0,0,0,0,0,0,0,0,0,0,1,2,3,4,5,6,7,8]
[]
[null,null,"Всего поступления из бюджета и внебюджетных фондов","тыс. руб.",null,{"$f":"F127+F128+F129","v":0},{"$f":"G127+G128+G129","v":0},0,0,0,0,0,0,0,0,0,0,0,0,0,0,0,0,0,0,0,0,0,0,0,0]
[null,null,"- из федерального бюджета (за исключением возмещения НДС по капитальным затратам)","тыс. руб."]
[null,null,"- из региональных и местных бюджетов","тыс. руб."]
[null,null,"- из внебюджетных фондов.","тыс. руб."]
[]
[null,null,"Совокупный бюджетный денежный поток от проекта","тыс. руб.",null,{"$f":"F106-F126","v":0},{"$f":"G106-G126","v":0},0,0,0,{"$f":"K106-K126","v":4010556.8077486325},4121682.9329943988,4225492.8671214692,4324100.6936402954,4422305.3853911217,4511625.9530275268,4595584.4853844643,4674480.6717825979,4745940.6011805898,4809684.6262033368,4864822.7327814167,4910665.7538171792,4946323.6151675433,{"$f":"X106-X126","v":4972326.2803109568},4997052.4308817834,5051159.5099626202,5073063.3455431601,5093348.4750110488,5111889.0937908152,5128553.0928965006,5119042.5899185427]
[]
[null,null,"Длина периода","год",null,1,1,1,1,1,1,1,1,1,1,1,1,1,1,1,1,1,1,1,1,1,1,1,1,1,1]
[null,null,"Ставка дисконтирования (условно безрисковая ставка)","%",null,0.08,0.08,0.08,0.08,0.08,0.08,0.08,0.08,0.08,0.08,0.08,0.08,0.08,0.08,0.08,0.08,0.08,0.08,0.08,0.08,0.08,0.08,0.08,0.08,0.08,0.08]
[null,null,"Темп роста терминального периода","%",null,null,null,null,null,null,null,null,null,null,null,null,null,null,null,null,null,null,null,null,null,null,null,null,null,null,0.04]
[null,null,"Терминальная стоимость от проекта ","тыс. руб.",null,null,null,null,null,null,null,null,null,null,null,null,null,null,null,null,null,null,null,null,null,null,null,null,null,null,{"$f":"AE131/(AE134-AE135)","v":127976064.74796356}]
[null,null,"Дисконт-фактор по годам",null,null,null,null,{"$f":"1/(1+H134)^H133","v":0.92592592592592582},0.92592592592592582,0.92592592592592582,0.92592592592592582,0.92592592592592582,0.92592592592592582,0.92592592592592582,0.92592592592592582,0.92592592592592582,{"$f":"1/(1+Q134)^Q133","v":0.92592592592592582},0.92592592592592582,0.92592592592592582,0.92592592592592582,0.92592592592592582,0.92592592592592582,0.92592592592592582,0.92592592592592582,0.92592592592592582,0.92592592592592582,0.92592592592592582,0.92592592592592582,0.92592592592592582,0.92592592592592582,{"$f":"1/(1+AE134)^AE133","v":0.92592592592592582}]
[null,null,"Итоговый дисконт-фактор",null,null,null,null,{"$f":"PRODUCT($F137:H137)/H137^(H133/2)","v":0.96225044864937614},{"$f":"PRODUCT($F137:I137)/I137^(I133/2)","v":0.89097263763831125},{"$f":"PRODUCT($F137:J137)/J137^(J133/2)","v":0.82497466447991774},{"$f":"PRODUCT($F137:K137)/K137^(K133/2)","v":0.76386543007399788},{"$f":"PRODUCT($F137:L137)/L137^(L133/2)","v":0.70728280562407198},{"$f":"PRODUCT($F137:M137)/M137^(M133/2)","v":0.65489148668895547},{"$f":"PRODUCT($F137:N137)/N137^(N133/2)","v":0.60638100619347723},{"$f":"PRODUCT($F137:O137)/O137^(O133/2)","v":0.56146389462358992},{"$f":"PRODUCT($F137:P137)/P137^(P133/2)","v":0.5198739765033239},{"$f":"PRODUCT($F137:Q137)/Q137^(Q133/2)","v":0.48136479305863322},{"$f":"PRODUCT($F137:R137)/R137^(R133/2)","v":0.44570814172095663},{"$f":"PRODUCT($F137:S137)/S137^(S133/2)","v":0.41269272381570055},{"$f":"PRODUCT($F137:T137)/T137^(T133/2)","v":0.38212289242194486},{"$f":"PRODUCT($F137:U137)/U137^(U133/2)","v":0.35381749298328224},{"$f":"PRODUCT($F137:V137)/V137^(V133/2)","v":0.32760878979933539},{"$f":"PRODUCT($F137:W137)/W137^(W133/2)","v":0.30334147203642159},{"$f":"PRODUCT($F137:X137)/X137^(X133/2)","v":0.28087173336705695},{"$f":"PRODUCT($F137:Y137)/Y137^(Y133/2)","v":0.26006641978431194},{"$f":"PRODUCT($F137:Z137)/Z137^(Z133/2)","v":0.24080224054102958},{"$f":"PRODUCT($F137:AA137)/AA137^(AA133/2)","v":0.22296503753799032},{"$f":"PRODUCT($F137:AB137)/AB137^(AB133/2)","v":0.20644910883147247},{"$f":"PRODUCT($F137:AC137)/AC137^(AC133/2)","v":0.19115658225136337},{"$f":"PRODUCT($F137:AD137)/AD137^(AD133/2)","v":0.17699683541792904},{"$f":"PRODUCT($F137:AE137)/AE137^(AE133/2)","v":0.16388595872030468}]
[null,null,"Совокупный дисконтированный бюджетный денежный поток","тыс. руб.",null,null,null,{"$f":"IF(H135<>\"\",0,H131*H138)","v":0},0,0,3063525.7007871093,2915195.4687411324,2767239.305742756,2622052.5294915154,2482964.8048965749,2345476.9246960189,{"$f":"IF(Q135<>\"\",0,Q131*Q138)","v":2212152.5747905583},2083454.0937307507,1958615.1537687408,1837890.6010021798,1721259.3831208008,1608777.2647170871,1500425.086593437,{"$f":"IF(X135<>\"\",0,X131*X138)","v":1396585.9012175091},1299565.5351739184,1216330.527329128,1131115.7592716336,1051517.2536341704,977171.24801707128,907737.66771551291,{"$f":"IF(AE135<>\"\",0,AE131*AE138)","v":0}]
[null,null,"Дисконтированная терминальная стоимость с учетом проекта ","тыс. руб.",null,null,null,null,null,null,null,null,null,null,null,null,null,null,null,null,null,null,null,null,null,null,null,null,null,null,{"$f":"AE136*AE138","v":20973480.064471796}]
[null,null,"Итого приведенный бюджетный эффект (NPV бюдж)","тыс. руб.",null,{"$f":"SUM(F139:AE139,AE140)","v":58072532.848909408}]
[]
[]
[]
[]
[]
[]
[]
[null,null,"**Данные определяются на основании данных бухгалтерского учета"]
[]
[null,null,"Совокупный бюджетный денежный поток от проекта","тыс. руб.",null,{"$f":"F106-F126","v":0},{"$f":"G106-G126","v":0},0,0,0,4010556.8077486325,4121682.9329943988,4225492.8671214692,4324100.6936402954,4422305.3853911217,4511625.9530275268,4595584.4853844643,4674480.6717825979,4745940.6011805898,4809684.6262033368,4864822.7327814167,4910665.7538171792,4946323.6151675433,4972326.2803109568,4997052.4308817834,5051159.5099626202,5073063.3455431601,5093348.4750110488,5111889.0937908152,5128553.0928965006,5119042.5899185427]
[null,null,"Длина периода","год",null,1,1,1,1,1,1,1,1,1,1,1,1,1,1,1,1,1,1,1,1,1,1,1,1,1,1]
[null,null,"Ставка дисконтирования ","%",null,{"$f":"'Дисконтированные потоки'!I7","v":9.3581999999999999E-2},{"$f":"'Дисконтированные потоки'!J7","v":6.8337017672290543E-2},{"$f":"'Дисконтированные потоки'!K7","v":6.0921557256245304E-2},{"$f":"'Дисконтированные потоки'!L7","v":5.2203816891661398E-2},{"$f":"'Дисконтированные потоки'!M7","v":4.8165991156041088E-2},{"$f":"'Дисконтированные потоки'!N7","v":5.0436791598239036E-2},{"$f":"'Дисконтированные потоки'!O7","v":5.2707592040436985E-2},{"$f":"'Дисконтированные потоки'!P7","v":5.4978392482634926E-2},{"$f":"'Дисконтированные потоки'!Q7","v":5.7249192924832867E-2},{"$f":"'Дисконтированные потоки'!R7","v":5.9519993367030816E-2},{"$f":"'Дисконтированные потоки'!S7","v":6.179079380922875E-2},{"$f":"'Дисконтированные потоки'!T7","v":6.4061594251426698E-2},{"$f":"'Дисконтированные потоки'!U7","v":6.6332394693624647E-2},{"$f":"'Дисконтированные потоки'!V7","v":6.8603195135822581E-2},{"$f":"'Дисконтированные потоки'!W7","v":7.0873995578020529E-2},{"$f":"'Дисконтированные потоки'!X7","v":7.3144796020218478E-2},{"$f":"'Дисконтированные потоки'!Y7","v":7.5415596462416426E-2},{"$f":"'Дисконтированные потоки'!Z7","v":7.7686396904614374E-2},{"$f":"'Дисконтированные потоки'!AA7","v":7.9957197346812309E-2},{"$f":"'Дисконтированные потоки'!AB7","v":8.2227997789010257E-2},{"$f":"'Дисконтированные потоки'!AC7","v":8.4498798231208205E-2},{"$f":"'Дисконтированные потоки'!AD7","v":8.6769598673406154E-2},{"$f":"'Дисконтированные потоки'!AE7","v":8.9040399115604102E-2},{"$f":"'Дисконтированные потоки'!AF7","v":9.1311199557802036E-2},{"$f":"'Дисконтированные потоки'!AG7","v":9.3581999999999999E-2},{"$f":"'Дисконтированные потоки'!AH7","v":9.3581999999999999E-2}]
[null,null,"Темп роста терминального периода","%",null,null,null,null,null,null,null,null,null,null,null,null,null,null,null,null,null,null,null,null,null,null,null,null,null,null,0.04]
[null,null,"Терминальная стоимость от проекта ","тыс. руб.",null,null,null,null,null,null,null,null,null,null,null,null,null,null,null,null,null,null,null,null,null,null,null,null,null,null,{"$f":"AE151/(AE153-AE154)","v":95536609.120946273}]
[null,null,"Дисконт-фактор по годам",null,null,null,null,{"$f":"1/(1+H153)^H152","v":0.94257675617997561},{"$f":"1/(1+I153)^I152","v":0.95038621220185471},0.95404736314434524,0.9519849342657738,0.94993140313705238,0.94788671230198684,0.94585080479801031,0.94382362415089205,0.94180511436951608,0.9397952199407269,0.93779388582423862,0.93580105744761233,0.93381668070129475,0.93184070193372082,0.92987306794647928,0.92791372598953714,0.92596262375652727,0.92401970938009181,0.92208493142728809,0.92015823889504855,0.91823958120569937,0.91632890820253543,0.91442617014544858,0.91442617014544858]
[null,null,"Итоговый дисконт-фактор",null,null,null,null,{"$f":"PRODUCT($F156:H156)/H156^(H152/2)","v":0.97086392258646403},{"$f":"PRODUCT($F156:I156)/I156^(I152/2)","v":0.91889690652461264},{"$f":"PRODUCT($F156:J156)/J156^(J152/2)","v":0.87498744365789838},{"$f":"PRODUCT($F156:K156)/K156^(K152/2)","v":0.83387667555173539},{"$f":"PRODUCT($F156:L156)/L156^(L152/2)","v":0.79298137408081726},{"$f":"PRODUCT($F156:M156)/M156^(M152/2)","v":0.75246677174740129},{"$f":"PRODUCT($F156:N156)/N156^(N152/2)","v":0.71248686627391977},{"$f":"PRODUCT($F156:O156)/O156^(O152/2)","v":0.67318371871975502},{"$f":"PRODUCT($F156:P156)/P156^(P152/2)","v":0.63468691951462763},{"$f":"PRODUCT($F156:Q156)/Q156^(Q152/2)","v":0.59711321931237449},{"$f":"PRODUCT($F156:R156)/R156^(R152/2)","v":0.56056631929882916},{"$f":"PRODUCT($F156:S156)/S156^(S152/2)","v":0.52513681355225994},{"$f":"PRODUCT($F156:T156)/T156^(T152/2)","v":0.49090227427793814},{"$f":"PRODUCT($F156:U156)/U156^(U152/2)","v":0.45792746923641997},{"$f":"PRODUCT($F156:V156)/V156^(V152/2)","v":0.42626469946760093},{"$f":"PRODUCT($F156:W156)/W156^(W152/2)","v":0.39595424448242372},{"$f":"PRODUCT($F156:X156)/X156^(X152/2)","v":0.36702490144791861},{"$f":"PRODUCT($F156:Y156)/Y156^(Y152/2)","v":0.33949460451994445},{"$f":"PRODUCT($F156:Z156)/Z156^(Z152/2)","v":0.31337111036742865},{"$f":"PRODUCT($F156:AA156)/AA156^(AA152/2)","v":0.28865273606359537},{"$f":"PRODUCT($F156:AB156)/AB156^(AB152/2)","v":0.26532913587156426},{"$f":"PRODUCT($F156:AC156)/AC156^(AC152/2)","v":0.24338210399900079},{"$f":"PRODUCT($F156:AD156)/AD156^(AD152/2)","v":0.22278639111241144},{"$f":"PRODUCT($F156:AE156)/AE156^(AE152/2)","v":0.2037217063854484}]
[null,null,"Совокупный дисконтированный бюджетный денежный поток","тыс. руб.",{"$f":"IF(E154<>\"\",0,E151*E157)","v":0},0,0,0,0,0,{"$f":"IF(K154<>\"\",0,K151*K157)","v":3344309.7779568098},{"$f":"IF(L154<>\"\",0,L151*L157)","v":3268417.7957313512},3179542.976764563,3080864.952664657,2977023.9846519949,2863469.9781292873,2744084.2466899194,2620356.4248146894,2492268.1246122718,2361085.121562853,2227735.9623063989,2093243.4617367198,1958517.8300092353,1824967.5629980245,1696472.3387876381,1582887.4642799832,1464353.61491497,1351413.7495674312,1244142.3230563542,1142571.8351948073,0]
[null,null,"Дисконтированная терминальная стоимость с учетом проекта ","тыс. руб.",null,null,null,null,null,null,null,null,null,null,null,null,null,null,null,null,null,null,null,null,null,null,null,null,null,null,{"$f":"AE155*AE157","v":19462881.032398768}]
[null,null,"Справочно. Бюджетный эффект WACC","тыс. руб.",null,{"$f":"SUM(F158:AE158,AE159)","v":64980610.558828726}]
[]
[null,null,"3. Оценка социально-экономических эффектов от реализации проекта"]
[]
[null,null,"Оценка эффекта  в области занятости"]
[null,null,"Среднесписочная численность работников","чел.",null,{"$f":"IF('Фонд оплаты труда'!C44<=0,0,'Фонд оплаты труда'!$B$1)","v":0},{"$f":"IF('Фонд оплаты труда'!D44<=0,0,'Фонд оплаты труда'!$B$1)","v":0},{"$f":"IF('Фонд оплаты труда'!E44<=0,0,'Фонд оплаты труда'!$B$1)","v":0},{"$f":"IF('Фонд оплаты труда'!F44<=0,0,'Фонд оплаты труда'!$B$1)","v":0},{"$f":"IF('Фонд оплаты труда'!G44<=0,0,'Фонд оплаты труда'!$B$1)","v":0},{"$f":"IF('Фонд оплаты труда'!H44<=0,0,'Фонд оплаты труда'!$B$1)","v":850},{"$f":"IF('Фонд оплаты труда'!I44<=0,0,'Фонд оплаты труда'!$B$1)","v":850},{"$f":"IF('Фонд оплаты труда'!J44<=0,0,'Фонд оплаты труда'!$B$1)","v":850},{"$f":"IF('Фонд оплаты труда'!K44<=0,0,'Фонд оплаты труда'!$B$1)","v":850},{"$f":"IF('Фонд оплаты труда'!L44<=0,0,'Фонд оплаты труда'!$B$1)","v":850},{"$f":"IF('Фонд оплаты труда'!M44<=0,0,'Фонд оплаты труда'!$B$1)","v":850},{"$f":"IF('Фонд оплаты труда'!N44<=0,0,'Фонд оплаты труда'!$B$1)","v":850},{"$f":"IF('Фонд оплаты труда'!O44<=0,0,'Фонд оплаты труда'!$B$1)","v":850},{"$f":"IF('Фонд оплаты труда'!P44<=0,0,'Фонд оплаты труда'!$B$1)","v":850},{"$f":"IF('Фонд оплаты труда'!Q44<=0,0,'Фонд оплаты труда'!$B$1)","v":850},{"$f":"IF('Фонд оплаты труда'!R44<=0,0,'Фонд оплаты труда'!$B$1)","v":850},{"$f":"IF('Фонд оплаты труда'!S44<=0,0,'Фонд оплаты труда'!$B$1)","v":850},{"$f":"IF('Фонд оплаты труда'!T44<=0,0,'Фонд оплаты труда'!$B$1)","v":850},{"$f":"IF('Фонд оплаты труда'!U44<=0,0,'Фонд оплаты труда'!$B$1)","v":850},{"$f":"IF('Фонд оплаты труда'!V44<=0,0,'Фонд оплаты труда'!$B$1)","v":850},{"$f":"IF('Фонд оплаты труда'!W44<=0,0,'Фонд оплаты труда'!$B$1)","v":850},{"$f":"IF('Фонд оплаты труда'!X44<=0,0,'Фонд оплаты труда'!$B$1)","v":850},{"$f":"IF('Фонд оплаты труда'!Y44<=0,0,'Фонд оплаты труда'!$B$1)","v":850},{"$f":"IF('Фонд оплаты труда'!Z44<=0,0,'Фонд оплаты труда'!$B$1)","v":850},{"$f":"IF('Фонд оплаты труда'!AA44<=0,0,'Фонд оплаты труда'!$B$1)","v":850},{"$f":"IF('Фонд оплаты труда'!AB44<=0,0,'Фонд оплаты труда'!$B$1)","v":850}]
[null,null,"Фонд оплаты труда ","тыс. руб.",null,{"$f":"'Фонд оплаты труда'!C44","v":0},{"$f":"'Фонд оплаты труда'!D44","v":0},{"$f":"'Фонд оплаты труда'!E44","v":0},{"$f":"'Фонд оплаты труда'!F44","v":0},{"$f":"'Фонд оплаты труда'!G44","v":0},{"$f":"'Фонд оплаты труда'!H44","v":635173.84413609991},{"$f":"'Фонд оплаты труда'!I44","v":660580.79790154391},{"$f":"'Фонд оплаты труда'!J44","v":687004.02981760574},{"$f":"'Фонд оплаты труда'!K44","v":714484.19101030985},{"$f":"'Фонд оплаты труда'!L44","v":743063.55865072226},{"$f":"'Фонд оплаты труда'!M44","v":772786.10099675111},{"$f":"'Фонд оплаты труда'!N44","v":803697.54503662116},{"$f":"'Фонд оплаты труда'!O44","v":835845.44683808612},{"$f":"'Фонд оплаты труда'!P44","v":869279.26471160958},{"$f":"'Фонд оплаты труда'!Q44","v":904050.43530007394},{"$f":"'Фонд оплаты труда'!R44","v":940212.45271207695},{"$f":"'Фонд оплаты труда'!S44","v":977820.9508205601},{"$f":"'Фонд оплаты труда'!T44","v":1016933.7888533825},{"$f":"'Фонд оплаты труда'!U44","v":1057611.1404075178},{"$f":"'Фонд оплаты труда'!V44","v":1099915.5860238182},{"$f":"'Фонд оплаты труда'!W44","v":1143912.2094647712},{"$f":"'Фонд оплаты труда'!X44","v":1189668.6978433619},{"$f":"'Фонд оплаты труда'!Y44","v":1237255.4457570962},{"$f":"'Фонд оплаты труда'!Z44","v":1286745.6635873802},{"$f":"'Фонд оплаты труда'!AA44","v":1338215.4901308753},{"$f":"'Фонд оплаты труда'!AB44","v":1391744.1097361103}]
[]
[null,null,"Численность занятых (на момент окончания прогнозного периода)","чел",null,{"$f":"W165","v":850}]

{"sheet":"Результаты 2","index":3,"n_rows":53,"n_cols":31,"rows_kept":53,"cut":false,"hidden":false,"merged":[[0,25,0,29]]}
[null,"Не изменять",null,null,null,"Ввести годы прогнозирования по модели",null,null,null,null,null,null,null,null,null,null,null,null,null,null,null,null,null,null,null,"Указать год окончание прогнозирования модели или расчёта терминальной стоимости сверх выбранного периода"]
["№","ID","Финансовые показатели (тыс. руб.)","Описание","Всего","2019","2020","2021","2022","2023","2024","2025","2026","2027","2028","2029","2030","2031","2032","2033","2034","2035","2036","2037","2038","2039","2040","2041","2042","2043","2044"]
[{"$f":"ROW()-ROW('Результаты 2'!$A$2:$Z$2)","v":1},1,"Операционные показатели (без мер)"]
[{"$f":"ROW()-ROW('Результаты 2'!$A$2:$Z$2)","v":2},2,"Выручка",null,{"$f":"SUM('Результаты 2'!$F4:$Z4)","v":538850469.81968534},{"$f":"ОПУ!I36","v":0},{"$f":"ОПУ!J36","v":0},{"$f":"ОПУ!K36","v":0},{"$f":"ОПУ!L36","v":0},{"$f":"ОПУ!M36","v":0},{"$f":"ОПУ!N36","v":28988201.476258855},{"$f":"ОПУ!O36","v":29992215.597453158},{"$f":"ОПУ!P36","v":30970633.784749489},{"$f":"ОПУ!Q36","v":31938764.000573851},{"$f":"ОПУ!R36","v":32916482.011973489},{"$f":"ОПУ!S36","v":33878403.398010649},{"$f":"ОПУ!T36","v":34826688.218083411},{"$f":"ОПУ!U36","v":35758600.909276903},{"$f":"ОПУ!V36","v":36671386.491056524},{"$f":"ОПУ!W36","v":37562283.577195913},{"$f":"ОПУ!X36","v":38428537.807420872},{"$f":"ОПУ!Y36","v":39267415.611727476},{"$f":"ОПУ!Z36","v":40076218.214918934},{"$f":"ОПУ!AA36","v":40852295.784246229},{"$f":"ОПУ!AH36","v":46722342.936739653}]
[{"$f":"ROW()-ROW('Результаты 2'!$A$2:$Z$2)","v":3},3,"EBITDA",null,{"$f":"SUM('Результаты 2'!$F5:$Z5)","v":313929616.3450042},{"$f":"ОПУ!I60","v":0},{"$f":"ОПУ!J60","v":0},{"$f":"ОПУ!K60","v":0},{"$f":"ОПУ!L60","v":0},{"$f":"ОПУ!M60","v":0},{"$f":"ОПУ!N60","v":16823178.726148825},{"$f":"ОПУ!O60","v":17551204.574192829},{"$f":"ОПУ!P60","v":18176942.544918098},{"$f":"ОПУ!Q60","v":18836264.016931057},{"$f":"ОПУ!R60","v":19489440.490053263},{"$f":"ОПУ!S60","v":20034104.543693513},{"$f":"ОПУ!T60","v":20595206.244999334},{"$f":"ОПУ!U60","v":21143411.456547365},{"$f":"ОПУ!V60","v":21653487.052776564},{"$f":"ОПУ!W60","v":22123957.461998675},{"$f":"ОПУ!X60","v":22550292.185661372},{"$f":"ОПУ!Y60","v":22928961.742942937},{"$f":"ОПУ!Z60","v":23255428.771981202},{"$f":"ОПУ!AA60","v":23532247.61937575},{"$f":"ОПУ!AH60","v":25235488.912783377}]
[{"$f":"ROW()-ROW('Результаты 2'!$A$2:$Z$2)","v":4},4,"Доходность по EBITDA (%)",null,{"$f":"IFERROR(E5/E4,0)","v":0.58259133827990162},{"$f":"IFERROR(F5/F4,0)","v":0},{"$f":"IFERROR(G5/G4,0)","v":0},0,0,0,0.58034572237697801,0.58519199814245204,0.58690896257566283,0.5897618335071646,0.59208758952320328,0.59135326739954697,0.59136275364550683,0.59128184321837096,0.5904736396606507,0.5889939416630714,0.58681109072296578,0.58391827895327675,0.58028002161451553,0.57603243997979747,0.54011608422444279,0]
[{"$f":"ROW()-ROW('Результаты 2'!$A$2:$Z$2)","v":5},5,"Чистая прибыль",null,{"$f":"SUM('Результаты 2'!$F7:$Z7)","v":171035198.40837148},{"$f":"ОПУ!I80","v":0},{"$f":"ОПУ!J80","v":0},{"$f":"ОПУ!K80","v":0},{"$f":"ОПУ!L80","v":0},{"$f":"ОПУ!M80","v":0},{"$f":"ОПУ!N80","v":7113131.6547510205},{"$f":"ОПУ!O80","v":7909381.1080400823},{"$f":"ОПУ!P80","v":8426532.07051659},{"$f":"ОПУ!Q80","v":9157571.9028378464},{"$f":"ОПУ!R80","v":9881604.5261722114},{"$f":"ОПУ!S80","v":10263280.536804006},{"$f":"ОПУ!T80","v":10814453.401139509},{"$f":"ОПУ!U80","v":11412374.981436104},{"$f":"ОПУ!V80","v":11980624.600677632},{"$f":"ОПУ!W80","v":12518021.801513489},{"$f":"ОПУ!X80","v":13020942.185101816},{"$f":"ОПУ!Y80","v":13486562.166785236},{"$f":"ОПУ!Z80","v":13911251.857074019},{"$f":"ОПУ!AA80","v":14297054.733247826},{"$f":"ОПУ!AH80","v":16842410.882274088}]
[{"$f":"ROW()-ROW('Результаты 2'!$A$2:$Z$2)","v":6},6,"Инвестиционный поток (без мер)"]
[{"$f":"ROW()-ROW('Результаты 2'!$A$2:$Z$2)","v":7},7,"Капитальные затраты","Капитальные затраты, всего по проекту;\nБез НДС",{"$f":"SUM('Результаты 2'!$F9:$Z9)","v":{"$error":"#REF!"}},{"$f":"ДДС!I25","v":577955.19999999995},{"$f":"ДДС!J25","v":9648345.5999999996},{"$f":"ДДС!K25","v":25416000},{"$f":"ДДС!L25","v":25581600},{"$f":"ДДС!M25","v":31046760},{"$f":"ДДС!N25","v":0},{"$f":"ДДС!O25","v":0},{"$f":"ДДС!P25","v":0},{"$f":"ДДС!Q25","v":0},{"$f":"ДДС!R25","v":0},{"$f":"ДДС!S25","v":0},{"$f":"ДДС!T25","v":0},{"$f":"ДДС!U25","v":0},{"$f":"ДДС!V25","v":0},{"$f":"ДДС!W25","v":0},{"$f":"ДДС!X25","v":0},{"$f":"ДДС!Y25","v":0},{"$f":"ДДС!Z25","v":0},{"$f":"ДДС!AH25","v":0},{"$f":"ДДС!#REF!","v":{"$error":"#REF!"}}]
[{"$f":"ROW()-ROW('Результаты 2'!$A$2:$Z$2)","v":8},8,"-на инф-ру по проекту","в том числе затраты на инфраструктуру, учтённую в модели: транспортную, энергетическую, социальную;\nБез НДС",{"$f":"SUM('Результаты 2'!$F10:$Z10)","v":{"$error":"#REF!"}},{"$f":"ДДС!I26","v":0},{"$f":"ДДС!J26","v":0},{"$f":"ДДС!K26","v":0},{"$f":"ДДС!L26","v":0},{"$f":"ДДС!M26","v":0},{"$f":"ДДС!N26","v":0},{"$f":"ДДС!O26","v":0},{"$f":"ДДС!P26","v":0},{"$f":"ДДС!Q26","v":0},{"$f":"ДДС!R26","v":0},{"$f":"ДДС!S26","v":0},{"$f":"ДДС!T26","v":0},{"$f":"ДДС!U26","v":0},{"$f":"ДДС!V26","v":0},{"$f":"ДДС!W26","v":0},{"$f":"ДДС!X26","v":0},{"$f":"ДДС!Y26","v":0},{"$f":"ДДС!Z26","v":0},{"$f":"ДДС!AH26","v":0},{"$f":"ДДС!#REF!","v":{"$error":"#REF!"}}]
[{"$f":"ROW()-ROW('Результаты 2'!$A$2:$Z$2)","v":9},12,"-на инф-ру за периметром проекта","в том числе затраты на инфраструктуру, НЕ учтённую в модели: транспортную, энергетическую, социальную;\nБез НДС (учтены в инф-ру проекта)",{"$f":"SUM('Результаты 2'!$F11:$Z11)","v":{"$error":"#REF!"}},{"$f":"ДДС!I27","v":0},{"$f":"ДДС!J27","v":0},{"$f":"ДДС!K27","v":0},{"$f":"ДДС!L27","v":0},{"$f":"ДДС!M27","v":0},{"$f":"ДДС!N27","v":0},{"$f":"ДДС!O27","v":0},{"$f":"ДДС!P27","v":0},{"$f":"ДДС!Q27","v":0},{"$f":"ДДС!R27","v":0},{"$f":"ДДС!S27","v":0},{"$f":"ДДС!T27","v":0},{"$f":"ДДС!U27","v":0},{"$f":"ДДС!V27","v":0},{"$f":"ДДС!W27","v":0},{"$f":"ДДС!X27","v":0},{"$f":"ДДС!Y27","v":0},{"$f":"ДДС!Z27","v":0},{"$f":"ДДС!AH27","v":0},{"$f":"ДДС!#REF!","v":{"$error":"#REF!"}}]
[{"$f":"ROW()-ROW('Результаты 2'!$A$2:$Z$2)","v":10},16,"Финансовый поток (приход) (без мер)",null,{"$f":"SUM('Результаты 2'!$F12:$Z12)","v":{"$error":"#REF!"}},{"$f":"SUM(F13:F15)","v":586027.19999999995},{"$f":"SUM(G13:G15)","v":9780153.5999999996},25754880,25923600,31452600,0,0,0,0,0,0,0,0,0,0,0,0,0,0,{"$error":"#REF!"},0]
[{"$f":"ROW()-ROW('Результаты 2'!$A$2:$Z$2)","v":11},17,"Собственные средства","Вклад в акционерный капитал",{"$f":"SUM('Результаты 2'!$F13:$Z13)","v":{"$error":"#REF!"}},{"$f":"ДДС!I38","v":586027.19999999995},{"$f":"ДДС!J38","v":4890076.8},{"$f":"ДДС!K38","v":8584960},{"$f":"ДДС!L38","v":0},{"$f":"ДДС!M38","v":0},{"$f":"ДДС!N38","v":0},{"$f":"ДДС!O38","v":0},{"$f":"ДДС!P38","v":0},{"$f":"ДДС!Q38","v":0},{"$f":"ДДС!R38","v":0},{"$f":"ДДС!S38","v":0},{"$f":"ДДС!T38","v":0},{"$f":"ДДС!U38","v":0},{"$f":"ДДС!V38","v":0},{"$f":"ДДС!W38","v":0},{"$f":"ДДС!X38","v":0},{"$f":"ДДС!Y38","v":0},{"$f":"ДДС!Z38","v":0},{"$f":"ДДС!AH38","v":0},{"$f":"ДДС!#REF!","v":{"$error":"#REF!"}}]
[{"$f":"ROW()-ROW('Результаты 2'!$A$2:$Z$2)","v":12},18,"Привлечение заёмных средств",null,{"$f":"SUM('Результаты 2'!$F14:$Z14)","v":{"$error":"#REF!"}},{"$f":"ДДС!I39","v":0},{"$f":"ДДС!J39","v":4890076.8},{"$f":"ДДС!K39","v":17169920},{"$f":"ДДС!L39","v":25923600},{"$f":"ДДС!M39","v":31452600},{"$f":"ДДС!N39","v":0},{"$f":"ДДС!O39","v":0},{"$f":"ДДС!P39","v":0},{"$f":"ДДС!Q39","v":0},{"$f":"ДДС!R39","v":0},{"$f":"ДДС!S39","v":0},{"$f":"ДДС!T39","v":0},{"$f":"ДДС!U39","v":0},{"$f":"ДДС!V39","v":0},{"$f":"ДДС!W39","v":0},{"$f":"ДДС!X39","v":0},{"$f":"ДДС!Y39","v":0},{"$f":"ДДС!Z39","v":0},{"$f":"ДДС!AH39","v":0},{"$f":"ДДС!#REF!","v":{"$error":"#REF!"}}]
[{"$f":"ROW()-ROW('Результаты 2'!$A$2:$Z$2)","v":13},19,"Государственные инвестиции","Кап.грант, единоразовые субсидии, вхождение в капитал со стороны гос-ва",{"$f":"SUM('Результаты 2'!$F15:$Z15)","v":0},0,0,0,0,0,0,0,0,0,0,0,0,0,0,0,0,0,0,0,0]
[{"$f":"ROW()-ROW('Результаты 2'!$A$2:$Z$2)","v":14},20,"Финансовый поток (погашение)",null,{"$f":"SUM('Результаты 2'!$F16:$Z16)","v":{"$error":"#REF!"}},{"$f":"SUM(F17:F18)","v":0},{"$f":"SUM(G17:G18)","v":0},0,0,0,8065202.1438666657,7796830.209999999,7779358.2851714231,7524026.7083333302,7271309.1438380964,7344143.1766666621,7217975.6183333285,7019118.2186666606,6819221.1549999928,6618284.4273333261,6416308.0356666576,6213291.9799999911,6009236.2603333229,4460158.5599999996,{"$error":"#REF!"},0]
[{"$f":"ROW()-ROW('Результаты 2'!$A$2:$Z$2)","v":15},21,"Погашение заёмных средств",null,{"$f":"SUM('Результаты 2'!$F17:$Z17)","v":{"$error":"#REF!"}},{"$f":"ДДС!I40","v":0},{"$f":"ДДС!J40","v":0},{"$f":"ДДС!K40","v":0},{"$f":"ДДС!L40","v":0},{"$f":"ДДС!M40","v":0},{"$f":"ДДС!N40","v":4087958.8479999998},{"$f":"ДДС!O40","v":4054689.5999999996},{"$f":"ДДС!P40","v":4153606.2034285692},{"$f":"ДДС!Q40","v":4127466.08},{"$f":"ДДС!R40","v":4101325.9565714304},{"$f":"ДДС!S40","v":4262622.3999999994},{"$f":"ДДС!T40","v":4314605.5999999996},{"$f":"ДДС!U40","v":4325002.24},{"$f":"ДДС!V40","v":4335398.88},{"$f":"ДДС!W40","v":4345795.5199999996},{"$f":"ДДС!X40","v":4356192.1599999992},{"$f":"ДДС!Y40","v":4366588.8},{"$f":"ДДС!Z40","v":4376985.4399999995},{"$f":"ДДС!AH40","v":4460158.5599999996},{"$f":"ДДС!#REF!","v":{"$error":"#REF!"}}]
[{"$f":"ROW()-ROW('Результаты 2'!$A$2:$Z$2)","v":16},22,"Оплата % по кредиту",null,{"$f":"SUM('Результаты 2'!$F18:$Z18)","v":{"$error":"#REF!"}},{"$f":"ДДС!I41","v":0},{"$f":"ДДС!J41","v":0},{"$f":"ДДС!K41","v":0},{"$f":"ДДС!L41","v":0},{"$f":"ДДС!M41","v":0},{"$f":"ДДС!N41","v":3977243.2958666654},{"$f":"ДДС!O41","v":3742140.6099999994},{"$f":"ДДС!P41","v":3625752.0817428543},{"$f":"ДДС!Q41","v":3396560.6283333302},{"$f":"ДДС!R41","v":3169983.1872666655},{"$f":"ДДС!S41","v":3081520.7766666627},{"$f":"ДДС!T41","v":2903370.0183333284},{"$f":"ДДС!U41","v":2694115.9786666604},{"$f":"ДДС!V41","v":2483822.2749999929},{"$f":"ДДС!W41","v":2272488.9073333265},{"$f":"ДДС!X41","v":2060115.8756666589},{"$f":"ДДС!Y41","v":1846703.1799999913},{"$f":"ДДС!Z41","v":1632250.8203333232},{"$f":"ДДС!AH41","v":0},{"$f":"ДДС!#REF!","v":{"$error":"#REF!"}}]
[{"$f":"ROW()-ROW('Результаты 2'!$A$2:$Z$2)","v":17},23,"Начисление % по кредиту","В том числе с учётом капитализации процентов",{"$f":"SUM('Результаты 2'!$F19:$Z19)","v":-38302826.431876116},{"$f":"ОПУ!I68","v":0},{"$f":"ОПУ!J68","v":0},{"$f":"ОПУ!K68","v":0},{"$f":"ОПУ!L68","v":0},{"$f":"ОПУ!M68","v":0},{"$f":"ОПУ!N68","v":-3977243.2958666654},{"$f":"ОПУ!O68","v":-3742140.6099999994},{"$f":"ОПУ!P68","v":-3625752.0817428543},{"$f":"ОПУ!Q68","v":-3396560.6283333302},{"$f":"ОПУ!R68","v":-3169983.1872666655},{"$f":"ОПУ!S68","v":-3081520.7766666627},{"$f":"ОПУ!T68","v":-2903370.0183333284},{"$f":"ОПУ!U68","v":-2694115.9786666604},{"$f":"ОПУ!V68","v":-2483822.2749999929},{"$f":"ОПУ!W68","v":-2272488.9073333265},{"$f":"ОПУ!X68","v":-2060115.8756666589},{"$f":"ОПУ!Y68","v":-1846703.1799999913},{"$f":"ОПУ!Z68","v":-1632250.8203333232},{"$f":"ОПУ!AA68","v":-1416758.7966666562},{"$f":"ОПУ!AH68","v":0}]
[{"$f":"ROW()-ROW('Результаты 2'!$A$2:$Z$2)","v":18},24,"Финансовые меры поддержки",null,{"$f":"SUM('Результаты 2'!$F20:$Z20)","v":{"$error":"#REF!"}},{"$f":"SUM(F21:F22)","v":0},{"$f":"SUM(G21:G22)","v":0},0,0,0,0,0,0,0,0,0,0,0,0,0,0,0,0,0,{"$error":"#REF!"},0]
[{"$f":"ROW()-ROW('Результаты 2'!$A$2:$Z$2)","v":19},25,"Субсидии на % по кредиту","Государственная субсидия, возмещение затрат по процентам",{"$f":"SUM('Результаты 2'!$F21:$Z21)","v":{"$error":"#REF!"}},{"$f":"ДДС!I36","v":0},{"$f":"ДДС!J36","v":0},{"$f":"ДДС!K36","v":0},{"$f":"ДДС!L36","v":0},{"$f":"ДДС!M36","v":0},{"$f":"ДДС!N36","v":0},{"$f":"ДДС!O36","v":0},{"$f":"ДДС!P36","v":0},{"$f":"ДДС!Q36","v":0},{"$f":"ДДС!R36","v":0},{"$f":"ДДС!S36","v":0},{"$f":"ДДС!T36","v":0},{"$f":"ДДС!U36","v":0},{"$f":"ДДС!V36","v":0},{"$f":"ДДС!W36","v":0},{"$f":"ДДС!X36","v":0},{"$f":"ДДС!Y36","v":0},{"$f":"ДДС!Z36","v":0},{"$f":"ДДС!AH36","v":0},{"$f":"ДДС!#REF!","v":{"$error":"#REF!"}}]
[{"$f":"ROW()-ROW('Результаты 2'!$A$2:$Z$2)","v":20},26,"Прочие меры поддержки","Неналоговые меры поддержки по проекту",{"$f":"SUM('Результаты 2'!$F22:$Z22)","v":{"$error":"#REF!"}},{"$f":"ДДС!I37","v":0},{"$f":"ДДС!J37","v":0},{"$f":"ДДС!K37","v":0},{"$f":"ДДС!L37","v":0},{"$f":"ДДС!M37","v":0},{"$f":"ДДС!N37","v":0},{"$f":"ДДС!O37","v":0},{"$f":"ДДС!P37","v":0},{"$f":"ДДС!Q37","v":0},{"$f":"ДДС!R37","v":0},{"$f":"ДДС!S37","v":0},{"$f":"ДДС!T37","v":0},{"$f":"ДДС!U37","v":0},{"$f":"ДДС!V37","v":0},{"$f":"ДДС!W37","v":0},{"$f":"ДДС!X37","v":0},{"$f":"ДДС!Y37","v":0},{"$f":"ДДС!Z37","v":0},{"$f":"ДДС!AH37","v":0},{"$f":"ДДС!#REF!","v":{"$error":"#REF!"}}]
[{"$f":"ROW()-ROW('Результаты 2'!$A$2:$Z$2)","v":21},27,"Налоговые поступления без мер","Налоговые поступления, рассчитанные без учёта мер гос. поддержки",{"$f":"SUM('Результаты 2'!$F23:$Z23)","v":{"$error":"#REF!"}},{"$f":"SUBTOTAL(9,F24:F36)","v":0},{"$f":"SUBTOTAL(9,G24:G36)","v":0},0,0,0,3877303.5537340669,3983099.5488192495,4081366.1475793142,4174208.9053164544,4266417.9255343266,4349502.9947764594,4823478.4998417562,4827060.3011627151,{"$error":"#REF!"},0,0,0,0,4,8,0]
[{"$f":"ROW()-ROW('Результаты 2'!$A$2:$Z$2)","v":22},28,"Федеральный бюджет",null,{"$f":"SUM('Результаты 2'!$F24:$Z24)","v":{"$error":"#REF!"}},{"$f":"SUBTOTAL(9,F25:F29)","v":0},{"$f":"SUBTOTAL(9,G25:G29)","v":0},0,0,0,373439.41187442862,415242.50817210437,442392.93370212108,480772.52489898703,518784.2376240411,538822.22818221024,816009.57760794007,884226.57131938951,{"$error":"#REF!"},0,0,{"$f":"SUBTOTAL(9,V25:V29)","v":0},0,0,0,0]
[{"$f":"ROW()-ROW('Результаты 2'!$A$2:$Z$2)","v":23},29,"НДС",null,{"$f":"SUM('Результаты 2'!$F25:$Z25)","v":{"$error":"#REF!"}},{"$f":"Результаты_1!F109","v":0},{"$f":"Результаты_1!G109","v":0},{"$f":"Результаты_1!H109","v":0},{"$f":"Результаты_1!I109","v":0},{"$f":"Результаты_1!J109","v":0},{"$f":"Результаты_1!K109","v":0},{"$f":"Результаты_1!L109","v":0},{"$f":"Результаты_1!M109","v":0},{"$f":"Результаты_1!N109","v":0},{"$f":"Результаты_1!O109","v":0},{"$f":"Результаты_1!P109","v":0},{"$f":"Результаты_1!AA109","v":0},{"$f":"Результаты_1!AE109","v":0},{"$f":"Результаты_1!#REF!","v":{"$error":"#REF!"}},{"$f":"Результаты_1!AF109","v":0},{"$f":"Результаты_1!AH109","v":0},{"$f":"Результаты_1!AI109","v":0},{"$f":"Результаты_1!AJ109","v":0},{"$f":"Результаты_1!AK109","v":0},{"$f":"Результаты_1!AL109","v":0}]
[{"$f":"ROW()-ROW('Результаты 2'!$A$2:$Z$2)","v":24},30,"Акцизы",null,{"$f":"SUM('Результаты 2'!$F26:$Z26)","v":{"$error":"#REF!"}},{"$f":"Результаты_1!F110","v":0},{"$f":"Результаты_1!G110","v":0},{"$f":"Результаты_1!H110","v":0},{"$f":"Результаты_1!I110","v":0},{"$f":"Результаты_1!J110","v":0},{"$f":"Результаты_1!K110","v":0},{"$f":"Результаты_1!L110","v":0},{"$f":"Результаты_1!M110","v":0},{"$f":"Результаты_1!N110","v":0},{"$f":"Результаты_1!O110","v":0},{"$f":"Результаты_1!P110","v":0},{"$f":"Результаты_1!AA110","v":0},{"$f":"Результаты_1!AE110","v":0},{"$f":"Результаты_1!#REF!","v":{"$error":"#REF!"}},{"$f":"Результаты_1!AF110","v":0},{"$f":"Результаты_1!AH110","v":0},{"$f":"Результаты_1!AI110","v":0},{"$f":"Результаты_1!AJ110","v":0},{"$f":"Результаты_1!AK110","v":0},{"$f":"Результаты_1!AL110","v":0}]
[{"$f":"ROW()-ROW('Результаты 2'!$A$2:$Z$2)","v":25},31,"Налог на прибыль",null,{"$f":"SUM('Результаты 2'!$F27:$Z27)","v":{"$error":"#REF!"}},{"$f":"Результаты_1!F111","v":0},{"$f":"Результаты_1!G111","v":0},{"$f":"Результаты_1!H111","v":0},{"$f":"Результаты_1!I111","v":0},{"$f":"Результаты_1!J111","v":0},{"$f":"Результаты_1!K111","v":373439.41187442862},{"$f":"Результаты_1!L111","v":415242.50817210437},{"$f":"Результаты_1!M111","v":442392.93370212108},{"$f":"Результаты_1!N111","v":480772.52489898703},{"$f":"Результаты_1!O111","v":518784.2376240411},{"$f":"Результаты_1!P111","v":538822.22818221024},{"$f":"Результаты_1!AA111","v":816009.57760794007},{"$f":"Результаты_1!AE111","v":884226.57131938951},{"$f":"Результаты_1!#REF!","v":{"$error":"#REF!"}},{"$f":"Результаты_1!AF111","v":0},{"$f":"Результаты_1!AH111","v":0},{"$f":"Результаты_1!AI111","v":0},{"$f":"Результаты_1!AJ111","v":0},{"$f":"Результаты_1!AK111","v":0},{"$f":"Результаты_1!AL111","v":0}]
[{"$f":"ROW()-ROW('Результаты 2'!$A$2:$Z$2)","v":26},32,"НДПИ",null,{"$f":"SUM('Результаты 2'!$F28:$Z28)","v":{"$error":"#REF!"}},{"$f":"Результаты_1!F112","v":0},{"$f":"Результаты_1!G112","v":0},{"$f":"Результаты_1!H112","v":0},{"$f":"Результаты_1!I112","v":0},{"$f":"Результаты_1!J112","v":0},{"$f":"Результаты_1!K112","v":0},{"$f":"Результаты_1!L112","v":0},{"$f":"Результаты_1!M112","v":0},{"$f":"Результаты_1!N112","v":0},{"$f":"Результаты_1!O112","v":0},{"$f":"Результаты_1!P112","v":0},{"$f":"Результаты_1!AA112","v":0},{"$f":"Результаты_1!AE112","v":0},{"$f":"Результаты_1!#REF!","v":{"$error":"#REF!"}},{"$f":"Результаты_1!AF112","v":0},{"$f":"Результаты_1!AH112","v":0},{"$f":"Результаты_1!AI112","v":0},{"$f":"Результаты_1!AJ112","v":0},{"$f":"Результаты_1!AK112","v":0},{"$f":"Результаты_1!AL112","v":0}]
[{"$f":"ROW()-ROW('Результаты 2'!$A$2:$Z$2)","v":27},33,"Прочие",null,{"$f":"SUM('Результаты 2'!$F29:$Z29)","v":{"$error":"#REF!"}},{"$f":"Результаты_1!F113","v":0},{"$f":"Результаты_1!G113","v":0},{"$f":"Результаты_1!H113","v":0},{"$f":"Результаты_1!I113","v":0},{"$f":"Результаты_1!J113","v":0},{"$f":"Результаты_1!K113","v":0},{"$f":"Результаты_1!L113","v":0},{"$f":"Результаты_1!M113","v":0},{"$f":"Результаты_1!N113","v":0},{"$f":"Результаты_1!O113","v":0},{"$f":"Результаты_1!P113","v":0},{"$f":"Результаты_1!AA113","v":0},{"$f":"Результаты_1!AE113","v":0},{"$f":"Результаты_1!#REF!","v":{"$error":"#REF!"}},{"$f":"Результаты_1!AF113","v":0},{"$f":"Результаты_1!AH113","v":0},{"$f":"Результаты_1!AI113","v":0},{"$f":"Результаты_1!AJ113","v":0},{"$f":"Результаты_1!AK113","v":0},{"$f":"Результаты_1!AL113","v":0}]
[{"$f":"ROW()-ROW('Результаты 2'!$A$2:$Z$2)","v":28},34,"Региональный бюджет",null,{"$f":"SUM('Результаты 2'!$F30:$Z30)","v":{"$error":"#REF!"}},{"$f":"SUBTOTAL(9,F31:F35)","v":0},0,0,0,0,3503864.1418596376,3567857.0406471454,3638973.2138771932,3693436.3804174671,3747633.6879102858,3810680.7665942502,4007468.9222338153,3942833.7298433259,{"$error":"#REF!"},0,0,0,0,0,0,0]
[{"$f":"ROW()-ROW('Результаты 2'!$A$2:$Z$2)","v":29},35,"Налог на имущество организаций",null,{"$f":"SUM('Результаты 2'!$F31:$Z31)","v":{"$error":"#REF!"}},{"$f":"Результаты_1!F115","v":0},{"$f":"Результаты_1!G115","v":0},{"$f":"Результаты_1!H115","v":0},{"$f":"Результаты_1!I115","v":0},{"$f":"Результаты_1!J115","v":0},{"$f":"Результаты_1!K115","v":2041277.5633066655},{"$f":"Результаты_1!L115","v":1945701.4719999973},{"$f":"Результаты_1!M115","v":1912278.2181485659},{"$f":"Результаты_1!N115","v":1819862.8213333278},{"$f":"Результаты_1!O115","v":1728465.5613866628},{"$f":"Результаты_1!P115","v":1713429.578666663},{"$f":"Результаты_1!AA115","v":829566.90666667023},{"$f":"Результаты_1!AE115","v":489935.38880000164},{"$f":"Результаты_1!#REF!","v":{"$error":"#REF!"}},{"$f":"Результаты_1!AF115","v":0},{"$f":"Результаты_1!AH115","v":0},{"$f":"Результаты_1!AI115","v":0},{"$f":"Результаты_1!AJ115","v":0},{"$f":"Результаты_1!AK115","v":0},{"$f":"Результаты_1!AL115","v":0}]
[{"$f":"ROW()-ROW('Результаты 2'!$A$2:$Z$2)","v":30},37,"Налог на прибыль",null,{"$f":"SUM('Результаты 2'!$F32:$Z32)","v":{"$error":"#REF!"}},{"$f":"Результаты_1!F116","v":0},{"$f":"Результаты_1!G116","v":0},{"$f":"Результаты_1!H116","v":0},{"$f":"Результаты_1!I116","v":0},{"$f":"Результаты_1!J116","v":0},{"$f":"Результаты_1!K116","v":1404843.5018133267},{"$f":"Результаты_1!L116","v":1562102.7688379164},{"$f":"Результаты_1!M116","v":1664240.0839270269},{"$f":"Результаты_1!N116","v":1808620.450810475},{"$f":"Результаты_1!O116","v":1951616.8939190118},{"$f":"Результаты_1!P116","v":2026997.9060187913},{"$f":"Результаты_1!AA116","v":3069750.3157632034},{"$f":"Результаты_1!AE116","v":3326376.1492491323},{"$f":"Результаты_1!#REF!","v":{"$error":"#REF!"}},{"$f":"Результаты_1!AF116","v":0},{"$f":"Результаты_1!AH116","v":0},{"$f":"Результаты_1!AI116","v":0},{"$f":"Результаты_1!AJ116","v":0},{"$f":"Результаты_1!AK116","v":0},{"$f":"Результаты_1!AL116","v":0}]
[{"$f":"ROW()-ROW('Результаты 2'!$A$2:$Z$2)","v":31},38,"НДФЛ",null,{"$f":"SUM('Результаты 2'!$F33:$Z33)","v":{"$error":"#REF!"}},{"$f":"Результаты_1!F117","v":0},{"$f":"Результаты_1!G117","v":0},{"$f":"Результаты_1!H117","v":0},{"$f":"Результаты_1!I117","v":0},{"$f":"Результаты_1!J117","v":0},{"$f":"Результаты_1!K117","v":57743.076739645454},{"$f":"Результаты_1!L117","v":60052.799809231263},{"$f":"Результаты_1!M117","v":62454.911801600509},{"$f":"Результаты_1!N117","v":64953.108273664548},{"$f":"Результаты_1!O117","v":67551.232604611127},{"$f":"Результаты_1!P117","v":70253.281908795558},{"$f":"Результаты_1!AA117","v":108151.69980394201},{"$f":"Результаты_1!AE117","v":126522.19179419187},{"$f":"Результаты_1!#REF!","v":{"$error":"#REF!"}},{"$f":"Результаты_1!AF117","v":0},{"$f":"Результаты_1!AH117","v":0},{"$f":"Результаты_1!AI117","v":0},{"$f":"Результаты_1!AJ117","v":0},{"$f":"Результаты_1!AK117","v":0},{"$f":"Результаты_1!AL117","v":0}]
[{"$f":"ROW()-ROW('Результаты 2'!$A$2:$Z$2)","v":32},39,"НДПИ",null,{"$f":"SUM('Результаты 2'!$F34:$Z34)","v":{"$error":"#REF!"}},{"$f":"Результаты_1!F118","v":0},{"$f":"Результаты_1!G118","v":0},{"$f":"Результаты_1!H118","v":0},{"$f":"Результаты_1!I118","v":0},{"$f":"Результаты_1!J118","v":0},{"$f":"Результаты_1!K118","v":0},{"$f":"Результаты_1!L118","v":0},{"$f":"Результаты_1!M118","v":0},{"$f":"Результаты_1!N118","v":0},{"$f":"Результаты_1!O118","v":0},{"$f":"Результаты_1!P118","v":0},{"$f":"Результаты_1!AA118","v":0},{"$f":"Результаты_1!AE118","v":0},{"$f":"Результаты_1!#REF!","v":{"$error":"#REF!"}},{"$f":"Результаты_1!AF118","v":0},{"$f":"Результаты_1!AH118","v":0},{"$f":"Результаты_1!AI118","v":0},{"$f":"Результаты_1!AJ118","v":0},{"$f":"Результаты_1!AK118","v":0},{"$f":"Результаты_1!AL118","v":0}]
[{"$f":"ROW()-ROW('Результаты 2'!$A$2:$Z$2)","v":33},40,"Прочие",null,{"$f":"SUM('Результаты 2'!$F35:$Z35)","v":{"$error":"#REF!"}},{"$f":"Результаты_1!F119","v":0},{"$f":"Результаты_1!G119","v":0},{"$f":"Результаты_1!H119","v":0},{"$f":"Результаты_1!I119","v":0},{"$f":"Результаты_1!J119","v":0},{"$f":"Результаты_1!K119","v":0},{"$f":"Результаты_1!L119","v":0},{"$f":"Результаты_1!M119","v":0},{"$f":"Результаты_1!N119","v":0},{"$f":"Результаты_1!O119","v":0},{"$f":"Результаты_1!P119","v":0},{"$f":"Результаты_1!AA119","v":0},{"$f":"Результаты_1!AE119","v":0},{"$f":"Результаты_1!#REF!","v":{"$error":"#REF!"}},{"$f":"Результаты_1!AF119","v":0},{"$f":"Результаты_1!AH119","v":0},{"$f":"Результаты_1!AI119","v":0},{"$f":"Результаты_1!AJ119","v":0},{"$f":"Результаты_1!AK119","v":0},{"$f":"Результаты_1!AL119","v":0}]
[{"$f":"ROW()-ROW('Результаты 2'!$A$2:$Z$2)","v":34},41,"Местный бюджет (справочно)",null,{"$f":"SUM('Результаты 2'!$F36:$Z36)","v":12},{"$f":"Результаты_1!F124","v":0},{"$f":"Результаты_1!G124","v":0},{"$f":"Результаты_1!H124","v":0},{"$f":"Результаты_1!I124","v":0},{"$f":"Результаты_1!J124","v":0},{"$f":"Результаты_1!K124","v":0},{"$f":"Результаты_1!L124","v":0},{"$f":"Результаты_1!M124","v":0},{"$f":"Результаты_1!N124","v":0},{"$f":"Результаты_1!O124","v":0},{"$f":"Результаты_1!P124","v":0},{"$f":"Результаты_1!Q124","v":0},{"$f":"Результаты_1!R124","v":0},{"$f":"Результаты_1!S124","v":0},{"$f":"Результаты_1!T124","v":0},{"$f":"Результаты_1!U124","v":0},{"$f":"Результаты_1!V124","v":0},{"$f":"Результаты_1!W124","v":0},{"$f":"Результаты_1!AA124","v":4},{"$f":"Результаты_1!AE124","v":8}]
[{"$f":"ROW()-ROW('Результаты 2'!$A$2:$Z$2)","v":35},42,"Налоговые поступления с мерами","Налоговые поступления, рассчитанные с учётом мер гос. поддержки",{"$f":"SUM('Результаты 2'!$F37:$Z37)","v":0},{"$f":"SUBTOTAL(9,F38:F50)","v":0},0,0,0,0,0,0,0,0,0,0,0,0,{"$f":"SUBTOTAL(9,S38:S50)","v":0},0,0,0,0,0,0,0]
[{"$f":"ROW()-ROW('Результаты 2'!$A$2:$Z$2)","v":36},43,"Федеральный бюджет",null,{"$f":"SUM('Результаты 2'!$F38:$Z38)","v":0},{"$f":"SUBTOTAL(9,F39:F43)","v":0},{"$f":"SUBTOTAL(9,G39:G43)","v":0},0,0,0,0,0,0,0,0,0,0,0,0,0,0,0,0,0,0,0]
[{"$f":"ROW()-ROW('Результаты 2'!$A$2:$Z$2)","v":37},44,"НДС",null,{"$f":"SUM('Результаты 2'!$F39:$Z39)","v":0}]
[{"$f":"ROW()-ROW('Результаты 2'!$A$2:$Z$2)","v":38},45,"Акцизы",null,{"$f":"SUM('Результаты 2'!$F40:$Z40)","v":0}]
[{"$f":"ROW()-ROW('Результаты 2'!$A$2:$Z$2)","v":39},46,"Налог на прибыль",null,{"$f":"SUM('Результаты 2'!$F41:$Z41)","v":0}]
[{"$f":"ROW()-ROW('Результаты 2'!$A$2:$Z$2)","v":40},47,"НДПИ",null,{"$f":"SUM('Результаты 2'!$F42:$Z42)","v":0}]
[{"$f":"ROW()-ROW('Результаты 2'!$A$2:$Z$2)","v":41},48,"Прочие",null,{"$f":"SUM('Результаты 2'!$F43:$Z43)","v":0}]
[{"$f":"ROW()-ROW('Результаты 2'!$A$2:$Z$2)","v":42},49,"Региональный бюджет",null,{"$f":"SUM('Результаты 2'!$F44:$Z44)","v":0},{"$f":"SUBTOTAL(9,F45:F49)","v":0},0,0,0,0,0,0,0,0,0,0,0,0,0,0,0,0,0,0,0,0]
[{"$f":"ROW()-ROW('Результаты 2'!$A$2:$Z$2)","v":43},50,"Налог на имущество организаций",null,{"$f":"SUM('Результаты 2'!$F45:$Z45)","v":0}]
[{"$f":"ROW()-ROW('Результаты 2'!$A$2:$Z$2)","v":44},52,"Налог на прибыль",null,{"$f":"SUM('Результаты 2'!$F46:$Z46)","v":0}]
[{"$f":"ROW()-ROW('Результаты 2'!$A$2:$Z$2)","v":45},53,"НДФЛ",null,{"$f":"SUM('Результаты 2'!$F47:$Z47)","v":0}]
[{"$f":"ROW()-ROW('Результаты 2'!$A$2:$Z$2)","v":46},54,"НДПИ",null,{"$f":"SUM('Результаты 2'!$F48:$Z48)","v":0}]
[{"$f":"ROW()-ROW('Результаты 2'!$A$2:$Z$2)","v":47},55,"Прочие",null,{"$f":"SUM('Результаты 2'!$F49:$Z49)","v":0}]
[{"$f":"ROW()-ROW('Результаты 2'!$A$2:$Z$2)","v":48},56,"Местный бюджет (справочно)",null,{"$f":"SUM('Результаты 2'!$F50:$Z50)","v":0}]
[{"$f":"ROW()-ROW('Результаты 2'!$A$2:$Z$2)","v":49},57,"Разница налоговых поступлений",null,0,0,0,0,0,0,0,0,0,0,0,0,0,0,0,0,0,0,0,0,0,0]
[{"$f":"ROW()-ROW('Результаты 2'!$A$2:$Z$2)","v":50},58,"Расходная часть бюджета","Сумма всех налоговых и неналоговых мер гос. поддержки и выпадающих налогов уплачиваемых в рамках проекта",0,0,0,0,0,0,0,0,0,0,0,0,0,0,0,0,0,0,0,0,0,0]
[{"$f":"ROW()-ROW('Результаты 2'!$A$2:$Z$2)","v":51},59,"Чистый бюджетный эффект",null,0,0,0,0,0,0,0,0,0,0,0,0,0,0,0,0,0,0,0,0,0,0]

{"sheet":"Основная информация","index":4,"n_rows":185,"n_cols":23,"rows_kept":185,"cut":false,"hidden":true,"merged":[[2,1,2,17],[5,2,5,16],[7,3,7,16],[8,3,8,16],[9,3,9,16],[10,3,10,16],[11,3,11,16],[12,3,12,16],[14,3,14,6],[14,7,14,16],[15,3,15,6],[15,7,15,16],[16,3,16,6],[16,7,16,16],[17,3,17,6],[17,7,17,16],[18,3,18,6],[18,7,18,16],[19,3,19,6],[19,7,19,16],[21,3,21,16],[22,3,22,16],[23,3,23,16],[24,3,24,16],[25,3,25,16],[26,3,26,16],[27,3,27,16],[28,3,28,16],[29,3,29,16],[30,3,30,16],[31,3,31,16],[32,3,32,16],[33,3,33,16],[38,2,38,16],[40,3,40,4],[40,5,40,16],[41,3,41,4],[41,5,41,16],[42,3,42,4],[42,5,42,16],[43,3,43,4],[43,5,43,16],[44,3,44,4],[44,5,44,16],[45,3,45,4],[45,5,45,16],[46,3,46,16],[47,3,47,16],[48,3,48,16],[49,3,49,16],[50,3,50,16],[51,3,51,16],[52,3,52,16],[56,2,56,16],[58,3,58,9],[58,11,58,16],[60,3,60,9],[60,11,60,16],[61,3,61,9],[61,11,61,16],[62,3,62,9],[62,11,62,16],[63,3,63,9],[63,11,63,16],[64,3,64,9],[64,11,64,16],[65,3,65,9],[65,11,65,16],[66,6,66,9],[66,11,66,16],[67,3,67,9],[67,11,67,16],[68,3,68,9],[68,11,68,16],[69,3,69,9],[69,11,69,16],[70,3,70,9],[70,11,70,16],[72,3,72,6],[72,7,72,16],[73,3,73,6],[73,7,73,16],[74,3,74,6],[74,7,74,16],[75,3,75,6],[75,7,75,16],[77,3,77,16],[79,2,79,7],[84,2,84,16],[86,2,86,3],[87,2,87,3],[88,2,88,3],[89,2,89,3],[90,2,90,3],[91,2,91,3],[92,2,92,3],[92,6,92,7],[92,9,92,10],[92,12,92,13],[93,2,93,3],[93,9,93,10],[93,12,93,15],[94,2,94,3],[94,9,94,10],[94,12,94,15],[95,2,95,3],[95,9,95,10],[95,12,95,15],[96,2,96,3],[96,9,96,10],[96,12,96,15],[97,2,97,3],[97,9,97,10],[97,12,97,15],[98,2,98,3],[98,12,98,15],[99,2,99,3],[100,2,100,3],[100,9,100,10],[100,12,100,15],[101,2,101,3],[101,9,101,10],[101,12,101,15],[102,2,102,3],[103,2,103,3],[104,2,104,3],[105,2,105,3],[106,2,106,3],[107,2,107,3],[108,2,108,3],[115,2,115,16],[117,6,117,7],[118,2,118,3],[119,2,119,3],[121,13,122,16],[123,2,123,3],[123,13,124,16],[124,2,124,3],[125,2,125,3],[125,13,126,16],[126,2,126,3],[127,2,127,3],[127,13,128,16],[128,2,128,3],[129,2,129,3],[129,13,130,16],[130,2,130,3],[131,13,132,16],[132,2,133,3],[134,2,135,3],[181,2,181,16],[184,2,196,16],[136,2,137,3],[136,4,137,4],[138,2,139,3],[138,4,139,4],[138,13,145,16],[140,2,140,3],[145,6,145,7]]}
[]
[]
[null," «Строительство завода по производству минеральных удобрений на базе Федерального казенного предприятия «Горный» в поселке Горный, Краснопартизанского района Саратовской области» "]
[]
[]
[null,null,"Общая информация о проекте"]
[]
[null,null,"ФОИВ-инициатор ","Минпромторг России"]
[null,null,"ФОИВы-участники","Минэкономразвития России"]
[null,null,"(может быть несколько)","Минфин России"]
[]
[]
[]
[]
[null,null,null,"Субъект",null,null,null,"Населённый пункт"]
[null,null,"Место реализации проекта","Саратовская область",null,null,null,"пос. Горный, Краснопартизанский район"]
[null,null,"(может быть несколько)"]
[]
[]
[]
[]
[null,null,"Тип проекта","Создание нового предприятия/производства (или объекта)."]
[null,null,"Форма реализации проекта","Создание совместного предприятия (наличие стратегического и/или финансового партнера)."]
[null,null,"Краткое описание сути проекта","Компания ООО \"НПП \"Платекс\", совместно с ООО \"СПК\" Горный\" (проектная компания, созданная в рамках реализации дорожной карты, принятой 15 апреля 2016 года на совещании в Минпромторге России, 100%-ая дочка ООО \"НПП \"Платекс\") реализует инвестиционный проект \"Строительство завода по производству минеральных удобрений на базе имущественного комплекса ФКП \"Горный\"(далее – Проект). Реализация проекта основана на необходимости вовлечения в хозяйственный оборот имущественного комплекса бывшего объекта по уничтожению химического оружия \"Горный\", согласно поручению Президента Российской Федерации от 27 июля 2012 года № Пр-1922, и во исполнение Указа Президента Российской Федерации от 7 мая 2018 года № 204 \"О национальных целях и стратегических задачах развития Российской Федерации на период до 2024 года\". Создаваемый завод по производству минеральных удобрений (далее – ЗМУ) будет обладать следующими производственными мощностями:\n•производство аммиака 2350 тонн в сутки;\n•производство карбамида 2800 тонн в сутки;\n•производство аммиачной селитры 1792 тонн в сутки;\n•производство КАС-32 2000 тонн в сутки;\nОсновные финансовые показатели Проекта:\n•Общая стоимость проекта – 91 951,20 млн. рублей;\n•Оборот – 29 381,39 млн. руб;\n•Прибыль после Н/О - 19 103,49 млн. рублей;"]
[null,null,"Соответствие проекта целям Указа Президента РФ от 7 мая 2018 г. № 204","Международная кооперация и экспорт"]
[null,null,"Информация о степени проработки проекта"," 7 октября 2016 года между Минпромторгом России, Правительством Саратовской области и ООО \"НПП \"Платекс подписано Соглашение о сотрудничестве по подготовке и реализации проекта \"Строительство завода по производству минеральных удобрений на базе имущественного комплекса ФКП \"Горный\" (поселок Горный, Краснопартизанский район, Саратовская область)\".\n 20 декабря 2016 года в ЗАТО Михайловский Саратовской области (создано на основании Указа Президента Российской Федерации от 13 ноября 2003 года №1347 в целях создания надежной защитной зоны для безопасного функционирования объекта по уничтожению запасов отравляющих веществ, обеспечения требуемого режима его работы и экологической безопасности) проведены Общественные слушания на тему \"Строительство завода минеральных удобрений на базе имущественного комплекса\nФКП \"Горный\", его влияние на социально - экономическое положение территорий и окружающую среду\". Проект получил единогласную поддержку. \n 27 февраля 2017 на международном экономическом форуме в Сочи подписано\nСоглашение о намерениях между Правительством Саратовской области, в лице Губернатора Саратовской области В.В. Радаева, и ООО \"СПК \"Горный\" о реализации инвестиционного проекта \"Строительство завода по производству минеральных удобрений на базе имущественного комплекса ФКП \"Горный\" (поселок Горный,          Краснопартизанский район, Саратовская область)\".\n По запросу Минпромторга России от Минэнерго России получено письмо о возможности выделения лимитов газа в объеме 1 млрд. куб. метров в год для реализации Проекта. От ПАО \"Газпром\" получено письмо о возможности поставок газа в объеме 1 млрд куб. метров в год для реализации Проекта.\n 7 августа 2018 года: ООО \"Газпром трансгаз Саратов\" подтвердило техническую возможность подачи газа в объеме 1 млрд. м3 в год по МГ \"Мокроус-Самара-Тольятти\" до границ зоны ответственности ПАО \"Газпром\" – ФКП \"Горный\"\n Генеральным инвестором строительства ЗМУ выступит одна из крупнейших профильных китайских компаний - Wuhuan Engineering.\n 29 января 2018 года между ООО \"НПП\" Платекс\", ООО \"СПК\" Горный\" и Wuhuan Engineering была подписана дорожная карта реализации инвестиционного проекта \"Строительство завода по производству минеральных удобрений на базе имущественного комплекса ФКП \"Горный\" в поселке Горный Краснопартизанского района Саратовской области\".\n 06 марта 2018 года Филиал ОАО \"РЖД\" Приволжская железная дорога подтвердил возможность перевозки минеральных удобрений железнодорожным транспортом в объеме ~ 1.6 млн. тонн, начиная с 2022 г. \n 12 марта 2018 года ПАО \"Новороссийский морской торговый порт\" выразил заинтересованность в перевалке минеральных удобрений в запрашиваемых объемах.\n 15 марта 2018 года ГК \"Азово-Донское пароходство\" выразило заинтересованность в перевозке минеральных удобрений речным транспортом.\n 26 апреля 2018 года ООО \"НПП \"Платекс\" получил от Финансового университета при Правительстве РФ заключение Специалистов по Проекту, согласно которому расчёты в бизнес-плане и экономической модели сделаны верно, а реализация Проекта не окажет негативное влияние на внутренний и внешний рынок минеральных удобрений.\n 15 августа 2018 года Правительство Саратовской области в лице Губернатора В.В. Радаева, Wuhuan Engineering в лице главы Представительства в России Лио Чанг и ООО \"СПК \"Горный\" в лице Генерального директора Е.Н. Ваулина подписали соглашение о сотрудничестве по реализации Проекта и дорожную карту.\n 21 сентября 2018 года в г. Куньмин, Китай, Под председательством Министров Промышленности России и Китая состоялось третье заседание Подкомиссии по сотрудничеству в области промышленности Российско-Китайской комиссии по подготовке регулярных встреч глав Правительств, в ходе которого стороны приветствовали реализацию проекта ООО \"СПК \"Горный\" с китайской компанией Wuhuan Engineering, выступающей в качестве генерального подрядчика при реализации инвестиционного проекта по строительству завода по производству минеральных удобрений в Саратовской области.\nВ сентябре 2018 года, согласно протоколу совещания №13-1262 от 05 июля 2018 г. под председательство заместителя директора Департамента химико-технологического, лесопромышленного комплекса и биоинженерных технологий М.В. Корольковым, ООО \"НПП \"Платекс\" провел работы по межеванию земельного участка ФКП \"Горный\" с привлечением уполномоченной организации.\n23 ноября 2018 года Статс-секретарь Заместитель Министра Минпромторга России В.Л. Евтухов обратился в Росимущество (письмо №ЕВ-76642/13 от 23.11.2018) с просьбой о содействие в проведение Росимуществом экспертизы и согласовании схемы земельного участка в целях своевременной реализации Проекта строительства завода по производству минеральных удобрений.\n23 ноября 2018 года Статс-секретарь Заместитель Министра Минпромторга России В.Л. Евтухов обратился в ПАО \"Газпром\" (письмо №ЕВ-76623/13 от 23.11.2018 ) с просьбой о содействие в вопросе выдачи Технических условий на газ в целях своевременной реализации Проекта строительства завода по производству минеральных удобрений.\n31 января 2019 года выделенный участок под строительство завода по производству минеральных удобрений площадью 1 649 918 кв. м и части земельного участка площадью 7 380 кв. м. был поставлен на кадастровый учет.  \n Покупателями всей выпускаемой ЗМУ продукции выступит компания Ameropa AG(Швейцария) (соглашение о намерениях от 20.12.2018г.), с которой в 2 квартале 2019 года будет подписан offtake договор на весь объем продукции. \n\n"]
[null,null,"Наличие необходимых ресурсов для реализации проекта:","Проект предполагет использования ресурсов проведенных к бывшему объекту по уничтожению химического оружия \"Горный\". Ресурсная база полностью проработано и удовлетворяет требованиям к подобному производству (некоторые модщности надо реконструировать )                                                                                                                                                                                                                                                                                                                    По запросу Минпромторга России от Минэнерго России получено письмо о возможности выделения лимитов газа в объеме 1 млрд. куб. метров в год для реализации Проекта. От ПАО \"Газпром\" получено письмо о возможности поставок газа в объеме 1 млрд куб. метров в год для реализации Проекта.\n7 августа 2018 года: ООО \"Газпром трансгаз Саратов\" подтвердило техническую возможность подачи газа в объеме 1 млрд. м3 в год по МГ \"Мокроус-Самара-Тольятти\" до границ зоны ответственности ПАО \"Газпром\" – ФКП \"Горный\""]
[null,null,"Материально-сырьевая база для выпуска продукции","Количество природного газа, потребляемого в качестве сырья и топлива объектами комплекса, составляет 1 млрд куб/м в год.\nГазоснабжение объектов предприятия предусмотрено стальным газопроводом - отводом диаметром 219 мм с давлением 5,5 МПа от газопровода Мокроус - Тольятти до АГРС протяженностью 4 856 м. Протяженность полиэтиленового газопровода высокого давления (давление 3,2 кгс/см2) составляет от АГРС до котельной теплового хозяйства - 9762 м, Д-225 мм.                                                                                                                                                                                      Водозаборные сооружения включают в себя насосную станцию производительностью 1800 м.куб/ч, оборудованную шестью насосами марки ЭЦВ с круглосуточным режимом работы, здания которой расположены на левом берегу р. Б. Иргиз. \nПодстанция \"Степная\" 32 МвТ"]
[null,null,"Социальная инфраструктура","Мост через реку Б. Иргиз, соединяющий  село Березово ( Пугачевский район) и село Каменка ( Пугачевский район). \nОбеспечение условий для комфортного проживания сотрудников на територии ЗАТО - поселок Михайловский (возможно после отмены ЗАТО создание Моногорода)"]
[null,null,"Базовые условия"]
[null,null,"(может быть несколько)"]
[]
[]
[]
[]
[]
[]
[]
[null,null,"Направленность проекта и его отраслевая принадлежность"]
[]
[null,null,null,"ОКВЭД",null,"Наименование"]
[null,null,"Отрасль реализации проекта","20.15.3",null,"Производство азотных минеральных или химических удобрений"]
[null,null,"(может быть несколько)",null,null,"---"]
[null,null,null,null,null,"---"]
[null,null,null,null,null,"---"]
[null,null,null,null,null,"---"]
[null,null,"Основные виды продукции (услуг) по проекту","Карбамид 2800 тонн в сутки;;\nКАС-32 2000 тонн в сутки;"]
[null,null,"Ориентирован ли проект на импортозамещение","Да"]
[null,null,"Доля продукции на экспорт",1]
[null,null,"Рыночные предпосылки реализации проекта: ","Наибольший вклад в оборот химической промышленности вносит производство минеральных удобрений.\nМировой рынок минеральных удобрений в последние десятилетия развивался высокими темпами, чему в частности способствовал рост сельского хозяйства  В результате менее чем за 30 лет его объем увеличился практически в 5 раз и достигает более 100 млрд долларов в 2017 году при стабильных средних многолетних значениях темпов прироста порядка 3% в год. \nРост численности мирового населения ведет к увеличению спроса на основные продукты питания при одновременном сокращении ресурса свободных мировых посевных площадей в расчете на человека, что обуславливает необходимость интенсификации сельского хозяйства, разработки и внедрения новых технологий. \nВ последние годы сложные климатические условия негативно сказались на урожае сельхозкультур в большинстве ведущих стран производителей и привели к снижению мировых запасов зерновых, что в свою очередь привело к росту спроса на минеральные удобрения.\nУвеличение доходов на душу населения в странах с развивающейся экономикой ведет к улучшению рациона питания. Происходит рост потребления продукции животноводства, в частности, мяса и молочных продуктов, что требует производства дополнительных объемов продукции растениеводства, и, как следствие, ведет к увеличению спроса на минеральные удобрения.\nПовышение спроса на биотопливо (биоэтанол, биодизель) соответственно влечет за собой дополнительный спрос на сельхозпродукцию технического назначения и на удобрения.\n\n Россия обладает уникальной сырьевой базой, позволяющей выпускать весь спектр минеральных удобрений, российские предприятия входят в число ключевых игроков по всем сегментам: азотному, фосфорному и калийному. "]
[null,null,"Рынок сбыта","Страны Европейского союза, Страны Латинской Америки, Индия, Китай."]
[null,null,"Основные потребители продукции / услуг, основные драйверы роста спроса ","По прогнозу Международной ассоциации производителей минеральных удобрений (IFA), наибольший прирост в мировом спросе на удобрения придется на страны Восточной и Южной Азии и Латинской Америки. На страны Восточной Азии и Латинской Америки придётся в ближайшие пять лет и основной прирост спроса в сегменте азотных и фосфорных удобрений.В долгосрочной преспективи значительно может вырасти спрос на азотные удобрения в странах Африки. Стабильным покупателем выступают страны Европейского союза."]
[null,null,"Основные игроки отрасли, конкурентные преимущества проекта на рынке","Основные игроки отрасли: Еврохим,Уралхим, Метафракс, Тольятти, Аммоний, КуйбышевАзот, Газпром нефтехим Салават, Акрон.                                                                                                                                                                                  Основные конкуретные преимущества проекта: Строительство с нуля комплексного высокооинетегрированого завода с использованием наилучших доступных технологий, такой завод будет значительно выигрывать по себестоимости продукции. Учитывая экспортную ориентацию завода все решения и используемые технологии обсуждаются с конечным покупателем продукции Ameropa AG что позволяет создать наиболее рентабельное и эффективное производство.                                                                                                                                                                                                                                                                                                                                                            Основные конкуретные преимущетсва площадки:                                                                                                                                                                                                                                                                                               1.Решённый вопрос с экологической безопасностью на площадке, выбранной под реализацию проекта. \n2.Выгодное размещение площадки выбранной под реализацию проекта с точки зрения логистики (железная дорога, речные порты, автомобильная дорога)\n3.Наличие квалифицированного персонала. \n4.Наличие необходимой ресурсной базы\n5.Поддержка регианальной власти\n6.Поддержка населением (20 декабря 2016 года в ЗАТО Михайловский Саратовской области (создано на основании Указа Президента Российской Федерации от 13 ноября 2003 года №1347 в целях создания надежной защитной зоны для безопасного функционирования объекта по уничтожению запасов отравляющих веществ, обеспечения требуемого режима его работы и экологической безопасности) проведены Общественные слушания на тему \"Строительство завода минеральных удобрений на базе имущественного комплекса\nФКП \"Горный\", его влияние на социально - экономическое положение территорий и окружающую среду\". Проект получил единогласную поддержку.  )\n\n"]
[]
[]
[]
[null,null,"Информация об участниках проекта "]
[]
[null,null,null,"Общие сведения об Инициаторе проекта",null,null,null,null,null,null,null,"Общие сведения о компании, реализующей проект (если не совпадает с Инициатором проекта)"]
[]
[null,null,"Наименование","ООО \"НПП\"Платекс\"",null,null,null,null,null,null,null,"ООО \"СПК\" Горный\""]
[null,null,"Место государственной регистрации (юридический адрес)","115230, город Москва, Электролитный проезд, 1 корп.3",null,null,null,null,null,null,null,"413540, Саратовская область, поселок Михайловский, улица Возрождение, дом 16, помещение 44, этаж 2"]
[null,null,"Адрес фактического местонахождения лица","115230, город Москва, Электролитный проезд, 1 корп.3",null,null,null,null,null,null,null,"413540, Саратовская область, поселок Михайловский, улица Возрождение, дом 16, помещение 44, этаж 2"]
[null,null,"Основные виды деятельности юридического лица","38.1 Сбор отходов ",null,null,null,null,null,null,null,"71.12 Деятельность в области инженерных изысканий, инженерно-технического проектирования, управления проектами строительства, выполнения строительного контроля и авторского надзора, предоставление технических консультаций в этих областях "]
[null,null,"Срок деятельности юридического лица (лет)","12",null,null,null,null,null,null,null,"2"]
[null,null,"Название материнской компании (основной бенифициар)","Ваулин Николай Евгеньевич",null,null,null,null,null,null,null,"ООО \"НПП\"Платекс\""]
[null,null,"Данные о наличии неурегулированной задолженности по налогам и иным обязательным платежам в бюджетные и внебюджетные фонды","нет",null,null,null,null,null,null,null,"нет"]
[null,null,"Сотрудник организации, ответственный за заполнение заявки",null,null,null,null,null,null,null,null,"Ваулин Евгений Николаевич"]
[null,null,"Должность",null,null,null,null,null,null,null,null,"Генеральный директор"]
[null,null,"Номер телефона",null,null,null,null,null,null,null,null,"89032830908"]
[null,null,"Адрес электронной почты",null,null,null,null,null,null,null,null,"platex@bk.ru"]
[]
[null,null,null,"Наименование",null,null,null,"Форма, условия и объемы участия в проекте"]
[null,null,"Наличие потенциальных инвесторов/соинвесторов (если применимо)","Wuhuan Engineering ",null,null,null,"Вхождение в уставной капитал на 15% от стоимости EPC после завершения проектных работ + Привлечение кредита на 85%"]
[null,null,"(может быть несколько)"]
[]
[]
[null,null,"Наличие опыта у менеджеров проекта по реализации аналогичных проектов","Компания Платекс осуществляет полный цикл научно-исследовательских и опытно-конструкторских проектов, с целью создания рентабельных высокоэффективных производств, разработки, продвижения и внедрения новых современных химических технологий производящих высокотехнологичную продукцию.\n\nВ состав компании входят:\n- специалисты в области промышленной технологии специализирующиеся на крупномасштабных химических производствах;\n- специалисты по ресурсосберегающим и энергосберегающим технологиям, ориентированные  на использование как собственного, так и имеющегося зарубежного научно-технического и производственно-технологического потенциала (привлечение прямых иностранных инвестиций, закупки лицензий на высокоэффективные новейшие технологии и т.д.);\n- эксперты промышленной и экологической безопасности\n\nОснову компании составляют ученые со степенью кандидата и доктора наук, являющиеся активно действующими исследователями.\nОбласть деятельности компании:\n\n1.Участие в реализации Федеральной Целевой Программы \"Уничтожение запасов химического оружия в Российской Федерации\"\n\n2.Перепрофилирование объектов химической промышленности;\n\n"]
[]
[]
[]
[]
[]
[]
[null,null,"Основные характеристики проекта"]
[]
[null,null,"Общая стоимость проекта",null,{"$f":"Результаты_1!K16","v":87314102.400000006},"тыс. руб."]
[null,null,"за счет бюджетных средств",null,null,"тыс. руб.",{"$f":"E88/E87","v":0},"%"]
[null,null,"за счет внебюджетных средств",null,{"$f":"E87","v":87314102.400000006},"тыс. руб.",{"$f":"E89/E87","v":1},"%"]
[]
[null,null,"Объем и доля инвестиций в основной капитал",null,{"$f":"E89*80%","v":69851281.920000002},"тыс. руб."]
[]
[null,null,null,null,null,null,"Условия предоставления (%, период)",null,null,"Наименование, пояснения",null,null,"Уровень проработки "]
[null,null,"Собственные средства участников проекта, собственников ",null,{"$f":"'Капитальные затраты'!D18+'Капитальные затраты'!D19+'Капитальные затраты'!D20+'Капитальные затраты'!D21","v":586027.19999999995},"тыс. руб.",null,null,null,"ООО \"НПП\" Платекс\""]
[null,null,"взносы в уставной капитал",null,{"$f":"E94","v":586027.19999999995}]
[null,null,"предоставление акционерного займа",null,0]
[null,null,"Привлечение соинвесторов (не кредитной организации)",null,{"$f":"E87*20%","v":17462820.48},"тыс. руб.","Взнос в уставной капитал",null,null,"Wuhuan Engineering ",null,null,"15 августа 2018 года Правительство Саратовской области в лице Губернатора В.В. Радаева, Wuhuan Engineering в лице главы Представительства в России Лио Чанг и ООО \"СПК \"Горный\" в лице Генерального директора Е.Н. Ваулина подписали соглашение о сотрудничестве по реализации Проекта и дорожную карту."]
[null,null,"Привлечение кредитов",null,{"$f":"E87*80%","v":69851281.920000002},"тыс. руб.","Гибкий график, 5% годовых, после запуска завода",null,null,"Китайский Банк Развития (также проработаны варианты с JBIC)",null,null,"Нет"]
[null,null,"Выпуск облигаций",null,null,"тыс. руб."]
[null,null,"Доход от текущей деятельности, направленный на реализацию проекта",null,null,"тыс. руб."]
[null,null,"Займы юридического лица, входящего в группу компаний",null,null,"тыс. руб."]
[null,null,"Привлечение иных средств",null,null,"тыс. руб."]
[]
[null,null,"Рабочие места"]
[null,null,"Старые рабочие места",null,null,"мест."]
[null,null,"Новые рабочие места",null,850,"мест."]
[null,null,"в т.ч. завезенные",null,null,"мест."]
[null,null,"в т.ч местные",null,850,"мест."]
[null,null,"Рабочие места на период строительства",null,2000,"мест."]
[]
[]
[]
[]
[]
[]
[null,null,"Необходимые меры поддержки"]
[]
[null,null,null,null,null,null,"Период предоставления (годы)"]
[null,null,"Компенсация части ",null,null,null,1,2,3,4,5,6]
[null,null,"затрат на создание и (или) развитие инфрастурктуры",null,{"$f":"CHOOSE(W122,E121,E122)","v":0},"млн руб.",{"$f":"CHOOSE(W122,G121,G122)","v":0},{"$f":"CHOOSE(W122,H121,H122)","v":0},{"$f":"CHOOSE(W122,I121,I122)","v":0},{"$f":"CHOOSE(W122,J121,J122)","v":0},{"$f":"CHOOSE(W122,K121,K122)","v":0},{"$f":"CHOOSE(W122,L121,L122)","v":0}]
[null,null,null,null,{"$f":"SUM(G121:L121)","v":0},null,0,0,0,0,0,0,null,"Дополнительные нефинансовые меры поддержки:",null,null,null,null,null,null,null,null,"Компенсация затрат"]
[null,null,null,null,{"$f":"SUM(G122:L122)","v":50},null,10,10,10,10,10,0,null,null,null,null,null,null,null,null,null,"Нет",1]
[null,null,null,null,null,null,null,null,null,null,null,null,null,null,null,null,null,null,null,null,null,"Да"]
[null,null,"в рамках индустриальных парков, технопарков, ОЭЗ",null,"Нет"]
[null,null,"в рамках соглашений о защите и поощрении капиталовложений (СЗПК)",null,"Нет"]
[null,null,"в рамках концессионных соглашений",null,"Нет"]
[null,null,"капитальный грант на создание (реконструкцию) объектов концессионных соглашений",null,"Нет"]
[null,null,"субсидии на компенсацию затрат по созданию транспортной инфраструктуры",null,"Нет"]
[null,null,"капитальных и операционных затрат на реализацию проекта",null,null,"млн руб."]
[null,null,"затрат на создание объектов интеллектуальной \nсобственности (НИР, ОКР, патенты и т.д.)",null,null,"млн руб."]
[null,null,"затрат на уплату налогов",null,null,"млн руб."]
[]
[null,null,"Участие государства в объекте собственности /\n создании инфраструктурных условий",null,null,"млн руб."]
[]
[null,null,"Создание сопутствующей транспортной инфраструктуры за счет государства",null,"Нет"]
[]
[null,null,"Компенсация расходов на строительство транспортной, социальной и инженерной инфраструктуры в рамках реализации проектов комплексной застройки территорий (строительства жилья) в границах населенных пунктов",null,"Нет"]
[null,null,null,null,null,null,null,null,null,null,null,null,null,"Пояснения по  запрашиваемым мерам поддержки:"]
[null,null," Строительство автомобильных дорог общего пользования к объектам производства и переработки",null,"Нет"]
[]
[null,null,"Иное (указать)"]
[]
[null,null,"Субсидирование банковской ставки",null,{"$f":"CHOOSE(W145,E144,E145)","v":0},"п.п."]
[null,null,null,null,0,null,null,null,null,null,null,null,null,null,null,null,null,null,null,null,null,null,"Субсидирование"]
[null,null,null,null,0.01,null,null,null,null,null,null,null,null,null,null,null,null,null,null,null,null,"Нет",1]
[null,null,null,null,null,null,"Период предоставления (годы)",null,null,null,null,null,null,null,null,null,null,null,null,null,null,"Да"]
[null,null,"Налоговые льготы:",null,null,null,2019,{"$f":"G147+1","v":2020},{"$f":"H147+1","v":2021},2022,2023,2024,2025,2026,2027,2028,2029]
[null,null,"Налог на прибыль",null,{"$f":"CHOOSE(W150,E149,E150)","v":0.2},null,{"$f":"CHOOSE($W$150,G149,G150)","v":0.2},{"$f":"CHOOSE($W$150,H149,H150)","v":0.2},0.2,0.2,0.2,0.2,0.2,0.2,0.2,0.2,0.2,null,null,null,null,null,"Налоговые льготы"]
[null,null,null,null,0.2,null,0.2,0.2,0.2,0.2,0.2,0.2,0.2,0.2,0.2,0.2,0.2,null,null,null,null,null,"Налог на прибыль"]
[null,null,null,null,0.15,null,0.15,0.15,0.15,0.15,0.15,0.15,0.15,0.15,0.15,0.15,0.15,null,null,null,null,"Нет",1]
[null,null,null,null,null,null,null,null,null,null,null,null,null,null,null,null,null,null,null,null,null,"Да"]
[null,null,"НДС",null,{"$f":"CHOOSE(W154,E153,E154)","v":0.2},null,{"$f":"CHOOSE($W$154,G153,G154)","v":0.2},{"$f":"CHOOSE($W$154,H153,H154)","v":0.2},0.2,0.2,0.2,0.2,0.2,0.2,0.2,0.2,0.2]
[null,null,null,null,0.2,null,0.2,0.2,0.2,0.2,0.2,0.2,0.2,0.2,0.2,0.2,0.2,null,null,null,null,null,"НДС"]
[null,null,null,null,null,null,null,null,null,null,null,null,null,null,null,null,null,null,null,null,null,"Нет",1]
[null,null,null,null,null,null,null,null,null,null,null,null,null,null,null,null,null,null,null,null,null,"Да"]
[null,null,"Налог на имущество",null,{"$f":"CHOOSE(W158,E157,E158)","v":"2.2%"},null,{"$f":"CHOOSE($W$158,G157,G158)","v":"2.2%"},{"$f":"CHOOSE($W$158,H157,H158)","v":"2.2%"},"2.2%","2.2%","2.2%","2.2%","2.2%","2.2%","2.2%","2.2%","2.2%"]
[null,null,null,null,"2.2%",null,"2.2%","2.2%","2.2%","2.2%","2.2%","2.2%","2.2%","2.2%","2.2%","2.2%","2.2%",null,null,null,null,null,"Налог на имущество"]
[null,null,null,null,null,null,null,null,null,null,null,null,null,null,null,null,null,null,null,null,null,"Нет",1]
[null,null,null,null,null,null,null,null,null,null,null,null,null,null,null,null,null,null,null,null,null,"Да"]
[null,null,"Налог на землю",null,{"$f":"CHOOSE(W162,E161,E162)","v":0},null,{"$f":"CHOOSE($W$162,G161,G162)","v":0},0,0,0,0,0,{"$f":"CHOOSE($W$162,M161,M162)","v":0},{"$f":"CHOOSE($W$162,N161,N162)","v":0},{"$f":"CHOOSE($W$162,O161,O162)","v":0},{"$f":"CHOOSE($W$162,P161,P162)","v":0},{"$f":"CHOOSE($W$162,Q161,Q162)","v":0}]
[null,null,null,null,null,null,null,null,null,null,null,null,null,null,null,null,null,null,null,null,null,null,"Налог на землю"]
[null,null,null,null,null,null,null,null,null,null,null,null,null,null,null,null,null,null,null,null,null,"Нет",1]
[null,null,null,null,null,null,null,null,null,null,null,null,null,null,null,null,null,null,null,null,null,"Да"]
[null,null,"НДПИ",null,{"$f":"CHOOSE(W166,E165,E166)","v":0},null,{"$f":"CHOOSE($W$166,G165,G166)","v":0},0,0,0,0,0,{"$f":"CHOOSE($W$166,M165,M166)","v":0},{"$f":"CHOOSE($W$166,N165,N166)","v":0},{"$f":"CHOOSE($W$166,O165,O166)","v":0},{"$f":"CHOOSE($W$166,P165,P166)","v":0},{"$f":"CHOOSE($W$166,Q165,Q166)","v":0}]
[null,null,null,null,null,null,null,null,null,null,null,null,null,null,null,null,null,null,null,null,null,null,"НДПИ"]
[null,null,null,null,null,null,null,null,null,null,null,null,null,null,null,null,null,null,null,null,null,"Нет",1]
[null,null,null,null,null,null,null,null,null,null,null,null,null,null,null,null,null,null,null,null,null,"Да"]
[null,null,"Акцизы"]
[null,null,null,null,0,null,0,0,0,0,0,0,0,0,0,0,0,null,null,null,null,null,"Иные льготы"]
[null,null,null,null,null,null,null,null,null,null,null,null,null,null,null,null,null,null,null,null,null,"Нет",1]
[null,null,null,null,null,null,null,null,null,null,null,null,null,null,null,null,null,null,null,null,null,"Да"]
[null,null,"Иные льготы"]
[null,null,null,null,0,null,0,0,0,0,0,0,0,0,0,0,0,null,null,null,null,null,"Иные льготы"]
[null,null,null,null,null,null,null,null,null,null,null,null,null,null,null,null,null,null,null,null,null,"Нет",1]
[null,null,null,null,null,null,null,null,null,null,null,null,null,null,null,null,null,null,null,null,null,"Да"]
[null,null,"Иные меры поддержки (пояснить)",null,null,"млн руб."]
[null,null,null,null,0,"млн руб.",0,0,0,0,0,0,0,0,0,0,0,null,null,null,null,null,"Иные меры"]
[null,null,null,null,null,"млн руб.",null,null,null,null,null,null,null,null,null,null,null,null,null,null,null,"Нет",1]
[null,null,null,null,null,null,null,null,null,null,null,null,null,null,null,null,null,null,null,null,null,"Да"]
[]
[]
[null,null,"Дополнительная информация"]
[]
[null,null,"Иная информация по проекту, существенная с точки зрения Инициатора"]
[null,null,"Для реализации проекта необходимо выполнить Проектные работы (FEED) и разработать Проектную документацию (ПД) (Объем работ: FEED – базовый проект (БП), технологическая схема, список оборудования, лицензионное соглашение, договор сервисного обслуживания, договор на обучение и аттестацию персонала;\n- Проектная документация (ПД) - инженерные изыскания, геодезические изыскания, адаптация базового проекта, ПД на технологическую часть и общезаводское хозяйство (ОЗХ), оценка воздействия на окружающую среду (ОВОС), главная государственная экспертиза (ГГЭ), главная государственная экологическая экспертиза (ГГЭЭ), разрешения на строительство;) Оценочная стоимость - 45 млн $ .Wuhuan Engineering готов дать кредит на FEED и ПД под гарантию.                                                                                                                                                                                                                                                                                                                                                                                                                     После выполнения проектных работ Wuhuan Engineering готов войти в уставной капитал на 15% от стоимости EPC после завершения проектных работ и привлечь кредит на 85%от стоимотси EPC."]

{"sheet":"Финансирование проекта","index":5,"n_rows":9,"n_cols":8,"rows_kept":9,"cut":false,"hidden":true,"merged":[]}
[null,null,2019,2020,2021,2022,2023,2024]
["Здания и сооружения ","тыс. $",{"$f":"'Капитальные затраты'!D5","v":0},{"$f":"'Капитальные затраты'!E5","v":16320},{"$f":"'Капитальные затраты'!F5","v":81600},{"$f":"'Капитальные затраты'!G5","v":110160},{"$f":"'Капитальные затраты'!H5","v":118320},{"$f":"'Капитальные затраты'!I5","v":0}]
["Оборудование и другие активы  ","тыс. $",{"$f":"'Капитальные затраты'!D6","v":0},{"$f":"'Капитальные затраты'!E6","v":101760},{"$f":"'Капитальные затраты'!F6","v":257280},{"$f":"'Капитальные затраты'!G6","v":231840},{"$f":"'Капитальные затраты'!H6","v":287520},{"$f":"'Капитальные затраты'!I6","v":0}]
["Нематеральные активы  ","тыс. $",{"$f":"'Капитальные затраты'!D7","v":0},{"$f":"'Капитальные затраты'!E7","v":0},{"$f":"'Капитальные затраты'!F7","v":0},{"$f":"'Капитальные затраты'!G7","v":0},{"$f":"'Капитальные затраты'!H7","v":0},{"$f":"'Капитальные затраты'!I7","v":0}]
["Первоначальный оборотный капитал  ","тыс. $",{"$f":"'Капитальные затраты'!D8","v":0},{"$f":"'Капитальные затраты'!E8","v":0},{"$f":"'Капитальные затраты'!F8","v":0},{"$f":"'Капитальные затраты'!G8","v":0},{"$f":"'Капитальные затраты'!H8","v":0},{"$f":"'Капитальные затраты'!I8","v":0}]
["Проектная документация ","тыс. $",{"$f":"'Капитальные затраты'!D9","v":3360},{"$f":"'Капитальные затраты'!E9","v":3840},{"$f":"'Капитальные затраты'!F9","v":0},{"$f":"'Капитальные затраты'!G9","v":0},{"$f":"'Капитальные затраты'!H9","v":0},{"$f":"'Капитальные затраты'!I9","v":0}]
["FEED Аммиак ","тыс. $",{"$f":"'Капитальные затраты'!D10","v":3312},{"$f":"'Капитальные затраты'!E10","v":6768},{"$f":"'Капитальные затраты'!F10","v":0},{"$f":"'Капитальные затраты'!G10","v":0},{"$f":"'Капитальные затраты'!H10","v":0},{"$f":"'Капитальные затраты'!I10","v":0}]
["FEED Карбамид ","тыс. $",{"$f":"'Капитальные затраты'!D11","v":1400},{"$f":"'Капитальные затраты'!E11","v":3120},{"$f":"'Капитальные затраты'!F11","v":0},{"$f":"'Капитальные затраты'!G11","v":0},{"$f":"'Капитальные затраты'!H11","v":0},{"$f":"'Капитальные затраты'!I11","v":0}]
["FEED Аммиачная селитра + Азотная кислота + КАС ","тыс. $",{"$f":"'Капитальные затраты'!D12","v":0},{"$f":"'Капитальные затраты'!E12","v":0},{"$f":"'Капитальные затраты'!F12","v":0},{"$f":"'Капитальные затраты'!G12","v":0},{"$f":"'Капитальные затраты'!H12","v":0},{"$f":"'Капитальные затраты'!I12","v":0}]

{"sheet":"Инфраструктура","index":6,"n_rows":96,"n_cols":15,"rows_kept":96,"cut":false,"hidden":true,"merged":[[4,2,4,16],[6,3,10,16],[12,2,16,2],[12,3,16,16],[18,2,19,2],[18,3,22,16],[24,2,25,2],[24,3,28,16],[30,3,34,16],[31,2,34,2],[36,2,40,2],[36,3,40,16],[44,2,44,16],[45,3,45,6],[46,3,46,6],[46,13,46,16],[47,3,47,6],[47,13,47,16],[48,3,48,6],[48,13,48,16],[49,3,49,6],[49,13,49,16],[50,3,50,6],[50,13,50,16],[51,3,51,6],[51,13,51,16],[52,3,52,6],[52,7,53,7],[52,8,53,12],[52,13,53,16],[53,3,53,6],[57,2,57,6],[57,9,57,16],[59,4,59,6],[59,14,59,16],[62,2,62,3],[62,4,62,6],[62,9,62,13],[62,14,62,16],[63,2,63,3],[63,4,63,6],[63,9,63,13],[63,14,63,16],[64,2,64,3],[64,4,64,6],[64,9,64,13],[64,14,64,16],[65,2,65,3],[65,4,65,6],[65,9,65,13],[65,14,65,16],[66,2,66,3],[66,4,66,6],[67,2,67,3],[67,4,67,6],[67,9,67,13],[68,9,68,13],[68,14,68,16],[69,2,69,3],[69,9,69,13],[69,14,69,16],[70,2,70,3],[70,4,70,6],[70,9,70,13],[70,14,70,16],[71,2,71,3],[71,4,71,6],[71,9,71,13],[71,14,71,16],[72,2,72,3],[72,4,72,6],[72,9,72,13],[72,14,72,16],[73,2,73,3],[73,4,73,6],[73,9,73,13],[73,14,74,16],[74,2,74,3],[74,4,74,6],[74,9,75,13],[75,14,75,16],[76,2,76,3],[76,9,76,13],[76,14,76,16],[77,2,77,3],[77,4,77,6],[77,9,77,13],[77,14,77,16],[78,2,78,3],[78,4,78,6],[79,2,79,3],[79,4,79,6],[79,9,79,13],[80,2,80,3],[80,4,80,6],[80,9,80,13],[80,14,80,16],[81,2,81,3],[81,4,81,6],[81,9,81,13],[81,14,81,16],[82,2,82,3],[82,4,82,6],[82,9,82,13],[82,14,82,16],[83,2,83,3],[83,4,83,6],[83,9,83,13],[83,14,83,16],[84,2,84,3],[84,4,84,6],[85,2,85,3],[85,4,85,6],[86,2,86,3],[86,4,86,6],[87,2,87,3],[87,4,87,6],[88,2,88,3],[88,4,88,6],[89,2,89,3],[89,4,89,6],[90,2,90,3],[90,4,90,6],[95,2,95,3],[95,4,95,6],[91,2,91,3],[91,4,91,6],[92,2,92,3],[92,4,93,6],[93,2,93,3],[94,2,94,3],[94,4,94,6]]}
[]
[null,null,"Приложение"]
[]
[]
[null,null,"Инфраструктурные ограничения реализации проекта:"]
[]
[null,null,"Вид инфраструктурного ограничения"]
[]
[]
[]
[null,null,"(электроснабжение, водоснабжение, водоотведение, теплоснабжение, газоснабжение, транспортная инфраструктура, сети связи)"]
[]
[null,null,"Описание инфраструктурного ограничения с указанием привязки к местности/ к земельному частку (география инфраструктурного ограничения)"]
[]
[]
[]
[]
[]
[null,null,"Существующая (фактическая) мощность и (или) пропускная способность инфраструктуры с указанием единицы измерения"]
[]
[]
[]
[null,null,"(на момент подачи заявки)"]
[]
[null,null,"Плановая потребность (мощность и (или ) пропускная способность) с указанием единицы измерения"]
[]
[]
[]
[]
[]
[null,null,"Подтверждение потребностей в снятии инфраструктурного ограничения"]
[null,null,"(указывается источник информации : перспективная потребность в использовании создаваемых объектов инфраструктуры подтверждается разработанной проектной документацией по новому инвестиционному проекту и (или) техникоэкономическим обоснованием, разработанным проектной организацией и содержащим расчеты объемов мощностей по всем видам ресурсов инженерно-технического обеспечения, и (или) бизнес-планом, разработанным с привлечением проектной организации (на основании заключенного договора) и содержащим расчеты объемов мощностей по всем видам ресурсов инженерно-технического обеспечения"]
[]
[]
[]
[]
[null,null,"Сведения о возможности (невозможности) финансирования создания (развития) необходимых объектов инфраструктуры за счет средств иницатора/инвестора (в том числе с использованием механизмов концессии и ГЧП) или средств институтов развития"]
[]
[]
[]
[]
[]
[]
[]
[null,null,"Сведения о земельных участках, необходимых для строительства и (или) реконструкции объектов инфраструктуры"]
[]
[null,"1.","Кадастровый номер земельного участка","64:18:020501:316",null,null,null,"9.",null,null,null,null,"Кадастровый номер объекта кап строительства на участке"]
[null,"2.","Адрес (местоположение) земельного участка","Саратовская область, п Михайловский",null,null,null,"10.",null,null,null,null,"Правообладатель объекта капитального строительства"]
[null,"3.","Площадь земельного участка (кв. м)","1649918 +/- 2247кв. М",null,null,null,"11.",null,null,null,null,"Вид разрешенного использования объекта кап строительства"]
[null,"4.","Собственник (правообладатель)",null,null,null,null,"12.",null,null,null,null,"Наличие обременений (вид обременений)"]
[null,"5.","Категория земель, вид разрешенного использования","Земли промышленности,энергетики,транспорта,связи, радиовещания,телевидения, информатики,земли для обеспечения космической\nдеятельности,земли обороны, безопасности и земли иного специального назначения",null,null,null,"13.",null,null,null,null,"Наименование лица, в пользу которого установлено"]
[null,"6.","Цель использования (создание/расширение производства/иное)",null,null,null,null,"14.",null,null,null,null,"Сведения об участии объекта кап строительства в проекте"]
[null,"7.","Наличие обременений/ограничений (вид обременений)",null,null,null,null,"15.","Перечень обосновывающих документов на земельные участки и объекты кап строительства (наименование и реквизиты)"]
[null,"8.","Наименование лица, в пользу которого установлено обременение"]
[]
[]
[]
[null,null,"Сведения об объеме мощностей и составе объектов инженерной инфраструктуры по электро-, газо-, тепло- и водоснабжению, водоотведению, ливневой канализации, о требуемых сетях связи, необходимых и достаточных для реализации проекта",null,null,null,null,null,null,"Сведения о необходимой транспортной инфраструктуре (железнодорожной, автомобильной и пр.)"]
[]
[null,null,null,"Вид объектов инфраструктуры",null,null,null,null,null,null,null,null,null,"Вид объектов инфраструктуры"]
[]
[null,null,null,"Существующее положение по объектам инженерной инфраструктуры",null,null,null,null,null,null,null,null,null,"Существующее положение по объектам транспортной инфраструктуры"]
[null,null,"Основные источники ресурса (кол-во и суммарная установленная мощность/производительность)",null,null,null,null,null,null,"Общая протяженность автомобильных дорог/ железнодорожных путей (общего/необщего использования)"]
[null,null,"Линейные объекты (вид, протяженность, пропускная способность/мощность","Вид объектов инфраструктуры",null,null,null,null,null,"Наличие транспортного сообщения площадки проекта с административными центрами , дорогами федерального значения, транспортными узлами (морские порты, речные порты, аэропорты, железнодорожные станции)"]
[null,null,"Здания, строения и сооружения, входящие в инфраструктуру объекта (вид, производительность /мощность)","Вид объектов инфраструктуры",null,null,null,null,null,"Эксплуатирующая организация"]
[null,null,"Эксплуатирующая организация","Вид объектов инфраструктуры",null,null,null,null,null,"Техническое состояние дорог и искусственных сооружений (с указанием нименования и реквизитов документов технического освидетельствования)"]
[null,null,"Степень износа источника ресурса (с указанием источника данных)","Вид объектов инфраструктуры"]
[null,null,"Степень износа линейных объектов (с указанием источника данных)","Вид объектов инфраструктуры",null,null,null,null,null,"Сведения о транспортной инфраструктуре и планах развития транспортной инфраструктуры для целей реализации проекта"]
[null,null,null,null,null,null,null,null,null,"Наличие инфраструктурного ограничения (да/нет)",null,null,null,null,"нет"]
[null,null,"Текущий баланс портебления ресурсов",null,null,null,null,null,null,"Наименование технико-экономические показатели необходимого объекта транспортной инфраструктуры"]
[null,null,"Объем потребления (текущий)",null,0,null,null,null,null,"Существующая нагрузка/объем перевозок по объектам транспортной инфраструктуры (привед. Ед/сутки; млн. тонн нетто/год;млн. тонн брутто/год)"]
[null,null,"Объем потребления иными действующими промышленными предприятиями",null,null,null,null,null,null,"Перспективная нагрузка/объем перевозок по объектам транспортной инфраструктуры, создаваемая новым проектом (привед. Ед/сутки; млн. тонн нетто/год;млн. тонн брутто/год)"]
[null,null,"Объем потребления жилым фондом, социальными объектами",null,null,null,null,null,null,"Наличие планов /программ развития (сведения о планах развития транспортной инфраструктуры, необходимой для реализации нового проекта"]
[null,null,"Резерв мощности",null,null,null,null,null,null,"Выбор решения по снятию инфраструктурных ограничений"]
[null,null,"Итого",null,null,null,null,null,null,"(указываются и описываются мероприятия по строительству и (или) реконструкции объектов инфраструктуры, снимающие инфраструктурные ограничения проекта)"]
[]
[null,null,"Сведения о планах развития коммунальной инфраструктуры, необходимой для реализации проекта",null,null,null,null,null,null,"Обоснование предложенного способа снятия инфраструктурных ограничений, в том числе описание проектных решений"]
[null,null,"Ссылка на утвержденную схему по данному виду инфраструктуры на перспективный период (реквизиты документа)",null,null,null,null,null,null,"Сведения о наличии (отсутствии) положительного заключения государственной экспертизы проектной документации , достоверности определения сметной стоимости объектов инфраструктуры, а также результатов проведенных работ по проектированию, включая инженерные изыскания и технические условия подключения (технологическое присоединение)"]
[null,null,"Сведения наличие существующих планов/программ развития  (помимо планов проекту)"]
[null,null,"Сведения об инфраструктурных ограничениях либо их отсутствии по всем видам запрашиваемой инженерной инфраструктуры",null,null,null,null,null,null,"Сведения о железнодорожной инфраструктуре (объектах инфраструктуры), необходимых для реализации проекта"]
[null,null,"Потребность в ресурсах инженерной инфраструктуры по проекту (перспективный баланс потребления ресурсов):",null,null,null,null,null,null,"Сведения о наличии технических условий, согласованных с ОАО \"РЖД\""]
[null,null,"Период 1",null,null,null,null,null,null,"Сведения об участии заявленных решений по снятию ограничений в ппрограмме (долгосрочной программе) ОАО \"РЖД\""]
[null,null,"Период 2",null,null,null,null,null,null,"Свядения о факте подачи заявки на создание необходимой инфраструктуры с участием ОАО \"РЖД\" (с указанием результатам  подачи заявки)"]
[null,null,"Период 3",null,null,null,null,null,null,"Иные сведения о взаимодействии с ОАО \"РЖД\" в рамках снятия инфраструктурных ограничений"]
[null,null,"Период 4"]
[null,null,"Период 5"]
[null,null,"Период 6"]
[null,null,"Период 7"]
[null,null,"Период 8"]
[null,null,"Период 9"]
[null,null,"Период 10"]
[null,null,"Наименование документа - источника информации"]
[null,null,"Выбор решения по снятию инфраструктурных ограничений"]
[null,null,"(указываются и описываются мероприятия по строительству и (или) реконструкции объектов инфраструктуры, снимающие инфраструктурные ограничения проекта по каждому виду ресурса)"]
[null,null,"Обоснование предложенного способа снятия инфраструктурных ограничений, в том числе описание проектных решений"]
[null,null,"Сведения о наличии (отсутствии) положительного заключения государственной экспертизы проектной документации , достоверности определения сметной стоимости объектов инфраструктуры, а также результатов проведенных работ по проектированию, включая инженерные изыскания и технические условия подключения (технологическое присоединение)"]

{"sheet":"Инфраструктура (формат РЖД)","index":7,"n_rows":32,"n_cols":18,"rows_kept":32,"cut":false,"hidden":true,"merged":[[4,2,4,16],[6,3,10,16],[12,2,16,2],[12,3,16,16],[18,2,19,2],[18,3,22,16]]}
[]
[null,null,"Приложение"]
[]
[]
[null,null,"Перечень документов по новым инфраструктурным проектам"]
[]
[null,null,"Описание существующей ситуации на участках железной дороги"]
[]
[]
[]
[]
[]
[null,null,"Схематический план, отражающий текущее путевое развитие железнодорожного пути необщего пользования заявителя (если есть в наличии)"]
[]
[]
[]
[]
[]
[null,null,"Возможные формы гарантии обеспечения заявленной грузовой базы, обосновывающие материалы"]
[]
[]
[]
[]
[]
[null,null,null,null,null,null,2019,2020,2021,2022,2023,2024,2025,2026,2027,2028,2029,2030]
[null,null,"Информация о планируемом объеме перевозок грузов железнодорожным транспортом",null,"ед."]
[]
[null,null,null,null,null,null,2019,2020,2021,2022,2023,2024,2025,2026,2027,2028,2029,2030]
[null,null,"Прогнозный объем грузовой базы, перевозимой железнодорожным транспортом",null,"ед."]
[null,null,"завоз сырья "]
[null,null,"вывоз готовой продукции по видам грузов, корреспонденциям перевозов (от точки зарождения до точки погашения)"]
[null,null,"виды грузов"]

{"sheet":"Debt_Sensitivity","index":8,"n_rows":17,"n_cols":16384,"rows_kept":17,"cut":false,"hidden":true,"merged":[]}
[null,null,"Анализ чувствительности остатка задолженности перед Банком к ключевым факторам"]
[]
[]
[null,null,"Остаток задолженности по кредитам ВЭБ на конец периода",null,2019,2020,2021,2022,2023,2024,2025,2026,2027,2028,2029,2030,2031,2032,2033,2034,2035,2036,2037,2038,2039,2040,2041,2042,2043,2044]
[null,null,"Базовое значение","млн руб.",{"$f":"Кредит!C9","v":0},{"$f":"Кредит!D9","v":65904},{"$f":"Кредит!E9","v":291824},{"$f":"Кредит!F9","v":633824},{"$f":"Кредит!G9","v":1039664},{"$f":"Кредит!H9","v":987680.8},{"$f":"Кредит!I9","v":935697.60000000009},{"$f":"Кредит!J9","v":883714.40000000014},{"$f":"Кредит!K9","v":831731.20000000019},{"$f":"Кредит!L9","v":779748.00000000023},{"$f":"Кредит!M9","v":727764.80000000028},{"$f":"Кредит!N9","v":675781.60000000033},{"$f":"Кредит!O9","v":623798.40000000037},{"$f":"Кредит!P9","v":571815.20000000042},{"$f":"Кредит!Q9","v":519832.00000000041},{"$f":"Кредит!R9","v":467848.8000000004},{"$f":"Кредит!S9","v":415865.60000000038},{"$f":"Кредит!T9","v":363882.40000000037},{"$f":"Кредит!U9","v":311899.20000000036},{"$f":"Кредит!V9","v":259916.00000000035},{"$f":"Кредит!W9","v":207932.80000000034},{"$f":"Кредит!X9","v":155949.60000000033},{"$f":"Кредит!Y9","v":103966.40000000033},{"$f":"Кредит!Z9","v":51983.200000000332},{"$f":"Кредит!AA9","v":3.3469405025243759E-10},{"$f":"Кредит!AB9","v":0},{"$f":"Кредит!AC9","v":0},{"$f":"Кредит!AD9","v":0},{"$f":"Кредит!AE9","v":0},{"$f":"Кредит!AF9","v":0},{"$f":"Кредит!AG9","v":0},{"$f":"Кредит!AH9","v":0},{"$f":"Кредит!AI9","v":0},{"$f":"Кредит!AJ9","v":0},{"$f":"Кредит!AK9","v":0},{"$f":"Кредит!AL9","v":0},{"$f":"Кредит!AM9","v":0},{"$f":"Кредит!AN9","v":0},{"$f":"Кредит!AO9","v":0},{"$f":"Кредит!AP9","v":0},{"$f":"Кредит!AQ9","v":0},{"$f":"Кредит!AR9","v":0},{"$f":"Кредит!AS9","v":0},{"$f":"Кредит!AT9","v":0},{"$f":"Кредит!AU9","v":0},{"$f":"Кредит!AV9","v":0},{"$f":"Кредит!AW9","v":0},{"$f":"Кредит!AX9","v":0},{"$f":"Кредит!AY9","v":0},{"$f":"Кредит!AZ9","v":0},{"$f":"Кредит!BA9","v":0},{"$f":"Кредит!BB9","v":0},{"$f":"Кредит!BC9","v":0},{"$f":"Кредит!BD9","v":0},{"$f":"Кредит!BE9","v":0},{"$f":"Кредит!BF9","v":0},{"$f":"Кредит!BG9","v":0},{"$f":"Кредит!BH9","v":0},{"$f":"Кредит!BI9","v":0},{"$f":"Кредит!BJ9","v":0},{"$f":"Кредит!BK9","v":0},{"$f":"Кредит!BL9","v":0},{"$f":"Кредит!BM9","v":0},{"$f":"Кредит!BN9","v":0},{"$f":"Кредит!BO9","v":0},{"$f":"Кредит!BP9","v":0},{"$f":"Кредит!BQ9","v":0},{"$f":"Кредит!BR9","v":0},{"$f":"Кредит!BS9","v":0},{"$f":"Кредит!BT9","v":0},{"$f":"Кредит!BU9","v":0},{"$f":"Кредит!BV9","v":0},{"$f":"Кредит!BW9","v":0},{"$f":"Кредит!BX9","v":0},{"$f":"Кредит!BY9","v":0},{"$f":"Кредит!BZ9","v":0},{"$f":"Кредит!CA9","v":0},{"$f":"Кредит!CB9","v":0},{"$f":"Кредит!CC9","v":0},{"$f":"Кредит!CD9","v":0},{"$f":"Кредит!CE9","v":0},{"$f":"Кредит!CF9","v":0},{"$f":"Кредит!CG9","v":0},{"$f":"Кредит!CH9","v":0},{"$f":"Кредит!CI9","v":0},{"$f":"Кредит!CJ9","v":0},{"$f":"Кредит!CK9","v":0},{"$f":"Кредит!CL9","v":0},{"$f":"Кредит!CM9","v":0},{"$f":"Кредит!CN9","v":0},{"$f":"Кредит!CO9","v":0},{"$f":"Кредит!CP9","v":0},{"$f":"Кредит!CQ9","v":0},{"$f":"Кредит!CR9","v":0},{"$f":"Кредит!CS9","v":0},{"$f":"Кредит!CT9","v":0},{"$f":"Кредит!CU9","v":0},{"$f":"Кредит!CV9","v":0},{"$f":"Кредит!CW9","v":0},{"$f":"Кредит!CX9","v":0},{"$f":"Кредит!CY9","v":0},{"$f":"Кредит!CZ9","v":0},{"$f":"Кредит!DA9","v":0},{"$f":"Кредит!DB9","v":0},{"$f":"Кредит!DC9","v":0},{"$f":"Кредит!DD9","v":0},{"$f":"Кредит!DE9","v":0},{"$f":"Кредит!DF9","v":0},{"$f":"Кредит!DG9","v":0},{"$f":"Кредит!DH9","v":0},{"$f":"Кредит!DI9","v":0},{"$f":"Кредит!DJ9","v":0},{"$f":"Кредит!DK9","v":0},{"$f":"Кредит!DL9","v":0},{"$f":"Кредит!DM9","v":0},{"$f":"Кредит!DN9","v":0},{"$f":"Кредит!DO9","v":0},{"$f":"Кредит!DP9","v":0},{"$f":"Кредит!DQ9","v":0},{"$f":"Кредит!DR9","v":0},{"$f":"Кредит!DS9","v":0},{"$f":"Кредит!DT9","v":0},{"$f":"Кредит!DU9","v":0},{"$f":"Кредит!DV9","v":0},{"$f":"Кредит!DW9","v":0},{"$f":"Кредит!DX9","v":0},{"$f":"Кредит!DY9","v":0},{"$f":"Кредит!DZ9","v":0},{"$f":"Кредит!EA9","v":0},{"$f":"Кредит!EB9","v":0},{"$f":"Кредит!EC9","v":0},{"$f":"Кредит!ED9","v":0},{"$f":"Кредит!EE9","v":0},{"$f":"Кредит!EF9","v":0},{"$f":"Кредит!EG9","v":0},{"$f":"Кредит!EH9","v":0},{"$f":"Кредит!EI9","v":0},{"$f":"Кредит!EJ9","v":0},{"$f":"Кредит!EK9","v":0},{"$f":"Кредит!EL9","v":0},{"$f":"Кредит!EM9","v":0},{"$f":"Кредит!EN9","v":0},{"$f":"Кредит!EO9","v":0},{"$f":"Кредит!EP9","v":0},{"$f":"Кредит!EQ9","v":0},{"$f":"Кредит!ER9","v":0},{"$f":"Кредит!ES9","v":0},{"$f":"Кредит!ET9","v":0},{"$f":"Кредит!EU9","v":0},{"$f":"Кредит!EV9","v":0},{"$f":"Кредит!EW9","v":0},{"$f":"Кредит!EX9","v":0},{"$f":"Кредит!EY9","v":0},{"$f":"Кредит!EZ9","v":0},{"$f":"Кредит!FA9","v":0},{"$f":"Кредит!FB9","v":0},{"$f":"Кредит!FC9","v":0},{"$f":"Кредит!FD9","v":0},{"$f":"Кредит!FE9","v":0},{"$f":"Кредит!FF9","v":0},{"$f":"Кредит!FG9","v":0},{"$f":"Кредит!FH9","v":0},{"$f":"Кредит!FI9","v":0},{"$f":"Кредит!FJ9","v":0},{"$f":"Кредит!FK9","v":0},{"$f":"Кредит!FL9","v":0},{"$f":"Кредит!FM9","v":0},{"$f":"Кредит!FN9","v":0},{"$f":"Кредит!FO9","v":0},{"$f":"Кредит!FP9","v":0},{"$f":"Кредит!FQ9","v":0},{"$f":"Кредит!FR9","v":0},{"$f":"Кредит!FS9","v":0},{"$f":"Кредит!FT9","v":0},{"$f":"Кредит!FU9","v":0},{"$f":"Кредит!FV9","v":0},{"$f":"Кредит!FW9","v":0},{"$f":"Кредит!FX9","v":0},{"$f":"Кредит!FY9","v":0},{"$f":"Кредит!FZ9","v":0},{"$f":"Кредит!GA9","v":0},{"$f":"Кредит!GB9","v":0},{"$f":"Кредит!GC9","v":0},{"$f":"Кредит!GD9","v":0},{"$f":"Кредит!GE9","v":0},{"$f":"Кредит!GF9","v":0},{"$f":"Кредит!GG9","v":0},{"$f":"Кредит!GH9","v":0},{"$f":"Кредит!GI9","v":0},{"$f":"Кредит!GJ9","v":0},{"$f":"Кредит!GK9","v":0},{"$f":"Кредит!GL9","v":0},{"$f":"Кредит!GM9","v":0},{"$f":"Кредит!GN9","v":0},{"$f":"Кредит!GO9","v":0},{"$f":"Кредит!GP9","v":0},{"$f":"Кредит!GQ9","v":0},{"$f":"Кредит!GR9","v":0},{"$f":"Кредит!GS9","v":0},{"$f":"Кредит!GT9","v":0},{"$f":"Кредит!GU9","v":0},{"$f":"Кредит!GV9","v":0},{"$f":"Кредит!GW9","v":0},{"$f":"Кредит!GX9","v":0},{"$f":"Кредит!GY9","v":0},{"$f":"Кредит!GZ9","v":0},{"$f":"Кредит!HA9","v":0},{"$f":"Кредит!HB9","v":0},{"$f":"Кредит!HC9","v":0},{"$f":"Кредит!HD9","v":0},{"$f":"Кредит!HE9","v":0},{"$f":"Кредит!HF9","v":0},{"$f":"Кредит!HG9","v":0},{"$f":"Кредит!HH9","v":0},{"$f":"Кредит!HI9","v":0},{"$f":"Кредит!HJ9","v":0},{"$f":"Кредит!HK9","v":0},{"$f":"Кредит!HL9","v":0},{"$f":"Кредит!HM9","v":0},{"$f":"Кредит!HN9","v":0},{"$f":"Кредит!HO9","v":0},{"$f":"Кредит!HP9","v":0},{"$f":"Кредит!HQ9","v":0},{"$f":"Кредит!HR9","v":0},{"$f":"Кредит!HS9","v":0},{"$f":"Кредит!HT9","v":0},{"$f":"Кредит!HU9","v":0},{"$f":"Кредит!HV9","v":0},{"$f":"Кредит!HW9","v":0},{"$f":"Кредит!HX9","v":0},{"$f":"Кредит!HY9","v":0},{"$f":"Кредит!HZ9","v":0},{"$f":"Кредит!IA9","v":0},{"$f":"Кредит!IB9","v":0},{"$f":"Кредит!IC9","v":0},{"$f":"Кредит!ID9","v":0},{"$f":"Кредит!IE9","v":0},{"$f":"Кредит!IF9","v":0},{"$f":"Кредит!IG9","v":0},{"$f":"Кредит!IH9","v":0},{"$f":"Кредит!II9","v":0},{"$f":"Кредит!IJ9","v":0},{"$f":"Кредит!IK9","v":0},{"$f":"Кредит!IL9","v":0},{"$f":"Кредит!IM9","v":0},{"$f":"Кредит!IN9","v":0},{"$f":"Кредит!IO9","v":0},{"$f":"Кредит!IP9","v":0},{"$f":"Кредит!IQ9","v":0},{"$f":"Кредит!IR9","v":0},{"$f":"Кредит!IS9","v":0},{"$f":"Кредит!IT9","v":0},{"$f":"Кредит!IU9","v":0},{"$f":"Кредит!IV9","v":0},{"$f":"Кредит!IW9","v":0},{"$f":"Кредит!IX9","v":0},{"$f":"Кредит!IY9","v":0},{"$f":"Кредит!IZ9","v":0},{"$f":"Кредит!JA9","v":0},{"$f":"Кредит!JB9","v":0},{"$f":"Кредит!JC9","v":0},{"$f":"Кредит!JD9","v":0},{"$f":"Кредит!JE9","v":0},{"$f":"Кредит!JF9","v":0},{"$f":"Кредит!JG9","v":0},{"$f":"Кредит!JH9","v":0},{"$f":"Кредит!JI9","v":0},{"$f":"Кредит!JJ9","v":0},{"$f":"Кредит!JK9","v":0},{"$f":"Кредит!JL9","v":0},{"$f":"Кредит!JM9","v":0},{"$f":"Кредит!JN9","v":0},{"$f":"Кредит!JO9","v":0},{"$f":"Кредит!JP9","v":0},{"$f":"Кредит!JQ9","v":0},{"$f":"Кредит!JR9","v":0},{"$f":"Кредит!JS9","v":0},{"$f":"Кредит!JT9","v":0},{"$f":"Кредит!JU9","v":0},{"$f":"Кредит!JV9","v":0},{"$f":"Кредит!JW9","v":0},{"$f":"Кредит!JX9","v":0},{"$f":"Кредит!JY9","v":0},{"$f":"Кредит!JZ9","v":0},{"$f":"Кредит!KA9","v":0},{"$f":"Кредит!KB9","v":0},{"$f":"Кредит!KC9","v":0},{"$f":"Кредит!KD9","v":0},{"$f":"Кредит!KE9","v":0},{"$f":"Кредит!KF9","v":0},{"$f":"Кредит!KG9","v":0},{"$f":"Кредит!KH9","v":0},{"$f":"Кредит!KI9","v":0},{"$f":"Кредит!KJ9","v":0},{"$f":"Кредит!KK9","v":0},{"$f":"Кредит!KL9","v":0},{"$f":"Кредит!KM9","v":0},{"$f":"Кредит!KN9","v":0},{"$f":"Кредит!KO9","v":0},{"$f":"Кредит!KP9","v":0},{"$f":"Кредит!KQ9","v":0},{"$f":"Кредит!KR9","v":0},{"$f":"Кредит!KS9","v":0},{"$f":"Кредит!KT9","v":0},{"$f":"Кредит!KU9","v":0},{"$f":"Кредит!KV9","v":0},{"$f":"Кредит!KW9","v":0},{"$f":"Кредит!KX9","v":0},{"$f":"Кредит!KY9","v":0},{"$f":"Кредит!KZ9","v":0},{"$f":"Кредит!LA9","v":0},{"$f":"Кредит!LB9","v":0},{"$f":"Кредит!LC9","v":0},{"$f":"Кредит!LD9","v":0},{"$f":"Кредит!LE9","v":0},{"$f":"Кредит!LF9","v":0},{"$f":"Кредит!LG9","v":0},{"$f":"Кредит!LH9","v":0},{"$f":"Кредит!LI9","v":0},{"$f":"Кредит!LJ9","v":0},{"$f":"Кредит!LK9","v":0},{"$f":"Кредит!LL9","v":0},{"$f":"Кредит!LM9","v":0},{"$f":"Кредит!LN9","v":0},{"$f":"Кредит!LO9","v":0},{"$f":"Кредит!LP9","v":0},{"$f":"Кредит!LQ9","v":0},{"$f":"Кредит!LR9","v":0},{"$f":"Кредит!LS9","v":0},{"$f":"Кредит!LT9","v":0},{"$f":"Кредит!LU9","v":0},{"$f":"Кредит!LV9","v":0},{"$f":"Кредит!LW9","v":0},{"$f":"Кредит!LX9","v":0},{"$f":"Кредит!LY9","v":0},{"$f":"Кредит!LZ9","v":0},{"$f":"Кредит!MA9","v":0},{"$f":"Кредит!MB9","v":0},{"$f":"Кредит!MC9","v":0},{"$f":"Кредит!MD9","v":0},{"$f":"Кредит!ME9","v":0},{"$f":"Кредит!MF9","v":0},{"$f":"Кредит!MG9","v":0},{"$f":"Кредит!MH9","v":0},{"$f":"Кредит!MI9","v":0},{"$f":"Кредит!MJ9","v":0},{"$f":"Кредит!MK9","v":0},{"$f":"Кредит!ML9","v":0},{"$f":"Кредит!MM9","v":0},{"$f":"Кредит!MN9","v":0},{"$f":"Кредит!MO9","v":0},{"$f":"Кредит!MP9","v":0},{"$f":"Кредит!MQ9","v":0},{"$f":"Кредит!MR9","v":0},{"$f":"Кредит!MS9","v":0},{"$f":"Кредит!MT9","v":0},{"$f":"Кредит!MU9","v":0},{"$f":"Кредит!MV9","v":0},{"$f":"Кредит!MW9","v":0},{"$f":"Кредит!MX9","v":0},{"$f":"Кредит!MY9","v":0},{"$f":"Кредит!MZ9","v":0},{"$f":"Кредит!NA9","v":0},{"$f":"Кредит!NB9","v":0},{"$f":"Кредит!NC9","v":0},{"$f":"Кредит!ND9","v":0},{"$f":"Кредит!NE9","v":0},{"$f":"Кредит!NF9","v":0},{"$f":"Кредит!NG9","v":0},{"$f":"Кредит!NH9","v":0},{"$f":"Кредит!NI9","v":0},{"$f":"Кредит!NJ9","v":0},{"$f":"Кредит!NK9","v":0},{"$f":"Кредит!NL9","v":0},{"$f":"Кредит!NM9","v":0},{"$f":"Кредит!NN9","v":0},{"$f":"Кредит!NO9","v":0},{"$f":"Кредит!NP9","v":0},{"$f":"Кредит!NQ9","v":0},{"$f":"Кредит!NR9","v":0},{"$f":"Кредит!NS9","v":0},{"$f":"Кредит!NT9","v":0},{"$f":"Кредит!NU9","v":0},{"$f":"Кредит!NV9","v":0},{"$f":"Кредит!NW9","v":0},{"$f":"Кредит!NX9","v":0},{"$f":"Кредит!NY9","v":0},{"$f":"Кредит!NZ9","v":0},{"$f":"Кредит!OA9","v":0},{"$f":"Кредит!OB9","v":0},{"$f":"Кредит!OC9","v":0},{"$f":"Кредит!OD9","v":0},{"$f":"Кредит!OE9","v":0},{"$f":"Кредит!OF9","v":0},{"$f":"Кредит!OG9","v":0},{"$f":"Кредит!OH9","v":0},{"$f":"Кредит!OI9","v":0},{"$f":"Кредит!OJ9","v":0},{"$f":"Кредит!OK9","v":0},{"$f":"Кредит!OL9","v":0},{"$f":"Кредит!OM9","v":0},{"$f":"Кредит!ON9","v":0},{"$f":"Кредит!OO9","v":0},{"$f":"Кредит!OP9","v":0},{"$f":"Кредит!OQ9","v":0},{"$f":"Кредит!OR9","v":0},{"$f":"Кредит!OS9","v":0},{"$f":"Кредит!OT9","v":0},{"$f":"Кредит!OU9","v":0},{"$f":"Кредит!OV9","v":0},{"$f":"Кредит!OW9","v":0},{"$f":"Кредит!OX9","v":0},{"$f":"Кредит!OY9","v":0},{"$f":"Кредит!OZ9","v":0},{"$f":"Кредит!PA9","v":0},{"$f":"Кредит!PB9","v":0},{"$f":"Кредит!PC9","v":0},{"$f":"Кредит!PD9","v":0},{"$f":"Кредит!PE9","v":0},{"$f":"Кредит!PF9","v":0},{"$f":"Кредит!PG9","v":0},{"$f":"Кредит!PH9","v":0},{"$f":"Кредит!PI9","v":0},{"$f":"Кредит!PJ9","v":0},{"$f":"Кредит!PK9","v":0},{"$f":"Кредит!PL9","v":0},{"$f":"Кредит!PM9","v":0},{"$f":"Кредит!PN9","v":0},{"$f":"Кредит!PO9","v":0},{"$f":"Кредит!PP9","v":0},{"$f":"Кредит!PQ9","v":0},{"$f":"Кредит!PR9","v":0},{"$f":"Кредит!PS9","v":0},{"$f":"Кредит!PT9","v":0},{"$f":"Кредит!PU9","v":0},{"$f":"Кредит!PV9","v":0},{"$f":"Кредит!PW9","v":0},{"$f":"Кредит!PX9","v":0},{"$f":"Кредит!PY9","v":0},{"$f":"Кредит!PZ9","v":0},{"$f":"Кредит!QA9","v":0},{"$f":"Кредит!QB9","v":0},{"$f":"Кредит!QC9","v":0},{"$f":"Кредит!QD9","v":0},{"$f":"Кредит!QE9","v":0},{"$f":"Кредит!QF9","v":0},{"$f":"Кредит!QG9","v":0},{"$f":"Кредит!QH9","v":0},{"$f":"Кредит!QI9","v":0},{"$f":"Кредит!QJ9","v":0},{"$f":"Кредит!QK9","v":0},{"$f":"Кредит!QL9","v":0},{"$f":"Кредит!QM9","v":0},{"$f":"Кредит!QN9","v":0},{"$f":"Кредит!QO9","v":0},{"$f":"Кредит!QP9","v":0},{"$f":"Кредит!QQ9","v":0},{"$f":"Кредит!QR9","v":0},{"$f":"Кредит!QS9","v":0},{"$f":"Кредит!QT9","v":0},{"$f":"Кредит!QU9","v":0},{"$f":"Кредит!QV9","v":0},{"$f":"Кредит!QW9","v":0},{"$f":"Кредит!QX9","v":0},{"$f":"Кредит!QY9","v":0},{"$f":"Кредит!QZ9","v":0},{"$f":"Кредит!RA9","v":0},{"$f":"Кредит!RB9","v":0},{"$f":"Кредит!RC9","v":0},{"$f":"Кредит!RD9","v":0},{"$f":"Кредит!RE9","v":0},{"$f":"Кредит!RF9","v":0},{"$f":"Кредит!RG9","v":0},{"$f":"Кредит!RH9","v":0},{"$f":"Кредит!RI9","v":0},{"$f":"Кредит!RJ9","v":0},{"$f":"Кредит!RK9","v":0},{"$f":"Кредит!RL9","v":0},{"$f":"Кредит!RM9","v":0},{"$f":"Кредит!RN9","v":0},{"$f":"Кредит!RO9","v":0},{"$f":"Кредит!RP9","v":0},{"$f":"Кредит!RQ9","v":0},{"$f":"Кредит!RR9","v":0},{"$f":"Кредит!RS9","v":0},{"$f":"Кредит!RT9","v":0},{"$f":"Кредит!RU9","v":0},{"$f":"Кредит!RV9","v":0},{"$f":"Кредит!RW9","v":0},{"$f":"Кредит!RX9","v":0},{"$f":"Кредит!RY9","v":0},{"$f":"Кредит!RZ9","v":0},{"$f":"Кредит!SA9","v":0},{"$f":"Кредит!SB9","v":0},{"$f":"Кредит!SC9","v":0},{"$f":"Кредит!SD9","v":0},{"$f":"Кредит!SE9","v":0},{"$f":"Кредит!SF9","v":0},{"$f":"Кредит!SG9","v":0},{"$f":"Кредит!SH9","v":0},{"$f":"Кредит!SI9","v":0},{"$f":"Кредит!SJ9","v":0},{"$f":"Кредит!SK9","v":0},{"$f":"Кредит!SL9","v":0},{"$f":"Кредит!SM9","v":0},{"$f":"Кредит!SN9","v":0},{"$f":"Кредит!SO9","v":0},{"$f":"Кредит!SP9","v":0},{"$f":"Кредит!SQ9","v":0},{"$f":"Кредит!SR9","v":0},{"$f":"Кредит!SS9","v":0},{"$f":"Кредит!ST9","v":0},{"$f":"Кредит!SU9","v":0},{"$f":"Кредит!SV9","v":0},{"$f":"Кредит!SW9","v":0},{"$f":"Кредит!SX9","v":0},{"$f":"Кредит!SY9","v":0},{"$f":"Кредит!SZ9","v":0},{"$f":"Кредит!TA9","v":0},{"$f":"Кредит!TB9","v":0},{"$f":"Кредит!TC9","v":0},{"$f":"Кредит!TD9","v":0},{"$f":"Кредит!TE9","v":0},{"$f":"Кредит!TF9","v":0},{"$f":"Кредит!TG9","v":0},{"$f":"Кредит!TH9","v":0},{"$f":"Кредит!TI9","v":0},{"$f":"Кредит!TJ9","v":0},{"$f":"Кредит!TK9","v":0},{"$f":"Кредит!TL9","v":0},{"$f":"Кредит!TM9","v":0},{"$f":"Кредит!TN9","v":0},{"$f":"Кредит!TO9","v":0},{"$f":"Кредит!TP9","v":0},{"$f":"Кредит!TQ9","v":0},{"$f":"Кредит!TR9","v":0},{"$f":"Кредит!TS9","v":0},{"$f":"Кредит!TT9","v":0},{"$f":"Кредит!TU9","v":0},{"$f":"Кредит!TV9","v":0},{"$f":"Кредит!TW9","v":0},{"$f":"Кредит!TX9","v":0},{"$f":"Кредит!TY9","v":0},{"$f":"Кредит!TZ9","v":0},{"$f":"Кредит!UA9","v":0},{"$f":"Кредит!UB9","v":0},{"$f":"Кредит!UC9","v":0},{"$f":"Кредит!UD9","v":0},{"$f":"Кредит!UE9","v":0},{"$f":"Кредит!UF9","v":0},{"$f":"Кредит!UG9","v":0},{"$f":"Кредит!UH9","v":0},{"$f":"Кредит!UI9","v":0},{"$f":"Кредит!UJ9","v":0},{"$f":"Кредит!UK9","v":0},{"$f":"Кредит!UL9","v":0},{"$f":"Кредит!UM9","v":0},{"$f":"Кредит!UN9","v":0},{"$f":"Кредит!UO9","v":0},{"$f":"Кредит!UP9","v":0},{"$f":"Кредит!UQ9","v":0},{"$f":"Кредит!UR9","v":0},{"$f":"Кредит!US9","v":0},{"$f":"Кредит!UT9","v":0},{"$f":"Кредит!UU9","v":0},{"$f":"Кредит!UV9","v":0},{"$f":"Кредит!UW9","v":0},{"$f":"Кредит!UX9","v":0},{"$f":"Кредит!UY9","v":0},{"$f":"Кредит!UZ9","v":0},{"$f":"Кредит!VA9","v":0},{"$f":"Кредит!VB9","v":0},{"$f":"Кредит!VC9","v":0},{"$f":"Кредит!VD9","v":0},{"$f":"Кредит!VE9","v":0},{"$f":"Кредит!VF9","v":0},{"$f":"Кредит!VG9","v":0},{"$f":"Кредит!VH9","v":0},{"$f":"Кредит!VI9","v":0},{"$f":"Кредит!VJ9","v":0},{"$f":"Кредит!VK9","v":0},{"$f":"Кредит!VL9","v":0},{"$f":"Кредит!VM9","v":0},{"$f":"Кредит!VN9","v":0},{"$f":"Кредит!VO9","v":0},{"$f":"Кредит!VP9","v":0},{"$f":"Кредит!VQ9","v":0},{"$f":"Кредит!VR9","v":0},{"$f":"Кредит!VS9","v":0},{"$f":"Кредит!VT9","v":0},{"$f":"Кредит!VU9","v":0},{"$f":"Кредит!VV9","v":0},{"$f":"Кредит!VW9","v":0},{"$f":"Кредит!VX9","v":0},{"$f":"Кредит!VY9","v":0},{"$f":"Кредит!VZ9","v":0},{"$f":"Кредит!WA9","v":0},{"$f":"Кредит!WB9","v":0},{"$f":"Кредит!WC9","v":0},{"$f":"Кредит!WD9","v":0},{"$f":"Кредит!WE9","v":0},{"$f":"Кредит!WF9","v":0},{"$f":"Кредит!WG9","v":0},{"$f":"Кредит!WH9","v":0},{"$f":"Кредит!WI9","v":0},{"$f":"Кредит!WJ9","v":0},{"$f":"Кредит!WK9","v":0},{"$f":"Кредит!WL9","v":0},{"$f":"Кредит!WM9","v":0},{"$f":"Кредит!WN9","v":0},{"$f":"Кредит!WO9","v":0},{"$f":"Кредит!WP9","v":0},{"$f":"Кредит!WQ9","v":0},{"$f":"Кредит!WR9","v":0},{"$f":"Кредит!WS9","v":0},{"$f":"Кредит!WT9","v":0},{"$f":"Кредит!WU9","v":0},{"$f":"Кредит!WV9","v":0},{"$f":"Кредит!WW9","v":0},{"$f":"Кредит!WX9","v":0},{"$f":"Кредит!WY9","v":0},{"$f":"Кредит!WZ9","v":0},{"$f":"Кредит!XA9","v":0},{"$f":"Кредит!XB9","v":0},{"$f":"Кредит!XC9","v":0},{"$f":"Кредит!XD9","v":0},{"$f":"Кредит!XE9","v":0},{"$f":"Кредит!XF9","v":0},{"$f":"Кредит!XG9","v":0},{"$f":"Кредит!XH9","v":0},{"$f":"Кредит!XI9","v":0},{"$f":"Кредит!XJ9","v":0},{"$f":"Кредит!XK9","v":0},{"$f":"Кредит!XL9","v":0},{"$f":"Кредит!XM9","v":0},{"$f":"Кредит!XN9","v":0},{"$f":"Кредит!XO9","v":0},{"$f":"Кредит!XP9","v":0},{"$f":"Кредит!XQ9","v":0},{"$f":"Кредит!XR9","v":0},{"$f":"Кредит!XS9","v":0},{"$f":"Кредит!XT9","v":0},{"$f":"Кредит!XU9","v":0},{"$f":"Кредит!XV9","v":0},{"$f":"Кредит!XW9","v":0},{"$f":"Кредит!XX9","v":0},{"$f":"Кредит!XY9","v":0},{"$f":"Кредит!XZ9","v":0},{"$f":"Кредит!YA9","v":0},{"$f":"Кредит!YB9","v":0},{"$f":"Кредит!YC9","v":0},{"$f":"Кредит!YD9","v":0},{"$f":"Кредит!YE9","v":0},{"$f":"Кредит!YF9","v":0},{"$f":"Кредит!YG9","v":0},{"$f":"Кредит!YH9","v":0},{"$f":"Кредит!YI9","v":0},{"$f":"Кредит!YJ9","v":0},{"$f":"Кредит!YK9","v":0},{"$f":"Кредит!YL9","v":0},{"$f":"Кредит!YM9","v":0},{"$f":"Кредит!YN9","v":0},{"$f":"Кредит!YO9","v":0},{"$f":"Кредит!YP9","v":0},{"$f":"Кредит!YQ9","v":0},{"$f":"Кредит!YR9","v":0},{"$f":"Кредит!YS9","v":0},{"$f":"Кредит!YT9","v":0},{"$f":"Кредит!YU9","v":0},{"$f":"Кредит!YV9","v":0},{"$f":"Кредит!YW9","v":0},{"$f":"Кредит!YX9","v":0},{"$f":"Кредит!YY9","v":0},{"$f":"Кредит!YZ9","v":0},{"$f":"Кредит!ZA9","v":0},{"$f":"Кредит!ZB9","v":0},{"$f":"Кредит!ZC9","v":0},{"$f":"Кредит!ZD9","v":0},{"$f":"Кредит!ZE9","v":0},{"$f":"Кредит!ZF9","v":0},{"$f":"Кредит!ZG9","v":0},{"$f":"Кредит!ZH9","v":0},{"$f":"Кредит!ZI9","v":0},{"$f":"Кредит!ZJ9","v":0},{"$f":"Кредит!ZK9","v":0},{"$f":"Кредит!ZL9","v":0},{"$f":"Кредит!ZM9","v":0},{"$f":"Кредит!ZN9","v":0},{"$f":"Кредит!ZO9","v":0},{"$f":"Кредит!ZP9","v":0},{"$f":"Кредит!ZQ9","v":0},{"$f":"Кредит!ZR9","v":0},{"$f":"Кредит!ZS9","v":0},{"$f":"Кредит!ZT9","v":0},{"$f":"Кредит!ZU9","v":0},{"$f":"Кредит!ZV9","v":0},{"$f":"Кредит!ZW9","v":0},{"$f":"Кредит!ZX9","v":0},{"$f":"Кредит!ZY9","v":0},{"$f":"Кредит!ZZ9","v":0},{"$f":"Кредит!AAA9","v":0},{"$f":"Кредит!AAB9","v":0},{"$f":"Кредит!AAC9","v":0},{"$f":"Кредит!AAD9","v":0},{"$f":"Кредит!AAE9","v":0},{"$f":"Кредит!AAF9","v":0},{"$f":"Кредит!AAG9","v":0},{"$f":"Кредит!AAH9","v":0},{"$f":"Кредит!AAI9","v":0},{"$f":"Кредит!AAJ9","v":0},{"$f":"Кредит!AAK9","v":0},{"$f":"Кредит!AAL9","v":0},{"$f":"Кредит!AAM9","v":0},{"$f":"Кредит!AAN9","v":0},{"$f":"Кредит!AAO9","v":0},{"$f":"Кредит!AAP9","v":0},{"$f":"Кредит!AAQ9","v":0},{"$f":"Кредит!AAR9","v":0},{"$f":"Кредит!AAS9","v":0},{"$f":"Кредит!AAT9","v":0},{"$f":"Кредит!AAU9","v":0},{"$f":"Кредит!AAV9","v":0},{"$f":"Кредит!AAW9","v":0},{"$f":"Кредит!AAX9","v":0},{"$f":"Кредит!AAY9","v":0},{"$f":"Кредит!AAZ9","v":0},{"$f":"Кредит!ABA9","v":0},{"$f":"Кредит!ABB9","v":0},{"$f":"Кредит!ABC9","v":0},{"$f":"Кредит!ABD9","v":0},{"$f":"Кредит!ABE9","v":0},{"$f":"Кредит!ABF9","v":0},{"$f":"Кредит!ABG9","v":0},{"$f":"Кредит!ABH9","v":0},{"$f":"Кредит!ABI9","v":0},{"$f":"Кредит!ABJ9","v":0},{"$f":"Кредит!ABK9","v":0},{"$f":"Кредит!ABL9","v":0},{"$f":"Кредит!ABM9","v":0},{"$f":"Кредит!ABN9","v":0},{"$f":"Кредит!ABO9","v":0},{"$f":"Кредит!ABP9","v":0},{"$f":"Кредит!ABQ9","v":0},{"$f":"Кредит!ABR9","v":0},{"$f":"Кредит!ABS9","v":0},{"$f":"Кредит!ABT9","v":0},{"$f":"Кредит!ABU9","v":0},{"$f":"Кредит!ABV9","v":0},{"$f":"Кредит!ABW9","v":0},{"$f":"Кредит!ABX9","v":0},{"$f":"Кредит!ABY9","v":0},{"$f":"Кредит!ABZ9","v":0},{"$f":"Кредит!ACA9","v":0},{"$f":"Кредит!ACB9","v":0},{"$f":"Кредит!ACC9","v":0},{"$f":"Кредит!ACD9","v":0},{"$f":"Кредит!ACE9","v":0},{"$f":"Кредит!ACF9","v":0},{"$f":"Кредит!ACG9","v":0},{"$f":"Кредит!ACH9","v":0},{"$f":"Кредит!ACI9","v":0},{"$f":"Кредит!ACJ9","v":0},{"$f":"Кредит!ACK9","v":0},{"$f":"Кредит!ACL9","v":0},{"$f":"Кредит!ACM9","v":0},{"$f":"Кредит!ACN9","v":0},{"$f":"Кредит!ACO9","v":0},{"$f":"Кредит!ACP9","v":0},{"$f":"Кредит!ACQ9","v":0},{"$f":"Кредит!ACR9","v":0},{"$f":"Кредит!ACS9","v":0},{"$f":"Кредит!ACT9","v":0},{"$f":"Кредит!ACU9","v":0},{"$f":"Кредит!ACV9","v":0},{"$f":"Кредит!ACW9","v":0},{"$f":"Кредит!ACX9","v":0},{"$f":"Кредит!ACY9","v":0},{"$f":"Кредит!ACZ9","v":0},{"$f":"Кредит!ADA9","v":0},{"$f":"Кредит!ADB9","v":0},{"$f":"Кредит!ADC9","v":0},{"$f":"Кредит!ADD9","v":0},{"$f":"Кредит!ADE9","v":0},{"$f":"Кредит!ADF9","v":0},{"$f":"Кредит!ADG9","v":0},{"$f":"Кредит!ADH9","v":0},{"$f":"Кредит!ADI9","v":0},{"$f":"Кредит!ADJ9","v":0},{"$f":"Кредит!ADK9","v":0},{"$f":"Кредит!ADL9","v":0},{"$f":"Кредит!ADM9","v":0},{"$f":"Кредит!ADN9","v":0},{"$f":"Кредит!ADO9","v":0},{"$f":"Кредит!ADP9","v":0},{"$f":"Кредит!ADQ9","v":0},{"$f":"Кредит!ADR9","v":0},{"$f":"Кредит!ADS9","v":0},{"$f":"Кредит!ADT9","v":0},{"$f":"Кредит!ADU9","v":0},{"$f":"Кредит!ADV9","v":0},{"$f":"Кредит!ADW9","v":0},{"$f":"Кредит!ADX9","v":0},{"$f":"Кредит!ADY9","v":0},{"$f":"Кредит!ADZ9","v":0},{"$f":"Кредит!AEA9","v":0},{"$f":"Кредит!AEB9","v":0},{"$f":"Кредит!AEC9","v":0},{"$f":"Кредит!AED9","v":0},{"$f":"Кредит!AEE9","v":0},{"$f":"Кредит!AEF9","v":0},{"$f":"Кредит!AEG9","v":0},{"$f":"Кредит!AEH9","v":0},{"$f":"Кредит!AEI9","v":0},{"$f":"Кредит!AEJ9","v":0},{"$f":"Кредит!AEK9","v":0},{"$f":"Кредит!AEL9","v":0},{"$f":"Кредит!AEM9","v":0},{"$f":"Кредит!AEN9","v":0},{"$f":"Кредит!AEO9","v":0},{"$f":"Кредит!AEP9","v":0},{"$f":"Кредит!AEQ9","v":0},{"$f":"Кредит!AER9","v":0},{"$f":"Кредит!AES9","v":0},{"$f":"Кредит!AET9","v":0},{"$f":"Кредит!AEU9","v":0},{"$f":"Кредит!AEV9","v":0},{"$f":"Кредит!AEW9","v":0},{"$f":"Кредит!AEX9","v":0},{"$f":"Кредит!AEY9","v":0},{"$f":"Кредит!AEZ9","v":0},{"$f":"Кредит!AFA9","v":0},{"$f":"Кредит!AFB9","v":0},{"$f":"Кредит!AFC9","v":0},{"$f":"Кредит!AFD9","v":0},{"$f":"Кредит!AFE9","v":0},{"$f":"Кредит!AFF9","v":0},{"$f":"Кредит!AFG9","v":0},{"$f":"Кредит!AFH9","v":0},{"$f":"Кредит!AFI9","v":0},{"$f":"Кредит!AFJ9","v":0},{"$f":"Кредит!AFK9","v":0},{"$f":"Кредит!AFL9","v":0},{"$f":"Кредит!AFM9","v":0},{"$f":"Кредит!AFN9","v":0},{"$f":"Кредит!AFO9","v":0},{"$f":"Кредит!AFP9","v":0},{"$f":"Кредит!AFQ9","v":0},{"$f":"Кредит!AFR9","v":0},{"$f":"Кредит!AFS9","v":0},{"$f":"Кредит!AFT9","v":0},{"$f":"Кредит!AFU9","v":0},{"$f":"Кредит!AFV9","v":0},{"$f":"Кредит!AFW9","v":0},{"$f":"Кредит!AFX9","v":0},{"$f":"Кредит!AFY9","v":0},{"$f":"Кредит!AFZ9","v":0},{"$f":"Кредит!AGA9","v":0},{"$f":"Кредит!AGB9","v":0},{"$f":"Кредит!AGC9","v":0},{"$f":"Кредит!AGD9","v":0},{"$f":"Кредит!AGE9","v":0},{"$f":"Кредит!AGF9","v":0},{"$f":"Кредит!AGG9","v":0},{"$f":"Кредит!AGH9","v":0},{"$f":"Кредит!AGI9","v":0},{"$f":"Кредит!AGJ9","v":0},{"$f":"Кредит!AGK9","v":0},{"$f":"Кредит!AGL9","v":0},{"$f":"Кредит!AGM9","v":0},{"$f":"Кредит!AGN9","v":0},{"$f":"Кредит!AGO9","v":0},{"$f":"Кредит!AGP9","v":0},{"$f":"Кредит!AGQ9","v":0},{"$f":"Кредит!AGR9","v":0},{"$f":"Кредит!AGS9","v":0},{"$f":"Кредит!AGT9","v":0},{"$f":"Кредит!AGU9","v":0},{"$f":"Кредит!AGV9","v":0},{"$f":"Кредит!AGW9","v":0},{"$f":"Кредит!AGX9","v":0},{"$f":"Кредит!AGY9","v":0},{"$f":"Кредит!AGZ9","v":0},{"$f":"Кредит!AHA9","v":0},{"$f":"Кредит!AHB9","v":0},{"$f":"Кредит!AHC9","v":0},{"$f":"Кредит!AHD9","v":0},{"$f":"Кредит!AHE9","v":0},{"$f":"Кредит!AHF9","v":0},{"$f":"Кредит!AHG9","v":0},{"$f":"Кредит!AHH9","v":0},{"$f":"Кредит!AHI9","v":0},{"$f":"Кредит!AHJ9","v":0},{"$f":"Кредит!AHK9","v":0},{"$f":"Кредит!AHL9","v":0},{"$f":"Кредит!AHM9","v":0},{"$f":"Кредит!AHN9","v":0},{"$f":"Кредит!AHO9","v":0},{"$f":"Кредит!AHP9","v":0},{"$f":"Кредит!AHQ9","v":0},{"$f":"Кредит!AHR9","v":0},{"$f":"Кредит!AHS9","v":0},{"$f":"Кредит!AHT9","v":0},{"$f":"Кредит!AHU9","v":0},{"$f":"Кредит!AHV9","v":0},{"$f":"Кредит!AHW9","v":0},{"$f":"Кредит!AHX9","v":0},{"$f":"Кредит!AHY9","v":0},{"$f":"Кредит!AHZ9","v":0},{"$f":"Кредит!AIA9","v":0},{"$f":"Кредит!AIB9","v":0},{"$f":"Кредит!AIC9","v":0},{"$f":"Кредит!AID9","v":0},{"$f":"Кредит!AIE9","v":0},{"$f":"Кредит!AIF9","v":0},{"$f":"Кредит!AIG9","v":0},{"$f":"Кредит!AIH9","v":0},{"$f":"Кредит!AII9","v":0},{"$f":"Кредит!AIJ9","v":0},{"$f":"Кредит!AIK9","v":0},{"$f":"Кредит!AIL9","v":0},{"$f":"Кредит!AIM9","v":0},{"$f":"Кредит!AIN9","v":0},{"$f":"Кредит!AIO9","v":0},{"$f":"Кредит!AIP9","v":0},{"$f":"Кредит!AIQ9","v":0},{"$f":"Кредит!AIR9","v":0},{"$f":"Кредит!AIS9","v":0},{"$f":"Кредит!AIT9","v":0},{"$f":"Кредит!AIU9","v":0},{"$f":"Кредит!AIV9","v":0},{"$f":"Кредит!AIW9","v":0},{"$f":"Кредит!AIX9","v":0},{"$f":"Кредит!AIY9","v":0},{"$f":"Кредит!AIZ9","v":0},{"$f":"Кредит!AJA9","v":0},{"$f":"Кредит!AJB9","v":0},{"$f":"Кредит!AJC9","v":0},{"$f":"Кредит!AJD9","v":0},{"$f":"Кредит!AJE9","v":0},{"$f":"Кредит!AJF9","v":0},{"$f":"Кредит!AJG9","v":0},{"$f":"Кредит!AJH9","v":0},{"$f":"Кредит!AJI9","v":0},{"$f":"Кредит!AJJ9","v":0},{"$f":"Кредит!AJK9","v":0},{"$f":"Кредит!AJL9","v":0},{"$f":"Кредит!AJM9","v":0},{"$f":"Кредит!AJN9","v":0},{"$f":"Кредит!AJO9","v":0},{"$f":"Кредит!AJP9","v":0},{"$f":"Кредит!AJQ9","v":0},{"$f":"Кредит!AJR9","v":0},{"$f":"Кредит!AJS9","v":0},{"$f":"Кредит!AJT9","v":0},{"$f":"Кредит!AJU9","v":0},{"$f":"Кредит!AJV9","v":0},{"$f":"Кредит!AJW9","v":0},{"$f":"Кредит!AJX9","v":0},{"$f":"Кредит!AJY9","v":0},{"$f":"Кредит!AJZ9","v":0},{"$f":"Кредит!AKA9","v":0},{"$f":"Кредит!AKB9","v":0},{"$f":"Кредит!AKC9","v":0},{"$f":"Кредит!AKD9","v":0},{"$f":"Кредит!AKE9","v":0},{"$f":"Кредит!AKF9","v":0},{"$f":"Кредит!AKG9","v":0},{"$f":"Кредит!AKH9","v":0},{"$f":"Кредит!AKI9","v":0},{"$f":"Кредит!AKJ9","v":0},{"$f":"Кредит!AKK9","v":0},{"$f":"Кредит!AKL9","v":0},{"$f":"Кредит!AKM9","v":0},{"$f":"Кредит!AKN9","v":0},{"$f":"Кредит!AKO9","v":0},{"$f":"Кредит!AKP9","v":0},{"$f":"Кредит!AKQ9","v":0},{"$f":"Кредит!AKR9","v":0},{"$f":"Кредит!AKS9","v":0},{"$f":"Кредит!AKT9","v":0},{"$f":"Кредит!AKU9","v":0},{"$f":"Кредит!AKV9","v":0},{"$f":"Кредит!AKW9","v":0},{"$f":"Кредит!AKX9","v":0},{"$f":"Кредит!AKY9","v":0},{"$f":"Кредит!AKZ9","v":0},{"$f":"Кредит!ALA9","v":0},{"$f":"Кредит!ALB9","v":0},{"$f":"Кредит!ALC9","v":0},{"$f":"Кредит!ALD9","v":0},{"$f":"Кредит!ALE9","v":0},{"$f":"Кредит!ALF9","v":0},{"$f":"Кредит!ALG9","v":0},{"$f":"Кредит!ALH9","v":0},{"$f":"Кредит!ALI9","v":0},{"$f":"Кредит!ALJ9","v":0},{"$f":"Кредит!ALK9","v":0},{"$f":"Кредит!ALL9","v":0},{"$f":"Кредит!ALM9","v":0},{"$f":"Кредит!ALN9","v":0},{"$f":"Кредит!ALO9","v":0},{"$f":"Кредит!ALP9","v":0},{"$f":"Кредит!ALQ9","v":0},{"$f":"Кредит!ALR9","v":0},{"$f":"Кредит!ALS9","v":0},{"$f":"Кредит!ALT9","v":0},{"$f":"Кредит!ALU9","v":0},{"$f":"Кредит!ALV9","v":0},{"$f":"Кредит!ALW9","v":0},{"$f":"Кредит!ALX9","v":0},{"$f":"Кредит!ALY9","v":0},{"$f":"Кредит!ALZ9","v":0},{"$f":"Кредит!AMA9","v":0},{"$f":"Кредит!AMB9","v":0},{"$f":"Кредит!AMC9","v":0},{"$f":"Кредит!AMD9","v":0},{"$f":"Кредит!AME9","v":0},{"$f":"Кредит!AMF9","v":0},{"$f":"Кредит!AMG9","v":0},{"$f":"Кредит!AMH9","v":0},{"$f":"Кредит!AMI9","v":0},{"$f":"Кредит!AMJ9","v":0},{"$f":"Кредит!AMK9","v":0},{"$f":"Кредит!AML9","v":0},{"$f":"Кредит!AMM9","v":0},{"$f":"Кредит!AMN9","v":0},{"$f":"Кредит!AMO9","v":0},{"$f":"Кредит!AMP9","v":0},{"$f":"Кредит!AMQ9","v":0},{"$f":"Кредит!AMR9","v":0},{"$f":"Кредит!AMS9","v":0},{"$f":"Кредит!AMT9","v":0},{"$f":"Кредит!AMU9","v":0},{"$f":"Кредит!AMV9","v":0},{"$f":"Кредит!AMW9","v":0},{"$f":"Кредит!AMX9","v":0},{"$f":"Кредит!AMY9","v":0},{"$f":"Кредит!AMZ9","v":0},{"$f":"Кредит!ANA9","v":0},{"$f":"Кредит!ANB9","v":0},{"$f":"Кредит!ANC9","v":0},{"$f":"Кредит!AND9","v":0},{"$f":"Кредит!ANE9","v":0},{"$f":"Кредит!ANF9","v":0},{"$f":"Кредит!ANG9","v":0},{"$f":"Кредит!ANH9","v":0},{"$f":"Кредит!ANI9","v":0},{"$f":"Кредит!ANJ9","v":0},{"$f":"Кредит!ANK9","v":0},{"$f":"Кредит!ANL9","v":0},{"$f":"Кредит!ANM9","v":0},{"$f":"Кредит!ANN9","v":0},{"$f":"Кредит!ANO9","v":0},{"$f":"Кредит!ANP9","v":0},{"$f":"Кредит!ANQ9","v":0},{"$f":"Кредит!ANR9","v":0},{"$f":"Кредит!ANS9","v":0},{"$f":"Кредит!ANT9","v":0},{"$f":"Кредит!ANU9","v":0},{"$f":"Кредит!ANV9","v":0},{"$f":"Кредит!ANW9","v":0},{"$f":"Кредит!ANX9","v":0},{"$f":"Кредит!ANY9","v":0},{"$f":"Кредит!ANZ9","v":0},{"$f":"Кредит!AOA9","v":0},{"$f":"Кредит!AOB9","v":0},{"$f":"Кредит!AOC9","v":0},{"$f":"Кредит!AOD9","v":0},{"$f":"Кредит!AOE9","v":0},{"$f":"Кредит!AOF9","v":0},{"$f":"Кредит!AOG9","v":0},{"$f":"Кредит!AOH9","v":0},{"$f":"Кредит!AOI9","v":0},{"$f":"Кредит!AOJ9","v":0},{"$f":"Кредит!AOK9","v":0},{"$f":"Кредит!AOL9","v":0},{"$f":"Кредит!AOM9","v":0},{"$f":"Кредит!AON9","v":0},{"$f":"Кредит!AOO9","v":0},{"$f":"Кредит!AOP9","v":0},{"$f":"Кредит!AOQ9","v":0},{"$f":"Кредит!AOR9","v":0},{"$f":"Кредит!AOS9","v":0},{"$f":"Кредит!AOT9","v":0},{"$f":"Кредит!AOU9","v":0},{"$f":"Кредит!AOV9","v":0},{"$f":"Кредит!AOW9","v":0},{"$f":"Кредит!AOX9","v":0},{"$f":"Кредит!AOY9","v":0},{"$f":"Кредит!AOZ9","v":0},{"$f":"Кредит!APA9","v":0},{"$f":"Кредит!APB9","v":0},{"$f":"Кредит!APC9","v":0},{"$f":"Кредит!APD9","v":0},{"$f":"Кредит!APE9","v":0},{"$f":"Кредит!APF9","v":0},{"$f":"Кредит!APG9","v":0},{"$f":"Кредит!APH9","v":0},{"$f":"Кредит!API9","v":0},{"$f":"Кредит!APJ9","v":0},{"$f":"Кредит!APK9","v":0},{"$f":"Кредит!APL9","v":0},{"$f":"Кредит!APM9","v":0},{"$f":"Кредит!APN9","v":0},{"$f":"Кредит!APO9","v":0},{"$f":"Кредит!APP9","v":0},{"$f":"Кредит!APQ9","v":0},{"$f":"Кредит!APR9","v":0},{"$f":"Кредит!APS9","v":0},{"$f":"Кредит!APT9","v":0},{"$f":"Кредит!APU9","v":0},{"$f":"Кредит!APV9","v":0},{"$f":"Кредит!APW9","v":0},{"$f":"Кредит!APX9","v":0},{"$f":"Кредит!APY9","v":0},{"$f":"Кредит!APZ9","v":0},{"$f":"Кредит!AQA9","v":0},{"$f":"Кредит!AQB9","v":0},{"$f":"Кредит!AQC9","v":0},{"$f":"Кредит!AQD9","v":0},{"$f":"Кредит!AQE9","v":0},{"$f":"Кредит!AQF9","v":0},{"$f":"Кредит!AQG9","v":0},{"$f":"Кредит!AQH9","v":0},{"$f":"Кредит!AQI9","v":0},{"$f":"Кредит!AQJ9","v":0},{"$f":"Кредит!AQK9","v":0},{"$f":"Кредит!AQL9","v":0},{"$f":"Кредит!AQM9","v":0},{"$f":"Кредит!AQN9","v":0},{"$f":"Кредит!AQO9","v":0},{"$f":"Кредит!AQP9","v":0},{"$f":"Кредит!AQQ9","v":0},{"$f":"Кредит!AQR9","v":0},{"$f":"Кредит!AQS9","v":0},{"$f":"Кредит!AQT9","v":0},{"$f":"Кредит!AQU9","v":0},{"$f":"Кредит!AQV9","v":0},{"$f":"Кредит!AQW9","v":0},{"$f":"Кредит!AQX9","v":0},{"$f":"Кредит!AQY9","v":0},{"$f":"Кредит!AQZ9","v":0},{"$f":"Кредит!ARA9","v":0},{"$f":"Кредит!ARB9","v":0},{"$f":"Кредит!ARC9","v":0},{"$f":"Кредит!ARD9","v":0},{"$f":"Кредит!ARE9","v":0},{"$f":"Кредит!ARF9","v":0},{"$f":"Кредит!ARG9","v":0},{"$f":"Кредит!ARH9","v":0},{"$f":"Кредит!ARI9","v":0},{"$f":"Кредит!ARJ9","v":0},{"$f":"Кредит!ARK9","v":0},{"$f":"Кредит!ARL9","v":0},{"$f":"Кредит!ARM9","v":0},{"$f":"Кредит!ARN9","v":0},{"$f":"Кредит!ARO9","v":0},{"$f":"Кредит!ARP9","v":0},{"$f":"Кредит!ARQ9","v":0},{"$f":"Кредит!ARR9","v":0},{"$f":"Кредит!ARS9","v":0},{"$f":"Кредит!ART9","v":0},{"$f":"Кредит!ARU9","v":0},{"$f":"Кредит!ARV9","v":0},{"$f":"Кредит!ARW9","v":0},{"$f":"Кредит!ARX9","v":0},{"$f":"Кредит!ARY9","v":0},{"$f":"Кредит!ARZ9","v":0},{"$f":"Кредит!ASA9","v":0},{"$f":"Кредит!ASB9","v":0},{"$f":"Кредит!ASC9","v":0},{"$f":"Кредит!ASD9","v":0},{"$f":"Кредит!ASE9","v":0},{"$f":"Кредит!ASF9","v":0},{"$f":"Кредит!ASG9","v":0},{"$f":"Кредит!ASH9","v":0},{"$f":"Кредит!ASI9","v":0},{"$f":"Кредит!ASJ9","v":0},{"$f":"Кредит!ASK9","v":0},{"$f":"Кредит!ASL9","v":0},{"$f":"Кредит!ASM9","v":0},{"$f":"Кредит!ASN9","v":0},{"$f":"Кредит!ASO9","v":0},{"$f":"Кредит!ASP9","v":0},{"$f":"Кредит!ASQ9","v":0},{"$f":"Кредит!ASR9","v":0},{"$f":"Кредит!ASS9","v":0},{"$f":"Кредит!AST9","v":0},{"$f":"Кредит!ASU9","v":0},{"$f":"Кредит!ASV9","v":0},{"$f":"Кредит!ASW9","v":0},{"$f":"Кредит!ASX9","v":0},{"$f":"Кредит!ASY9","v":0},{"$f":"Кредит!ASZ9","v":0},{"$f":"Кредит!ATA9","v":0},{"$f":"Кредит!ATB9","v":0},{"$f":"Кредит!ATC9","v":0},{"$f":"Кредит!ATD9","v":0},{"$f":"Кредит!ATE9","v":0},{"$f":"Кредит!ATF9","v":0},{"$f":"Кредит!ATG9","v":0},{"$f":"Кредит!ATH9","v":0},{"$f":"Кредит!ATI9","v":0},{"$f":"Кредит!ATJ9","v":0},{"$f":"Кредит!ATK9","v":0},{"$f":"Кредит!ATL9","v":0},{"$f":"Кредит!ATM9","v":0},{"$f":"Кредит!ATN9","v":0},{"$f":"Кредит!ATO9","v":0},{"$f":"Кредит!ATP9","v":0},{"$f":"Кредит!ATQ9","v":0},{"$f":"Кредит!ATR9","v":0},{"$f":"Кредит!ATS9","v":0},{"$f":"Кредит!ATT9","v":0},{"$f":"Кредит!ATU9","v":0},{"$f":"Кредит!ATV9","v":0},{"$f":"Кредит!ATW9","v":0},{"$f":"Кредит!ATX9","v":0},{"$f":"Кредит!ATY9","v":0},{"$f":"Кредит!ATZ9","v":0},{"$f":"Кредит!AUA9","v":0},{"$f":"Кредит!AUB9","v":0},{"$f":"Кредит!AUC9","v":0},{"$f":"Кредит!AUD9","v":0},{"$f":"Кредит!AUE9","v":0},{"$f":"Кредит!AUF9","v":0},{"$f":"Кредит!AUG9","v":0},{"$f":"Кредит!AUH9","v":0},{"$f":"Кредит!AUI9","v":0},{"$f":"Кредит!AUJ9","v":0},{"$f":"Кредит!AUK9","v":0},{"$f":"Кредит!AUL9","v":0},{"$f":"Кредит!AUM9","v":0},{"$f":"Кредит!AUN9","v":0},{"$f":"Кредит!AUO9","v":0},{"$f":"Кредит!AUP9","v":0},{"$f":"Кредит!AUQ9","v":0},{"$f":"Кредит!AUR9","v":0},{"$f":"Кредит!AUS9","v":0},{"$f":"Кредит!AUT9","v":0},{"$f":"Кредит!AUU9","v":0},{"$f":"Кредит!AUV9","v":0},{"$f":"Кредит!AUW9","v":0},{"$f":"Кредит!AUX9","v":0},{"$f":"Кредит!AUY9","v":0},{"$f":"Кредит!AUZ9","v":0},{"$f":"Кредит!AVA9","v":0},{"$f":"Кредит!AVB9","v":0},{"$f":"Кредит!AVC9","v":0},{"$f":"Кредит!AVD9","v":0},{"$f":"Кредит!AVE9","v":0},{"$f":"Кредит!AVF9","v":0},{"$f":"Кредит!AVG9","v":0},{"$f":"Кредит!AVH9","v":0},{"$f":"Кредит!AVI9","v":0},{"$f":"Кредит!AVJ9","v":0},{"$f":"Кредит!AVK9","v":0},{"$f":"Кредит!AVL9","v":0},{"$f":"Кредит!AVM9","v":0},{"$f":"Кредит!AVN9","v":0},{"$f":"Кредит!AVO9","v":0},{"$f":"Кредит!AVP9","v":0},{"$f":"Кредит!AVQ9","v":0},{"$f":"Кредит!AVR9","v":0},{"$f":"Кредит!AVS9","v":0},{"$f":"Кредит!AVT9","v":0},{"$f":"Кредит!AVU9","v":0},{"$f":"Кредит!AVV9","v":0},{"$f":"Кредит!AVW9","v":0},{"$f":"Кредит!AVX9","v":0},{"$f":"Кредит!AVY9","v":0},{"$f":"Кредит!AVZ9","v":0},{"$f":"Кредит!AWA9","v":0},{"$f":"Кредит!AWB9","v":0},{"$f":"Кредит!AWC9","v":0},{"$f":"Кредит!AWD9","v":0},{"$f":"Кредит!AWE9","v":0},{"$f":"Кредит!AWF9","v":0},{"$f":"Кредит!AWG9","v":0},{"$f":"Кредит!AWH9","v":0},{"$f":"Кредит!AWI9","v":0},{"$f":"Кредит!AWJ9","v":0},{"$f":"Кредит!AWK9","v":0},{"$f":"Кредит!AWL9","v":0},{"$f":"Кредит!AWM9","v":0},{"$f":"Кредит!AWN9","v":0},{"$f":"Кредит!AWO9","v":0},{"$f":"Кредит!AWP9","v":0},{"$f":"Кредит!AWQ9","v":0},{"$f":"Кредит!AWR9","v":0},{"$f":"Кредит!AWS9","v":0},{"$f":"Кредит!AWT9","v":0},{"$f":"Кредит!AWU9","v":0},{"$f":"Кредит!AWV9","v":0},{"$f":"Кредит!AWW9","v":0},{"$f":"Кредит!AWX9","v":0},{"$f":"Кредит!AWY9","v":0},{"$f":"Кредит!AWZ9","v":0},{"$f":"Кредит!AXA9","v":0},{"$f":"Кредит!AXB9","v":0},{"$f":"Кредит!AXC9","v":0},{"$f":"Кредит!AXD9","v":0},{"$f":"Кредит!AXE9","v":0},{"$f":"Кредит!AXF9","v":0},{"$f":"Кредит!AXG9","v":0},{"$f":"Кредит!AXH9","v":0},{"$f":"Кредит!AXI9","v":0},{"$f":"Кредит!AXJ9","v":0},{"$f":"Кредит!AXK9","v":0},{"$f":"Кредит!AXL9","v":0},{"$f":"Кредит!AXM9","v":0},{"$f":"Кредит!AXN9","v":0},{"$f":"Кредит!AXO9","v":0},{"$f":"Кредит!AXP9","v":0},{"$f":"Кредит!AXQ9","v":0},{"$f":"Кредит!AXR9","v":0},{"$f":"Кредит!AXS9","v":0},{"$f":"Кредит!AXT9","v":0},{"$f":"Кредит!AXU9","v":0},{"$f":"Кредит!AXV9","v":0},{"$f":"Кредит!AXW9","v":0},{"$f":"Кредит!AXX9","v":0},{"$f":"Кредит!AXY9","v":0},{"$f":"Кредит!AXZ9","v":0},{"$f":"Кредит!AYA9","v":0},{"$f":"Кредит!AYB9","v":0},{"$f":"Кредит!AYC9","v":0},{"$f":"Кредит!AYD9","v":0},{"$f":"Кредит!AYE9","v":0},{"$f":"Кредит!AYF9","v":0},{"$f":"Кредит!AYG9","v":0},{"$f":"Кредит!AYH9","v":0},{"$f":"Кредит!AYI9","v":0},{"$f":"Кредит!AYJ9","v":0},{"$f":"Кредит!AYK9","v":0},{"$f":"Кредит!AYL9","v":0},{"$f":"Кредит!AYM9","v":0},{"$f":"Кредит!AYN9","v":0},{"$f":"Кредит!AYO9","v":0},{"$f":"Кредит!AYP9","v":0},{"$f":"Кредит!AYQ9","v":0},{"$f":"Кредит!AYR9","v":0},{"$f":"Кредит!AYS9","v":0},{"$f":"Кредит!AYT9","v":0},{"$f":"Кредит!AYU9","v":0},{"$f":"Кредит!AYV9","v":0},{"$f":"Кредит!AYW9","v":0},{"$f":"Кредит!AYX9","v":0},{"$f":"Кредит!AYY9","v":0},{"$f":"Кредит!AYZ9","v":0},{"$f":"Кредит!AZA9","v":0},{"$f":"Кредит!AZB9","v":0},{"$f":"Кредит!AZC9","v":0},{"$f":"Кредит!AZD9","v":0},{"$f":"Кредит!AZE9","v":0},{"$f":"Кредит!AZF9","v":0},{"$f":"Кредит!AZG9","v":0},{"$f":"Кредит!AZH9","v":0},{"$f":"Кредит!AZI9","v":0},{"$f":"Кредит!AZJ9","v":0},{"$f":"Кредит!AZK9","v":0},{"$f":"Кредит!AZL9","v":0},{"$f":"Кредит!AZM9","v":0},{"$f":"Кредит!AZN9","v":0},{"$f":"Кредит!AZO9","v":0},{"$f":"Кредит!AZP9","v":0},{"$f":"Кредит!AZQ9","v":0},{"$f":"Кредит!AZR9","v":0},{"$f":"Кредит!AZS9","v":0},{"$f":"Кредит!AZT9","v":0},{"$f":"Кредит!AZU9","v":0},{"$f":"Кредит!AZV9","v":0},{"$f":"Кредит!AZW9","v":0},{"$f":"Кредит!AZX9","v":0},{"$f":"Кредит!AZY9","v":0},{"$f":"Кредит!AZZ9","v":0},{"$f":"Кредит!BAA9","v":0},{"$f":"Кредит!BAB9","v":0},{"$f":"Кредит!BAC9","v":0},{"$f":"Кредит!BAD9","v":0},{"$f":"Кредит!BAE9","v":0},{"$f":"Кредит!BAF9","v":0},{"$f":"Кредит!BAG9","v":0},{"$f":"Кредит!BAH9","v":0},{"$f":"Кредит!BAI9","v":0},{"$f":"Кредит!BAJ9","v":0},{"$f":"Кредит!BAK9","v":0},{"$f":"Кредит!BAL9","v":0},{"$f":"Кредит!BAM9","v":0},{"$f":"Кредит!BAN9","v":0},{"$f":"Кредит!BAO9","v":0},{"$f":"Кредит!BAP9","v":0},{"$f":"Кредит!BAQ9","v":0},{"$f":"Кредит!BAR9","v":0},{"$f":"Кредит!BAS9","v":0},{"$f":"Кредит!BAT9","v":0},{"$f":"Кредит!BAU9","v":0},{"$f":"Кредит!BAV9","v":0},{"$f":"Кредит!BAW9","v":0},{"$f":"Кредит!BAX9","v":0},{"$f":"Кредит!BAY9","v":0},{"$f":"Кредит!BAZ9","v":0},{"$f":"Кредит!BBA9","v":0},{"$f":"Кредит!BBB9","v":0},{"$f":"Кредит!BBC9","v":0},{"$f":"Кредит!BBD9","v":0},{"$f":"Кредит!BBE9","v":0},{"$f":"Кредит!BBF9","v":0},{"$f":"Кредит!BBG9","v":0},{"$f":"Кредит!BBH9","v":0},{"$f":"Кредит!BBI9","v":0},{"$f":"Кредит!BBJ9","v":0},{"$f":"Кредит!BBK9","v":0},{"$f":"Кредит!BBL9","v":0},{"$f":"Кредит!BBM9","v":0},{"$f":"Кредит!BBN9","v":0},{"$f":"Кредит!BBO9","v":0},{"$f":"Кредит!BBP9","v":0},{"$f":"Кредит!BBQ9","v":0},{"$f":"Кредит!BBR9","v":0},{"$f":"Кредит!BBS9","v":0},{"$f":"Кредит!BBT9","v":0},{"$f":"Кредит!BBU9","v":0},{"$f":"Кредит!BBV9","v":0},{"$f":"Кредит!BBW9","v":0},{"$f":"Кредит!BBX9","v":0},{"$f":"Кредит!BBY9","v":0},{"$f":"Кредит!BBZ9","v":0},{"$f":"Кредит!BCA9","v":0},{"$f":"Кредит!BCB9","v":0},{"$f":"Кредит!BCC9","v":0},{"$f":"Кредит!BCD9","v":0},{"$f":"Кредит!BCE9","v":0},{"$f":"Кредит!BCF9","v":0},{"$f":"Кредит!BCG9","v":0},{"$f":"Кредит!BCH9","v":0},{"$f":"Кредит!BCI9","v":0},{"$f":"Кредит!BCJ9","v":0},{"$f":"Кредит!BCK9","v":0},{"$f":"Кредит!BCL9","v":0},{"$f":"Кредит!BCM9","v":0},{"$f":"Кредит!BCN9","v":0},{"$f":"Кредит!BCO9","v":0},{"$f":"Кредит!BCP9","v":0},{"$f":"Кредит!BCQ9","v":0},{"$f":"Кредит!BCR9","v":0},{"$f":"Кредит!BCS9","v":0},{"$f":"Кредит!BCT9","v":0},{"$f":"Кредит!BCU9","v":0},{"$f":"Кредит!BCV9","v":0},{"$f":"Кредит!BCW9","v":0},{"$f":"Кредит!BCX9","v":0},{"$f":"Кредит!BCY9","v":0},{"$f":"Кредит!BCZ9","v":0},{"$f":"Кредит!BDA9","v":0},{"$f":"Кредит!BDB9","v":0},{"$f":"Кредит!BDC9","v":0},{"$f":"Кредит!BDD9","v":0},{"$f":"Кредит!BDE9","v":0},{"$f":"Кредит!BDF9","v":0},{"$f":"Кредит!BDG9","v":0},{"$f":"Кредит!BDH9","v":0},{"$f":"Кредит!BDI9","v":0},{"$f":"Кредит!BDJ9","v":0},{"$f":"Кредит!BDK9","v":0},{"$f":"Кредит!BDL9","v":0},{"$f":"Кредит!BDM9","v":0},{"$f":"Кредит!BDN9","v":0},{"$f":"Кредит!BDO9","v":0},{"$f":"Кредит!BDP9","v":0},{"$f":"Кредит!BDQ9","v":0},{"$f":"Кредит!BDR9","v":0},{"$f":"Кредит!BDS9","v":0},{"$f":"Кредит!BDT9","v":0},{"$f":"Кредит!BDU9","v":0},{"$f":"Кредит!BDV9","v":0},{"$f":"Кредит!BDW9","v":0},{"$f":"Кредит!BDX9","v":0},{"$f":"Кредит!BDY9","v":0},{"$f":"Кредит!BDZ9","v":0},{"$f":"Кредит!BEA9","v":0},{"$f":"Кредит!BEB9","v":0},{"$f":"Кредит!BEC9","v":0},{"$f":"Кредит!BED9","v":0},{"$f":"Кредит!BEE9","v":0},{"$f":"Кредит!BEF9","v":0},{"$f":"Кредит!BEG9","v":0},{"$f":"Кредит!BEH9","v":0},{"$f":"Кредит!BEI9","v":0},{"$f":"Кредит!BEJ9","v":0},{"$f":"Кредит!BEK9","v":0},{"$f":"Кредит!BEL9","v":0},{"$f":"Кредит!BEM9","v":0},{"$f":"Кредит!BEN9","v":0},{"$f":"Кредит!BEO9","v":0},{"$f":"Кредит!BEP9","v":0},{"$f":"Кредит!BEQ9","v":0},{"$f":"Кредит!BER9","v":0},{"$f":"Кредит!BES9","v":0},{"$f":"Кредит!BET9","v":0},{"$f":"Кредит!BEU9","v":0},{"$f":"Кредит!BEV9","v":0},{"$f":"Кредит!BEW9","v":0},{"$f":"Кредит!BEX9","v":0},{"$f":"Кредит!BEY9","v":0},{"$f":"Кредит!BEZ9","v":0},{"$f":"Кредит!BFA9","v":0},{"$f":"Кредит!BFB9","v":0},{"$f":"Кредит!BFC9","v":0},{"$f":"Кредит!BFD9","v":0},{"$f":"Кредит!BFE9","v":0},{"$f":"Кредит!BFF9","v":0},{"$f":"Кредит!BFG9","v":0},{"$f":"Кредит!BFH9","v":0},{"$f":"Кредит!BFI9","v":0},{"$f":"Кредит!BFJ9","v":0},{"$f":"Кредит!BFK9","v":0},{"$f":"Кредит!BFL9","v":0},{"$f":"Кредит!BFM9","v":0},{"$f":"Кредит!BFN9","v":0},{"$f":"Кредит!BFO9","v":0},{"$f":"Кредит!BFP9","v":0},{"$f":"Кредит!BFQ9","v":0},{"$f":"Кредит!BFR9","v":0},{"$f":"Кредит!BFS9","v":0},{"$f":"Кредит!BFT9","v":0},{"$f":"Кредит!BFU9","v":0},{"$f":"Кредит!BFV9","v":0},{"$f":"Кредит!BFW9","v":0},{"$f":"Кредит!BFX9","v":0},{"$f":"Кредит!BFY9","v":0},{"$f":"Кредит!BFZ9","v":0},{"$f":"Кредит!BGA9","v":0},{"$f":"Кредит!BGB9","v":0},{"$f":"Кредит!BGC9","v":0},{"$f":"Кредит!BGD9","v":0},{"$f":"Кредит!BGE9","v":0},{"$f":"Кредит!BGF9","v":0},{"$f":"Кредит!BGG9","v":0},{"$f":"Кредит!BGH9","v":0},{"$f":"Кредит!BGI9","v":0},{"$f":"Кредит!BGJ9","v":0},{"$f":"Кредит!BGK9","v":0},{"$f":"Кредит!BGL9","v":0},{"$f":"Кредит!BGM9","v":0},{"$f":"Кредит!BGN9","v":0},{"$f":"Кредит!BGO9","v":0},{"$f":"Кредит!BGP9","v":0},{"$f":"Кредит!BGQ9","v":0},{"$f":"Кредит!BGR9","v":0},{"$f":"Кредит!BGS9","v":0},{"$f":"Кредит!BGT9","v":0},{"$f":"Кредит!BGU9","v":0},{"$f":"Кредит!BGV9","v":0},{"$f":"Кредит!BGW9","v":0},{"$f":"Кредит!BGX9","v":0},{"$f":"Кредит!BGY9","v":0},{"$f":"Кредит!BGZ9","v":0},{"$f":"Кредит!BHA9","v":0},{"$f":"Кредит!BHB9","v":0},{"$f":"Кредит!BHC9","v":0},{"$f":"Кредит!BHD9","v":0},{"$f":"Кредит!BHE9","v":0},{"$f":"Кредит!BHF9","v":0},{"$f":"Кредит!BHG9","v":0},{"$f":"Кредит!BHH9","v":0},{"$f":"Кредит!BHI9","v":0},{"$f":"Кредит!BHJ9","v":0},{"$f":"Кредит!BHK9","v":0},{"$f":"Кредит!BHL9","v":0},{"$f":"Кредит!BHM9","v":0},{"$f":"Кредит!BHN9","v":0},{"$f":"Кредит!BHO9","v":0},{"$f":"Кредит!BHP9","v":0},{"$f":"Кредит!BHQ9","v":0},{"$f":"Кредит!BHR9","v":0},{"$f":"Кредит!BHS9","v":0},{"$f":"Кредит!BHT9","v":0},{"$f":"Кредит!BHU9","v":0},{"$f":"Кредит!BHV9","v":0},{"$f":"Кредит!BHW9","v":0},{"$f":"Кредит!BHX9","v":0},{"$f":"Кредит!BHY9","v":0},{"$f":"Кредит!BHZ9","v":0},{"$f":"Кредит!BIA9","v":0},{"$f":"Кредит!BIB9","v":0},{"$f":"Кредит!BIC9","v":0},{"$f":"Кредит!BID9","v":0},{"$f":"Кредит!BIE9","v":0},{"$f":"Кредит!BIF9","v":0},{"$f":"Кредит!BIG9","v":0},{"$f":"Кредит!BIH9","v":0},{"$f":"Кредит!BII9","v":0},{"$f":"Кредит!BIJ9","v":0},{"$f":"Кредит!BIK9","v":0},{"$f":"Кредит!BIL9","v":0},{"$f":"Кредит!BIM9","v":0},{"$f":"Кредит!BIN9","v":0},{"$f":"Кредит!BIO9","v":0},{"$f":"Кредит!BIP9","v":0},{"$f":"Кредит!BIQ9","v":0},{"$f":"Кредит!BIR9","v":0},{"$f":"Кредит!BIS9","v":0},{"$f":"Кредит!BIT9","v":0},{"$f":"Кредит!BIU9","v":0},{"$f":"Кредит!BIV9","v":0},{"$f":"Кредит!BIW9","v":0},{"$f":"Кредит!BIX9","v":0},{"$f":"Кредит!BIY9","v":0},{"$f":"Кредит!BIZ9","v":0},{"$f":"Кредит!BJA9","v":0},{"$f":"Кредит!BJB9","v":0},{"$f":"Кредит!BJC9","v":0},{"$f":"Кредит!BJD9","v":0},{"$f":"Кредит!BJE9","v":0},{"$f":"Кредит!BJF9","v":0},{"$f":"Кредит!BJG9","v":0},{"$f":"Кредит!BJH9","v":0},{"$f":"Кредит!BJI9","v":0},{"$f":"Кредит!BJJ9","v":0},{"$f":"Кредит!BJK9","v":0},{"$f":"Кредит!BJL9","v":0},{"$f":"Кредит!BJM9","v":0},{"$f":"Кредит!BJN9","v":0},{"$f":"Кредит!BJO9","v":0},{"$f":"Кредит!BJP9","v":0},{"$f":"Кредит!BJQ9","v":0},{"$f":"Кредит!BJR9","v":0},{"$f":"Кредит!BJS9","v":0},{"$f":"Кредит!BJT9","v":0},{"$f":"Кредит!BJU9","v":0},{"$f":"Кредит!BJV9","v":0},{"$f":"Кредит!BJW9","v":0},{"$f":"Кредит!BJX9","v":0},{"$f":"Кредит!BJY9","v":0},{"$f":"Кредит!BJZ9","v":0},{"$f":"Кредит!BKA9","v":0},{"$f":"Кредит!BKB9","v":0},{"$f":"Кредит!BKC9","v":0},{"$f":"Кредит!BKD9","v":0},{"$f":"Кредит!BKE9","v":0},{"$f":"Кредит!BKF9","v":0},{"$f":"Кредит!BKG9","v":0},{"$f":"Кредит!BKH9","v":0},{"$f":"Кредит!BKI9","v":0},{"$f":"Кредит!BKJ9","v":0},{"$f":"Кредит!BKK9","v":0},{"$f":"Кредит!BKL9","v":0},{"$f":"Кредит!BKM9","v":0},{"$f":"Кредит!BKN9","v":0},{"$f":"Кредит!BKO9","v":0},{"$f":"Кредит!BKP9","v":0},{"$f":"Кредит!BKQ9","v":0},{"$f":"Кредит!BKR9","v":0},{"$f":"Кредит!BKS9","v":0},{"$f":"Кредит!BKT9","v":0},{"$f":"Кредит!BKU9","v":0},{"$f":"Кредит!BKV9","v":0},{"$f":"Кредит!BKW9","v":0},{"$f":"Кредит!BKX9","v":0},{"$f":"Кредит!BKY9","v":0},{"$f":"Кредит!BKZ9","v":0},{"$f":"Кредит!BLA9","v":0},{"$f":"Кредит!BLB9","v":0},{"$f":"Кредит!BLC9","v":0},{"$f":"Кредит!BLD9","v":0},{"$f":"Кредит!BLE9","v":0},{"$f":"Кредит!BLF9","v":0},{"$f":"Кредит!BLG9","v":0},{"$f":"Кредит!BLH9","v":0},{"$f":"Кредит!BLI9","v":0},{"$f":"Кредит!BLJ9","v":0},{"$f":"Кредит!BLK9","v":0},{"$f":"Кредит!BLL9","v":0},{"$f":"Кредит!BLM9","v":0},{"$f":"Кредит!BLN9","v":0},{"$f":"Кредит!BLO9","v":0},{"$f":"Кредит!BLP9","v":0},{"$f":"Кредит!BLQ9","v":0},{"$f":"Кредит!BLR9","v":0},{"$f":"Кредит!BLS9","v":0},{"$f":"Кредит!BLT9","v":0},{"$f":"Кредит!BLU9","v":0},{"$f":"Кредит!BLV9","v":0},{"$f":"Кредит!BLW9","v":0},{"$f":"Кредит!BLX9","v":0},{"$f":"Кредит!BLY9","v":0},{"$f":"Кредит!BLZ9","v":0},{"$f":"Кредит!BMA9","v":0},{"$f":"Кредит!BMB9","v":0},{"$f":"Кредит!BMC9","v":0},{"$f":"Кредит!BMD9","v":0},{"$f":"Кредит!BME9","v":0},{"$f":"Кредит!BMF9","v":0},{"$f":"Кредит!BMG9","v":0},{"$f":"Кредит!BMH9","v":0},{"$f":"Кредит!BMI9","v":0},{"$f":"Кредит!BMJ9","v":0},{"$f":"Кредит!BMK9","v":0},{"$f":"Кредит!BML9","v":0},{"$f":"Кредит!BMM9","v":0},{"$f":"Кредит!BMN9","v":0},{"$f":"Кредит!BMO9","v":0},{"$f":"Кредит!BMP9","v":0},{"$f":"Кредит!BMQ9","v":0},{"$f":"Кредит!BMR9","v":0},{"$f":"Кредит!BMS9","v":0},{"$f":"Кредит!BMT9","v":0},{"$f":"Кредит!BMU9","v":0},{"$f":"Кредит!BMV9","v":0},{"$f":"Кредит!BMW9","v":0},{"$f":"Кредит!BMX9","v":0},{"$f":"Кредит!BMY9","v":0},{"$f":"Кредит!BMZ9","v":0},{"$f":"Кредит!BNA9","v":0},{"$f":"Кредит!BNB9","v":0},{"$f":"Кредит!BNC9","v":0},{"$f":"Кредит!BND9","v":0},{"$f":"Кредит!BNE9","v":0},{"$f":"Кредит!BNF9","v":0},{"$f":"Кредит!BNG9","v":0},{"$f":"Кредит!BNH9","v":0},{"$f":"Кредит!BNI9","v":0},{"$f":"Кредит!BNJ9","v":0},{"$f":"Кредит!BNK9","v":0},{"$f":"Кредит!BNL9","v":0},{"$f":"Кредит!BNM9","v":0},{"$f":"Кредит!BNN9","v":0},{"$f":"Кредит!BNO9","v":0},{"$f":"Кредит!BNP9","v":0},{"$f":"Кредит!BNQ9","v":0},{"$f":"Кредит!BNR9","v":0},{"$f":"Кредит!BNS9","v":0},{"$f":"Кредит!BNT9","v":0},{"$f":"Кредит!BNU9","v":0},{"$f":"Кредит!BNV9","v":0},{"$f":"Кредит!BNW9","v":0},{"$f":"Кредит!BNX9","v":0},{"$f":"Кредит!BNY9","v":0},{"$f":"Кредит!BNZ9","v":0},{"$f":"Кредит!BOA9","v":0},{"$f":"Кредит!BOB9","v":0},{"$f":"Кредит!BOC9","v":0},{"$f":"Кредит!BOD9","v":0},{"$f":"Кредит!BOE9","v":0},{"$f":"Кредит!BOF9","v":0},{"$f":"Кредит!BOG9","v":0},{"$f":"Кредит!BOH9","v":0},{"$f":"Кредит!BOI9","v":0},{"$f":"Кредит!BOJ9","v":0},{"$f":"Кредит!BOK9","v":0},{"$f":"Кредит!BOL9","v":0},{"$f":"Кредит!BOM9","v":0},{"$f":"Кредит!BON9","v":0},{"$f":"Кредит!BOO9","v":0},{"$f":"Кредит!BOP9","v":0},{"$f":"Кредит!BOQ9","v":0},{"$f":"Кредит!BOR9","v":0},{"$f":"Кредит!BOS9","v":0},{"$f":"Кредит!BOT9","v":0},{"$f":"Кредит!BOU9","v":0},{"$f":"Кредит!BOV9","v":0},{"$f":"Кредит!BOW9","v":0},{"$f":"Кредит!BOX9","v":0},{"$f":"Кредит!BOY9","v":0},{"$f":"Кредит!BOZ9","v":0},{"$f":"Кредит!BPA9","v":0},{"$f":"Кредит!BPB9","v":0},{"$f":"Кредит!BPC9","v":0},{"$f":"Кредит!BPD9","v":0},{"$f":"Кредит!BPE9","v":0},{"$f":"Кредит!BPF9","v":0},{"$f":"Кредит!BPG9","v":0},{"$f":"Кредит!BPH9","v":0},{"$f":"Кредит!BPI9","v":0},{"$f":"Кредит!BPJ9","v":0},{"$f":"Кредит!BPK9","v":0},{"$f":"Кредит!BPL9","v":0},{"$f":"Кредит!BPM9","v":0},{"$f":"Кредит!BPN9","v":0},{"$f":"Кредит!BPO9","v":0},{"$f":"Кредит!BPP9","v":0},{"$f":"Кредит!BPQ9","v":0},{"$f":"Кредит!BPR9","v":0},{"$f":"Кредит!BPS9","v":0},{"$f":"Кредит!BPT9","v":0},{"$f":"Кредит!BPU9","v":0},{"$f":"Кредит!BPV9","v":0},{"$f":"Кредит!BPW9","v":0},{"$f":"Кредит!BPX9","v":0},{"$f":"Кредит!BPY9","v":0},{"$f":"Кредит!BPZ9","v":0},{"$f":"Кредит!BQA9","v":0},{"$f":"Кредит!BQB9","v":0},{"$f":"Кредит!BQC9","v":0},{"$f":"Кредит!BQD9","v":0},{"$f":"Кредит!BQE9","v":0},{"$f":"Кредит!BQF9","v":0},{"$f":"Кредит!BQG9","v":0},{"$f":"Кредит!BQH9","v":0},{"$f":"Кредит!BQI9","v":0},{"$f":"Кредит!BQJ9","v":0},{"$f":"Кредит!BQK9","v":0},{"$f":"Кредит!BQL9","v":0},{"$f":"Кредит!BQM9","v":0},{"$f":"Кредит!BQN9","v":0},{"$f":"Кредит!BQO9","v":0},{"$f":"Кредит!BQP9","v":0},{"$f":"Кредит!BQQ9","v":0},{"$f":"Кредит!BQR9","v":0},{"$f":"Кредит!BQS9","v":0},{"$f":"Кредит!BQT9","v":0},{"$f":"Кредит!BQU9","v":0},{"$f":"Кредит!BQV9","v":0},{"$f":"Кредит!BQW9","v":0},{"$f":"Кредит!BQX9","v":0},{"$f":"Кредит!BQY9","v":0},{"$f":"Кредит!BQZ9","v":0},{"$f":"Кредит!BRA9","v":0},{"$f":"Кредит!BRB9","v":0},{"$f":"Кредит!BRC9","v":0},{"$f":"Кредит!BRD9","v":0},{"$f":"Кредит!BRE9","v":0},{"$f":"Кредит!BRF9","v":0},{"$f":"Кредит!BRG9","v":0},{"$f":"Кредит!BRH9","v":0},{"$f":"Кредит!BRI9","v":0},{"$f":"Кредит!BRJ9","v":0},{"$f":"Кредит!BRK9","v":0},{"$f":"Кредит!BRL9","v":0},{"$f":"Кредит!BRM9","v":0},{"$f":"Кредит!BRN9","v":0},{"$f":"Кредит!BRO9","v":0},{"$f":"Кредит!BRP9","v":0},{"$f":"Кредит!BRQ9","v":0},{"$f":"Кредит!BRR9","v":0},{"$f":"Кредит!BRS9","v":0},{"$f":"Кредит!BRT9","v":0},{"$f":"Кредит!BRU9","v":0},{"$f":"Кредит!BRV9","v":0},{"$f":"Кредит!BRW9","v":0},{"$f":"Кредит!BRX9","v":0},{"$f":"Кредит!BRY9","v":0},{"$f":"Кредит!BRZ9","v":0},{"$f":"Кредит!BSA9","v":0},{"$f":"Кредит!BSB9","v":0},{"$f":"Кредит!BSC9","v":0},{"$f":"Кредит!BSD9","v":0},{"$f":"Кредит!BSE9","v":0},{"$f":"Кредит!BSF9","v":0},{"$f":"Кредит!BSG9","v":0},{"$f":"Кредит!BSH9","v":0},{"$f":"Кредит!BSI9","v":0},{"$f":"Кредит!BSJ9","v":0},{"$f":"Кредит!BSK9","v":0},{"$f":"Кредит!BSL9","v":0},{"$f":"Кредит!BSM9","v":0},{"$f":"Кредит!BSN9","v":0},{"$f":"Кредит!BSO9","v":0},{"$f":"Кредит!BSP9","v":0},{"$f":"Кредит!BSQ9","v":0},{"$f":"Кредит!BSR9","v":0},{"$f":"Кредит!BSS9","v":0},{"$f":"Кредит!BST9","v":0},{"$f":"Кредит!BSU9","v":0},{"$f":"Кредит!BSV9","v":0},{"$f":"Кредит!BSW9","v":0},{"$f":"Кредит!BSX9","v":0},{"$f":"Кредит!BSY9","v":0},{"$f":"Кредит!BSZ9","v":0},{"$f":"Кредит!BTA9","v":0},{"$f":"Кредит!BTB9","v":0},{"$f":"Кредит!BTC9","v":0},{"$f":"Кредит!BTD9","v":0},{"$f":"Кредит!BTE9","v":0},{"$f":"Кредит!BTF9","v":0},{"$f":"Кредит!BTG9","v":0},{"$f":"Кредит!BTH9","v":0},{"$f":"Кредит!BTI9","v":0},{"$f":"Кредит!BTJ9","v":0},{"$f":"Кредит!BTK9","v":0},{"$f":"Кредит!BTL9","v":0},{"$f":"Кредит!BTM9","v":0},{"$f":"Кредит!BTN9","v":0},{"$f":"Кредит!BTO9","v":0},{"$f":"Кредит!BTP9","v":0},{"$f":"Кредит!BTQ9","v":0},{"$f":"Кредит!BTR9","v":0},{"$f":"Кредит!BTS9","v":0},{"$f":"Кредит!BTT9","v":0},{"$f":"Кредит!BTU9","v":0},{"$f":"Кредит!BTV9","v":0},{"$f":"Кредит!BTW9","v":0},{"$f":"Кредит!BTX9","v":0},{"$f":"Кредит!BTY9","v":0},{"$f":"Кредит!BTZ9","v":0},{"$f":"Кредит!BUA9","v":0},{"$f":"Кредит!BUB9","v":0},{"$f":"Кредит!BUC9","v":0},{"$f":"Кредит!BUD9","v":0},{"$f":"Кредит!BUE9","v":0},{"$f":"Кредит!BUF9","v":0},{"$f":"Кредит!BUG9","v":0},{"$f":"Кредит!BUH9","v":0},{"$f":"Кредит!BUI9","v":0},{"$f":"Кредит!BUJ9","v":0},{"$f":"Кредит!BUK9","v":0},{"$f":"Кредит!BUL9","v":0},{"$f":"Кредит!BUM9","v":0},{"$f":"Кредит!BUN9","v":0},{"$f":"Кредит!BUO9","v":0},{"$f":"Кредит!BUP9","v":0},{"$f":"Кредит!BUQ9","v":0},{"$f":"Кредит!BUR9","v":0},{"$f":"Кредит!BUS9","v":0},{"$f":"Кредит!BUT9","v":0},{"$f":"Кредит!BUU9","v":0},{"$f":"Кредит!BUV9","v":0},{"$f":"Кредит!BUW9","v":0},{"$f":"Кредит!BUX9","v":0},{"$f":"Кредит!BUY9","v":0},{"$f":"Кредит!BUZ9","v":0},{"$f":"Кредит!BVA9","v":0},{"$f":"Кредит!BVB9","v":0},{"$f":"Кредит!BVC9","v":0},{"$f":"Кредит!BVD9","v":0},{"$f":"Кредит!BVE9","v":0},{"$f":"Кредит!BVF9","v":0},{"$f":"Кредит!BVG9","v":0},{"$f":"Кредит!BVH9","v":0},{"$f":"Кредит!BVI9","v":0},{"$f":"Кредит!BVJ9","v":0},{"$f":"Кредит!BVK9","v":0},{"$f":"Кредит!BVL9","v":0},{"$f":"Кредит!BVM9","v":0},{"$f":"Кредит!BVN9","v":0},{"$f":"Кредит!BVO9","v":0},{"$f":"Кредит!BVP9","v":0},{"$f":"Кредит!BVQ9","v":0},{"$f":"Кредит!BVR9","v":0},{"$f":"Кредит!BVS9","v":0},{"$f":"Кредит!BVT9","v":0},{"$f":"Кредит!BVU9","v":0},{"$f":"Кредит!BVV9","v":0},{"$f":"Кредит!BVW9","v":0},{"$f":"Кредит!BVX9","v":0},{"$f":"Кредит!BVY9","v":0},{"$f":"Кредит!BVZ9","v":0},{"$f":"Кредит!BWA9","v":0},{"$f":"Кредит!BWB9","v":0},{"$f":"Кредит!BWC9","v":0},{"$f":"Кредит!BWD9","v":0},{"$f":"Кредит!BWE9","v":0},{"$f":"Кредит!BWF9","v":0},{"$f":"Кредит!BWG9","v":0},{"$f":"Кредит!BWH9","v":0},{"$f":"Кредит!BWI9","v":0},{"$f":"Кредит!BWJ9","v":0},{"$f":"Кредит!BWK9","v":0},{"$f":"Кредит!BWL9","v":0},{"$f":"Кредит!BWM9","v":0},{"$f":"Кредит!BWN9","v":0},{"$f":"Кредит!BWO9","v":0},{"$f":"Кредит!BWP9","v":0},{"$f":"Кредит!BWQ9","v":0},{"$f":"Кредит!BWR9","v":0},{"$f":"Кредит!BWS9","v":0},{"$f":"Кредит!BWT9","v":0},{"$f":"Кредит!BWU9","v":0},{"$f":"Кредит!BWV9","v":0},{"$f":"Кредит!BWW9","v":0},{"$f":"Кредит!BWX9","v":0},{"$f":"Кредит!BWY9","v":0},{"$f":"Кредит!BWZ9","v":0},{"$f":"Кредит!BXA9","v":0},{"$f":"Кредит!BXB9","v":0},{"$f":"Кредит!BXC9","v":0},{"$f":"Кредит!BXD9","v":0},{"$f":"Кредит!BXE9","v":0},{"$f":"Кредит!BXF9","v":0},{"$f":"Кредит!BXG9","v":0},{"$f":"Кредит!BXH9","v":0},{"$f":"Кредит!BXI9","v":0},{"$f":"Кредит!BXJ9","v":0},{"$f":"Кредит!BXK9","v":0},{"$f":"Кредит!BXL9","v":0},{"$f":"Кредит!BXM9","v":0},{"$f":"Кредит!BXN9","v":0},{"$f":"Кредит!BXO9","v":0},{"$f":"Кредит!BXP9","v":0},{"$f":"Кредит!BXQ9","v":0},{"$f":"Кредит!BXR9","v":0},{"$f":"Кредит!BXS9","v":0},{"$f":"Кредит!BXT9","v":0},{"$f":"Кредит!BXU9","v":0},{"$f":"Кредит!BXV9","v":0},{"$f":"Кредит!BXW9","v":0},{"$f":"Кредит!BXX9","v":0},{"$f":"Кредит!BXY9","v":0},{"$f":"Кредит!BXZ9","v":0},{"$f":"Кредит!BYA9","v":0},{"$f":"Кредит!BYB9","v":0},{"$f":"Кредит!BYC9","v":0},{"$f":"Кредит!BYD9","v":0},{"$f":"Кредит!BYE9","v":0},{"$f":"Кредит!BYF9","v":0},{"$f":"Кредит!BYG9","v":0},{"$f":"Кредит!BYH9","v":0},{"$f":"Кредит!BYI9","v":0},{"$f":"Кредит!BYJ9","v":0},{"$f":"Кредит!BYK9","v":0},{"$f":"Кредит!BYL9","v":0},{"$f":"Кредит!BYM9","v":0},{"$f":"Кредит!BYN9","v":0},{"$f":"Кредит!BYO9","v":0},{"$f":"Кредит!BYP9","v":0},{"$f":"Кредит!BYQ9","v":0},{"$f":"Кредит!BYR9","v":0},{"$f":"Кредит!BYS9","v":0},{"$f":"Кредит!BYT9","v":0},{"$f":"Кредит!BYU9","v":0},{"$f":"Кредит!BYV9","v":0},{"$f":"Кредит!BYW9","v":0},{"$f":"Кредит!BYX9","v":0},{"$f":"Кредит!BYY9","v":0},{"$f":"Кредит!BYZ9","v":0},{"$f":"Кредит!BZA9","v":0},{"$f":"Кредит!BZB9","v":0},{"$f":"Кредит!BZC9","v":0},{"$f":"Кредит!BZD9","v":0},{"$f":"Кредит!BZE9","v":0},{"$f":"Кредит!BZF9","v":0},{"$f":"Кредит!BZG9","v":0},{"$f":"Кредит!BZH9","v":0},{"$f":"Кредит!BZI9","v":0},{"$f":"Кредит!BZJ9","v":0},{"$f":"Кредит!BZK9","v":0},{"$f":"Кредит!BZL9","v":0},{"$f":"Кредит!BZM9","v":0},{"$f":"Кредит!BZN9","v":0},{"$f":"Кредит!BZO9","v":0},{"$f":"Кредит!BZP9","v":0},{"$f":"Кредит!BZQ9","v":0},{"$f":"Кредит!BZR9","v":0},{"$f":"Кредит!BZS9","v":0},{"$f":"Кредит!BZT9","v":0},{"$f":"Кредит!BZU9","v":0},{"$f":"Кредит!BZV9","v":0},{"$f":"Кредит!BZW9","v":0},{"$f":"Кредит!BZX9","v":0},{"$f":"Кредит!BZY9","v":0},{"$f":"Кредит!BZZ9","v":0},{"$f":"Кредит!CAA9","v":0},{"$f":"Кредит!CAB9","v":0},{"$f":"Кредит!CAC9","v":0},{"$f":"Кредит!CAD9","v":0},{"$f":"Кредит!CAE9","v":0},{"$f":"Кредит!CAF9","v":0},{"$f":"Кредит!CAG9","v":0},{"$f":"Кредит!CAH9","v":0},{"$f":"Кредит!CAI9","v":0},{"$f":"Кредит!CAJ9","v":0},{"$f":"Кредит!CAK9","v":0},{"$f":"Кредит!CAL9","v":0},{"$f":"Кредит!CAM9","v":0},{"$f":"Кредит!CAN9","v":0},{"$f":"Кредит!CAO9","v":0},{"$f":"Кредит!CAP9","v":0},{"$f":"Кредит!CAQ9","v":0},{"$f":"Кредит!CAR9","v":0},{"$f":"Кредит!CAS9","v":0},{"$f":"Кредит!CAT9","v":0},{"$f":"Кредит!CAU9","v":0},{"$f":"Кредит!CAV9","v":0},{"$f":"Кредит!CAW9","v":0},{"$f":"Кредит!CAX9","v":0},{"$f":"Кредит!CAY9","v":0},{"$f":"Кредит!CAZ9","v":0},{"$f":"Кредит!CBA9","v":0},{"$f":"Кредит!CBB9","v":0},{"$f":"Кредит!CBC9","v":0},{"$f":"Кредит!CBD9","v":0},{"$f":"Кредит!CBE9","v":0},{"$f":"Кредит!CBF9","v":0},{"$f":"Кредит!CBG9","v":0},{"$f":"Кредит!CBH9","v":0},{"$f":"Кредит!CBI9","v":0},{"$f":"Кредит!CBJ9","v":0},{"$f":"Кредит!CBK9","v":0},{"$f":"Кредит!CBL9","v":0},{"$f":"Кредит!CBM9","v":0},{"$f":"Кредит!CBN9","v":0},{"$f":"Кредит!CBO9","v":0},{"$f":"Кредит!CBP9","v":0},{"$f":"Кредит!CBQ9","v":0},{"$f":"Кредит!CBR9","v":0},{"$f":"Кредит!CBS9","v":0},{"$f":"Кредит!CBT9","v":0},{"$f":"Кредит!CBU9","v":0},{"$f":"Кредит!CBV9","v":0},{"$f":"Кредит!CBW9","v":0},{"$f":"Кредит!CBX9","v":0},{"$f":"Кредит!CBY9","v":0},{"$f":"Кредит!CBZ9","v":0},{"$f":"Кредит!CCA9","v":0},{"$f":"Кредит!CCB9","v":0},{"$f":"Кредит!CCC9","v":0},{"$f":"Кредит!CCD9","v":0},{"$f":"Кредит!CCE9","v":0},{"$f":"Кредит!CCF9","v":0},{"$f":"Кредит!CCG9","v":0},{"$f":"Кредит!CCH9","v":0},{"$f":"Кредит!CCI9","v":0},{"$f":"Кредит!CCJ9","v":0},{"$f":"Кредит!CCK9","v":0},{"$f":"Кредит!CCL9","v":0},{"$f":"Кредит!CCM9","v":0},{"$f":"Кредит!CCN9","v":0},{"$f":"Кредит!CCO9","v":0},{"$f":"Кредит!CCP9","v":0},{"$f":"Кредит!CCQ9","v":0},{"$f":"Кредит!CCR9","v":0},{"$f":"Кредит!CCS9","v":0},{"$f":"Кредит!CCT9","v":0},{"$f":"Кредит!CCU9","v":0},{"$f":"Кредит!CCV9","v":0},{"$f":"Кредит!CCW9","v":0},{"$f":"Кредит!CCX9","v":0},{"$f":"Кредит!CCY9","v":0},{"$f":"Кредит!CCZ9","v":0},{"$f":"Кредит!CDA9","v":0},{"$f":"Кредит!CDB9","v":0},{"$f":"Кредит!CDC9","v":0},{"$f":"Кредит!CDD9","v":0},{"$f":"Кредит!CDE9","v":0},{"$f":"Кредит!CDF9","v":0},{"$f":"Кредит!CDG9","v":0},{"$f":"Кредит!CDH9","v":0},{"$f":"Кредит!CDI9","v":0},{"$f":"Кредит!CDJ9","v":0},{"$f":"Кредит!CDK9","v":0},{"$f":"Кредит!CDL9","v":0},{"$f":"Кредит!CDM9","v":0},{"$f":"Кредит!CDN9","v":0},{"$f":"Кредит!CDO9","v":0},{"$f":"Кредит!CDP9","v":0},{"$f":"Кредит!CDQ9","v":0},{"$f":"Кредит!CDR9","v":0},{"$f":"Кредит!CDS9","v":0},{"$f":"Кредит!CDT9","v":0},{"$f":"Кредит!CDU9","v":0},{"$f":"Кредит!CDV9","v":0},{"$f":"Кредит!CDW9","v":0},{"$f":"Кредит!CDX9","v":0},{"$f":"Кредит!CDY9","v":0},{"$f":"Кредит!CDZ9","v":0},{"$f":"Кредит!CEA9","v":0},{"$f":"Кредит!CEB9","v":0},{"$f":"Кредит!CEC9","v":0},{"$f":"Кредит!CED9","v":0},{"$f":"Кредит!CEE9","v":0},{"$f":"Кредит!CEF9","v":0},{"$f":"Кредит!CEG9","v":0},{"$f":"Кредит!CEH9","v":0},{"$f":"Кредит!CEI9","v":0},{"$f":"Кредит!CEJ9","v":0},{"$f":"Кредит!CEK9","v":0},{"$f":"Кредит!CEL9","v":0},{"$f":"Кредит!CEM9","v":0},{"$f":"Кредит!CEN9","v":0},{"$f":"Кредит!CEO9","v":0},{"$f":"Кредит!CEP9","v":0},{"$f":"Кредит!CEQ9","v":0},{"$f":"Кредит!CER9","v":0},{"$f":"Кредит!CES9","v":0},{"$f":"Кредит!CET9","v":0},{"$f":"Кредит!CEU9","v":0},{"$f":"Кредит!CEV9","v":0},{"$f":"Кредит!CEW9","v":0},{"$f":"Кредит!CEX9","v":0},{"$f":"Кредит!CEY9","v":0},{"$f":"Кредит!CEZ9","v":0},{"$f":"Кредит!CFA9","v":0},{"$f":"Кредит!CFB9","v":0},{"$f":"Кредит!CFC9","v":0},{"$f":"Кредит!CFD9","v":0},{"$f":"Кредит!CFE9","v":0},{"$f":"Кредит!CFF9","v":0},{"$f":"Кредит!CFG9","v":0},{"$f":"Кредит!CFH9","v":0},{"$f":"Кредит!CFI9","v":0},{"$f":"Кредит!CFJ9","v":0},{"$f":"Кредит!CFK9","v":0},{"$f":"Кредит!CFL9","v":0},{"$f":"Кредит!CFM9","v":0},{"$f":"Кредит!CFN9","v":0},{"$f":"Кредит!CFO9","v":0},{"$f":"Кредит!CFP9","v":0},{"$f":"Кредит!CFQ9","v":0},{"$f":"Кредит!CFR9","v":0},{"$f":"Кредит!CFS9","v":0},{"$f":"Кредит!CFT9","v":0},{"$f":"Кредит!CFU9","v":0},{"$f":"Кредит!CFV9","v":0},{"$f":"Кредит!CFW9","v":0},{"$f":"Кредит!CFX9","v":0},{"$f":"Кредит!CFY9","v":0},{"$f":"Кредит!CFZ9","v":0},{"$f":"Кредит!CGA9","v":0},{"$f":"Кредит!CGB9","v":0},{"$f":"Кредит!CGC9","v":0},{"$f":"Кредит!CGD9","v":0},{"$f":"Кредит!CGE9","v":0},{"$f":"Кредит!CGF9","v":0},{"$f":"Кредит!CGG9","v":0},{"$f":"Кредит!CGH9","v":0},{"$f":"Кредит!CGI9","v":0},{"$f":"Кредит!CGJ9","v":0},{"$f":"Кредит!CGK9","v":0},{"$f":"Кредит!CGL9","v":0},{"$f":"Кредит!CGM9","v":0},{"$f":"Кредит!CGN9","v":0},{"$f":"Кредит!CGO9","v":0},{"$f":"Кредит!CGP9","v":0},{"$f":"Кредит!CGQ9","v":0},{"$f":"Кредит!CGR9","v":0},{"$f":"Кредит!CGS9","v":0},{"$f":"Кредит!CGT9","v":0},{"$f":"Кредит!CGU9","v":0},{"$f":"Кредит!CGV9","v":0},{"$f":"Кредит!CGW9","v":0},{"$f":"Кредит!CGX9","v":0},{"$f":"Кредит!CGY9","v":0},{"$f":"Кредит!CGZ9","v":0},{"$f":"Кредит!CHA9","v":0},{"$f":"Кредит!CHB9","v":0},{"$f":"Кредит!CHC9","v":0},{"$f":"Кредит!CHD9","v":0},{"$f":"Кредит!CHE9","v":0},{"$f":"Кредит!CHF9","v":0},{"$f":"Кредит!CHG9","v":0},{"$f":"Кредит!CHH9","v":0},{"$f":"Кредит!CHI9","v":0},{"$f":"Кредит!CHJ9","v":0},{"$f":"Кредит!CHK9","v":0},{"$f":"Кредит!CHL9","v":0},{"$f":"Кредит!CHM9","v":0},{"$f":"Кредит!CHN9","v":0},{"$f":"Кредит!CHO9","v":0},{"$f":"Кредит!CHP9","v":0},{"$f":"Кредит!CHQ9","v":0},{"$f":"Кредит!CHR9","v":0},{"$f":"Кредит!CHS9","v":0},{"$f":"Кредит!CHT9","v":0},{"$f":"Кредит!CHU9","v":0},{"$f":"Кредит!CHV9","v":0},{"$f":"Кредит!CHW9","v":0},{"$f":"Кредит!CHX9","v":0},{"$f":"Кредит!CHY9","v":0},{"$f":"Кредит!CHZ9","v":0},{"$f":"Кредит!CIA9","v":0},{"$f":"Кредит!CIB9","v":0},{"$f":"Кредит!CIC9","v":0},{"$f":"Кредит!CID9","v":0},{"$f":"Кредит!CIE9","v":0},{"$f":"Кредит!CIF9","v":0},{"$f":"Кредит!CIG9","v":0},{"$f":"Кредит!CIH9","v":0},{"$f":"Кредит!CII9","v":0},{"$f":"Кредит!CIJ9","v":0},{"$f":"Кредит!CIK9","v":0},{"$f":"Кредит!CIL9","v":0},{"$f":"Кредит!CIM9","v":0},{"$f":"Кредит!CIN9","v":0},{"$f":"Кредит!CIO9","v":0},{"$f":"Кредит!CIP9","v":0},{"$f":"Кредит!CIQ9","v":0},{"$f":"Кредит!CIR9","v":0},{"$f":"Кредит!CIS9","v":0},{"$f":"Кредит!CIT9","v":0},{"$f":"Кредит!CIU9","v":0},{"$f":"Кредит!CIV9","v":0},{"$f":"Кредит!CIW9","v":0},{"$f":"Кредит!CIX9","v":0},{"$f":"Кредит!CIY9","v":0},{"$f":"Кредит!CIZ9","v":0},{"$f":"Кредит!CJA9","v":0},{"$f":"Кредит!CJB9","v":0},{"$f":"Кредит!CJC9","v":0},{"$f":"Кредит!CJD9","v":0},{"$f":"Кредит!CJE9","v":0},{"$f":"Кредит!CJF9","v":0},{"$f":"Кредит!CJG9","v":0},{"$f":"Кредит!CJH9","v":0},{"$f":"Кредит!CJI9","v":0},{"$f":"Кредит!CJJ9","v":0},{"$f":"Кредит!CJK9","v":0},{"$f":"Кредит!CJL9","v":0},{"$f":"Кредит!CJM9","v":0},{"$f":"Кредит!CJN9","v":0},{"$f":"Кредит!CJO9","v":0},{"$f":"Кредит!CJP9","v":0},{"$f":"Кредит!CJQ9","v":0},{"$f":"Кредит!CJR9","v":0},{"$f":"Кредит!CJS9","v":0},{"$f":"Кредит!CJT9","v":0},{"$f":"Кредит!CJU9","v":0},{"$f":"Кредит!CJV9","v":0},{"$f":"Кредит!CJW9","v":0},{"$f":"Кредит!CJX9","v":0},{"$f":"Кредит!CJY9","v":0},{"$f":"Кредит!CJZ9","v":0},{"$f":"Кредит!CKA9","v":0},{"$f":"Кредит!CKB9","v":0},{"$f":"Кредит!CKC9","v":0},{"$f":"Кредит!CKD9","v":0},{"$f":"Кредит!CKE9","v":0},{"$f":"Кредит!CKF9","v":0},{"$f":"Кредит!CKG9","v":0},{"$f":"Кредит!CKH9","v":0},{"$f":"Кредит!CKI9","v":0},{"$f":"Кредит!CKJ9","v":0},{"$f":"Кредит!CKK9","v":0},{"$f":"Кредит!CKL9","v":0},{"$f":"Кредит!CKM9","v":0},{"$f":"Кредит!CKN9","v":0},{"$f":"Кредит!CKO9","v":0},{"$f":"Кредит!CKP9","v":0},{"$f":"Кредит!CKQ9","v":0},{"$f":"Кредит!CKR9","v":0},{"$f":"Кредит!CKS9","v":0},{"$f":"Кредит!CKT9","v":0},{"$f":"Кредит!CKU9","v":0},{"$f":"Кредит!CKV9","v":0},{"$f":"Кредит!CKW9","v":0},{"$f":"Кредит!CKX9","v":0},{"$f":"Кредит!CKY9","v":0},{"$f":"Кредит!CKZ9","v":0},{"$f":"Кредит!CLA9","v":0},{"$f":"Кредит!CLB9","v":0},{"$f":"Кредит!CLC9","v":0},{"$f":"Кредит!CLD9","v":0},{"$f":"Кредит!CLE9","v":0},{"$f":"Кредит!CLF9","v":0},{"$f":"Кредит!CLG9","v":0},{"$f":"Кредит!CLH9","v":0},{"$f":"Кредит!CLI9","v":0},{"$f":"Кредит!CLJ9","v":0},{"$f":"Кредит!CLK9","v":0},{"$f":"Кредит!CLL9","v":0},{"$f":"Кредит!CLM9","v":0},{"$f":"Кредит!CLN9","v":0},{"$f":"Кредит!CLO9","v":0},{"$f":"Кредит!CLP9","v":0},{"$f":"Кредит!CLQ9","v":0},{"$f":"Кредит!CLR9","v":0},{"$f":"Кредит!CLS9","v":0},{"$f":"Кредит!CLT9","v":0},{"$f":"Кредит!CLU9","v":0},{"$f":"Кредит!CLV9","v":0},{"$f":"Кредит!CLW9","v":0},{"$f":"Кредит!CLX9","v":0},{"$f":"Кредит!CLY9","v":0},{"$f":"Кредит!CLZ9","v":0},{"$f":"Кредит!CMA9","v":0},{"$f":"Кредит!CMB9","v":0},{"$f":"Кредит!CMC9","v":0},{"$f":"Кредит!CMD9","v":0},{"$f":"Кредит!CME9","v":0},{"$f":"Кредит!CMF9","v":0},{"$f":"Кредит!CMG9","v":0},{"$f":"Кредит!CMH9","v":0},{"$f":"Кредит!CMI9","v":0},{"$f":"Кредит!CMJ9","v":0},{"$f":"Кредит!CMK9","v":0},{"$f":"Кредит!CML9","v":0},{"$f":"Кредит!CMM9","v":0},{"$f":"Кредит!CMN9","v":0},{"$f":"Кредит!CMO9","v":0},{"$f":"Кредит!CMP9","v":0},{"$f":"Кредит!CMQ9","v":0},{"$f":"Кредит!CMR9","v":0},{"$f":"Кредит!CMS9","v":0},{"$f":"Кредит!CMT9","v":0},{"$f":"Кредит!CMU9","v":0},{"$f":"Кредит!CMV9","v":0},{"$f":"Кредит!CMW9","v":0},{"$f":"Кредит!CMX9","v":0},{"$f":"Кредит!CMY9","v":0},{"$f":"Кредит!CMZ9","v":0},{"$f":"Кредит!CNA9","v":0},{"$f":"Кредит!CNB9","v":0},{"$f":"Кредит!CNC9","v":0},{"$f":"Кредит!CND9","v":0},{"$f":"Кредит!CNE9","v":0},{"$f":"Кредит!CNF9","v":0},{"$f":"Кредит!CNG9","v":0},{"$f":"Кредит!CNH9","v":0},{"$f":"Кредит!CNI9","v":0},{"$f":"Кредит!CNJ9","v":0},{"$f":"Кредит!CNK9","v":0},{"$f":"Кредит!CNL9","v":0},{"$f":"Кредит!CNM9","v":0},{"$f":"Кредит!CNN9","v":0},{"$f":"Кредит!CNO9","v":0},{"$f":"Кредит!CNP9","v":0},{"$f":"Кредит!CNQ9","v":0},{"$f":"Кредит!CNR9","v":0},{"$f":"Кредит!CNS9","v":0},{"$f":"Кредит!CNT9","v":0},{"$f":"Кредит!CNU9","v":0},{"$f":"Кредит!CNV9","v":0},{"$f":"Кредит!CNW9","v":0},{"$f":"Кредит!CNX9","v":0},{"$f":"Кредит!CNY9","v":0},{"$f":"Кредит!CNZ9","v":0},{"$f":"Кредит!COA9","v":0},{"$f":"Кредит!COB9","v":0},{"$f":"Кредит!COC9","v":0},{"$f":"Кредит!COD9","v":0},{"$f":"Кредит!COE9","v":0},{"$f":"Кредит!COF9","v":0},{"$f":"Кредит!COG9","v":0},{"$f":"Кредит!COH9","v":0},{"$f":"Кредит!COI9","v":0},{"$f":"Кредит!COJ9","v":0},{"$f":"Кредит!COK9","v":0},{"$f":"Кредит!COL9","v":0},{"$f":"Кредит!COM9","v":0},{"$f":"Кредит!CON9","v":0},{"$f":"Кредит!COO9","v":0},{"$f":"Кредит!COP9","v":0},{"$f":"Кредит!COQ9","v":0},{"$f":"Кредит!COR9","v":0},{"$f":"Кредит!COS9","v":0},{"$f":"Кредит!COT9","v":0},{"$f":"Кредит!COU9","v":0},{"$f":"Кредит!COV9","v":0},{"$f":"Кредит!COW9","v":0},{"$f":"Кредит!COX9","v":0},{"$f":"Кредит!COY9","v":0},{"$f":"Кредит!COZ9","v":0},{"$f":"Кредит!CPA9","v":0},{"$f":"Кредит!CPB9","v":0},{"$f":"Кредит!CPC9","v":0},{"$f":"Кредит!CPD9","v":0},{"$f":"Кредит!CPE9","v":0},{"$f":"Кредит!CPF9","v":0},{"$f":"Кредит!CPG9","v":0},{"$f":"Кредит!CPH9","v":0},{"$f":"Кредит!CPI9","v":0},{"$f":"Кредит!CPJ9","v":0},{"$f":"Кредит!CPK9","v":0},{"$f":"Кредит!CPL9","v":0},{"$f":"Кредит!CPM9","v":0},{"$f":"Кредит!CPN9","v":0},{"$f":"Кредит!CPO9","v":0},{"$f":"Кредит!CPP9","v":0},{"$f":"Кредит!CPQ9","v":0},{"$f":"Кредит!CPR9","v":0},{"$f":"Кредит!CPS9","v":0},{"$f":"Кредит!CPT9","v":0},{"$f":"Кредит!CPU9","v":0},{"$f":"Кредит!CPV9","v":0},{"$f":"Кредит!CPW9","v":0},{"$f":"Кредит!CPX9","v":0},{"$f":"Кредит!CPY9","v":0},{"$f":"Кредит!CPZ9","v":0},{"$f":"Кредит!CQA9","v":0},{"$f":"Кредит!CQB9","v":0},{"$f":"Кредит!CQC9","v":0},{"$f":"Кредит!CQD9","v":0},{"$f":"Кредит!CQE9","v":0},{"$f":"Кредит!CQF9","v":0},{"$f":"Кредит!CQG9","v":0},{"$f":"Кредит!CQH9","v":0},{"$f":"Кредит!CQI9","v":0},{"$f":"Кредит!CQJ9","v":0},{"$f":"Кредит!CQK9","v":0},{"$f":"Кредит!CQL9","v":0},{"$f":"Кредит!CQM9","v":0},{"$f":"Кредит!CQN9","v":0},{"$f":"Кредит!CQO9","v":0},{"$f":"Кредит!CQP9","v":0},{"$f":"Кредит!CQQ9","v":0},{"$f":"Кредит!CQR9","v":0},{"$f":"Кредит!CQS9","v":0},{"$f":"Кредит!CQT9","v":0},{"$f":"Кредит!CQU9","v":0},{"$f":"Кредит!CQV9","v":0},{"$f":"Кредит!CQW9","v":0},{"$f":"Кредит!CQX9","v":0},{"$f":"Кредит!CQY9","v":0},{"$f":"Кредит!CQZ9","v":0},{"$f":"Кредит!CRA9","v":0},{"$f":"Кредит!CRB9","v":0},{"$f":"Кредит!CRC9","v":0},{"$f":"Кредит!CRD9","v":0},{"$f":"Кредит!CRE9","v":0},{"$f":"Кредит!CRF9","v":0},{"$f":"Кредит!CRG9","v":0},{"$f":"Кредит!CRH9","v":0},{"$f":"Кредит!CRI9","v":0},{"$f":"Кредит!CRJ9","v":0},{"$f":"Кредит!CRK9","v":0},{"$f":"Кредит!CRL9","v":0},{"$f":"Кредит!CRM9","v":0},{"$f":"Кредит!CRN9","v":0},{"$f":"Кредит!CRO9","v":0},{"$f":"Кредит!CRP9","v":0},{"$f":"Кредит!CRQ9","v":0},{"$f":"Кредит!CRR9","v":0},{"$f":"Кредит!CRS9","v":0},{"$f":"Кредит!CRT9","v":0},{"$f":"Кредит!CRU9","v":0},{"$f":"Кредит!CRV9","v":0},{"$f":"Кредит!CRW9","v":0},{"$f":"Кредит!CRX9","v":0},{"$f":"Кредит!CRY9","v":0},{"$f":"Кредит!CRZ9","v":0},{"$f":"Кредит!CSA9","v":0},{"$f":"Кредит!CSB9","v":0},{"$f":"Кредит!CSC9","v":0},{"$f":"Кредит!CSD9","v":0},{"$f":"Кредит!CSE9","v":0},{"$f":"Кредит!CSF9","v":0},{"$f":"Кредит!CSG9","v":0},{"$f":"Кредит!CSH9","v":0},{"$f":"Кредит!CSI9","v":0},{"$f":"Кредит!CSJ9","v":0},{"$f":"Кредит!CSK9","v":0},{"$f":"Кредит!CSL9","v":0},{"$f":"Кредит!CSM9","v":0},{"$f":"Кредит!CSN9","v":0},{"$f":"Кредит!CSO9","v":0},{"$f":"Кредит!CSP9","v":0},{"$f":"Кредит!CSQ9","v":0},{"$f":"Кредит!CSR9","v":0},{"$f":"Кредит!CSS9","v":0},{"$f":"Кредит!CST9","v":0},{"$f":"Кредит!CSU9","v":0},{"$f":"Кредит!CSV9","v":0},{"$f":"Кредит!CSW9","v":0},{"$f":"Кредит!CSX9","v":0},{"$f":"Кредит!CSY9","v":0},{"$f":"Кредит!CSZ9","v":0},{"$f":"Кредит!CTA9","v":0},{"$f":"Кредит!CTB9","v":0},{"$f":"Кредит!CTC9","v":0},{"$f":"Кредит!CTD9","v":0},{"$f":"Кредит!CTE9","v":0},{"$f":"Кредит!CTF9","v":0},{"$f":"Кредит!CTG9","v":0},{"$f":"Кредит!CTH9","v":0},{"$f":"Кредит!CTI9","v":0},{"$f":"Кредит!CTJ9","v":0},{"$f":"Кредит!CTK9","v":0},{"$f":"Кредит!CTL9","v":0},{"$f":"Кредит!CTM9","v":0},{"$f":"Кредит!CTN9","v":0},{"$f":"Кредит!CTO9","v":0},{"$f":"Кредит!CTP9","v":0},{"$f":"Кредит!CTQ9","v":0},{"$f":"Кредит!CTR9","v":0},{"$f":"Кредит!CTS9","v":0},{"$f":"Кредит!CTT9","v":0},{"$f":"Кредит!CTU9","v":0},{"$f":"Кредит!CTV9","v":0},{"$f":"Кредит!CTW9","v":0},{"$f":"Кредит!CTX9","v":0},{"$f":"Кредит!CTY9","v":0},{"$f":"Кредит!CTZ9","v":0},{"$f":"Кредит!CUA9","v":0},{"$f":"Кредит!CUB9","v":0},{"$f":"Кредит!CUC9","v":0},{"$f":"Кредит!CUD9","v":0},{"$f":"Кредит!CUE9","v":0},{"$f":"Кредит!CUF9","v":0},{"$f":"Кредит!CUG9","v":0},{"$f":"Кредит!CUH9","v":0},{"$f":"Кредит!CUI9","v":0},{"$f":"Кредит!CUJ9","v":0},{"$f":"Кредит!CUK9","v":0},{"$f":"Кредит!CUL9","v":0},{"$f":"Кредит!CUM9","v":0},{"$f":"Кредит!CUN9","v":0},{"$f":"Кредит!CUO9","v":0},{"$f":"Кредит!CUP9","v":0},{"$f":"Кредит!CUQ9","v":0},{"$f":"Кредит!CUR9","v":0},{"$f":"Кредит!CUS9","v":0},{"$f":"Кредит!CUT9","v":0},{"$f":"Кредит!CUU9","v":0},{"$f":"Кредит!CUV9","v":0},{"$f":"Кредит!CUW9","v":0},{"$f":"Кредит!CUX9","v":0},{"$f":"Кредит!CUY9","v":0},{"$f":"Кредит!CUZ9","v":0},{"$f":"Кредит!CVA9","v":0},{"$f":"Кредит!CVB9","v":0},{"$f":"Кредит!CVC9","v":0},{"$f":"Кредит!CVD9","v":0},{"$f":"Кредит!CVE9","v":0},{"$f":"Кредит!CVF9","v":0},{"$f":"Кредит!CVG9","v":0},{"$f":"Кредит!CVH9","v":0},{"$f":"Кредит!CVI9","v":0},{"$f":"Кредит!CVJ9","v":0},{"$f":"Кредит!CVK9","v":0},{"$f":"Кредит!CVL9","v":0},{"$f":"Кредит!CVM9","v":0},{"$f":"Кредит!CVN9","v":0},{"$f":"Кредит!CVO9","v":0},{"$f":"Кредит!CVP9","v":0},{"$f":"Кредит!CVQ9","v":0},{"$f":"Кредит!CVR9","v":0},{"$f":"Кредит!CVS9","v":0},{"$f":"Кредит!CVT9","v":0},{"$f":"Кредит!CVU9","v":0},{"$f":"Кредит!CVV9","v":0},{"$f":"Кредит!CVW9","v":0},{"$f":"Кредит!CVX9","v":0},{"$f":"Кредит!CVY9","v":0},{"$f":"Кредит!CVZ9","v":0},{"$f":"Кредит!CWA9","v":0},{"$f":"Кредит!CWB9","v":0},{"$f":"Кредит!CWC9","v":0},{"$f":"Кредит!CWD9","v":0},{"$f":"Кредит!CWE9","v":0},{"$f":"Кредит!CWF9","v":0},{"$f":"Кредит!CWG9","v":0},{"$f":"Кредит!CWH9","v":0},{"$f":"Кредит!CWI9","v":0},{"$f":"Кредит!CWJ9","v":0},{"$f":"Кредит!CWK9","v":0},{"$f":"Кредит!CWL9","v":0},{"$f":"Кредит!CWM9","v":0},{"$f":"Кредит!CWN9","v":0},{"$f":"Кредит!CWO9","v":0},{"$f":"Кредит!CWP9","v":0},{"$f":"Кредит!CWQ9","v":0},{"$f":"Кредит!CWR9","v":0},{"$f":"Кредит!CWS9","v":0},{"$f":"Кредит!CWT9","v":0},{"$f":"Кредит!CWU9","v":0},{"$f":"Кредит!CWV9","v":0},{"$f":"Кредит!CWW9","v":0},{"$f":"Кредит!CWX9","v":0},{"$f":"Кредит!CWY9","v":0},{"$f":"Кредит!CWZ9","v":0},{"$f":"Кредит!CXA9","v":0},{"$f":"Кредит!CXB9","v":0},{"$f":"Кредит!CXC9","v":0},{"$f":"Кредит!CXD9","v":0},{"$f":"Кредит!CXE9","v":0},{"$f":"Кредит!CXF9","v":0},{"$f":"Кредит!CXG9","v":0},{"$f":"Кредит!CXH9","v":0},{"$f":"Кредит!CXI9","v":0},{"$f":"Кредит!CXJ9","v":0},{"$f":"Кредит!CXK9","v":0},{"$f":"Кредит!CXL9","v":0},{"$f":"Кредит!CXM9","v":0},{"$f":"Кредит!CXN9","v":0},{"$f":"Кредит!CXO9","v":0},{"$f":"Кредит!CXP9","v":0},{"$f":"Кредит!CXQ9","v":0},{"$f":"Кредит!CXR9","v":0},{"$f":"Кредит!CXS9","v":0},{"$f":"Кредит!CXT9","v":0},{"$f":"Кредит!CXU9","v":0},{"$f":"Кредит!CXV9","v":0},{"$f":"Кредит!CXW9","v":0},{"$f":"Кредит!CXX9","v":0},{"$f":"Кредит!CXY9","v":0},{"$f":"Кредит!CXZ9","v":0},{"$f":"Кредит!CYA9","v":0},{"$f":"Кредит!CYB9","v":0},{"$f":"Кредит!CYC9","v":0},{"$f":"Кредит!CYD9","v":0},{"$f":"Кредит!CYE9","v":0},{"$f":"Кредит!CYF9","v":0},{"$f":"Кредит!CYG9","v":0},{"$f":"Кредит!CYH9","v":0},{"$f":"Кредит!CYI9","v":0},{"$f":"Кредит!CYJ9","v":0},{"$f":"Кредит!CYK9","v":0},{"$f":"Кредит!CYL9","v":0},{"$f":"Кредит!CYM9","v":0},{"$f":"Кредит!CYN9","v":0},{"$f":"Кредит!CYO9","v":0},{"$f":"Кредит!CYP9","v":0},{"$f":"Кредит!CYQ9","v":0},{"$f":"Кредит!CYR9","v":0},{"$f":"Кредит!CYS9","v":0},{"$f":"Кредит!CYT9","v":0},{"$f":"Кредит!CYU9","v":0},{"$f":"Кредит!CYV9","v":0},{"$f":"Кредит!CYW9","v":0},{"$f":"Кредит!CYX9","v":0},{"$f":"Кредит!CYY9","v":0},{"$f":"Кредит!CYZ9","v":0},{"$f":"Кредит!CZA9","v":0},{"$f":"Кредит!CZB9","v":0},{"$f":"Кредит!CZC9","v":0},{"$f":"Кредит!CZD9","v":0},{"$f":"Кредит!CZE9","v":0},{"$f":"Кредит!CZF9","v":0},{"$f":"Кредит!CZG9","v":0},{"$f":"Кредит!CZH9","v":0},{"$f":"Кредит!CZI9","v":0},{"$f":"Кредит!CZJ9","v":0},{"$f":"Кредит!CZK9","v":0},{"$f":"Кредит!CZL9","v":0},{"$f":"Кредит!CZM9","v":0},{"$f":"Кредит!CZN9","v":0},{"$f":"Кредит!CZO9","v":0},{"$f":"Кредит!CZP9","v":0},{"$f":"Кредит!CZQ9","v":0},{"$f":"Кредит!CZR9","v":0},{"$f":"Кредит!CZS9","v":0},{"$f":"Кредит!CZT9","v":0},{"$f":"Кредит!CZU9","v":0},{"$f":"Кредит!CZV9","v":0},{"$f":"Кредит!CZW9","v":0},{"$f":"Кредит!CZX9","v":0},{"$f":"Кредит!CZY9","v":0},{"$f":"Кредит!CZZ9","v":0},{"$f":"Кредит!DAA9","v":0},{"$f":"Кредит!DAB9","v":0},{"$f":"Кредит!DAC9","v":0},{"$f":"Кредит!DAD9","v":0},{"$f":"Кредит!DAE9","v":0},{"$f":"Кредит!DAF9","v":0},{"$f":"Кредит!DAG9","v":0},{"$f":"Кредит!DAH9","v":0},{"$f":"Кредит!DAI9","v":0},{"$f":"Кредит!DAJ9","v":0},{"$f":"Кредит!DAK9","v":0},{"$f":"Кредит!DAL9","v":0},{"$f":"Кредит!DAM9","v":0},{"$f":"Кредит!DAN9","v":0},{"$f":"Кредит!DAO9","v":0},{"$f":"Кредит!DAP9","v":0},{"$f":"Кредит!DAQ9","v":0},{"$f":"Кредит!DAR9","v":0},{"$f":"Кредит!DAS9","v":0},{"$f":"Кредит!DAT9","v":0},{"$f":"Кредит!DAU9","v":0},{"$f":"Кредит!DAV9","v":0},{"$f":"Кредит!DAW9","v":0},{"$f":"Кредит!DAX9","v":0},{"$f":"Кредит!DAY9","v":0},{"$f":"Кредит!DAZ9","v":0},{"$f":"Кредит!DBA9","v":0},{"$f":"Кредит!DBB9","v":0},{"$f":"Кредит!DBC9","v":0},{"$f":"Кредит!DBD9","v":0},{"$f":"Кредит!DBE9","v":0},{"$f":"Кредит!DBF9","v":0},{"$f":"Кредит!DBG9","v":0},{"$f":"Кредит!DBH9","v":0},{"$f":"Кредит!DBI9","v":0},{"$f":"Кредит!DBJ9","v":0},{"$f":"Кредит!DBK9","v":0},{"$f":"Кредит!DBL9","v":0},{"$f":"Кредит!DBM9","v":0},{"$f":"Кредит!DBN9","v":0},{"$f":"Кредит!DBO9","v":0},{"$f":"Кредит!DBP9","v":0},{"$f":"Кредит!DBQ9","v":0},{"$f":"Кредит!DBR9","v":0},{"$f":"Кредит!DBS9","v":0},{"$f":"Кредит!DBT9","v":0},{"$f":"Кредит!DBU9","v":0},{"$f":"Кредит!DBV9","v":0},{"$f":"Кредит!DBW9","v":0},{"$f":"Кредит!DBX9","v":0},{"$f":"Кредит!DBY9","v":0},{"$f":"Кредит!DBZ9","v":0},{"$f":"Кредит!DCA9","v":0},{"$f":"Кредит!DCB9","v":0},{"$f":"Кредит!DCC9","v":0},{"$f":"Кредит!DCD9","v":0},{"$f":"Кредит!DCE9","v":0},{"$f":"Кредит!DCF9","v":0},{"$f":"Кредит!DCG9","v":0},{"$f":"Кредит!DCH9","v":0},{"$f":"Кредит!DCI9","v":0},{"$f":"Кредит!DCJ9","v":0},{"$f":"Кредит!DCK9","v":0},{"$f":"Кредит!DCL9","v":0},{"$f":"Кредит!DCM9","v":0},{"$f":"Кредит!DCN9","v":0},{"$f":"Кредит!DCO9","v":0},{"$f":"Кредит!DCP9","v":0},{"$f":"Кредит!DCQ9","v":0},{"$f":"Кредит!DCR9","v":0},{"$f":"Кредит!DCS9","v":0},{"$f":"Кредит!DCT9","v":0},{"$f":"Кредит!DCU9","v":0},{"$f":"Кредит!DCV9","v":0},{"$f":"Кредит!DCW9","v":0},{"$f":"Кредит!DCX9","v":0},{"$f":"Кредит!DCY9","v":0},{"$f":"Кредит!DCZ9","v":0},{"$f":"Кредит!DDA9","v":0},{"$f":"Кредит!DDB9","v":0},{"$f":"Кредит!DDC9","v":0},{"$f":"Кредит!DDD9","v":0},{"$f":"Кредит!DDE9","v":0},{"$f":"Кредит!DDF9","v":0},{"$f":"Кредит!DDG9","v":0},{"$f":"Кредит!DDH9","v":0},{"$f":"Кредит!DDI9","v":0},{"$f":"Кредит!DDJ9","v":0},{"$f":"Кредит!DDK9","v":0},{"$f":"Кредит!DDL9","v":0},{"$f":"Кредит!DDM9","v":0},{"$f":"Кредит!DDN9","v":0},{"$f":"Кредит!DDO9","v":0},{"$f":"Кредит!DDP9","v":0},{"$f":"Кредит!DDQ9","v":0},{"$f":"Кредит!DDR9","v":0},{"$f":"Кредит!DDS9","v":0},{"$f":"Кредит!DDT9","v":0},{"$f":"Кредит!DDU9","v":0},{"$f":"Кредит!DDV9","v":0},{"$f":"Кредит!DDW9","v":0},{"$f":"Кредит!DDX9","v":0},{"$f":"Кредит!DDY9","v":0},{"$f":"Кредит!DDZ9","v":0},{"$f":"Кредит!DEA9","v":0},{"$f":"Кредит!DEB9","v":0},{"$f":"Кредит!DEC9","v":0},{"$f":"Кредит!DED9","v":0},{"$f":"Кредит!DEE9","v":0},{"$f":"Кредит!DEF9","v":0},{"$f":"Кредит!DEG9","v":0},{"$f":"Кредит!DEH9","v":0},{"$f":"Кредит!DEI9","v":0},{"$f":"Кредит!DEJ9","v":0},{"$f":"Кредит!DEK9","v":0},{"$f":"Кредит!DEL9","v":0},{"$f":"Кредит!DEM9","v":0},{"$f":"Кредит!DEN9","v":0},{"$f":"Кредит!DEO9","v":0},{"$f":"Кредит!DEP9","v":0},{"$f":"Кредит!DEQ9","v":0},{"$f":"Кредит!DER9","v":0},{"$f":"Кредит!DES9","v":0},{"$f":"Кредит!DET9","v":0},{"$f":"Кредит!DEU9","v":0},{"$f":"Кредит!DEV9","v":0},{"$f":"Кредит!DEW9","v":0},{"$f":"Кредит!DEX9","v":0},{"$f":"Кредит!DEY9","v":0},{"$f":"Кредит!DEZ9","v":0},{"$f":"Кредит!DFA9","v":0},{"$f":"Кредит!DFB9","v":0},{"$f":"Кредит!DFC9","v":0},{"$f":"Кредит!DFD9","v":0},{"$f":"Кредит!DFE9","v":0},{"$f":"Кредит!DFF9","v":0},{"$f":"Кредит!DFG9","v":0},{"$f":"Кредит!DFH9","v":0},{"$f":"Кредит!DFI9","v":0},{"$f":"Кредит!DFJ9","v":0},{"$f":"Кредит!DFK9","v":0},{"$f":"Кредит!DFL9","v":0},{"$f":"Кредит!DFM9","v":0},{"$f":"Кредит!DFN9","v":0},{"$f":"Кредит!DFO9","v":0},{"$f":"Кредит!DFP9","v":0},{"$f":"Кредит!DFQ9","v":0},{"$f":"Кредит!DFR9","v":0},{"$f":"Кредит!DFS9","v":0},{"$f":"Кредит!DFT9","v":0},{"$f":"Кредит!DFU9","v":0},{"$f":"Кредит!DFV9","v":0},{"$f":"Кредит!DFW9","v":0},{"$f":"Кредит!DFX9","v":0},{"$f":"Кредит!DFY9","v":0},{"$f":"Кредит!DFZ9","v":0},{"$f":"Кредит!DGA9","v":0},{"$f":"Кредит!DGB9","v":0},{"$f":"Кредит!DGC9","v":0},{"$f":"Кредит!DGD9","v":0},{"$f":"Кредит!DGE9","v":0},{"$f":"Кредит!DGF9","v":0},{"$f":"Кредит!DGG9","v":0},{"$f":"Кредит!DGH9","v":0},{"$f":"Кредит!DGI9","v":0},{"$f":"Кредит!DGJ9","v":0},{"$f":"Кредит!DGK9","v":0},{"$f":"Кредит!DGL9","v":0},{"$f":"Кредит!DGM9","v":0},{"$f":"Кредит!DGN9","v":0},{"$f":"Кредит!DGO9","v":0},{"$f":"Кредит!DGP9","v":0},{"$f":"Кредит!DGQ9","v":0},{"$f":"Кредит!DGR9","v":0},{"$f":"Кредит!DGS9","v":0},{"$f":"Кредит!DGT9","v":0},{"$f":"Кредит!DGU9","v":0},{"$f":"Кредит!DGV9","v":0},{"$f":"Кредит!DGW9","v":0},{"$f":"Кредит!DGX9","v":0},{"$f":"Кредит!DGY9","v":0},{"$f":"Кредит!DGZ9","v":0},{"$f":"Кредит!DHA9","v":0},{"$f":"Кредит!DHB9","v":0},{"$f":"Кредит!DHC9","v":0},{"$f":"Кредит!DHD9","v":0},{"$f":"Кредит!DHE9","v":0},{"$f":"Кредит!DHF9","v":0},{"$f":"Кредит!DHG9","v":0},{"$f":"Кредит!DHH9","v":0},{"$f":"Кредит!DHI9","v":0},{"$f":"Кредит!DHJ9","v":0},{"$f":"Кредит!DHK9","v":0},{"$f":"Кредит!DHL9","v":0},{"$f":"Кредит!DHM9","v":0},{"$f":"Кредит!DHN9","v":0},{"$f":"Кредит!DHO9","v":0},{"$f":"Кредит!DHP9","v":0},{"$f":"Кредит!DHQ9","v":0},{"$f":"Кредит!DHR9","v":0},{"$f":"Кредит!DHS9","v":0},{"$f":"Кредит!DHT9","v":0},{"$f":"Кредит!DHU9","v":0},{"$f":"Кредит!DHV9","v":0},{"$f":"Кредит!DHW9","v":0},{"$f":"Кредит!DHX9","v":0},{"$f":"Кредит!DHY9","v":0},{"$f":"Кредит!DHZ9","v":0},{"$f":"Кредит!DIA9","v":0},{"$f":"Кредит!DIB9","v":0},{"$f":"Кредит!DIC9","v":0},{"$f":"Кредит!DID9","v":0},{"$f":"Кредит!DIE9","v":0},{"$f":"Кредит!DIF9","v":0},{"$f":"Кредит!DIG9","v":0},{"$f":"Кредит!DIH9","v":0},{"$f":"Кредит!DII9","v":0},{"$f":"Кредит!DIJ9","v":0},{"$f":"Кредит!DIK9","v":0},{"$f":"Кредит!DIL9","v":0},{"$f":"Кредит!DIM9","v":0},{"$f":"Кредит!DIN9","v":0},{"$f":"Кредит!DIO9","v":0},{"$f":"Кредит!DIP9","v":0},{"$f":"Кредит!DIQ9","v":0},{"$f":"Кредит!DIR9","v":0},{"$f":"Кредит!DIS9","v":0},{"$f":"Кредит!DIT9","v":0},{"$f":"Кредит!DIU9","v":0},{"$f":"Кредит!DIV9","v":0},{"$f":"Кредит!DIW9","v":0},{"$f":"Кредит!DIX9","v":0},{"$f":"Кредит!DIY9","v":0},{"$f":"Кредит!DIZ9","v":0},{"$f":"Кредит!DJA9","v":0},{"$f":"Кредит!DJB9","v":0},{"$f":"Кредит!DJC9","v":0},{"$f":"Кредит!DJD9","v":0},{"$f":"Кредит!DJE9","v":0},{"$f":"Кредит!DJF9","v":0},{"$f":"Кредит!DJG9","v":0},{"$f":"Кредит!DJH9","v":0},{"$f":"Кредит!DJI9","v":0},{"$f":"Кредит!DJJ9","v":0},{"$f":"Кредит!DJK9","v":0},{"$f":"Кредит!DJL9","v":0},{"$f":"Кредит!DJM9","v":0},{"$f":"Кредит!DJN9","v":0},{"$f":"Кредит!DJO9","v":0},{"$f":"Кредит!DJP9","v":0},{"$f":"Кредит!DJQ9","v":0},{"$f":"Кредит!DJR9","v":0},{"$f":"Кредит!DJS9","v":0},{"$f":"Кредит!DJT9","v":0},{"$f":"Кредит!DJU9","v":0},{"$f":"Кредит!DJV9","v":0},{"$f":"Кредит!DJW9","v":0},{"$f":"Кредит!DJX9","v":0},{"$f":"Кредит!DJY9","v":0},{"$f":"Кредит!DJZ9","v":0},{"$f":"Кредит!DKA9","v":0},{"$f":"Кредит!DKB9","v":0},{"$f":"Кредит!DKC9","v":0},{"$f":"Кредит!DKD9","v":0},{"$f":"Кредит!DKE9","v":0},{"$f":"Кредит!DKF9","v":0},{"$f":"Кредит!DKG9","v":0},{"$f":"Кредит!DKH9","v":0},{"$f":"Кредит!DKI9","v":0},{"$f":"Кредит!DKJ9","v":0},{"$f":"Кредит!DKK9","v":0},{"$f":"Кредит!DKL9","v":0},{"$f":"Кредит!DKM9","v":0},{"$f":"Кредит!DKN9","v":0},{"$f":"Кредит!DKO9","v":0},{"$f":"Кредит!DKP9","v":0},{"$f":"Кредит!DKQ9","v":0},{"$f":"Кредит!DKR9","v":0},{"$f":"Кредит!DKS9","v":0},{"$f":"Кредит!DKT9","v":0},{"$f":"Кредит!DKU9","v":0},{"$f":"Кредит!DKV9","v":0},{"$f":"Кредит!DKW9","v":0},{"$f":"Кредит!DKX9","v":0},{"$f":"Кредит!DKY9","v":0},{"$f":"Кредит!DKZ9","v":0},{"$f":"Кредит!DLA9","v":0},{"$f":"Кредит!DLB9","v":0},{"$f":"Кредит!DLC9","v":0},{"$f":"Кредит!DLD9","v":0},{"$f":"Кредит!DLE9","v":0},{"$f":"Кредит!DLF9","v":0},{"$f":"Кредит!DLG9","v":0},{"$f":"Кредит!DLH9","v":0},{"$f":"Кредит!DLI9","v":0},{"$f":"Кредит!DLJ9","v":0},{"$f":"Кредит!DLK9","v":0},{"$f":"Кредит!DLL9","v":0},{"$f":"Кредит!DLM9","v":0},{"$f":"Кредит!DLN9","v":0},{"$f":"Кредит!DLO9","v":0},{"$f":"Кредит!DLP9","v":0},{"$f":"Кредит!DLQ9","v":0},{"$f":"Кредит!DLR9","v":0},{"$f":"Кредит!DLS9","v":0},{"$f":"Кредит!DLT9","v":0},{"$f":"Кредит!DLU9","v":0},{"$f":"Кредит!DLV9","v":0},{"$f":"Кредит!DLW9","v":0},{"$f":"Кредит!DLX9","v":0},{"$f":"Кредит!DLY9","v":0},{"$f":"Кредит!DLZ9","v":0},{"$f":"Кредит!DMA9","v":0},{"$f":"Кредит!DMB9","v":0},{"$f":"Кредит!DMC9","v":0},{"$f":"Кредит!DMD9","v":0},{"$f":"Кредит!DME9","v":0},{"$f":"Кредит!DMF9","v":0},{"$f":"Кредит!DMG9","v":0},{"$f":"Кредит!DMH9","v":0},{"$f":"Кредит!DMI9","v":0},{"$f":"Кредит!DMJ9","v":0},{"$f":"Кредит!DMK9","v":0},{"$f":"Кредит!DML9","v":0},{"$f":"Кредит!DMM9","v":0},{"$f":"Кредит!DMN9","v":0},{"$f":"Кредит!DMO9","v":0},{"$f":"Кредит!DMP9","v":0},{"$f":"Кредит!DMQ9","v":0},{"$f":"Кредит!DMR9","v":0},{"$f":"Кредит!DMS9","v":0},{"$f":"Кредит!DMT9","v":0},{"$f":"Кредит!DMU9","v":0},{"$f":"Кредит!DMV9","v":0},{"$f":"Кредит!DMW9","v":0},{"$f":"Кредит!DMX9","v":0},{"$f":"Кредит!DMY9","v":0},{"$f":"Кредит!DMZ9","v":0},{"$f":"Кредит!DNA9","v":0},{"$f":"Кредит!DNB9","v":0},{"$f":"Кредит!DNC9","v":0},{"$f":"Кредит!DND9","v":0},{"$f":"Кредит!DNE9","v":0},{"$f":"Кредит!DNF9","v":0},{"$f":"Кредит!DNG9","v":0},{"$f":"Кредит!DNH9","v":0},{"$f":"Кредит!DNI9","v":0},{"$f":"Кредит!DNJ9","v":0},{"$f":"Кредит!DNK9","v":0},{"$f":"Кредит!DNL9","v":0},{"$f":"Кредит!DNM9","v":0},{"$f":"Кредит!DNN9","v":0},{"$f":"Кредит!DNO9","v":0},{"$f":"Кредит!DNP9","v":0},{"$f":"Кредит!DNQ9","v":0},{"$f":"Кредит!DNR9","v":0},{"$f":"Кредит!DNS9","v":0},{"$f":"Кредит!DNT9","v":0},{"$f":"Кредит!DNU9","v":0},{"$f":"Кредит!DNV9","v":0},{"$f":"Кредит!DNW9","v":0},{"$f":"Кредит!DNX9","v":0},{"$f":"Кредит!DNY9","v":0},{"$f":"Кредит!DNZ9","v":0},{"$f":"Кредит!DOA9","v":0},{"$f":"Кредит!DOB9","v":0},{"$f":"Кредит!DOC9","v":0},{"$f":"Кредит!DOD9","v":0},{"$f":"Кредит!DOE9","v":0},{"$f":"Кредит!DOF9","v":0},{"$f":"Кредит!DOG9","v":0},{"$f":"Кредит!DOH9","v":0},{"$f":"Кредит!DOI9","v":0},{"$f":"Кредит!DOJ9","v":0},{"$f":"Кредит!DOK9","v":0},{"$f":"Кредит!DOL9","v":0},{"$f":"Кредит!DOM9","v":0},{"$f":"Кредит!DON9","v":0},{"$f":"Кредит!DOO9","v":0},{"$f":"Кредит!DOP9","v":0},{"$f":"Кредит!DOQ9","v":0},{"$f":"Кредит!DOR9","v":0},{"$f":"Кредит!DOS9","v":0},{"$f":"Кредит!DOT9","v":0},{"$f":"Кредит!DOU9","v":0},{"$f":"Кредит!DOV9","v":0},{"$f":"Кредит!DOW9","v":0},{"$f":"Кредит!DOX9","v":0},{"$f":"Кредит!DOY9","v":0},{"$f":"Кредит!DOZ9","v":0},{"$f":"Кредит!DPA9","v":0},{"$f":"Кредит!DPB9","v":0},{"$f":"Кредит!DPC9","v":0},{"$f":"Кредит!DPD9","v":0},{"$f":"Кредит!DPE9","v":0},{"$f":"Кредит!DPF9","v":0},{"$f":"Кредит!DPG9","v":0},{"$f":"Кредит!DPH9","v":0},{"$f":"Кредит!DPI9","v":0},{"$f":"Кредит!DPJ9","v":0},{"$f":"Кредит!DPK9","v":0},{"$f":"Кредит!DPL9","v":0},{"$f":"Кредит!DPM9","v":0},{"$f":"Кредит!DPN9","v":0},{"$f":"Кредит!DPO9","v":0},{"$f":"Кредит!DPP9","v":0},{"$f":"Кредит!DPQ9","v":0},{"$f":"Кредит!DPR9","v":0},{"$f":"Кредит!DPS9","v":0},{"$f":"Кредит!DPT9","v":0},{"$f":"Кредит!DPU9","v":0},{"$f":"Кредит!DPV9","v":0},{"$f":"Кредит!DPW9","v":0},{"$f":"Кредит!DPX9","v":0},{"$f":"Кредит!DPY9","v":0},{"$f":"Кредит!DPZ9","v":0},{"$f":"Кредит!DQA9","v":0},{"$f":"Кредит!DQB9","v":0},{"$f":"Кредит!DQC9","v":0},{"$f":"Кредит!DQD9","v":0},{"$f":"Кредит!DQE9","v":0},{"$f":"Кредит!DQF9","v":0},{"$f":"Кредит!DQG9","v":0},{"$f":"Кредит!DQH9","v":0},{"$f":"Кредит!DQI9","v":0},{"$f":"Кредит!DQJ9","v":0},{"$f":"Кредит!DQK9","v":0},{"$f":"Кредит!DQL9","v":0},{"$f":"Кредит!DQM9","v":0},{"$f":"Кредит!DQN9","v":0},{"$f":"Кредит!DQO9","v":0},{"$f":"Кредит!DQP9","v":0},{"$f":"Кредит!DQQ9","v":0},{"$f":"Кредит!DQR9","v":0},{"$f":"Кредит!DQS9","v":0},{"$f":"Кредит!DQT9","v":0},{"$f":"Кредит!DQU9","v":0},{"$f":"Кредит!DQV9","v":0},{"$f":"Кредит!DQW9","v":0},{"$f":"Кредит!DQX9","v":0},{"$f":"Кредит!DQY9","v":0},{"$f":"Кредит!DQZ9","v":0},{"$f":"Кредит!DRA9","v":0},{"$f":"Кредит!DRB9","v":0},{"$f":"Кредит!DRC9","v":0},{"$f":"Кредит!DRD9","v":0},{"$f":"Кредит!DRE9","v":0},{"$f":"Кредит!DRF9","v":0},{"$f":"Кредит!DRG9","v":0},{"$f":"Кредит!DRH9","v":0},{"$f":"Кредит!DRI9","v":0},{"$f":"Кредит!DRJ9","v":0},{"$f":"Кредит!DRK9","v":0},{"$f":"Кредит!DRL9","v":0},{"$f":"Кредит!DRM9","v":0},{"$f":"Кредит!DRN9","v":0},{"$f":"Кредит!DRO9","v":0},{"$f":"Кредит!DRP9","v":0},{"$f":"Кредит!DRQ9","v":0},{"$f":"Кредит!DRR9","v":0},{"$f":"Кредит!DRS9","v":0},{"$f":"Кредит!DRT9","v":0},{"$f":"Кредит!DRU9","v":0},{"$f":"Кредит!DRV9","v":0},{"$f":"Кредит!DRW9","v":0},{"$f":"Кредит!DRX9","v":0},{"$f":"Кредит!DRY9","v":0},{"$f":"Кредит!DRZ9","v":0},{"$f":"Кредит!DSA9","v":0},{"$f":"Кредит!DSB9","v":0},{"$f":"Кредит!DSC9","v":0},{"$f":"Кредит!DSD9","v":0},{"$f":"Кредит!DSE9","v":0},{"$f":"Кредит!DSF9","v":0},{"$f":"Кредит!DSG9","v":0},{"$f":"Кредит!DSH9","v":0},{"$f":"Кредит!DSI9","v":0},{"$f":"Кредит!DSJ9","v":0},{"$f":"Кредит!DSK9","v":0},{"$f":"Кредит!DSL9","v":0},{"$f":"Кредит!DSM9","v":0},{"$f":"Кредит!DSN9","v":0},{"$f":"Кредит!DSO9","v":0},{"$f":"Кредит!DSP9","v":0},{"$f":"Кредит!DSQ9","v":0},{"$f":"Кредит!DSR9","v":0},{"$f":"Кредит!DSS9","v":0},{"$f":"Кредит!DST9","v":0},{"$f":"Кредит!DSU9","v":0},{"$f":"Кредит!DSV9","v":0},{"$f":"Кредит!DSW9","v":0},{"$f":"Кредит!DSX9","v":0},{"$f":"Кредит!DSY9","v":0},{"$f":"Кредит!DSZ9","v":0},{"$f":"Кредит!DTA9","v":0},{"$f":"Кредит!DTB9","v":0},{"$f":"Кредит!DTC9","v":0},{"$f":"Кредит!DTD9","v":0},{"$f":"Кредит!DTE9","v":0},{"$f":"Кредит!DTF9","v":0},{"$f":"Кредит!DTG9","v":0},{"$f":"Кредит!DTH9","v":0},{"$f":"Кредит!DTI9","v":0},{"$f":"Кредит!DTJ9","v":0},{"$f":"Кредит!DTK9","v":0},{"$f":"Кредит!DTL9","v":0},{"$f":"Кредит!DTM9","v":0},{"$f":"Кредит!DTN9","v":0},{"$f":"Кредит!DTO9","v":0},{"$f":"Кредит!DTP9","v":0},{"$f":"Кредит!DTQ9","v":0},{"$f":"Кредит!DTR9","v":0},{"$f":"Кредит!DTS9","v":0},{"$f":"Кредит!DTT9","v":0},{"$f":"Кредит!DTU9","v":0},{"$f":"Кредит!DTV9","v":0},{"$f":"Кредит!DTW9","v":0},{"$f":"Кредит!DTX9","v":0},{"$f":"Кредит!DTY9","v":0},{"$f":"Кредит!DTZ9","v":0},{"$f":"Кредит!DUA9","v":0},{"$f":"Кредит!DUB9","v":0},{"$f":"Кредит!DUC9","v":0},{"$f":"Кредит!DUD9","v":0},{"$f":"Кредит!DUE9","v":0},{"$f":"Кредит!DUF9","v":0},{"$f":"Кредит!DUG9","v":0},{"$f":"Кредит!DUH9","v":0},{"$f":"Кредит!DUI9","v":0},{"$f":"Кредит!DUJ9","v":0},{"$f":"Кредит!DUK9","v":0},{"$f":"Кредит!DUL9","v":0},{"$f":"Кредит!DUM9","v":0},{"$f":"Кредит!DUN9","v":0},{"$f":"Кредит!DUO9","v":0},{"$f":"Кредит!DUP9","v":0},{"$f":"Кредит!DUQ9","v":0},{"$f":"Кредит!DUR9","v":0},{"$f":"Кредит!DUS9","v":0},{"$f":"Кредит!DUT9","v":0},{"$f":"Кредит!DUU9","v":0},{"$f":"Кредит!DUV9","v":0},{"$f":"Кредит!DUW9","v":0},{"$f":"Кредит!DUX9","v":0},{"$f":"Кредит!DUY9","v":0},{"$f":"Кредит!DUZ9","v":0},{"$f":"Кредит!DVA9","v":0},{"$f":"Кредит!DVB9","v":0},{"$f":"Кредит!DVC9","v":0},{"$f":"Кредит!DVD9","v":0},{"$f":"Кредит!DVE9","v":0},{"$f":"Кредит!DVF9","v":0},{"$f":"Кредит!DVG9","v":0},{"$f":"Кредит!DVH9","v":0},{"$f":"Кредит!DVI9","v":0},{"$f":"Кредит!DVJ9","v":0},{"$f":"Кредит!DVK9","v":0},{"$f":"Кредит!DVL9","v":0},{"$f":"Кредит!DVM9","v":0},{"$f":"Кредит!DVN9","v":0},{"$f":"Кредит!DVO9","v":0},{"$f":"Кредит!DVP9","v":0},{"$f":"Кредит!DVQ9","v":0},{"$f":"Кредит!DVR9","v":0},{"$f":"Кредит!DVS9","v":0},{"$f":"Кредит!DVT9","v":0},{"$f":"Кредит!DVU9","v":0},{"$f":"Кредит!DVV9","v":0},{"$f":"Кредит!DVW9","v":0},{"$f":"Кредит!DVX9","v":0},{"$f":"Кредит!DVY9","v":0},{"$f":"Кредит!DVZ9","v":0},{"$f":"Кредит!DWA9","v":0},{"$f":"Кредит!DWB9","v":0},{"$f":"Кредит!DWC9","v":0},{"$f":"Кредит!DWD9","v":0},{"$f":"Кредит!DWE9","v":0},{"$f":"Кредит!DWF9","v":0},{"$f":"Кредит!DWG9","v":0},{"$f":"Кредит!DWH9","v":0},{"$f":"Кредит!DWI9","v":0},{"$f":"Кредит!DWJ9","v":0},{"$f":"Кредит!DWK9","v":0},{"$f":"Кредит!DWL9","v":0},{"$f":"Кредит!DWM9","v":0},{"$f":"Кредит!DWN9","v":0},{"$f":"Кредит!DWO9","v":0},{"$f":"Кредит!DWP9","v":0},{"$f":"Кредит!DWQ9","v":0},{"$f":"Кредит!DWR9","v":0},{"$f":"Кредит!DWS9","v":0},{"$f":"Кредит!DWT9","v":0},{"$f":"Кредит!DWU9","v":0},{"$f":"Кредит!DWV9","v":0},{"$f":"Кредит!DWW9","v":0},{"$f":"Кредит!DWX9","v":0},{"$f":"Кредит!DWY9","v":0},{"$f":"Кредит!DWZ9","v":0},{"$f":"Кредит!DXA9","v":0},{"$f":"Кредит!DXB9","v":0},{"$f":"Кредит!DXC9","v":0},{"$f":"Кредит!DXD9","v":0},{"$f":"Кредит!DXE9","v":0},{"$f":"Кредит!DXF9","v":0},{"$f":"Кредит!DXG9","v":0},{"$f":"Кредит!DXH9","v":0},{"$f":"Кредит!DXI9","v":0},{"$f":"Кредит!DXJ9","v":0},{"$f":"Кредит!DXK9","v":0},{"$f":"Кредит!DXL9","v":0},{"$f":"Кредит!DXM9","v":0},{"$f":"Кредит!DXN9","v":0},{"$f":"Кредит!DXO9","v":0},{"$f":"Кредит!DXP9","v":0},{"$f":"Кредит!DXQ9","v":0},{"$f":"Кредит!DXR9","v":0},{"$f":"Кредит!DXS9","v":0},{"$f":"Кредит!DXT9","v":0},{"$f":"Кредит!DXU9","v":0},{"$f":"Кредит!DXV9","v":0},{"$f":"Кредит!DXW9","v":0},{"$f":"Кредит!DXX9","v":0},{"$f":"Кредит!DXY9","v":0},{"$f":"Кредит!DXZ9","v":0},{"$f":"Кредит!DYA9","v":0},{"$f":"Кредит!DYB9","v":0},{"$f":"Кредит!DYC9","v":0},{"$f":"Кредит!DYD9","v":0},{"$f":"Кредит!DYE9","v":0},{"$f":"Кредит!DYF9","v":0},{"$f":"Кредит!DYG9","v":0},{"$f":"Кредит!DYH9","v":0},{"$f":"Кредит!DYI9","v":0},{"$f":"Кредит!DYJ9","v":0},{"$f":"Кредит!DYK9","v":0},{"$f":"Кредит!DYL9","v":0},{"$f":"Кредит!DYM9","v":0},{"$f":"Кредит!DYN9","v":0},{"$f":"Кредит!DYO9","v":0},{"$f":"Кредит!DYP9","v":0},{"$f":"Кредит!DYQ9","v":0},{"$f":"Кредит!DYR9","v":0},{"$f":"Кредит!DYS9","v":0},{"$f":"Кредит!DYT9","v":0},{"$f":"Кредит!DYU9","v":0},{"$f":"Кредит!DYV9","v":0},{"$f":"Кредит!DYW9","v":0},{"$f":"Кредит!DYX9","v":0},{"$f":"Кредит!DYY9","v":0},{"$f":"Кредит!DYZ9","v":0},{"$f":"Кредит!DZA9","v":0},{"$f":"Кредит!DZB9","v":0},{"$f":"Кредит!DZC9","v":0},{"$f":"Кредит!DZD9","v":0},{"$f":"Кредит!DZE9","v":0},{"$f":"Кредит!DZF9","v":0},{"$f":"Кредит!DZG9","v":0},{"$f":"Кредит!DZH9","v":0},{"$f":"Кредит!DZI9","v":0},{"$f":"Кредит!DZJ9","v":0},{"$f":"Кредит!DZK9","v":0},{"$f":"Кредит!DZL9","v":0},{"$f":"Кредит!DZM9","v":0},{"$f":"Кредит!DZN9","v":0},{"$f":"Кредит!DZO9","v":0},{"$f":"Кредит!DZP9","v":0},{"$f":"Кредит!DZQ9","v":0},{"$f":"Кредит!DZR9","v":0},{"$f":"Кредит!DZS9","v":0},{"$f":"Кредит!DZT9","v":0},{"$f":"Кредит!DZU9","v":0},{"$f":"Кредит!DZV9","v":0},{"$f":"Кредит!DZW9","v":0},{"$f":"Кредит!DZX9","v":0},{"$f":"Кредит!DZY9","v":0},{"$f":"Кредит!DZZ9","v":0},{"$f":"Кредит!EAA9","v":0},{"$f":"Кредит!EAB9","v":0},{"$f":"Кредит!EAC9","v":0},{"$f":"Кредит!EAD9","v":0},{"$f":"Кредит!EAE9","v":0},{"$f":"Кредит!EAF9","v":0},{"$f":"Кредит!EAG9","v":0},{"$f":"Кредит!EAH9","v":0},{"$f":"Кредит!EAI9","v":0},{"$f":"Кредит!EAJ9","v":0},{"$f":"Кредит!EAK9","v":0},{"$f":"Кредит!EAL9","v":0},{"$f":"Кредит!EAM9","v":0},{"$f":"Кредит!EAN9","v":0},{"$f":"Кредит!EAO9","v":0},{"$f":"Кредит!EAP9","v":0},{"$f":"Кредит!EAQ9","v":0},{"$f":"Кредит!EAR9","v":0},{"$f":"Кредит!EAS9","v":0},{"$f":"Кредит!EAT9","v":0},{"$f":"Кредит!EAU9","v":0},{"$f":"Кредит!EAV9","v":0},{"$f":"Кредит!EAW9","v":0},{"$f":"Кредит!EAX9","v":0},{"$f":"Кредит!EAY9","v":0},{"$f":"Кредит!EAZ9","v":0},{"$f":"Кредит!EBA9","v":0},{"$f":"Кредит!EBB9","v":0},{"$f":"Кредит!EBC9","v":0},{"$f":"Кредит!EBD9","v":0},{"$f":"Кредит!EBE9","v":0},{"$f":"Кредит!EBF9","v":0},{"$f":"Кредит!EBG9","v":0},{"$f":"Кредит!EBH9","v":0},{"$f":"Кредит!EBI9","v":0},{"$f":"Кредит!EBJ9","v":0},{"$f":"Кредит!EBK9","v":0},{"$f":"Кредит!EBL9","v":0},{"$f":"Кредит!EBM9","v":0},{"$f":"Кредит!EBN9","v":0},{"$f":"Кредит!EBO9","v":0},{"$f":"Кредит!EBP9","v":0},{"$f":"Кредит!EBQ9","v":0},{"$f":"Кредит!EBR9","v":0},{"$f":"Кредит!EBS9","v":0},{"$f":"Кредит!EBT9","v":0},{"$f":"Кредит!EBU9","v":0},{"$f":"Кредит!EBV9","v":0},{"$f":"Кредит!EBW9","v":0},{"$f":"Кредит!EBX9","v":0},{"$f":"Кредит!EBY9","v":0},{"$f":"Кредит!EBZ9","v":0},{"$f":"Кредит!ECA9","v":0},{"$f":"Кредит!ECB9","v":0},{"$f":"Кредит!ECC9","v":0},{"$f":"Кредит!ECD9","v":0},{"$f":"Кредит!ECE9","v":0},{"$f":"Кредит!ECF9","v":0},{"$f":"Кредит!ECG9","v":0},{"$f":"Кредит!ECH9","v":0},{"$f":"Кредит!ECI9","v":0},{"$f":"Кредит!ECJ9","v":0},{"$f":"Кредит!ECK9","v":0},{"$f":"Кредит!ECL9","v":0},{"$f":"Кредит!ECM9","v":0},{"$f":"Кредит!ECN9","v":0},{"$f":"Кредит!ECO9","v":0},{"$f":"Кредит!ECP9","v":0},{"$f":"Кредит!ECQ9","v":0},{"$f":"Кредит!ECR9","v":0},{"$f":"Кредит!ECS9","v":0},{"$f":"Кредит!ECT9","v":0},{"$f":"Кредит!ECU9","v":0},{"$f":"Кредит!ECV9","v":0},{"$f":"Кредит!ECW9","v":0},{"$f":"Кредит!ECX9","v":0},{"$f":"Кредит!ECY9","v":0},{"$f":"Кредит!ECZ9","v":0},{"$f":"Кредит!EDA9","v":0},{"$f":"Кредит!EDB9","v":0},{"$f":"Кредит!EDC9","v":0},{"$f":"Кредит!EDD9","v":0},{"$f":"Кредит!EDE9","v":0},{"$f":"Кредит!EDF9","v":0},{"$f":"Кредит!EDG9","v":0},{"$f":"Кредит!EDH9","v":0},{"$f":"Кредит!EDI9","v":0},{"$f":"Кредит!EDJ9","v":0},{"$f":"Кредит!EDK9","v":0},{"$f":"Кредит!EDL9","v":0},{"$f":"Кредит!EDM9","v":0},{"$f":"Кредит!EDN9","v":0},{"$f":"Кредит!EDO9","v":0},{"$f":"Кредит!EDP9","v":0},{"$f":"Кредит!EDQ9","v":0},{"$f":"Кредит!EDR9","v":0},{"$f":"Кредит!EDS9","v":0},{"$f":"Кредит!EDT9","v":0},{"$f":"Кредит!EDU9","v":0},{"$f":"Кредит!EDV9","v":0},{"$f":"Кредит!EDW9","v":0},{"$f":"Кредит!EDX9","v":0},{"$f":"Кредит!EDY9","v":0},{"$f":"Кредит!EDZ9","v":0},{"$f":"Кредит!EEA9","v":0},{"$f":"Кредит!EEB9","v":0},{"$f":"Кредит!EEC9","v":0},{"$f":"Кредит!EED9","v":0},{"$f":"Кредит!EEE9","v":0},{"$f":"Кредит!EEF9","v":0},{"$f":"Кредит!EEG9","v":0},{"$f":"Кредит!EEH9","v":0},{"$f":"Кредит!EEI9","v":0},{"$f":"Кредит!EEJ9","v":0},{"$f":"Кредит!EEK9","v":0},{"$f":"Кредит!EEL9","v":0},{"$f":"Кредит!EEM9","v":0},{"$f":"Кредит!EEN9","v":0},{"$f":"Кредит!EEO9","v":0},{"$f":"Кредит!EEP9","v":0},{"$f":"Кредит!EEQ9","v":0},{"$f":"Кредит!EER9","v":0},{"$f":"Кредит!EES9","v":0},{"$f":"Кредит!EET9","v":0},{"$f":"Кредит!EEU9","v":0},{"$f":"Кредит!EEV9","v":0},{"$f":"Кредит!EEW9","v":0},{"$f":"Кредит!EEX9","v":0},{"$f":"Кредит!EEY9","v":0},{"$f":"Кредит!EEZ9","v":0},{"$f":"Кредит!EFA9","v":0},{"$f":"Кредит!EFB9","v":0},{"$f":"Кредит!EFC9","v":0},{"$f":"Кредит!EFD9","v":0},{"$f":"Кредит!EFE9","v":0},{"$f":"Кредит!EFF9","v":0},{"$f":"Кредит!EFG9","v":0},{"$f":"Кредит!EFH9","v":0},{"$f":"Кредит!EFI9","v":0},{"$f":"Кредит!EFJ9","v":0},{"$f":"Кредит!EFK9","v":0},{"$f":"Кредит!EFL9","v":0},{"$f":"Кредит!EFM9","v":0},{"$f":"Кредит!EFN9","v":0},{"$f":"Кредит!EFO9","v":0},{"$f":"Кредит!EFP9","v":0},{"$f":"Кредит!EFQ9","v":0},{"$f":"Кредит!EFR9","v":0},{"$f":"Кредит!EFS9","v":0},{"$f":"Кредит!EFT9","v":0},{"$f":"Кредит!EFU9","v":0},{"$f":"Кредит!EFV9","v":0},{"$f":"Кредит!EFW9","v":0},{"$f":"Кредит!EFX9","v":0},{"$f":"Кредит!EFY9","v":0},{"$f":"Кредит!EFZ9","v":0},{"$f":"Кредит!EGA9","v":0},{"$f":"Кредит!EGB9","v":0},{"$f":"Кредит!EGC9","v":0},{"$f":"Кредит!EGD9","v":0},{"$f":"Кредит!EGE9","v":0},{"$f":"Кредит!EGF9","v":0},{"$f":"Кредит!EGG9","v":0},{"$f":"Кредит!EGH9","v":0},{"$f":"Кредит!EGI9","v":0},{"$f":"Кредит!EGJ9","v":0},{"$f":"Кредит!EGK9","v":0},{"$f":"Кредит!EGL9","v":0},{"$f":"Кредит!EGM9","v":0},{"$f":"Кредит!EGN9","v":0},{"$f":"Кредит!EGO9","v":0},{"$f":"Кредит!EGP9","v":0},{"$f":"Кредит!EGQ9","v":0},{"$f":"Кредит!EGR9","v":0},{"$f":"Кредит!EGS9","v":0},{"$f":"Кредит!EGT9","v":0},{"$f":"Кредит!EGU9","v":0},{"$f":"Кредит!EGV9","v":0},{"$f":"Кредит!EGW9","v":0},{"$f":"Кредит!EGX9","v":0},{"$f":"Кредит!EGY9","v":0},{"$f":"Кредит!EGZ9","v":0},{"$f":"Кредит!EHA9","v":0},{"$f":"Кредит!EHB9","v":0},{"$f":"Кредит!EHC9","v":0},{"$f":"Кредит!EHD9","v":0},{"$f":"Кредит!EHE9","v":0},{"$f":"Кредит!EHF9","v":0},{"$f":"Кредит!EHG9","v":0},{"$f":"Кредит!EHH9","v":0},{"$f":"Кредит!EHI9","v":0},{"$f":"Кредит!EHJ9","v":0},{"$f":"Кредит!EHK9","v":0},{"$f":"Кредит!EHL9","v":0},{"$f":"Кредит!EHM9","v":0},{"$f":"Кредит!EHN9","v":0},{"$f":"Кредит!EHO9","v":0},{"$f":"Кредит!EHP9","v":0},{"$f":"Кредит!EHQ9","v":0},{"$f":"Кредит!EHR9","v":0},{"$f":"Кредит!EHS9","v":0},{"$f":"Кредит!EHT9","v":0},{"$f":"Кредит!EHU9","v":0},{"$f":"Кредит!EHV9","v":0},{"$f":"Кредит!EHW9","v":0},{"$f":"Кредит!EHX9","v":0},{"$f":"Кредит!EHY9","v":0},{"$f":"Кредит!EHZ9","v":0},{"$f":"Кредит!EIA9","v":0},{"$f":"Кредит!EIB9","v":0},{"$f":"Кредит!EIC9","v":0},{"$f":"Кредит!EID9","v":0},{"$f":"Кредит!EIE9","v":0},{"$f":"Кредит!EIF9","v":0},{"$f":"Кредит!EIG9","v":0},{"$f":"Кредит!EIH9","v":0},{"$f":"Кредит!EII9","v":0},{"$f":"Кредит!EIJ9","v":0},{"$f":"Кредит!EIK9","v":0},{"$f":"Кредит!EIL9","v":0},{"$f":"Кредит!EIM9","v":0},{"$f":"Кредит!EIN9","v":0},{"$f":"Кредит!EIO9","v":0},{"$f":"Кредит!EIP9","v":0},{"$f":"Кредит!EIQ9","v":0},{"$f":"Кредит!EIR9","v":0},{"$f":"Кредит!EIS9","v":0},{"$f":"Кредит!EIT9","v":0},{"$f":"Кредит!EIU9","v":0},{"$f":"Кредит!EIV9","v":0},{"$f":"Кредит!EIW9","v":0},{"$f":"Кредит!EIX9","v":0},{"$f":"Кредит!EIY9","v":0},{"$f":"Кредит!EIZ9","v":0},{"$f":"Кредит!EJA9","v":0},{"$f":"Кредит!EJB9","v":0},{"$f":"Кредит!EJC9","v":0},{"$f":"Кредит!EJD9","v":0},{"$f":"Кредит!EJE9","v":0},{"$f":"Кредит!EJF9","v":0},{"$f":"Кредит!EJG9","v":0},{"$f":"Кредит!EJH9","v":0},{"$f":"Кредит!EJI9","v":0},{"$f":"Кредит!EJJ9","v":0},{"$f":"Кредит!EJK9","v":0},{"$f":"Кредит!EJL9","v":0},{"$f":"Кредит!EJM9","v":0},{"$f":"Кредит!EJN9","v":0},{"$f":"Кредит!EJO9","v":0},{"$f":"Кредит!EJP9","v":0},{"$f":"Кредит!EJQ9","v":0},{"$f":"Кредит!EJR9","v":0},{"$f":"Кредит!EJS9","v":0},{"$f":"Кредит!EJT9","v":0},{"$f":"Кредит!EJU9","v":0},{"$f":"Кредит!EJV9","v":0},{"$f":"Кредит!EJW9","v":0},{"$f":"Кредит!EJX9","v":0},{"$f":"Кредит!EJY9","v":0},{"$f":"Кредит!EJZ9","v":0},{"$f":"Кредит!EKA9","v":0},{"$f":"Кредит!EKB9","v":0},{"$f":"Кредит!EKC9","v":0},{"$f":"Кредит!EKD9","v":0},{"$f":"Кредит!EKE9","v":0},{"$f":"Кредит!EKF9","v":0},{"$f":"Кредит!EKG9","v":0},{"$f":"Кредит!EKH9","v":0},{"$f":"Кредит!EKI9","v":0},{"$f":"Кредит!EKJ9","v":0},{"$f":"Кредит!EKK9","v":0},{"$f":"Кредит!EKL9","v":0},{"$f":"Кредит!EKM9","v":0},{"$f":"Кредит!EKN9","v":0},{"$f":"Кредит!EKO9","v":0},{"$f":"Кредит!EKP9","v":0},{"$f":"Кредит!EKQ9","v":0},{"$f":"Кредит!EKR9","v":0},{"$f":"Кредит!EKS9","v":0},{"$f":"Кредит!EKT9","v":0},{"$f":"Кредит!EKU9","v":0},{"$f":"Кредит!EKV9","v":0},{"$f":"Кредит!EKW9","v":0},{"$f":"Кредит!EKX9","v":0},{"$f":"Кредит!EKY9","v":0},{"$f":"Кредит!EKZ9","v":0},{"$f":"Кредит!ELA9","v":0},{"$f":"Кредит!ELB9","v":0},{"$f":"Кредит!ELC9","v":0},{"$f":"Кредит!ELD9","v":0},{"$f":"Кредит!ELE9","v":0},{"$f":"Кредит!ELF9","v":0},{"$f":"Кредит!ELG9","v":0},{"$f":"Кредит!ELH9","v":0},{"$f":"Кредит!ELI9","v":0},{"$f":"Кредит!ELJ9","v":0},{"$f":"Кредит!ELK9","v":0},{"$f":"Кредит!ELL9","v":0},{"$f":"Кредит!ELM9","v":0},{"$f":"Кредит!ELN9","v":0},{"$f":"Кредит!ELO9","v":0},{"$f":"Кредит!ELP9","v":0},{"$f":"Кредит!ELQ9","v":0},{"$f":"Кредит!ELR9","v":0},{"$f":"Кредит!ELS9","v":0},{"$f":"Кредит!ELT9","v":0},{"$f":"Кредит!ELU9","v":0},{"$f":"Кредит!ELV9","v":0},{"$f":"Кредит!ELW9","v":0},{"$f":"Кредит!ELX9","v":0},{"$f":"Кредит!ELY9","v":0},{"$f":"Кредит!ELZ9","v":0},{"$f":"Кредит!EMA9","v":0},{"$f":"Кредит!EMB9","v":0},{"$f":"Кредит!EMC9","v":0},{"$f":"Кредит!EMD9","v":0},{"$f":"Кредит!EME9","v":0},{"$f":"Кредит!EMF9","v":0},{"$f":"Кредит!EMG9","v":0},{"$f":"Кредит!EMH9","v":0},{"$f":"Кредит!EMI9","v":0},{"$f":"Кредит!EMJ9","v":0},{"$f":"Кредит!EMK9","v":0},{"$f":"Кредит!EML9","v":0},{"$f":"Кредит!EMM9","v":0},{"$f":"Кредит!EMN9","v":0},{"$f":"Кредит!EMO9","v":0},{"$f":"Кредит!EMP9","v":0},{"$f":"Кредит!EMQ9","v":0},{"$f":"Кредит!EMR9","v":0},{"$f":"Кредит!EMS9","v":0},{"$f":"Кредит!EMT9","v":0},{"$f":"Кредит!EMU9","v":0},{"$f":"Кредит!EMV9","v":0},{"$f":"Кредит!EMW9","v":0},{"$f":"Кредит!EMX9","v":0},{"$f":"Кредит!EMY9","v":0},{"$f":"Кредит!EMZ9","v":0},{"$f":"Кредит!ENA9","v":0},{"$f":"Кредит!ENB9","v":0},{"$f":"Кредит!ENC9","v":0},{"$f":"Кредит!END9","v":0},{"$f":"Кредит!ENE9","v":0},{"$f":"Кредит!ENF9","v":0},{"$f":"Кредит!ENG9","v":0},{"$f":"Кредит!ENH9","v":0},{"$f":"Кредит!ENI9","v":0},{"$f":"Кредит!ENJ9","v":0},{"$f":"Кредит!ENK9","v":0},{"$f":"Кредит!ENL9","v":0},{"$f":"Кредит!ENM9","v":0},{"$f":"Кредит!ENN9","v":0},{"$f":"Кредит!ENO9","v":0},{"$f":"Кредит!ENP9","v":0},{"$f":"Кредит!ENQ9","v":0},{"$f":"Кредит!ENR9","v":0},{"$f":"Кредит!ENS9","v":0},{"$f":"Кредит!ENT9","v":0},{"$f":"Кредит!ENU9","v":0},{"$f":"Кредит!ENV9","v":0},{"$f":"Кредит!ENW9","v":0},{"$f":"Кредит!ENX9","v":0},{"$f":"Кредит!ENY9","v":0},{"$f":"Кредит!ENZ9","v":0},{"$f":"Кредит!EOA9","v":0},{"$f":"Кредит!EOB9","v":0},{"$f":"Кредит!EOC9","v":0},{"$f":"Кредит!EOD9","v":0},{"$f":"Кредит!EOE9","v":0},{"$f":"Кредит!EOF9","v":0},{"$f":"Кредит!EOG9","v":0},{"$f":"Кредит!EOH9","v":0},{"$f":"Кредит!EOI9","v":0},{"$f":"Кредит!EOJ9","v":0},{"$f":"Кредит!EOK9","v":0},{"$f":"Кредит!EOL9","v":0},{"$f":"Кредит!EOM9","v":0},{"$f":"Кредит!EON9","v":0},{"$f":"Кредит!EOO9","v":0},{"$f":"Кредит!EOP9","v":0},{"$f":"Кредит!EOQ9","v":0},{"$f":"Кредит!EOR9","v":0},{"$f":"Кредит!EOS9","v":0},{"$f":"Кредит!EOT9","v":0},{"$f":"Кредит!EOU9","v":0},{"$f":"Кредит!EOV9","v":0},{"$f":"Кредит!EOW9","v":0},{"$f":"Кредит!EOX9","v":0},{"$f":"Кредит!EOY9","v":0},{"$f":"Кредит!EOZ9","v":0},{"$f":"Кредит!EPA9","v":0},{"$f":"Кредит!EPB9","v":0},{"$f":"Кредит!EPC9","v":0},{"$f":"Кредит!EPD9","v":0},{"$f":"Кредит!EPE9","v":0},{"$f":"Кредит!EPF9","v":0},{"$f":"Кредит!EPG9","v":0},{"$f":"Кредит!EPH9","v":0},{"$f":"Кредит!EPI9","v":0},{"$f":"Кредит!EPJ9","v":0},{"$f":"Кредит!EPK9","v":0},{"$f":"Кредит!EPL9","v":0},{"$f":"Кредит!EPM9","v":0},{"$f":"Кредит!EPN9","v":0},{"$f":"Кредит!EPO9","v":0},{"$f":"Кредит!EPP9","v":0},{"$f":"Кредит!EPQ9","v":0},{"$f":"Кредит!EPR9","v":0},{"$f":"Кредит!EPS9","v":0},{"$f":"Кредит!EPT9","v":0},{"$f":"Кредит!EPU9","v":0},{"$f":"Кредит!EPV9","v":0},{"$f":"Кредит!EPW9","v":0},{"$f":"Кредит!EPX9","v":0},{"$f":"Кредит!EPY9","v":0},{"$f":"Кредит!EPZ9","v":0},{"$f":"Кредит!EQA9","v":0},{"$f":"Кредит!EQB9","v":0},{"$f":"Кредит!EQC9","v":0},{"$f":"Кредит!EQD9","v":0},{"$f":"Кредит!EQE9","v":0},{"$f":"Кредит!EQF9","v":0},{"$f":"Кредит!EQG9","v":0},{"$f":"Кредит!EQH9","v":0},{"$f":"Кредит!EQI9","v":0},{"$f":"Кредит!EQJ9","v":0},{"$f":"Кредит!EQK9","v":0},{"$f":"Кредит!EQL9","v":0},{"$f":"Кредит!EQM9","v":0},{"$f":"Кредит!EQN9","v":0},{"$f":"Кредит!EQO9","v":0},{"$f":"Кредит!EQP9","v":0},{"$f":"Кредит!EQQ9","v":0},{"$f":"Кредит!EQR9","v":0},{"$f":"Кредит!EQS9","v":0},{"$f":"Кредит!EQT9","v":0},{"$f":"Кредит!EQU9","v":0},{"$f":"Кредит!EQV9","v":0},{"$f":"Кредит!EQW9","v":0},{"$f":"Кредит!EQX9","v":0},{"$f":"Кредит!EQY9","v":0},{"$f":"Кредит!EQZ9","v":0},{"$f":"Кредит!ERA9","v":0},{"$f":"Кредит!ERB9","v":0},{"$f":"Кредит!ERC9","v":0},{"$f":"Кредит!ERD9","v":0},{"$f":"Кредит!ERE9","v":0},{"$f":"Кредит!ERF9","v":0},{"$f":"Кредит!ERG9","v":0},{"$f":"Кредит!ERH9","v":0},{"$f":"Кредит!ERI9","v":0},{"$f":"Кредит!ERJ9","v":0},{"$f":"Кредит!ERK9","v":0},{"$f":"Кредит!ERL9","v":0},{"$f":"Кредит!ERM9","v":0},{"$f":"Кредит!ERN9","v":0},{"$f":"Кредит!ERO9","v":0},{"$f":"Кредит!ERP9","v":0},{"$f":"Кредит!ERQ9","v":0},{"$f":"Кредит!ERR9","v":0},{"$f":"Кредит!ERS9","v":0},{"$f":"Кредит!ERT9","v":0},{"$f":"Кредит!ERU9","v":0},{"$f":"Кредит!ERV9","v":0},{"$f":"Кредит!ERW9","v":0},{"$f":"Кредит!ERX9","v":0},{"$f":"Кредит!ERY9","v":0},{"$f":"Кредит!ERZ9","v":0},{"$f":"Кредит!ESA9","v":0},{"$f":"Кредит!ESB9","v":0},{"$f":"Кредит!ESC9","v":0},{"$f":"Кредит!ESD9","v":0},{"$f":"Кредит!ESE9","v":0},{"$f":"Кредит!ESF9","v":0},{"$f":"Кредит!ESG9","v":0},{"$f":"Кредит!ESH9","v":0},{"$f":"Кредит!ESI9","v":0},{"$f":"Кредит!ESJ9","v":0},{"$f":"Кредит!ESK9","v":0},{"$f":"Кредит!ESL9","v":0},{"$f":"Кредит!ESM9","v":0},{"$f":"Кредит!ESN9","v":0},{"$f":"Кредит!ESO9","v":0},{"$f":"Кредит!ESP9","v":0},{"$f":"Кредит!ESQ9","v":0},{"$f":"Кредит!ESR9","v":0},{"$f":"Кредит!ESS9","v":0},{"$f":"Кредит!EST9","v":0},{"$f":"Кредит!ESU9","v":0},{"$f":"Кредит!ESV9","v":0},{"$f":"Кредит!ESW9","v":0},{"$f":"Кредит!ESX9","v":0},{"$f":"Кредит!ESY9","v":0},{"$f":"Кредит!ESZ9","v":0},{"$f":"Кредит!ETA9","v":0},{"$f":"Кредит!ETB9","v":0},{"$f":"Кредит!ETC9","v":0},{"$f":"Кредит!ETD9","v":0},{"$f":"Кредит!ETE9","v":0},{"$f":"Кредит!ETF9","v":0},{"$f":"Кредит!ETG9","v":0},{"$f":"Кредит!ETH9","v":0},{"$f":"Кредит!ETI9","v":0},{"$f":"Кредит!ETJ9","v":0},{"$f":"Кредит!ETK9","v":0},{"$f":"Кредит!ETL9","v":0},{"$f":"Кредит!ETM9","v":0},{"$f":"Кредит!ETN9","v":0},{"$f":"Кредит!ETO9","v":0},{"$f":"Кредит!ETP9","v":0},{"$f":"Кредит!ETQ9","v":0},{"$f":"Кредит!ETR9","v":0},{"$f":"Кредит!ETS9","v":0},{"$f":"Кредит!ETT9","v":0},{"$f":"Кредит!ETU9","v":0},{"$f":"Кредит!ETV9","v":0},{"$f":"Кредит!ETW9","v":0},{"$f":"Кредит!ETX9","v":0},{"$f":"Кредит!ETY9","v":0},{"$f":"Кредит!ETZ9","v":0},{"$f":"Кредит!EUA9","v":0},{"$f":"Кредит!EUB9","v":0},{"$f":"Кредит!EUC9","v":0},{"$f":"Кредит!EUD9","v":0},{"$f":"Кредит!EUE9","v":0},{"$f":"Кредит!EUF9","v":0},{"$f":"Кредит!EUG9","v":0},{"$f":"Кредит!EUH9","v":0},{"$f":"Кредит!EUI9","v":0},{"$f":"Кредит!EUJ9","v":0},{"$f":"Кредит!EUK9","v":0},{"$f":"Кредит!EUL9","v":0},{"$f":"Кредит!EUM9","v":0},{"$f":"Кредит!EUN9","v":0},{"$f":"Кредит!EUO9","v":0},{"$f":"Кредит!EUP9","v":0},{"$f":"Кредит!EUQ9","v":0},{"$f":"Кредит!EUR9","v":0},{"$f":"Кредит!EUS9","v":0},{"$f":"Кредит!EUT9","v":0},{"$f":"Кредит!EUU9","v":0},{"$f":"Кредит!EUV9","v":0},{"$f":"Кредит!EUW9","v":0},{"$f":"Кредит!EUX9","v":0},{"$f":"Кредит!EUY9","v":0},{"$f":"Кредит!EUZ9","v":0},{"$f":"Кредит!EVA9","v":0},{"$f":"Кредит!EVB9","v":0},{"$f":"Кредит!EVC9","v":0},{"$f":"Кредит!EVD9","v":0},{"$f":"Кредит!EVE9","v":0},{"$f":"Кредит!EVF9","v":0},{"$f":"Кредит!EVG9","v":0},{"$f":"Кредит!EVH9","v":0},{"$f":"Кредит!EVI9","v":0},{"$f":"Кредит!EVJ9","v":0},{"$f":"Кредит!EVK9","v":0},{"$f":"Кредит!EVL9","v":0},{"$f":"Кредит!EVM9","v":0},{"$f":"Кредит!EVN9","v":0},{"$f":"Кредит!EVO9","v":0},{"$f":"Кредит!EVP9","v":0},{"$f":"Кредит!EVQ9","v":0},{"$f":"Кредит!EVR9","v":0},{"$f":"Кредит!EVS9","v":0},{"$f":"Кредит!EVT9","v":0},{"$f":"Кредит!EVU9","v":0},{"$f":"Кредит!EVV9","v":0},{"$f":"Кредит!EVW9","v":0},{"$f":"Кредит!EVX9","v":0},{"$f":"Кредит!EVY9","v":0},{"$f":"Кредит!EVZ9","v":0},{"$f":"Кредит!EWA9","v":0},{"$f":"Кредит!EWB9","v":0},{"$f":"Кредит!EWC9","v":0},{"$f":"Кредит!EWD9","v":0},{"$f":"Кредит!EWE9","v":0},{"$f":"Кредит!EWF9","v":0},{"$f":"Кредит!EWG9","v":0},{"$f":"Кредит!EWH9","v":0},{"$f":"Кредит!EWI9","v":0},{"$f":"Кредит!EWJ9","v":0},{"$f":"Кредит!EWK9","v":0},{"$f":"Кредит!EWL9","v":0},{"$f":"Кредит!EWM9","v":0},{"$f":"Кредит!EWN9","v":0},{"$f":"Кредит!EWO9","v":0},{"$f":"Кредит!EWP9","v":0},{"$f":"Кредит!EWQ9","v":0},{"$f":"Кредит!EWR9","v":0},{"$f":"Кредит!EWS9","v":0},{"$f":"Кредит!EWT9","v":0},{"$f":"Кредит!EWU9","v":0},{"$f":"Кредит!EWV9","v":0},{"$f":"Кредит!EWW9","v":0},{"$f":"Кредит!EWX9","v":0},{"$f":"Кредит!EWY9","v":0},{"$f":"Кредит!EWZ9","v":0},{"$f":"Кредит!EXA9","v":0},{"$f":"Кредит!EXB9","v":0},{"$f":"Кредит!EXC9","v":0},{"$f":"Кредит!EXD9","v":0},{"$f":"Кредит!EXE9","v":0},{"$f":"Кредит!EXF9","v":0},{"$f":"Кредит!EXG9","v":0},{"$f":"Кредит!EXH9","v":0},{"$f":"Кредит!EXI9","v":0},{"$f":"Кредит!EXJ9","v":0},{"$f":"Кредит!EXK9","v":0},{"$f":"Кредит!EXL9","v":0},{"$f":"Кредит!EXM9","v":0},{"$f":"Кредит!EXN9","v":0},{"$f":"Кредит!EXO9","v":0},{"$f":"Кредит!EXP9","v":0},{"$f":"Кредит!EXQ9","v":0},{"$f":"Кредит!EXR9","v":0},{"$f":"Кредит!EXS9","v":0},{"$f":"Кредит!EXT9","v":0},{"$f":"Кредит!EXU9","v":0},{"$f":"Кредит!EXV9","v":0},{"$f":"Кредит!EXW9","v":0},{"$f":"Кредит!EXX9","v":0},{"$f":"Кредит!EXY9","v":0},{"$f":"Кредит!EXZ9","v":0},{"$f":"Кредит!EYA9","v":0},{"$f":"Кредит!EYB9","v":0},{"$f":"Кредит!EYC9","v":0},{"$f":"Кредит!EYD9","v":0},{"$f":"Кредит!EYE9","v":0},{"$f":"Кредит!EYF9","v":0},{"$f":"Кредит!EYG9","v":0},{"$f":"Кредит!EYH9","v":0},{"$f":"Кредит!EYI9","v":0},{"$f":"Кредит!EYJ9","v":0},{"$f":"Кредит!EYK9","v":0},{"$f":"Кредит!EYL9","v":0},{"$f":"Кредит!EYM9","v":0},{"$f":"Кредит!EYN9","v":0},{"$f":"Кредит!EYO9","v":0},{"$f":"Кредит!EYP9","v":0},{"$f":"Кредит!EYQ9","v":0},{"$f":"Кредит!EYR9","v":0},{"$f":"Кредит!EYS9","v":0},{"$f":"Кредит!EYT9","v":0},{"$f":"Кредит!EYU9","v":0},{"$f":"Кредит!EYV9","v":0},{"$f":"Кредит!EYW9","v":0},{"$f":"Кредит!EYX9","v":0},{"$f":"Кредит!EYY9","v":0},{"$f":"Кредит!EYZ9","v":0},{"$f":"Кредит!EZA9","v":0},{"$f":"Кредит!EZB9","v":0},{"$f":"Кредит!EZC9","v":0},{"$f":"Кредит!EZD9","v":0},{"$f":"Кредит!EZE9","v":0},{"$f":"Кредит!EZF9","v":0},{"$f":"Кредит!EZG9","v":0},{"$f":"Кредит!EZH9","v":0},{"$f":"Кредит!EZI9","v":0},{"$f":"Кредит!EZJ9","v":0},{"$f":"Кредит!EZK9","v":0},{"$f":"Кредит!EZL9","v":0},{"$f":"Кредит!EZM9","v":0},{"$f":"Кредит!EZN9","v":0},{"$f":"Кредит!EZO9","v":0},{"$f":"Кредит!EZP9","v":0},{"$f":"Кредит!EZQ9","v":0},{"$f":"Кредит!EZR9","v":0},{"$f":"Кредит!EZS9","v":0},{"$f":"Кредит!EZT9","v":0},{"$f":"Кредит!EZU9","v":0},{"$f":"Кредит!EZV9","v":0},{"$f":"Кредит!EZW9","v":0},{"$f":"Кредит!EZX9","v":0},{"$f":"Кредит!EZY9","v":0},{"$f":"Кредит!EZZ9","v":0},{"$f":"Кредит!FAA9","v":0},{"$f":"Кредит!FAB9","v":0},{"$f":"Кредит!FAC9","v":0},{"$f":"Кредит!FAD9","v":0},{"$f":"Кредит!FAE9","v":0},{"$f":"Кредит!FAF9","v":0},{"$f":"Кредит!FAG9","v":0},{"$f":"Кредит!FAH9","v":0},{"$f":"Кредит!FAI9","v":0},{"$f":"Кредит!FAJ9","v":0},{"$f":"Кредит!FAK9","v":0},{"$f":"Кредит!FAL9","v":0},{"$f":"Кредит!FAM9","v":0},{"$f":"Кредит!FAN9","v":0},{"$f":"Кредит!FAO9","v":0},{"$f":"Кредит!FAP9","v":0},{"$f":"Кредит!FAQ9","v":0},{"$f":"Кредит!FAR9","v":0},{"$f":"Кредит!FAS9","v":0},{"$f":"Кредит!FAT9","v":0},{"$f":"Кредит!FAU9","v":0},{"$f":"Кредит!FAV9","v":0},{"$f":"Кредит!FAW9","v":0},{"$f":"Кредит!FAX9","v":0},{"$f":"Кредит!FAY9","v":0},{"$f":"Кредит!FAZ9","v":0},{"$f":"Кредит!FBA9","v":0},{"$f":"Кредит!FBB9","v":0},{"$f":"Кредит!FBC9","v":0},{"$f":"Кредит!FBD9","v":0},{"$f":"Кредит!FBE9","v":0},{"$f":"Кредит!FBF9","v":0},{"$f":"Кредит!FBG9","v":0},{"$f":"Кредит!FBH9","v":0},{"$f":"Кредит!FBI9","v":0},{"$f":"Кредит!FBJ9","v":0},{"$f":"Кредит!FBK9","v":0},{"$f":"Кредит!FBL9","v":0},{"$f":"Кредит!FBM9","v":0},{"$f":"Кредит!FBN9","v":0},{"$f":"Кредит!FBO9","v":0},{"$f":"Кредит!FBP9","v":0},{"$f":"Кредит!FBQ9","v":0},{"$f":"Кредит!FBR9","v":0},{"$f":"Кредит!FBS9","v":0},{"$f":"Кредит!FBT9","v":0},{"$f":"Кредит!FBU9","v":0},{"$f":"Кредит!FBV9","v":0},{"$f":"Кредит!FBW9","v":0},{"$f":"Кредит!FBX9","v":0},{"$f":"Кредит!FBY9","v":0},{"$f":"Кредит!FBZ9","v":0},{"$f":"Кредит!FCA9","v":0},{"$f":"Кредит!FCB9","v":0},{"$f":"Кредит!FCC9","v":0},{"$f":"Кредит!FCD9","v":0},{"$f":"Кредит!FCE9","v":0},{"$f":"Кредит!FCF9","v":0},{"$f":"Кредит!FCG9","v":0},{"$f":"Кредит!FCH9","v":0},{"$f":"Кредит!FCI9","v":0},{"$f":"Кредит!FCJ9","v":0},{"$f":"Кредит!FCK9","v":0},{"$f":"Кредит!FCL9","v":0},{"$f":"Кредит!FCM9","v":0},{"$f":"Кредит!FCN9","v":0},{"$f":"Кредит!FCO9","v":0},{"$f":"Кредит!FCP9","v":0},{"$f":"Кредит!FCQ9","v":0},{"$f":"Кредит!FCR9","v":0},{"$f":"Кредит!FCS9","v":0},{"$f":"Кредит!FCT9","v":0},{"$f":"Кредит!FCU9","v":0},{"$f":"Кредит!FCV9","v":0},{"$f":"Кредит!FCW9","v":0},{"$f":"Кредит!FCX9","v":0},{"$f":"Кредит!FCY9","v":0},{"$f":"Кредит!FCZ9","v":0},{"$f":"Кредит!FDA9","v":0},{"$f":"Кредит!FDB9","v":0},{"$f":"Кредит!FDC9","v":0},{"$f":"Кредит!FDD9","v":0},{"$f":"Кредит!FDE9","v":0},{"$f":"Кредит!FDF9","v":0},{"$f":"Кредит!FDG9","v":0},{"$f":"Кредит!FDH9","v":0},{"$f":"Кредит!FDI9","v":0},{"$f":"Кредит!FDJ9","v":0},{"$f":"Кредит!FDK9","v":0},{"$f":"Кредит!FDL9","v":0},{"$f":"Кредит!FDM9","v":0},{"$f":"Кредит!FDN9","v":0},{"$f":"Кредит!FDO9","v":0},{"$f":"Кредит!FDP9","v":0},{"$f":"Кредит!FDQ9","v":0},{"$f":"Кредит!FDR9","v":0},{"$f":"Кредит!FDS9","v":0},{"$f":"Кредит!FDT9","v":0},{"$f":"Кредит!FDU9","v":0},{"$f":"Кредит!FDV9","v":0},{"$f":"Кредит!FDW9","v":0},{"$f":"Кредит!FDX9","v":0},{"$f":"Кредит!FDY9","v":0},{"$f":"Кредит!FDZ9","v":0},{"$f":"Кредит!FEA9","v":0},{"$f":"Кредит!FEB9","v":0},{"$f":"Кредит!FEC9","v":0},{"$f":"Кредит!FED9","v":0},{"$f":"Кредит!FEE9","v":0},{"$f":"Кредит!FEF9","v":0},{"$f":"Кредит!FEG9","v":0},{"$f":"Кредит!FEH9","v":0},{"$f":"Кредит!FEI9","v":0},{"$f":"Кредит!FEJ9","v":0},{"$f":"Кредит!FEK9","v":0},{"$f":"Кредит!FEL9","v":0},{"$f":"Кредит!FEM9","v":0},{"$f":"Кредит!FEN9","v":0},{"$f":"Кредит!FEO9","v":0},{"$f":"Кредит!FEP9","v":0},{"$f":"Кредит!FEQ9","v":0},{"$f":"Кредит!FER9","v":0},{"$f":"Кредит!FES9","v":0},{"$f":"Кредит!FET9","v":0},{"$f":"Кредит!FEU9","v":0},{"$f":"Кредит!FEV9","v":0},{"$f":"Кредит!FEW9","v":0},{"$f":"Кредит!FEX9","v":0},{"$f":"Кредит!FEY9","v":0},{"$f":"Кредит!FEZ9","v":0},{"$f":"Кредит!FFA9","v":0},{"$f":"Кредит!FFB9","v":0},{"$f":"Кредит!FFC9","v":0},{"$f":"Кредит!FFD9","v":0},{"$f":"Кредит!FFE9","v":0},{"$f":"Кредит!FFF9","v":0},{"$f":"Кредит!FFG9","v":0},{"$f":"Кредит!FFH9","v":0},{"$f":"Кредит!FFI9","v":0},{"$f":"Кредит!FFJ9","v":0},{"$f":"Кредит!FFK9","v":0},{"$f":"Кредит!FFL9","v":0},{"$f":"Кредит!FFM9","v":0},{"$f":"Кредит!FFN9","v":0},{"$f":"Кредит!FFO9","v":0},{"$f":"Кредит!FFP9","v":0},{"$f":"Кредит!FFQ9","v":0},{"$f":"Кредит!FFR9","v":0},{"$f":"Кредит!FFS9","v":0},{"$f":"Кредит!FFT9","v":0},{"$f":"Кредит!FFU9","v":0},{"$f":"Кредит!FFV9","v":0},{"$f":"Кредит!FFW9","v":0},{"$f":"Кредит!FFX9","v":0},{"$f":"Кредит!FFY9","v":0},{"$f":"Кредит!FFZ9","v":0},{"$f":"Кредит!FGA9","v":0},{"$f":"Кредит!FGB9","v":0},{"$f":"Кредит!FGC9","v":0},{"$f":"Кредит!FGD9","v":0},{"$f":"Кредит!FGE9","v":0},{"$f":"Кредит!FGF9","v":0},{"$f":"Кредит!FGG9","v":0},{"$f":"Кредит!FGH9","v":0},{"$f":"Кредит!FGI9","v":0},{"$f":"Кредит!FGJ9","v":0},{"$f":"Кредит!FGK9","v":0},{"$f":"Кредит!FGL9","v":0},{"$f":"Кредит!FGM9","v":0},{"$f":"Кредит!FGN9","v":0},{"$f":"Кредит!FGO9","v":0},{"$f":"Кредит!FGP9","v":0},{"$f":"Кредит!FGQ9","v":0},{"$f":"Кредит!FGR9","v":0},{"$f":"Кредит!FGS9","v":0},{"$f":"Кредит!FGT9","v":0},{"$f":"Кредит!FGU9","v":0},{"$f":"Кредит!FGV9","v":0},{"$f":"Кредит!FGW9","v":0},{"$f":"Кредит!FGX9","v":0},{"$f":"Кредит!FGY9","v":0},{"$f":"Кредит!FGZ9","v":0},{"$f":"Кредит!FHA9","v":0},{"$f":"Кредит!FHB9","v":0},{"$f":"Кредит!FHC9","v":0},{"$f":"Кредит!FHD9","v":0},{"$f":"Кредит!FHE9","v":0},{"$f":"Кредит!FHF9","v":0},{"$f":"Кредит!FHG9","v":0},{"$f":"Кредит!FHH9","v":0},{"$f":"Кредит!FHI9","v":0},{"$f":"Кредит!FHJ9","v":0},{"$f":"Кредит!FHK9","v":0},{"$f":"Кредит!FHL9","v":0},{"$f":"Кредит!FHM9","v":0},{"$f":"Кредит!FHN9","v":0},{"$f":"Кредит!FHO9","v":0},{"$f":"Кредит!FHP9","v":0},{"$f":"Кредит!FHQ9","v":0},{"$f":"Кредит!FHR9","v":0},{"$f":"Кредит!FHS9","v":0},{"$f":"Кредит!FHT9","v":0},{"$f":"Кредит!FHU9","v":0},{"$f":"Кредит!FHV9","v":0},{"$f":"Кредит!FHW9","v":0},{"$f":"Кредит!FHX9","v":0},{"$f":"Кредит!FHY9","v":0},{"$f":"Кредит!FHZ9","v":0},{"$f":"Кредит!FIA9","v":0},{"$f":"Кредит!FIB9","v":0},{"$f":"Кредит!FIC9","v":0},{"$f":"Кредит!FID9","v":0},{"$f":"Кредит!FIE9","v":0},{"$f":"Кредит!FIF9","v":0},{"$f":"Кредит!FIG9","v":0},{"$f":"Кредит!FIH9","v":0},{"$f":"Кредит!FII9","v":0},{"$f":"Кредит!FIJ9","v":0},{"$f":"Кредит!FIK9","v":0},{"$f":"Кредит!FIL9","v":0},{"$f":"Кредит!FIM9","v":0},{"$f":"Кредит!FIN9","v":0},{"$f":"Кредит!FIO9","v":0},{"$f":"Кредит!FIP9","v":0},{"$f":"Кредит!FIQ9","v":0},{"$f":"Кредит!FIR9","v":0},{"$f":"Кредит!FIS9","v":0},{"$f":"Кредит!FIT9","v":0},{"$f":"Кредит!FIU9","v":0},{"$f":"Кредит!FIV9","v":0},{"$f":"Кредит!FIW9","v":0},{"$f":"Кредит!FIX9","v":0},{"$f":"Кредит!FIY9","v":0},{"$f":"Кредит!FIZ9","v":0},{"$f":"Кредит!FJA9","v":0},{"$f":"Кредит!FJB9","v":0},{"$f":"Кредит!FJC9","v":0},{"$f":"Кредит!FJD9","v":0},{"$f":"Кредит!FJE9","v":0},{"$f":"Кредит!FJF9","v":0},{"$f":"Кредит!FJG9","v":0},{"$f":"Кредит!FJH9","v":0},{"$f":"Кредит!FJI9","v":0},{"$f":"Кредит!FJJ9","v":0},{"$f":"Кредит!FJK9","v":0},{"$f":"Кредит!FJL9","v":0},{"$f":"Кредит!FJM9","v":0},{"$f":"Кредит!FJN9","v":0},{"$f":"Кредит!FJO9","v":0},{"$f":"Кредит!FJP9","v":0},{"$f":"Кредит!FJQ9","v":0},{"$f":"Кредит!FJR9","v":0},{"$f":"Кредит!FJS9","v":0},{"$f":"Кредит!FJT9","v":0},{"$f":"Кредит!FJU9","v":0},{"$f":"Кредит!FJV9","v":0},{"$f":"Кредит!FJW9","v":0},{"$f":"Кредит!FJX9","v":0},{"$f":"Кредит!FJY9","v":0},{"$f":"Кредит!FJZ9","v":0},{"$f":"Кредит!FKA9","v":0},{"$f":"Кредит!FKB9","v":0},{"$f":"Кредит!FKC9","v":0},{"$f":"Кредит!FKD9","v":0},{"$f":"Кредит!FKE9","v":0},{"$f":"Кредит!FKF9","v":0},{"$f":"Кредит!FKG9","v":0},{"$f":"Кредит!FKH9","v":0},{"$f":"Кредит!FKI9","v":0},{"$f":"Кредит!FKJ9","v":0},{"$f":"Кредит!FKK9","v":0},{"$f":"Кредит!FKL9","v":0},{"$f":"Кредит!FKM9","v":0},{"$f":"Кредит!FKN9","v":0},{"$f":"Кредит!FKO9","v":0},{"$f":"Кредит!FKP9","v":0},{"$f":"Кредит!FKQ9","v":0},{"$f":"Кредит!FKR9","v":0},{"$f":"Кредит!FKS9","v":0},{"$f":"Кредит!FKT9","v":0},{"$f":"Кредит!FKU9","v":0},{"$f":"Кредит!FKV9","v":0},{"$f":"Кредит!FKW9","v":0},{"$f":"Кредит!FKX9","v":0},{"$f":"Кредит!FKY9","v":0},{"$f":"Кредит!FKZ9","v":0},{"$f":"Кредит!FLA9","v":0},{"$f":"Кредит!FLB9","v":0},{"$f":"Кредит!FLC9","v":0},{"$f":"Кредит!FLD9","v":0},{"$f":"Кредит!FLE9","v":0},{"$f":"Кредит!FLF9","v":0},{"$f":"Кредит!FLG9","v":0},{"$f":"Кредит!FLH9","v":0},{"$f":"Кредит!FLI9","v":0},{"$f":"Кредит!FLJ9","v":0},{"$f":"Кредит!FLK9","v":0},{"$f":"Кредит!FLL9","v":0},{"$f":"Кредит!FLM9","v":0},{"$f":"Кредит!FLN9","v":0},{"$f":"Кредит!FLO9","v":0},{"$f":"Кредит!FLP9","v":0},{"$f":"Кредит!FLQ9","v":0},{"$f":"Кредит!FLR9","v":0},{"$f":"Кредит!FLS9","v":0},{"$f":"Кредит!FLT9","v":0},{"$f":"Кредит!FLU9","v":0},{"$f":"Кредит!FLV9","v":0},{"$f":"Кредит!FLW9","v":0},{"$f":"Кредит!FLX9","v":0},{"$f":"Кредит!FLY9","v":0},{"$f":"Кредит!FLZ9","v":0},{"$f":"Кредит!FMA9","v":0},{"$f":"Кредит!FMB9","v":0},{"$f":"Кредит!FMC9","v":0},{"$f":"Кредит!FMD9","v":0},{"$f":"Кредит!FME9","v":0},{"$f":"Кредит!FMF9","v":0},{"$f":"Кредит!FMG9","v":0},{"$f":"Кредит!FMH9","v":0},{"$f":"Кредит!FMI9","v":0},{"$f":"Кредит!FMJ9","v":0},{"$f":"Кредит!FMK9","v":0},{"$f":"Кредит!FML9","v":0},{"$f":"Кредит!FMM9","v":0},{"$f":"Кредит!FMN9","v":0},{"$f":"Кредит!FMO9","v":0},{"$f":"Кредит!FMP9","v":0},{"$f":"Кредит!FMQ9","v":0},{"$f":"Кредит!FMR9","v":0},{"$f":"Кредит!FMS9","v":0},{"$f":"Кредит!FMT9","v":0},{"$f":"Кредит!FMU9","v":0},{"$f":"Кредит!FMV9","v":0},{"$f":"Кредит!FMW9","v":0},{"$f":"Кредит!FMX9","v":0},{"$f":"Кредит!FMY9","v":0},{"$f":"Кредит!FMZ9","v":0},{"$f":"Кредит!FNA9","v":0},{"$f":"Кредит!FNB9","v":0},{"$f":"Кредит!FNC9","v":0},{"$f":"Кредит!FND9","v":0},{"$f":"Кредит!FNE9","v":0},{"$f":"Кредит!FNF9","v":0},{"$f":"Кредит!FNG9","v":0},{"$f":"Кредит!FNH9","v":0},{"$f":"Кредит!FNI9","v":0},{"$f":"Кредит!FNJ9","v":0},{"$f":"Кредит!FNK9","v":0},{"$f":"Кредит!FNL9","v":0},{"$f":"Кредит!FNM9","v":0},{"$f":"Кредит!FNN9","v":0},{"$f":"Кредит!FNO9","v":0},{"$f":"Кредит!FNP9","v":0},{"$f":"Кредит!FNQ9","v":0},{"$f":"Кредит!FNR9","v":0},{"$f":"Кредит!FNS9","v":0},{"$f":"Кредит!FNT9","v":0},{"$f":"Кредит!FNU9","v":0},{"$f":"Кредит!FNV9","v":0},{"$f":"Кредит!FNW9","v":0},{"$f":"Кредит!FNX9","v":0},{"$f":"Кредит!FNY9","v":0},{"$f":"Кредит!FNZ9","v":0},{"$f":"Кредит!FOA9","v":0},{"$f":"Кредит!FOB9","v":0},{"$f":"Кредит!FOC9","v":0},{"$f":"Кредит!FOD9","v":0},{"$f":"Кредит!FOE9","v":0},{"$f":"Кредит!FOF9","v":0},{"$f":"Кредит!FOG9","v":0},{"$f":"Кредит!FOH9","v":0},{"$f":"Кредит!FOI9","v":0},{"$f":"Кредит!FOJ9","v":0},{"$f":"Кредит!FOK9","v":0},{"$f":"Кредит!FOL9","v":0},{"$f":"Кредит!FOM9","v":0},{"$f":"Кредит!FON9","v":0},{"$f":"Кредит!FOO9","v":0},{"$f":"Кредит!FOP9","v":0},{"$f":"Кредит!FOQ9","v":0},{"$f":"Кредит!FOR9","v":0},{"$f":"Кредит!FOS9","v":0},{"$f":"Кредит!FOT9","v":0},{"$f":"Кредит!FOU9","v":0},{"$f":"Кредит!FOV9","v":0},{"$f":"Кредит!FOW9","v":0},{"$f":"Кредит!FOX9","v":0},{"$f":"Кредит!FOY9","v":0},{"$f":"Кредит!FOZ9","v":0},{"$f":"Кредит!FPA9","v":0},{"$f":"Кредит!FPB9","v":0},{"$f":"Кредит!FPC9","v":0},{"$f":"Кредит!FPD9","v":0},{"$f":"Кредит!FPE9","v":0},{"$f":"Кредит!FPF9","v":0},{"$f":"Кредит!FPG9","v":0},{"$f":"Кредит!FPH9","v":0},{"$f":"Кредит!FPI9","v":0},{"$f":"Кредит!FPJ9","v":0},{"$f":"Кредит!FPK9","v":0},{"$f":"Кредит!FPL9","v":0},{"$f":"Кредит!FPM9","v":0},{"$f":"Кредит!FPN9","v":0},{"$f":"Кредит!FPO9","v":0},{"$f":"Кредит!FPP9","v":0},{"$f":"Кредит!FPQ9","v":0},{"$f":"Кредит!FPR9","v":0},{"$f":"Кредит!FPS9","v":0},{"$f":"Кредит!FPT9","v":0},{"$f":"Кредит!FPU9","v":0},{"$f":"Кредит!FPV9","v":0},{"$f":"Кредит!FPW9","v":0},{"$f":"Кредит!FPX9","v":0},{"$f":"Кредит!FPY9","v":0},{"$f":"Кредит!FPZ9","v":0},{"$f":"Кредит!FQA9","v":0},{"$f":"Кредит!FQB9","v":0},{"$f":"Кредит!FQC9","v":0},{"$f":"Кредит!FQD9","v":0},{"$f":"Кредит!FQE9","v":0},{"$f":"Кредит!FQF9","v":0},{"$f":"Кредит!FQG9","v":0},{"$f":"Кредит!FQH9","v":0},{"$f":"Кредит!FQI9","v":0},{"$f":"Кредит!FQJ9","v":0},{"$f":"Кредит!FQK9","v":0},{"$f":"Кредит!FQL9","v":0},{"$f":"Кредит!FQM9","v":0},{"$f":"Кредит!FQN9","v":0},{"$f":"Кредит!FQO9","v":0},{"$f":"Кредит!FQP9","v":0},{"$f":"Кредит!FQQ9","v":0},{"$f":"Кредит!FQR9","v":0},{"$f":"Кредит!FQS9","v":0},{"$f":"Кредит!FQT9","v":0},{"$f":"Кредит!FQU9","v":0},{"$f":"Кредит!FQV9","v":0},{"$f":"Кредит!FQW9","v":0},{"$f":"Кредит!FQX9","v":0},{"$f":"Кредит!FQY9","v":0},{"$f":"Кредит!FQZ9","v":0},{"$f":"Кредит!FRA9","v":0},{"$f":"Кредит!FRB9","v":0},{"$f":"Кредит!FRC9","v":0},{"$f":"Кредит!FRD9","v":0},{"$f":"Кредит!FRE9","v":0},{"$f":"Кредит!FRF9","v":0},{"$f":"Кредит!FRG9","v":0},{"$f":"Кредит!FRH9","v":0},{"$f":"Кредит!FRI9","v":0},{"$f":"Кредит!FRJ9","v":0},{"$f":"Кредит!FRK9","v":0},{"$f":"Кредит!FRL9","v":0},{"$f":"Кредит!FRM9","v":0},{"$f":"Кредит!FRN9","v":0},{"$f":"Кредит!FRO9","v":0},{"$f":"Кредит!FRP9","v":0},{"$f":"Кредит!FRQ9","v":0},{"$f":"Кредит!FRR9","v":0},{"$f":"Кредит!FRS9","v":0},{"$f":"Кредит!FRT9","v":0},{"$f":"Кредит!FRU9","v":0},{"$f":"Кредит!FRV9","v":0},{"$f":"Кредит!FRW9","v":0},{"$f":"Кредит!FRX9","v":0},{"$f":"Кредит!FRY9","v":0},{"$f":"Кредит!FRZ9","v":0},{"$f":"Кредит!FSA9","v":0},{"$f":"Кредит!FSB9","v":0},{"$f":"Кредит!FSC9","v":0},{"$f":"Кредит!FSD9","v":0},{"$f":"Кредит!FSE9","v":0},{"$f":"Кредит!FSF9","v":0},{"$f":"Кредит!FSG9","v":0},{"$f":"Кредит!FSH9","v":0},{"$f":"Кредит!FSI9","v":0},{"$f":"Кредит!FSJ9","v":0},{"$f":"Кредит!FSK9","v":0},{"$f":"Кредит!FSL9","v":0},{"$f":"Кредит!FSM9","v":0},{"$f":"Кредит!FSN9","v":0},{"$f":"Кредит!FSO9","v":0},{"$f":"Кредит!FSP9","v":0},{"$f":"Кредит!FSQ9","v":0},{"$f":"Кредит!FSR9","v":0},{"$f":"Кредит!FSS9","v":0},{"$f":"Кредит!FST9","v":0},{"$f":"Кредит!FSU9","v":0},{"$f":"Кредит!FSV9","v":0},{"$f":"Кредит!FSW9","v":0},{"$f":"Кредит!FSX9","v":0},{"$f":"Кредит!FSY9","v":0},{"$f":"Кредит!FSZ9","v":0},{"$f":"Кредит!FTA9","v":0},{"$f":"Кредит!FTB9","v":0},{"$f":"Кредит!FTC9","v":0},{"$f":"Кредит!FTD9","v":0},{"$f":"Кредит!FTE9","v":0},{"$f":"Кредит!FTF9","v":0},{"$f":"Кредит!FTG9","v":0},{"$f":"Кредит!FTH9","v":0},{"$f":"Кредит!FTI9","v":0},{"$f":"Кредит!FTJ9","v":0},{"$f":"Кредит!FTK9","v":0},{"$f":"Кредит!FTL9","v":0},{"$f":"Кредит!FTM9","v":0},{"$f":"Кредит!FTN9","v":0},{"$f":"Кредит!FTO9","v":0},{"$f":"Кредит!FTP9","v":0},{"$f":"Кредит!FTQ9","v":0},{"$f":"Кредит!FTR9","v":0},{"$f":"Кредит!FTS9","v":0},{"$f":"Кредит!FTT9","v":0},{"$f":"Кредит!FTU9","v":0},{"$f":"Кредит!FTV9","v":0},{"$f":"Кредит!FTW9","v":0},{"$f":"Кредит!FTX9","v":0},{"$f":"Кредит!FTY9","v":0},{"$f":"Кредит!FTZ9","v":0},{"$f":"Кредит!FUA9","v":0},{"$f":"Кредит!FUB9","v":0},{"$f":"Кредит!FUC9","v":0},{"$f":"Кредит!FUD9","v":0},{"$f":"Кредит!FUE9","v":0},{"$f":"Кредит!FUF9","v":0},{"$f":"Кредит!FUG9","v":0},{"$f":"Кредит!FUH9","v":0},{"$f":"Кредит!FUI9","v":0},{"$f":"Кредит!FUJ9","v":0},{"$f":"Кредит!FUK9","v":0},{"$f":"Кредит!FUL9","v":0},{"$f":"Кредит!FUM9","v":0},{"$f":"Кредит!FUN9","v":0},{"$f":"Кредит!FUO9","v":0},{"$f":"Кредит!FUP9","v":0},{"$f":"Кредит!FUQ9","v":0},{"$f":"Кредит!FUR9","v":0},{"$f":"Кредит!FUS9","v":0},{"$f":"Кредит!FUT9","v":0},{"$f":"Кредит!FUU9","v":0},{"$f":"Кредит!FUV9","v":0},{"$f":"Кредит!FUW9","v":0},{"$f":"Кредит!FUX9","v":0},{"$f":"Кредит!FUY9","v":0},{"$f":"Кредит!FUZ9","v":0},{"$f":"Кредит!FVA9","v":0},{"$f":"Кредит!FVB9","v":0},{"$f":"Кредит!FVC9","v":0},{"$f":"Кредит!FVD9","v":0},{"$f":"Кредит!FVE9","v":0},{"$f":"Кредит!FVF9","v":0},{"$f":"Кредит!FVG9","v":0},{"$f":"Кредит!FVH9","v":0},{"$f":"Кредит!FVI9","v":0},{"$f":"Кредит!FVJ9","v":0},{"$f":"Кредит!FVK9","v":0},{"$f":"Кредит!FVL9","v":0},{"$f":"Кредит!FVM9","v":0},{"$f":"Кредит!FVN9","v":0},{"$f":"Кредит!FVO9","v":0},{"$f":"Кредит!FVP9","v":0},{"$f":"Кредит!FVQ9","v":0},{"$f":"Кредит!FVR9","v":0},{"$f":"Кредит!FVS9","v":0},{"$f":"Кредит!FVT9","v":0},{"$f":"Кредит!FVU9","v":0},{"$f":"Кредит!FVV9","v":0},{"$f":"Кредит!FVW9","v":0},{"$f":"Кредит!FVX9","v":0},{"$f":"Кредит!FVY9","v":0},{"$f":"Кредит!FVZ9","v":0},{"$f":"Кредит!FWA9","v":0},{"$f":"Кредит!FWB9","v":0},{"$f":"Кредит!FWC9","v":0},{"$f":"Кредит!FWD9","v":0},{"$f":"Кредит!FWE9","v":0},{"$f":"Кредит!FWF9","v":0},{"$f":"Кредит!FWG9","v":0},{"$f":"Кредит!FWH9","v":0},{"$f":"Кредит!FWI9","v":0},{"$f":"Кредит!FWJ9","v":0},{"$f":"Кредит!FWK9","v":0},{"$f":"Кредит!FWL9","v":0},{"$f":"Кредит!FWM9","v":0},{"$f":"Кредит!FWN9","v":0},{"$f":"Кредит!FWO9","v":0},{"$f":"Кредит!FWP9","v":0},{"$f":"Кредит!FWQ9","v":0},{"$f":"Кредит!FWR9","v":0},{"$f":"Кредит!FWS9","v":0},{"$f":"Кредит!FWT9","v":0},{"$f":"Кредит!FWU9","v":0},{"$f":"Кредит!FWV9","v":0},{"$f":"Кредит!FWW9","v":0},{"$f":"Кредит!FWX9","v":0},{"$f":"Кредит!FWY9","v":0},{"$f":"Кредит!FWZ9","v":0},{"$f":"Кредит!FXA9","v":0},{"$f":"Кредит!FXB9","v":0},{"$f":"Кредит!FXC9","v":0},{"$f":"Кредит!FXD9","v":0},{"$f":"Кредит!FXE9","v":0},{"$f":"Кредит!FXF9","v":0},{"$f":"Кредит!FXG9","v":0},{"$f":"Кредит!FXH9","v":0},{"$f":"Кредит!FXI9","v":0},{"$f":"Кредит!FXJ9","v":0},{"$f":"Кредит!FXK9","v":0},{"$f":"Кредит!FXL9","v":0},{"$f":"Кредит!FXM9","v":0},{"$f":"Кредит!FXN9","v":0},{"$f":"Кредит!FXO9","v":0},{"$f":"Кредит!FXP9","v":0},{"$f":"Кредит!FXQ9","v":0},{"$f":"Кредит!FXR9","v":0},{"$f":"Кредит!FXS9","v":0},{"$f":"Кредит!FXT9","v":0},{"$f":"Кредит!FXU9","v":0},{"$f":"Кредит!FXV9","v":0},{"$f":"Кредит!FXW9","v":0},{"$f":"Кредит!FXX9","v":0},{"$f":"Кредит!FXY9","v":0},{"$f":"Кредит!FXZ9","v":0},{"$f":"Кредит!FYA9","v":0},{"$f":"Кредит!FYB9","v":0},{"$f":"Кредит!FYC9","v":0},{"$f":"Кредит!FYD9","v":0},{"$f":"Кредит!FYE9","v":0},{"$f":"Кредит!FYF9","v":0},{"$f":"Кредит!FYG9","v":0},{"$f":"Кредит!FYH9","v":0},{"$f":"Кредит!FYI9","v":0},{"$f":"Кредит!FYJ9","v":0},{"$f":"Кредит!FYK9","v":0},{"$f":"Кредит!FYL9","v":0},{"$f":"Кредит!FYM9","v":0},{"$f":"Кредит!FYN9","v":0},{"$f":"Кредит!FYO9","v":0},{"$f":"Кредит!FYP9","v":0},{"$f":"Кредит!FYQ9","v":0},{"$f":"Кредит!FYR9","v":0},{"$f":"Кредит!FYS9","v":0},{"$f":"Кредит!FYT9","v":0},{"$f":"Кредит!FYU9","v":0},{"$f":"Кредит!FYV9","v":0},{"$f":"Кредит!FYW9","v":0},{"$f":"Кредит!FYX9","v":0},{"$f":"Кредит!FYY9","v":0},{"$f":"Кредит!FYZ9","v":0},{"$f":"Кредит!FZA9","v":0},{"$f":"Кредит!FZB9","v":0},{"$f":"Кредит!FZC9","v":0},{"$f":"Кредит!FZD9","v":0},{"$f":"Кредит!FZE9","v":0},{"$f":"Кредит!FZF9","v":0},{"$f":"Кредит!FZG9","v":0},{"$f":"Кредит!FZH9","v":0},{"$f":"Кредит!FZI9","v":0},{"$f":"Кредит!FZJ9","v":0},{"$f":"Кредит!FZK9","v":0},{"$f":"Кредит!FZL9","v":0},{"$f":"Кредит!FZM9","v":0},{"$f":"Кредит!FZN9","v":0},{"$f":"Кредит!FZO9","v":0},{"$f":"Кредит!FZP9","v":0},{"$f":"Кредит!FZQ9","v":0},{"$f":"Кредит!FZR9","v":0},{"$f":"Кредит!FZS9","v":0},{"$f":"Кредит!FZT9","v":0},{"$f":"Кредит!FZU9","v":0},{"$f":"Кредит!FZV9","v":0},{"$f":"Кредит!FZW9","v":0},{"$f":"Кредит!FZX9","v":0},{"$f":"Кредит!FZY9","v":0},{"$f":"Кредит!FZZ9","v":0},{"$f":"Кредит!GAA9","v":0},{"$f":"Кредит!GAB9","v":0},{"$f":"Кредит!GAC9","v":0},{"$f":"Кредит!GAD9","v":0},{"$f":"Кредит!GAE9","v":0},{"$f":"Кредит!GAF9","v":0},{"$f":"Кредит!GAG9","v":0},{"$f":"Кредит!GAH9","v":0},{"$f":"Кредит!GAI9","v":0},{"$f":"Кредит!GAJ9","v":0},{"$f":"Кредит!GAK9","v":0},{"$f":"Кредит!GAL9","v":0},{"$f":"Кредит!GAM9","v":0},{"$f":"Кредит!GAN9","v":0},{"$f":"Кредит!GAO9","v":0},{"$f":"Кредит!GAP9","v":0},{"$f":"Кредит!GAQ9","v":0},{"$f":"Кредит!GAR9","v":0},{"$f":"Кредит!GAS9","v":0},{"$f":"Кредит!GAT9","v":0},{"$f":"Кредит!GAU9","v":0},{"$f":"Кредит!GAV9","v":0},{"$f":"Кредит!GAW9","v":0},{"$f":"Кредит!GAX9","v":0},{"$f":"Кредит!GAY9","v":0},{"$f":"Кредит!GAZ9","v":0},{"$f":"Кредит!GBA9","v":0},{"$f":"Кредит!GBB9","v":0},{"$f":"Кредит!GBC9","v":0},{"$f":"Кредит!GBD9","v":0},{"$f":"Кредит!GBE9","v":0},{"$f":"Кредит!GBF9","v":0},{"$f":"Кредит!GBG9","v":0},{"$f":"Кредит!GBH9","v":0},{"$f":"Кредит!GBI9","v":0},{"$f":"Кредит!GBJ9","v":0},{"$f":"Кредит!GBK9","v":0},{"$f":"Кредит!GBL9","v":0},{"$f":"Кредит!GBM9","v":0},{"$f":"Кредит!GBN9","v":0},{"$f":"Кредит!GBO9","v":0},{"$f":"Кредит!GBP9","v":0},{"$f":"Кредит!GBQ9","v":0},{"$f":"Кредит!GBR9","v":0},{"$f":"Кредит!GBS9","v":0},{"$f":"Кредит!GBT9","v":0},{"$f":"Кредит!GBU9","v":0},{"$f":"Кредит!GBV9","v":0},{"$f":"Кредит!GBW9","v":0},{"$f":"Кредит!GBX9","v":0},{"$f":"Кредит!GBY9","v":0},{"$f":"Кредит!GBZ9","v":0},{"$f":"Кредит!GCA9","v":0},{"$f":"Кредит!GCB9","v":0},{"$f":"Кредит!GCC9","v":0},{"$f":"Кредит!GCD9","v":0},{"$f":"Кредит!GCE9","v":0},{"$f":"Кредит!GCF9","v":0},{"$f":"Кредит!GCG9","v":0},{"$f":"Кредит!GCH9","v":0},{"$f":"Кредит!GCI9","v":0},{"$f":"Кредит!GCJ9","v":0},{"$f":"Кредит!GCK9","v":0},{"$f":"Кредит!GCL9","v":0},{"$f":"Кредит!GCM9","v":0},{"$f":"Кредит!GCN9","v":0},{"$f":"Кредит!GCO9","v":0},{"$f":"Кредит!GCP9","v":0},{"$f":"Кредит!GCQ9","v":0},{"$f":"Кредит!GCR9","v":0},{"$f":"Кредит!GCS9","v":0},{"$f":"Кредит!GCT9","v":0},{"$f":"Кредит!GCU9","v":0},{"$f":"Кредит!GCV9","v":0},{"$f":"Кредит!GCW9","v":0},{"$f":"Кредит!GCX9","v":0},{"$f":"Кредит!GCY9","v":0},{"$f":"Кредит!GCZ9","v":0},{"$f":"Кредит!GDA9","v":0},{"$f":"Кредит!GDB9","v":0},{"$f":"Кредит!GDC9","v":0},{"$f":"Кредит!GDD9","v":0},{"$f":"Кредит!GDE9","v":0},{"$f":"Кредит!GDF9","v":0},{"$f":"Кредит!GDG9","v":0},{"$f":"Кредит!GDH9","v":0},{"$f":"Кредит!GDI9","v":0},{"$f":"Кредит!GDJ9","v":0},{"$f":"Кредит!GDK9","v":0},{"$f":"Кредит!GDL9","v":0},{"$f":"Кредит!GDM9","v":0},{"$f":"Кредит!GDN9","v":0},{"$f":"Кредит!GDO9","v":0},{"$f":"Кредит!GDP9","v":0},{"$f":"Кредит!GDQ9","v":0},{"$f":"Кредит!GDR9","v":0},{"$f":"Кредит!GDS9","v":0},{"$f":"Кредит!GDT9","v":0},{"$f":"Кредит!GDU9","v":0},{"$f":"Кредит!GDV9","v":0},{"$f":"Кредит!GDW9","v":0},{"$f":"Кредит!GDX9","v":0},{"$f":"Кредит!GDY9","v":0},{"$f":"Кредит!GDZ9","v":0},{"$f":"Кредит!GEA9","v":0},{"$f":"Кредит!GEB9","v":0},{"$f":"Кредит!GEC9","v":0},{"$f":"Кредит!GED9","v":0},{"$f":"Кредит!GEE9","v":0},{"$f":"Кредит!GEF9","v":0},{"$f":"Кредит!GEG9","v":0},{"$f":"Кредит!GEH9","v":0},{"$f":"Кредит!GEI9","v":0},{"$f":"Кредит!GEJ9","v":0},{"$f":"Кредит!GEK9","v":0},{"$f":"Кредит!GEL9","v":0},{"$f":"Кредит!GEM9","v":0},{"$f":"Кредит!GEN9","v":0},{"$f":"Кредит!GEO9","v":0},{"$f":"Кредит!GEP9","v":0},{"$f":"Кредит!GEQ9","v":0},{"$f":"Кредит!GER9","v":0},{"$f":"Кредит!GES9","v":0},{"$f":"Кредит!GET9","v":0},{"$f":"Кредит!GEU9","v":0},{"$f":"Кредит!GEV9","v":0},{"$f":"Кредит!GEW9","v":0},{"$f":"Кредит!GEX9","v":0},{"$f":"Кредит!GEY9","v":0},{"$f":"Кредит!GEZ9","v":0},{"$f":"Кредит!GFA9","v":0},{"$f":"Кредит!GFB9","v":0},{"$f":"Кредит!GFC9","v":0},{"$f":"Кредит!GFD9","v":0},{"$f":"Кредит!GFE9","v":0},{"$f":"Кредит!GFF9","v":0},{"$f":"Кредит!GFG9","v":0},{"$f":"Кредит!GFH9","v":0},{"$f":"Кредит!GFI9","v":0},{"$f":"Кредит!GFJ9","v":0},{"$f":"Кредит!GFK9","v":0},{"$f":"Кредит!GFL9","v":0},{"$f":"Кредит!GFM9","v":0},{"$f":"Кредит!GFN9","v":0},{"$f":"Кредит!GFO9","v":0},{"$f":"Кредит!GFP9","v":0},{"$f":"Кредит!GFQ9","v":0},{"$f":"Кредит!GFR9","v":0},{"$f":"Кредит!GFS9","v":0},{"$f":"Кредит!GFT9","v":0},{"$f":"Кредит!GFU9","v":0},{"$f":"Кредит!GFV9","v":0},{"$f":"Кредит!GFW9","v":0},{"$f":"Кредит!GFX9","v":0},{"$f":"Кредит!GFY9","v":0},{"$f":"Кредит!GFZ9","v":0},{"$f":"Кредит!GGA9","v":0},{"$f":"Кредит!GGB9","v":0},{"$f":"Кредит!GGC9","v":0},{"$f":"Кредит!GGD9","v":0},{"$f":"Кредит!GGE9","v":0},{"$f":"Кредит!GGF9","v":0},{"$f":"Кредит!GGG9","v":0},{"$f":"Кредит!GGH9","v":0},{"$f":"Кредит!GGI9","v":0},{"$f":"Кредит!GGJ9","v":0},{"$f":"Кредит!GGK9","v":0},{"$f":"Кредит!GGL9","v":0},{"$f":"Кредит!GGM9","v":0},{"$f":"Кредит!GGN9","v":0},{"$f":"Кредит!GGO9","v":0},{"$f":"Кредит!GGP9","v":0},{"$f":"Кредит!GGQ9","v":0},{"$f":"Кредит!GGR9","v":0},{"$f":"Кредит!GGS9","v":0},{"$f":"Кредит!GGT9","v":0},{"$f":"Кредит!GGU9","v":0},{"$f":"Кредит!GGV9","v":0},{"$f":"Кредит!GGW9","v":0},{"$f":"Кредит!GGX9","v":0},{"$f":"Кредит!GGY9","v":0},{"$f":"Кредит!GGZ9","v":0},{"$f":"Кредит!GHA9","v":0},{"$f":"Кредит!GHB9","v":0},{"$f":"Кредит!GHC9","v":0},{"$f":"Кредит!GHD9","v":0},{"$f":"Кредит!GHE9","v":0},{"$f":"Кредит!GHF9","v":0},{"$f":"Кредит!GHG9","v":0},{"$f":"Кредит!GHH9","v":0},{"$f":"Кредит!GHI9","v":0},{"$f":"Кредит!GHJ9","v":0},{"$f":"Кредит!GHK9","v":0},{"$f":"Кредит!GHL9","v":0},{"$f":"Кредит!GHM9","v":0},{"$f":"Кредит!GHN9","v":0},{"$f":"Кредит!GHO9","v":0},{"$f":"Кредит!GHP9","v":0},{"$f":"Кредит!GHQ9","v":0},{"$f":"Кредит!GHR9","v":0},{"$f":"Кредит!GHS9","v":0},{"$f":"Кредит!GHT9","v":0},{"$f":"Кредит!GHU9","v":0},{"$f":"Кредит!GHV9","v":0},{"$f":"Кредит!GHW9","v":0},{"$f":"Кредит!GHX9","v":0},{"$f":"Кредит!GHY9","v":0},{"$f":"Кредит!GHZ9","v":0},{"$f":"Кредит!GIA9","v":0},{"$f":"Кредит!GIB9","v":0},{"$f":"Кредит!GIC9","v":0},{"$f":"Кредит!GID9","v":0},{"$f":"Кредит!GIE9","v":0},{"$f":"Кредит!GIF9","v":0},{"$f":"Кредит!GIG9","v":0},{"$f":"Кредит!GIH9","v":0},{"$f":"Кредит!GII9","v":0},{"$f":"Кредит!GIJ9","v":0},{"$f":"Кредит!GIK9","v":0},{"$f":"Кредит!GIL9","v":0},{"$f":"Кредит!GIM9","v":0},{"$f":"Кредит!GIN9","v":0},{"$f":"Кредит!GIO9","v":0},{"$f":"Кредит!GIP9","v":0},{"$f":"Кредит!GIQ9","v":0},{"$f":"Кредит!GIR9","v":0},{"$f":"Кредит!GIS9","v":0},{"$f":"Кредит!GIT9","v":0},{"$f":"Кредит!GIU9","v":0},{"$f":"Кредит!GIV9","v":0},{"$f":"Кредит!GIW9","v":0},{"$f":"Кредит!GIX9","v":0},{"$f":"Кредит!GIY9","v":0},{"$f":"Кредит!GIZ9","v":0},{"$f":"Кредит!GJA9","v":0},{"$f":"Кредит!GJB9","v":0},{"$f":"Кредит!GJC9","v":0},{"$f":"Кредит!GJD9","v":0},{"$f":"Кредит!GJE9","v":0},{"$f":"Кредит!GJF9","v":0},{"$f":"Кредит!GJG9","v":0},{"$f":"Кредит!GJH9","v":0},{"$f":"Кредит!GJI9","v":0},{"$f":"Кредит!GJJ9","v":0},{"$f":"Кредит!GJK9","v":0},{"$f":"Кредит!GJL9","v":0},{"$f":"Кредит!GJM9","v":0},{"$f":"Кредит!GJN9","v":0},{"$f":"Кредит!GJO9","v":0},{"$f":"Кредит!GJP9","v":0},{"$f":"Кредит!GJQ9","v":0},{"$f":"Кредит!GJR9","v":0},{"$f":"Кредит!GJS9","v":0},{"$f":"Кредит!GJT9","v":0},{"$f":"Кредит!GJU9","v":0},{"$f":"Кредит!GJV9","v":0},{"$f":"Кредит!GJW9","v":0},{"$f":"Кредит!GJX9","v":0},{"$f":"Кредит!GJY9","v":0},{"$f":"Кредит!GJZ9","v":0},{"$f":"Кредит!GKA9","v":0},{"$f":"Кредит!GKB9","v":0},{"$f":"Кредит!GKC9","v":0},{"$f":"Кредит!GKD9","v":0},{"$f":"Кредит!GKE9","v":0},{"$f":"Кредит!GKF9","v":0},{"$f":"Кредит!GKG9","v":0},{"$f":"Кредит!GKH9","v":0},{"$f":"Кредит!GKI9","v":0},{"$f":"Кредит!GKJ9","v":0},{"$f":"Кредит!GKK9","v":0},{"$f":"Кредит!GKL9","v":0},{"$f":"Кредит!GKM9","v":0},{"$f":"Кредит!GKN9","v":0},{"$f":"Кредит!GKO9","v":0},{"$f":"Кредит!GKP9","v":0},{"$f":"Кредит!GKQ9","v":0},{"$f":"Кредит!GKR9","v":0},{"$f":"Кредит!GKS9","v":0},{"$f":"Кредит!GKT9","v":0},{"$f":"Кредит!GKU9","v":0},{"$f":"Кредит!GKV9","v":0},{"$f":"Кредит!GKW9","v":0},{"$f":"Кредит!GKX9","v":0},{"$f":"Кредит!GKY9","v":0},{"$f":"Кредит!GKZ9","v":0},{"$f":"Кредит!GLA9","v":0},{"$f":"Кредит!GLB9","v":0},{"$f":"Кредит!GLC9","v":0},{"$f":"Кредит!GLD9","v":0},{"$f":"Кредит!GLE9","v":0},{"$f":"Кредит!GLF9","v":0},{"$f":"Кредит!GLG9","v":0},{"$f":"Кредит!GLH9","v":0},{"$f":"Кредит!GLI9","v":0},{"$f":"Кредит!GLJ9","v":0},{"$f":"Кредит!GLK9","v":0},{"$f":"Кредит!GLL9","v":0},{"$f":"Кредит!GLM9","v":0},{"$f":"Кредит!GLN9","v":0},{"$f":"Кредит!GLO9","v":0},{"$f":"Кредит!GLP9","v":0},{"$f":"Кредит!GLQ9","v":0},{"$f":"Кредит!GLR9","v":0},{"$f":"Кредит!GLS9","v":0},{"$f":"Кредит!GLT9","v":0},{"$f":"Кредит!GLU9","v":0},{"$f":"Кредит!GLV9","v":0},{"$f":"Кредит!GLW9","v":0},{"$f":"Кредит!GLX9","v":0},{"$f":"Кредит!GLY9","v":0},{"$f":"Кредит!GLZ9","v":0},{"$f":"Кредит!GMA9","v":0},{"$f":"Кредит!GMB9","v":0},{"$f":"Кредит!GMC9","v":0},{"$f":"Кредит!GMD9","v":0},{"$f":"Кредит!GME9","v":0},{"$f":"Кредит!GMF9","v":0},{"$f":"Кредит!GMG9","v":0},{"$f":"Кредит!GMH9","v":0},{"$f":"Кредит!GMI9","v":0},{"$f":"Кредит!GMJ9","v":0},{"$f":"Кредит!GMK9","v":0},{"$f":"Кредит!GML9","v":0},{"$f":"Кредит!GMM9","v":0},{"$f":"Кредит!GMN9","v":0},{"$f":"Кредит!GMO9","v":0},{"$f":"Кредит!GMP9","v":0},{"$f":"Кредит!GMQ9","v":0},{"$f":"Кредит!GMR9","v":0},{"$f":"Кредит!GMS9","v":0},{"$f":"Кредит!GMT9","v":0},{"$f":"Кредит!GMU9","v":0},{"$f":"Кредит!GMV9","v":0},{"$f":"Кредит!GMW9","v":0},{"$f":"Кредит!GMX9","v":0},{"$f":"Кредит!GMY9","v":0},{"$f":"Кредит!GMZ9","v":0},{"$f":"Кредит!GNA9","v":0},{"$f":"Кредит!GNB9","v":0},{"$f":"Кредит!GNC9","v":0},{"$f":"Кредит!GND9","v":0},{"$f":"Кредит!GNE9","v":0},{"$f":"Кредит!GNF9","v":0},{"$f":"Кредит!GNG9","v":0},{"$f":"Кредит!GNH9","v":0},{"$f":"Кредит!GNI9","v":0},{"$f":"Кредит!GNJ9","v":0},{"$f":"Кредит!GNK9","v":0},{"$f":"Кредит!GNL9","v":0},{"$f":"Кредит!GNM9","v":0},{"$f":"Кредит!GNN9","v":0},{"$f":"Кредит!GNO9","v":0},{"$f":"Кредит!GNP9","v":0},{"$f":"Кредит!GNQ9","v":0},{"$f":"Кредит!GNR9","v":0},{"$f":"Кредит!GNS9","v":0},{"$f":"Кредит!GNT9","v":0},{"$f":"Кредит!GNU9","v":0},{"$f":"Кредит!GNV9","v":0},{"$f":"Кредит!GNW9","v":0},{"$f":"Кредит!GNX9","v":0},{"$f":"Кредит!GNY9","v":0},{"$f":"Кредит!GNZ9","v":0},{"$f":"Кредит!GOA9","v":0},{"$f":"Кредит!GOB9","v":0},{"$f":"Кредит!GOC9","v":0},{"$f":"Кредит!GOD9","v":0},{"$f":"Кредит!GOE9","v":0},{"$f":"Кредит!GOF9","v":0},{"$f":"Кредит!GOG9","v":0},{"$f":"Кредит!GOH9","v":0},{"$f":"Кредит!GOI9","v":0},{"$f":"Кредит!GOJ9","v":0},{"$f":"Кредит!GOK9","v":0},{"$f":"Кредит!GOL9","v":0},{"$f":"Кредит!GOM9","v":0},{"$f":"Кредит!GON9","v":0},{"$f":"Кредит!GOO9","v":0},{"$f":"Кредит!GOP9","v":0},{"$f":"Кредит!GOQ9","v":0},{"$f":"Кредит!GOR9","v":0},{"$f":"Кредит!GOS9","v":0},{"$f":"Кредит!GOT9","v":0},{"$f":"Кредит!GOU9","v":0},{"$f":"Кредит!GOV9","v":0},{"$f":"Кредит!GOW9","v":0},{"$f":"Кредит!GOX9","v":0},{"$f":"Кредит!GOY9","v":0},{"$f":"Кредит!GOZ9","v":0},{"$f":"Кредит!GPA9","v":0},{"$f":"Кредит!GPB9","v":0},{"$f":"Кредит!GPC9","v":0},{"$f":"Кредит!GPD9","v":0},{"$f":"Кредит!GPE9","v":0},{"$f":"Кредит!GPF9","v":0},{"$f":"Кредит!GPG9","v":0},{"$f":"Кредит!GPH9","v":0},{"$f":"Кредит!GPI9","v":0},{"$f":"Кредит!GPJ9","v":0},{"$f":"Кредит!GPK9","v":0},{"$f":"Кредит!GPL9","v":0},{"$f":"Кредит!GPM9","v":0},{"$f":"Кредит!GPN9","v":0},{"$f":"Кредит!GPO9","v":0},{"$f":"Кредит!GPP9","v":0},{"$f":"Кредит!GPQ9","v":0},{"$f":"Кредит!GPR9","v":0},{"$f":"Кредит!GPS9","v":0},{"$f":"Кредит!GPT9","v":0},{"$f":"Кредит!GPU9","v":0},{"$f":"Кредит!GPV9","v":0},{"$f":"Кредит!GPW9","v":0},{"$f":"Кредит!GPX9","v":0},{"$f":"Кредит!GPY9","v":0},{"$f":"Кредит!GPZ9","v":0},{"$f":"Кредит!GQA9","v":0},{"$f":"Кредит!GQB9","v":0},{"$f":"Кредит!GQC9","v":0},{"$f":"Кредит!GQD9","v":0},{"$f":"Кредит!GQE9","v":0},{"$f":"Кредит!GQF9","v":0},{"$f":"Кредит!GQG9","v":0},{"$f":"Кредит!GQH9","v":0},{"$f":"Кредит!GQI9","v":0},{"$f":"Кредит!GQJ9","v":0},{"$f":"Кредит!GQK9","v":0},{"$f":"Кредит!GQL9","v":0},{"$f":"Кредит!GQM9","v":0},{"$f":"Кредит!GQN9","v":0},{"$f":"Кредит!GQO9","v":0},{"$f":"Кредит!GQP9","v":0},{"$f":"Кредит!GQQ9","v":0},{"$f":"Кредит!GQR9","v":0},{"$f":"Кредит!GQS9","v":0},{"$f":"Кредит!GQT9","v":0},{"$f":"Кредит!GQU9","v":0},{"$f":"Кредит!GQV9","v":0},{"$f":"Кредит!GQW9","v":0},{"$f":"Кредит!GQX9","v":0},{"$f":"Кредит!GQY9","v":0},{"$f":"Кредит!GQZ9","v":0},{"$f":"Кредит!GRA9","v":0},{"$f":"Кредит!GRB9","v":0},{"$f":"Кредит!GRC9","v":0},{"$f":"Кредит!GRD9","v":0},{"$f":"Кредит!GRE9","v":0},{"$f":"Кредит!GRF9","v":0},{"$f":"Кредит!GRG9","v":0},{"$f":"Кредит!GRH9","v":0},{"$f":"Кредит!GRI9","v":0},{"$f":"Кредит!GRJ9","v":0},{"$f":"Кредит!GRK9","v":0},{"$f":"Кредит!GRL9","v":0},{"$f":"Кредит!GRM9","v":0},{"$f":"Кредит!GRN9","v":0},{"$f":"Кредит!GRO9","v":0},{"$f":"Кредит!GRP9","v":0},{"$f":"Кредит!GRQ9","v":0},{"$f":"Кредит!GRR9","v":0},{"$f":"Кредит!GRS9","v":0},{"$f":"Кредит!GRT9","v":0},{"$f":"Кредит!GRU9","v":0},{"$f":"Кредит!GRV9","v":0},{"$f":"Кредит!GRW9","v":0},{"$f":"Кредит!GRX9","v":0},{"$f":"Кредит!GRY9","v":0},{"$f":"Кредит!GRZ9","v":0},{"$f":"Кредит!GSA9","v":0},{"$f":"Кредит!GSB9","v":0},{"$f":"Кредит!GSC9","v":0},{"$f":"Кредит!GSD9","v":0},{"$f":"Кредит!GSE9","v":0},{"$f":"Кредит!GSF9","v":0},{"$f":"Кредит!GSG9","v":0},{"$f":"Кредит!GSH9","v":0},{"$f":"Кредит!GSI9","v":0},{"$f":"Кредит!GSJ9","v":0},{"$f":"Кредит!GSK9","v":0},{"$f":"Кредит!GSL9","v":0},{"$f":"Кредит!GSM9","v":0},{"$f":"Кредит!GSN9","v":0},{"$f":"Кредит!GSO9","v":0},{"$f":"Кредит!GSP9","v":0},{"$f":"Кредит!GSQ9","v":0},{"$f":"Кредит!GSR9","v":0},{"$f":"Кредит!GSS9","v":0},{"$f":"Кредит!GST9","v":0},{"$f":"Кредит!GSU9","v":0},{"$f":"Кредит!GSV9","v":0},{"$f":"Кредит!GSW9","v":0},{"$f":"Кредит!GSX9","v":0},{"$f":"Кредит!GSY9","v":0},{"$f":"Кредит!GSZ9","v":0},{"$f":"Кредит!GTA9","v":0},{"$f":"Кредит!GTB9","v":0},{"$f":"Кредит!GTC9","v":0},{"$f":"Кредит!GTD9","v":0},{"$f":"Кредит!GTE9","v":0},{"$f":"Кредит!GTF9","v":0},{"$f":"Кредит!GTG9","v":0},{"$f":"Кредит!GTH9","v":0},{"$f":"Кредит!GTI9","v":0},{"$f":"Кредит!GTJ9","v":0},{"$f":"Кредит!GTK9","v":0},{"$f":"Кредит!GTL9","v":0},{"$f":"Кредит!GTM9","v":0},{"$f":"Кредит!GTN9","v":0},{"$f":"Кредит!GTO9","v":0},{"$f":"Кредит!GTP9","v":0},{"$f":"Кредит!GTQ9","v":0},{"$f":"Кредит!GTR9","v":0},{"$f":"Кредит!GTS9","v":0},{"$f":"Кредит!GTT9","v":0},{"$f":"Кредит!GTU9","v":0},{"$f":"Кредит!GTV9","v":0},{"$f":"Кредит!GTW9","v":0},{"$f":"Кредит!GTX9","v":0},{"$f":"Кредит!GTY9","v":0},{"$f":"Кредит!GTZ9","v":0},{"$f":"Кредит!GUA9","v":0},{"$f":"Кредит!GUB9","v":0},{"$f":"Кредит!GUC9","v":0},{"$f":"Кредит!GUD9","v":0},{"$f":"Кредит!GUE9","v":0},{"$f":"Кредит!GUF9","v":0},{"$f":"Кредит!GUG9","v":0},{"$f":"Кредит!GUH9","v":0},{"$f":"Кредит!GUI9","v":0},{"$f":"Кредит!GUJ9","v":0},{"$f":"Кредит!GUK9","v":0},{"$f":"Кредит!GUL9","v":0},{"$f":"Кредит!GUM9","v":0},{"$f":"Кредит!GUN9","v":0},{"$f":"Кредит!GUO9","v":0},{"$f":"Кредит!GUP9","v":0},{"$f":"Кредит!GUQ9","v":0},{"$f":"Кредит!GUR9","v":0},{"$f":"Кредит!GUS9","v":0},{"$f":"Кредит!GUT9","v":0},{"$f":"Кредит!GUU9","v":0},{"$f":"Кредит!GUV9","v":0},{"$f":"Кредит!GUW9","v":0},{"$f":"Кредит!GUX9","v":0},{"$f":"Кредит!GUY9","v":0},{"$f":"Кредит!GUZ9","v":0},{"$f":"Кредит!GVA9","v":0},{"$f":"Кредит!GVB9","v":0},{"$f":"Кредит!GVC9","v":0},{"$f":"Кредит!GVD9","v":0},{"$f":"Кредит!GVE9","v":0},{"$f":"Кредит!GVF9","v":0},{"$f":"Кредит!GVG9","v":0},{"$f":"Кредит!GVH9","v":0},{"$f":"Кредит!GVI9","v":0},{"$f":"Кредит!GVJ9","v":0},{"$f":"Кредит!GVK9","v":0},{"$f":"Кредит!GVL9","v":0},{"$f":"Кредит!GVM9","v":0},{"$f":"Кредит!GVN9","v":0},{"$f":"Кредит!GVO9","v":0},{"$f":"Кредит!GVP9","v":0},{"$f":"Кредит!GVQ9","v":0},{"$f":"Кредит!GVR9","v":0},{"$f":"Кредит!GVS9","v":0},{"$f":"Кредит!GVT9","v":0},{"$f":"Кредит!GVU9","v":0},{"$f":"Кредит!GVV9","v":0},{"$f":"Кредит!GVW9","v":0},{"$f":"Кредит!GVX9","v":0},{"$f":"Кредит!GVY9","v":0},{"$f":"Кредит!GVZ9","v":0},{"$f":"Кредит!GWA9","v":0},{"$f":"Кредит!GWB9","v":0},{"$f":"Кредит!GWC9","v":0},{"$f":"Кредит!GWD9","v":0},{"$f":"Кредит!GWE9","v":0},{"$f":"Кредит!GWF9","v":0},{"$f":"Кредит!GWG9","v":0},{"$f":"Кредит!GWH9","v":0},{"$f":"Кредит!GWI9","v":0},{"$f":"Кредит!GWJ9","v":0},{"$f":"Кредит!GWK9","v":0},{"$f":"Кредит!GWL9","v":0},{"$f":"Кредит!GWM9","v":0},{"$f":"Кредит!GWN9","v":0},{"$f":"Кредит!GWO9","v":0},{"$f":"Кредит!GWP9","v":0},{"$f":"Кредит!GWQ9","v":0},{"$f":"Кредит!GWR9","v":0},{"$f":"Кредит!GWS9","v":0},{"$f":"Кредит!GWT9","v":0},{"$f":"Кредит!GWU9","v":0},{"$f":"Кредит!GWV9","v":0},{"$f":"Кредит!GWW9","v":0},{"$f":"Кредит!GWX9","v":0},{"$f":"Кредит!GWY9","v":0},{"$f":"Кредит!GWZ9","v":0},{"$f":"Кредит!GXA9","v":0},{"$f":"Кредит!GXB9","v":0},{"$f":"Кредит!GXC9","v":0},{"$f":"Кредит!GXD9","v":0},{"$f":"Кредит!GXE9","v":0},{"$f":"Кредит!GXF9","v":0},{"$f":"Кредит!GXG9","v":0},{"$f":"Кредит!GXH9","v":0},{"$f":"Кредит!GXI9","v":0},{"$f":"Кредит!GXJ9","v":0},{"$f":"Кредит!GXK9","v":0},{"$f":"Кредит!GXL9","v":0},{"$f":"Кредит!GXM9","v":0},{"$f":"Кредит!GXN9","v":0},{"$f":"Кредит!GXO9","v":0},{"$f":"Кредит!GXP9","v":0},{"$f":"Кредит!GXQ9","v":0},{"$f":"Кредит!GXR9","v":0},{"$f":"Кредит!GXS9","v":0},{"$f":"Кредит!GXT9","v":0},{"$f":"Кредит!GXU9","v":0},{"$f":"Кредит!GXV9","v":0},{"$f":"Кредит!GXW9","v":0},{"$f":"Кредит!GXX9","v":0},{"$f":"Кредит!GXY9","v":0},{"$f":"Кредит!GXZ9","v":0},{"$f":"Кредит!GYA9","v":0},{"$f":"Кредит!GYB9","v":0},{"$f":"Кредит!GYC9","v":0},{"$f":"Кредит!GYD9","v":0},{"$f":"Кредит!GYE9","v":0},{"$f":"Кредит!GYF9","v":0},{"$f":"Кредит!GYG9","v":0},{"$f":"Кредит!GYH9","v":0},{"$f":"Кредит!GYI9","v":0},{"$f":"Кредит!GYJ9","v":0},{"$f":"Кредит!GYK9","v":0},{"$f":"Кредит!GYL9","v":0},{"$f":"Кредит!GYM9","v":0},{"$f":"Кредит!GYN9","v":0},{"$f":"Кредит!GYO9","v":0},{"$f":"Кредит!GYP9","v":0},{"$f":"Кредит!GYQ9","v":0},{"$f":"Кредит!GYR9","v":0},{"$f":"Кредит!GYS9","v":0},{"$f":"Кредит!GYT9","v":0},{"$f":"Кредит!GYU9","v":0},{"$f":"Кредит!GYV9","v":0},{"$f":"Кредит!GYW9","v":0},{"$f":"Кредит!GYX9","v":0},{"$f":"Кредит!GYY9","v":0},{"$f":"Кредит!GYZ9","v":0},{"$f":"Кредит!GZA9","v":0},{"$f":"Кредит!GZB9","v":0},{"$f":"Кредит!GZC9","v":0},{"$f":"Кредит!GZD9","v":0},{"$f":"Кредит!GZE9","v":0},{"$f":"Кредит!GZF9","v":0},{"$f":"Кредит!GZG9","v":0},{"$f":"Кредит!GZH9","v":0},{"$f":"Кредит!GZI9","v":0},{"$f":"Кредит!GZJ9","v":0},{"$f":"Кредит!GZK9","v":0},{"$f":"Кредит!GZL9","v":0},{"$f":"Кредит!GZM9","v":0},{"$f":"Кредит!GZN9","v":0},{"$f":"Кредит!GZO9","v":0},{"$f":"Кредит!GZP9","v":0},{"$f":"Кредит!GZQ9","v":0},{"$f":"Кредит!GZR9","v":0},{"$f":"Кредит!GZS9","v":0},{"$f":"Кредит!GZT9","v":0},{"$f":"Кредит!GZU9","v":0},{"$f":"Кредит!GZV9","v":0},{"$f":"Кредит!GZW9","v":0},{"$f":"Кредит!GZX9","v":0},{"$f":"Кредит!GZY9","v":0},{"$f":"Кредит!GZZ9","v":0},{"$f":"Кредит!HAA9","v":0},{"$f":"Кредит!HAB9","v":0},{"$f":"Кредит!HAC9","v":0},{"$f":"Кредит!HAD9","v":0},{"$f":"Кредит!HAE9","v":0},{"$f":"Кредит!HAF9","v":0},{"$f":"Кредит!HAG9","v":0},{"$f":"Кредит!HAH9","v":0},{"$f":"Кредит!HAI9","v":0},{"$f":"Кредит!HAJ9","v":0},{"$f":"Кредит!HAK9","v":0},{"$f":"Кредит!HAL9","v":0},{"$f":"Кредит!HAM9","v":0},{"$f":"Кредит!HAN9","v":0},{"$f":"Кредит!HAO9","v":0},{"$f":"Кредит!HAP9","v":0},{"$f":"Кредит!HAQ9","v":0},{"$f":"Кредит!HAR9","v":0},{"$f":"Кредит!HAS9","v":0},{"$f":"Кредит!HAT9","v":0},{"$f":"Кредит!HAU9","v":0},{"$f":"Кредит!HAV9","v":0},{"$f":"Кредит!HAW9","v":0},{"$f":"Кредит!HAX9","v":0},{"$f":"Кредит!HAY9","v":0},{"$f":"Кредит!HAZ9","v":0},{"$f":"Кредит!HBA9","v":0},{"$f":"Кредит!HBB9","v":0},{"$f":"Кредит!HBC9","v":0},{"$f":"Кредит!HBD9","v":0},{"$f":"Кредит!HBE9","v":0},{"$f":"Кредит!HBF9","v":0},{"$f":"Кредит!HBG9","v":0},{"$f":"Кредит!HBH9","v":0},{"$f":"Кредит!HBI9","v":0},{"$f":"Кредит!HBJ9","v":0},{"$f":"Кредит!HBK9","v":0},{"$f":"Кредит!HBL9","v":0},{"$f":"Кредит!HBM9","v":0},{"$f":"Кредит!HBN9","v":0},{"$f":"Кредит!HBO9","v":0},{"$f":"Кредит!HBP9","v":0},{"$f":"Кредит!HBQ9","v":0},{"$f":"Кредит!HBR9","v":0},{"$f":"Кредит!HBS9","v":0},{"$f":"Кредит!HBT9","v":0},{"$f":"Кредит!HBU9","v":0},{"$f":"Кредит!HBV9","v":0},{"$f":"Кредит!HBW9","v":0},{"$f":"Кредит!HBX9","v":0},{"$f":"Кредит!HBY9","v":0},{"$f":"Кредит!HBZ9","v":0},{"$f":"Кредит!HCA9","v":0},{"$f":"Кредит!HCB9","v":0},{"$f":"Кредит!HCC9","v":0},{"$f":"Кредит!HCD9","v":0},{"$f":"Кредит!HCE9","v":0},{"$f":"Кредит!HCF9","v":0},{"$f":"Кредит!HCG9","v":0},{"$f":"Кредит!HCH9","v":0},{"$f":"Кредит!HCI9","v":0},{"$f":"Кредит!HCJ9","v":0},{"$f":"Кредит!HCK9","v":0},{"$f":"Кредит!HCL9","v":0},{"$f":"Кредит!HCM9","v":0},{"$f":"Кредит!HCN9","v":0},{"$f":"Кредит!HCO9","v":0},{"$f":"Кредит!HCP9","v":0},{"$f":"Кредит!HCQ9","v":0},{"$f":"Кредит!HCR9","v":0},{"$f":"Кредит!HCS9","v":0},{"$f":"Кредит!HCT9","v":0},{"$f":"Кредит!HCU9","v":0},{"$f":"Кредит!HCV9","v":0},{"$f":"Кредит!HCW9","v":0},{"$f":"Кредит!HCX9","v":0},{"$f":"Кредит!HCY9","v":0},{"$f":"Кредит!HCZ9","v":0},{"$f":"Кредит!HDA9","v":0},{"$f":"Кредит!HDB9","v":0},{"$f":"Кредит!HDC9","v":0},{"$f":"Кредит!HDD9","v":0},{"$f":"Кредит!HDE9","v":0},{"$f":"Кредит!HDF9","v":0},{"$f":"Кредит!HDG9","v":0},{"$f":"Кредит!HDH9","v":0},{"$f":"Кредит!HDI9","v":0},{"$f":"Кредит!HDJ9","v":0},{"$f":"Кредит!HDK9","v":0},{"$f":"Кредит!HDL9","v":0},{"$f":"Кредит!HDM9","v":0},{"$f":"Кредит!HDN9","v":0},{"$f":"Кредит!HDO9","v":0},{"$f":"Кредит!HDP9","v":0},{"$f":"Кредит!HDQ9","v":0},{"$f":"Кредит!HDR9","v":0},{"$f":"Кредит!HDS9","v":0},{"$f":"Кредит!HDT9","v":0},{"$f":"Кредит!HDU9","v":0},{"$f":"Кредит!HDV9","v":0},{"$f":"Кредит!HDW9","v":0},{"$f":"Кредит!HDX9","v":0},{"$f":"Кредит!HDY9","v":0},{"$f":"Кредит!HDZ9","v":0},{"$f":"Кредит!HEA9","v":0},{"$f":"Кредит!HEB9","v":0},{"$f":"Кредит!HEC9","v":0},{"$f":"Кредит!HED9","v":0},{"$f":"Кредит!HEE9","v":0},{"$f":"Кредит!HEF9","v":0},{"$f":"Кредит!HEG9","v":0},{"$f":"Кредит!HEH9","v":0},{"$f":"Кредит!HEI9","v":0},{"$f":"Кредит!HEJ9","v":0},{"$f":"Кредит!HEK9","v":0},{"$f":"Кредит!HEL9","v":0},{"$f":"Кредит!HEM9","v":0},{"$f":"Кредит!HEN9","v":0},{"$f":"Кредит!HEO9","v":0},{"$f":"Кредит!HEP9","v":0},{"$f":"Кредит!HEQ9","v":0},{"$f":"Кредит!HER9","v":0},{"$f":"Кредит!HES9","v":0},{"$f":"Кредит!HET9","v":0},{"$f":"Кредит!HEU9","v":0},{"$f":"Кредит!HEV9","v":0},{"$f":"Кредит!HEW9","v":0},{"$f":"Кредит!HEX9","v":0},{"$f":"Кредит!HEY9","v":0},{"$f":"Кредит!HEZ9","v":0},{"$f":"Кредит!HFA9","v":0},{"$f":"Кредит!HFB9","v":0},{"$f":"Кредит!HFC9","v":0},{"$f":"Кредит!HFD9","v":0},{"$f":"Кредит!HFE9","v":0},{"$f":"Кредит!HFF9","v":0},{"$f":"Кредит!HFG9","v":0},{"$f":"Кредит!HFH9","v":0},{"$f":"Кредит!HFI9","v":0},{"$f":"Кредит!HFJ9","v":0},{"$f":"Кредит!HFK9","v":0},{"$f":"Кредит!HFL9","v":0},{"$f":"Кредит!HFM9","v":0},{"$f":"Кредит!HFN9","v":0},{"$f":"Кредит!HFO9","v":0},{"$f":"Кредит!HFP9","v":0},{"$f":"Кредит!HFQ9","v":0},{"$f":"Кредит!HFR9","v":0},{"$f":"Кредит!HFS9","v":0},{"$f":"Кредит!HFT9","v":0},{"$f":"Кредит!HFU9","v":0},{"$f":"Кредит!HFV9","v":0},{"$f":"Кредит!HFW9","v":0},{"$f":"Кредит!HFX9","v":0},{"$f":"Кредит!HFY9","v":0},{"$f":"Кредит!HFZ9","v":0},{"$f":"Кредит!HGA9","v":0},{"$f":"Кредит!HGB9","v":0},{"$f":"Кредит!HGC9","v":0},{"$f":"Кредит!HGD9","v":0},{"$f":"Кредит!HGE9","v":0},{"$f":"Кредит!HGF9","v":0},{"$f":"Кредит!HGG9","v":0},{"$f":"Кредит!HGH9","v":0},{"$f":"Кредит!HGI9","v":0},{"$f":"Кредит!HGJ9","v":0},{"$f":"Кредит!HGK9","v":0},{"$f":"Кредит!HGL9","v":0},{"$f":"Кредит!HGM9","v":0},{"$f":"Кредит!HGN9","v":0},{"$f":"Кредит!HGO9","v":0},{"$f":"Кредит!HGP9","v":0},{"$f":"Кредит!HGQ9","v":0},{"$f":"Кредит!HGR9","v":0},{"$f":"Кредит!HGS9","v":0},{"$f":"Кредит!HGT9","v":0},{"$f":"Кредит!HGU9","v":0},{"$f":"Кредит!HGV9","v":0},{"$f":"Кредит!HGW9","v":0},{"$f":"Кредит!HGX9","v":0},{"$f":"Кредит!HGY9","v":0},{"$f":"Кредит!HGZ9","v":0},{"$f":"Кредит!HHA9","v":0},{"$f":"Кредит!HHB9","v":0},{"$f":"Кредит!HHC9","v":0},{"$f":"Кредит!HHD9","v":0},{"$f":"Кредит!HHE9","v":0},{"$f":"Кредит!HHF9","v":0},{"$f":"Кредит!HHG9","v":0},{"$f":"Кредит!HHH9","v":0},{"$f":"Кредит!HHI9","v":0},{"$f":"Кредит!HHJ9","v":0},{"$f":"Кредит!HHK9","v":0},{"$f":"Кредит!HHL9","v":0},{"$f":"Кредит!HHM9","v":0},{"$f":"Кредит!HHN9","v":0},{"$f":"Кредит!HHO9","v":0},{"$f":"Кредит!HHP9","v":0},{"$f":"Кредит!HHQ9","v":0},{"$f":"Кредит!HHR9","v":0},{"$f":"Кредит!HHS9","v":0},{"$f":"Кредит!HHT9","v":0},{"$f":"Кредит!HHU9","v":0},{"$f":"Кредит!HHV9","v":0},{"$f":"Кредит!HHW9","v":0},{"$f":"Кредит!HHX9","v":0},{"$f":"Кредит!HHY9","v":0},{"$f":"Кредит!HHZ9","v":0},{"$f":"Кредит!HIA9","v":0},{"$f":"Кредит!HIB9","v":0},{"$f":"Кредит!HIC9","v":0},{"$f":"Кредит!HID9","v":0},{"$f":"Кредит!HIE9","v":0},{"$f":"Кредит!HIF9","v":0},{"$f":"Кредит!HIG9","v":0},{"$f":"Кредит!HIH9","v":0},{"$f":"Кредит!HII9","v":0},{"$f":"Кредит!HIJ9","v":0},{"$f":"Кредит!HIK9","v":0},{"$f":"Кредит!HIL9","v":0},{"$f":"Кредит!HIM9","v":0},{"$f":"Кредит!HIN9","v":0},{"$f":"Кредит!HIO9","v":0},{"$f":"Кредит!HIP9","v":0},{"$f":"Кредит!HIQ9","v":0},{"$f":"Кредит!HIR9","v":0},{"$f":"Кредит!HIS9","v":0},{"$f":"Кредит!HIT9","v":0},{"$f":"Кредит!HIU9","v":0},{"$f":"Кредит!HIV9","v":0},{"$f":"Кредит!HIW9","v":0},{"$f":"Кредит!HIX9","v":0},{"$f":"Кредит!HIY9","v":0},{"$f":"Кредит!HIZ9","v":0},{"$f":"Кредит!HJA9","v":0},{"$f":"Кредит!HJB9","v":0},{"$f":"Кредит!HJC9","v":0},{"$f":"Кредит!HJD9","v":0},{"$f":"Кредит!HJE9","v":0},{"$f":"Кредит!HJF9","v":0},{"$f":"Кредит!HJG9","v":0},{"$f":"Кредит!HJH9","v":0},{"$f":"Кредит!HJI9","v":0},{"$f":"Кредит!HJJ9","v":0},{"$f":"Кредит!HJK9","v":0},{"$f":"Кредит!HJL9","v":0},{"$f":"Кредит!HJM9","v":0},{"$f":"Кредит!HJN9","v":0},{"$f":"Кредит!HJO9","v":0},{"$f":"Кредит!HJP9","v":0},{"$f":"Кредит!HJQ9","v":0},{"$f":"Кредит!HJR9","v":0},{"$f":"Кредит!HJS9","v":0},{"$f":"Кредит!HJT9","v":0},{"$f":"Кредит!HJU9","v":0},{"$f":"Кредит!HJV9","v":0},{"$f":"Кредит!HJW9","v":0},{"$f":"Кредит!HJX9","v":0},{"$f":"Кредит!HJY9","v":0},{"$f":"Кредит!HJZ9","v":0},{"$f":"Кредит!HKA9","v":0},{"$f":"Кредит!HKB9","v":0},{"$f":"Кредит!HKC9","v":0},{"$f":"Кредит!HKD9","v":0},{"$f":"Кредит!HKE9","v":0},{"$f":"Кредит!HKF9","v":0},{"$f":"Кредит!HKG9","v":0},{"$f":"Кредит!HKH9","v":0},{"$f":"Кредит!HKI9","v":0},{"$f":"Кредит!HKJ9","v":0},{"$f":"Кредит!HKK9","v":0},{"$f":"Кредит!HKL9","v":0},{"$f":"Кредит!HKM9","v":0},{"$f":"Кредит!HKN9","v":0},{"$f":"Кредит!HKO9","v":0},{"$f":"Кредит!HKP9","v":0},{"$f":"Кредит!HKQ9","v":0},{"$f":"Кредит!HKR9","v":0},{"$f":"Кредит!HKS9","v":0},{"$f":"Кредит!HKT9","v":0},{"$f":"Кредит!HKU9","v":0},{"$f":"Кредит!HKV9","v":0},{"$f":"Кредит!HKW9","v":0},{"$f":"Кредит!HKX9","v":0},{"$f":"Кредит!HKY9","v":0},{"$f":"Кредит!HKZ9","v":0},{"$f":"Кредит!HLA9","v":0},{"$f":"Кредит!HLB9","v":0},{"$f":"Кредит!HLC9","v":0},{"$f":"Кредит!HLD9","v":0},{"$f":"Кредит!HLE9","v":0},{"$f":"Кредит!HLF9","v":0},{"$f":"Кредит!HLG9","v":0},{"$f":"Кредит!HLH9","v":0},{"$f":"Кредит!HLI9","v":0},{"$f":"Кредит!HLJ9","v":0},{"$f":"Кредит!HLK9","v":0},{"$f":"Кредит!HLL9","v":0},{"$f":"Кредит!HLM9","v":0},{"$f":"Кредит!HLN9","v":0},{"$f":"Кредит!HLO9","v":0},{"$f":"Кредит!HLP9","v":0},{"$f":"Кредит!HLQ9","v":0},{"$f":"Кредит!HLR9","v":0},{"$f":"Кредит!HLS9","v":0},{"$f":"Кредит!HLT9","v":0},{"$f":"Кредит!HLU9","v":0},{"$f":"Кредит!HLV9","v":0},{"$f":"Кредит!HLW9","v":0},{"$f":"Кредит!HLX9","v":0},{"$f":"Кредит!HLY9","v":0},{"$f":"Кредит!HLZ9","v":0},{"$f":"Кредит!HMA9","v":0},{"$f":"Кредит!HMB9","v":0},{"$f":"Кредит!HMC9","v":0},{"$f":"Кредит!HMD9","v":0},{"$f":"Кредит!HME9","v":0},{"$f":"Кредит!HMF9","v":0},{"$f":"Кредит!HMG9","v":0},{"$f":"Кредит!HMH9","v":0},{"$f":"Кредит!HMI9","v":0},{"$f":"Кредит!HMJ9","v":0},{"$f":"Кредит!HMK9","v":0},{"$f":"Кредит!HML9","v":0},{"$f":"Кредит!HMM9","v":0},{"$f":"Кредит!HMN9","v":0},{"$f":"Кредит!HMO9","v":0},{"$f":"Кредит!HMP9","v":0},{"$f":"Кредит!HMQ9","v":0},{"$f":"Кредит!HMR9","v":0},{"$f":"Кредит!HMS9","v":0},{"$f":"Кредит!HMT9","v":0},{"$f":"Кредит!HMU9","v":0},{"$f":"Кредит!HMV9","v":0},{"$f":"Кредит!HMW9","v":0},{"$f":"Кредит!HMX9","v":0},{"$f":"Кредит!HMY9","v":0},{"$f":"Кредит!HMZ9","v":0},{"$f":"Кредит!HNA9","v":0},{"$f":"Кредит!HNB9","v":0},{"$f":"Кредит!HNC9","v":0},{"$f":"Кредит!HND9","v":0},{"$f":"Кредит!HNE9","v":0},{"$f":"Кредит!HNF9","v":0},{"$f":"Кредит!HNG9","v":0},{"$f":"Кредит!HNH9","v":0},{"$f":"Кредит!HNI9","v":0},{"$f":"Кредит!HNJ9","v":0},{"$f":"Кредит!HNK9","v":0},{"$f":"Кредит!HNL9","v":0},{"$f":"Кредит!HNM9","v":0},{"$f":"Кредит!HNN9","v":0},{"$f":"Кредит!HNO9","v":0},{"$f":"Кредит!HNP9","v":0},{"$f":"Кредит!HNQ9","v":0},{"$f":"Кредит!HNR9","v":0},{"$f":"Кредит!HNS9","v":0},{"$f":"Кредит!HNT9","v":0},{"$f":"Кредит!HNU9","v":0},{"$f":"Кредит!HNV9","v":0},{"$f":"Кредит!HNW9","v":0},{"$f":"Кредит!HNX9","v":0},{"$f":"Кредит!HNY9","v":0},{"$f":"Кредит!HNZ9","v":0},{"$f":"Кредит!HOA9","v":0},{"$f":"Кредит!HOB9","v":0},{"$f":"Кредит!HOC9","v":0},{"$f":"Кредит!HOD9","v":0},{"$f":"Кредит!HOE9","v":0},{"$f":"Кредит!HOF9","v":0},{"$f":"Кредит!HOG9","v":0},{"$f":"Кредит!HOH9","v":0},{"$f":"Кредит!HOI9","v":0},{"$f":"Кредит!HOJ9","v":0},{"$f":"Кредит!HOK9","v":0},{"$f":"Кредит!HOL9","v":0},{"$f":"Кредит!HOM9","v":0},{"$f":"Кредит!HON9","v":0},{"$f":"Кредит!HOO9","v":0},{"$f":"Кредит!HOP9","v":0},{"$f":"Кредит!HOQ9","v":0},{"$f":"Кредит!HOR9","v":0},{"$f":"Кредит!HOS9","v":0},{"$f":"Кредит!HOT9","v":0},{"$f":"Кредит!HOU9","v":0},{"$f":"Кредит!HOV9","v":0},{"$f":"Кредит!HOW9","v":0},{"$f":"Кредит!HOX9","v":0},{"$f":"Кредит!HOY9","v":0},{"$f":"Кредит!HOZ9","v":0},{"$f":"Кредит!HPA9","v":0},{"$f":"Кредит!HPB9","v":0},{"$f":"Кредит!HPC9","v":0},{"$f":"Кредит!HPD9","v":0},{"$f":"Кредит!HPE9","v":0},{"$f":"Кредит!HPF9","v":0},{"$f":"Кредит!HPG9","v":0},{"$f":"Кредит!HPH9","v":0},{"$f":"Кредит!HPI9","v":0},{"$f":"Кредит!HPJ9","v":0},{"$f":"Кредит!HPK9","v":0},{"$f":"Кредит!HPL9","v":0},{"$f":"Кредит!HPM9","v":0},{"$f":"Кредит!HPN9","v":0},{"$f":"Кредит!HPO9","v":0},{"$f":"Кредит!HPP9","v":0},{"$f":"Кредит!HPQ9","v":0},{"$f":"Кредит!HPR9","v":0},{"$f":"Кредит!HPS9","v":0},{"$f":"Кредит!HPT9","v":0},{"$f":"Кредит!HPU9","v":0},{"$f":"Кредит!HPV9","v":0},{"$f":"Кредит!HPW9","v":0},{"$f":"Кредит!HPX9","v":0},{"$f":"Кредит!HPY9","v":0},{"$f":"Кредит!HPZ9","v":0},{"$f":"Кредит!HQA9","v":0},{"$f":"Кредит!HQB9","v":0},{"$f":"Кредит!HQC9","v":0},{"$f":"Кредит!HQD9","v":0},{"$f":"Кредит!HQE9","v":0},{"$f":"Кредит!HQF9","v":0},{"$f":"Кредит!HQG9","v":0},{"$f":"Кредит!HQH9","v":0},{"$f":"Кредит!HQI9","v":0},{"$f":"Кредит!HQJ9","v":0},{"$f":"Кредит!HQK9","v":0},{"$f":"Кредит!HQL9","v":0},{"$f":"Кредит!HQM9","v":0},{"$f":"Кредит!HQN9","v":0},{"$f":"Кредит!HQO9","v":0},{"$f":"Кредит!HQP9","v":0},{"$f":"Кредит!HQQ9","v":0},{"$f":"Кредит!HQR9","v":0},{"$f":"Кредит!HQS9","v":0},{"$f":"Кредит!HQT9","v":0},{"$f":"Кредит!HQU9","v":0},{"$f":"Кредит!HQV9","v":0},{"$f":"Кредит!HQW9","v":0},{"$f":"Кредит!HQX9","v":0},{"$f":"Кредит!HQY9","v":0},{"$f":"Кредит!HQZ9","v":0},{"$f":"Кредит!HRA9","v":0},{"$f":"Кредит!HRB9","v":0},{"$f":"Кредит!HRC9","v":0},{"$f":"Кредит!HRD9","v":0},{"$f":"Кредит!HRE9","v":0},{"$f":"Кредит!HRF9","v":0},{"$f":"Кредит!HRG9","v":0},{"$f":"Кредит!HRH9","v":0},{"$f":"Кредит!HRI9","v":0},{"$f":"Кредит!HRJ9","v":0},{"$f":"Кредит!HRK9","v":0},{"$f":"Кредит!HRL9","v":0},{"$f":"Кредит!HRM9","v":0},{"$f":"Кредит!HRN9","v":0},{"$f":"Кредит!HRO9","v":0},{"$f":"Кредит!HRP9","v":0},{"$f":"Кредит!HRQ9","v":0},{"$f":"Кредит!HRR9","v":0},{"$f":"Кредит!HRS9","v":0},{"$f":"Кредит!HRT9","v":0},{"$f":"Кредит!HRU9","v":0},{"$f":"Кредит!HRV9","v":0},{"$f":"Кредит!HRW9","v":0},{"$f":"Кредит!HRX9","v":0},{"$f":"Кредит!HRY9","v":0},{"$f":"Кредит!HRZ9","v":0},{"$f":"Кредит!HSA9","v":0},{"$f":"Кредит!HSB9","v":0},{"$f":"Кредит!HSC9","v":0},{"$f":"Кредит!HSD9","v":0},{"$f":"Кредит!HSE9","v":0},{"$f":"Кредит!HSF9","v":0},{"$f":"Кредит!HSG9","v":0},{"$f":"Кредит!HSH9","v":0},{"$f":"Кредит!HSI9","v":0},{"$f":"Кредит!HSJ9","v":0},{"$f":"Кредит!HSK9","v":0},{"$f":"Кредит!HSL9","v":0},{"$f":"Кредит!HSM9","v":0},{"$f":"Кредит!HSN9","v":0},{"$f":"Кредит!HSO9","v":0},{"$f":"Кредит!HSP9","v":0},{"$f":"Кредит!HSQ9","v":0},{"$f":"Кредит!HSR9","v":0},{"$f":"Кредит!HSS9","v":0},{"$f":"Кредит!HST9","v":0},{"$f":"Кредит!HSU9","v":0},{"$f":"Кредит!HSV9","v":0},{"$f":"Кредит!HSW9","v":0},{"$f":"Кредит!HSX9","v":0},{"$f":"Кредит!HSY9","v":0},{"$f":"Кредит!HSZ9","v":0},{"$f":"Кредит!HTA9","v":0},{"$f":"Кредит!HTB9","v":0},{"$f":"Кредит!HTC9","v":0},{"$f":"Кредит!HTD9","v":0},{"$f":"Кредит!HTE9","v":0},{"$f":"Кредит!HTF9","v":0},{"$f":"Кредит!HTG9","v":0},{"$f":"Кредит!HTH9","v":0},{"$f":"Кредит!HTI9","v":0},{"$f":"Кредит!HTJ9","v":0},{"$f":"Кредит!HTK9","v":0},{"$f":"Кредит!HTL9","v":0},{"$f":"Кредит!HTM9","v":0},{"$f":"Кредит!HTN9","v":0},{"$f":"Кредит!HTO9","v":0},{"$f":"Кредит!HTP9","v":0},{"$f":"Кредит!HTQ9","v":0},{"$f":"Кредит!HTR9","v":0},{"$f":"Кредит!HTS9","v":0},{"$f":"Кредит!HTT9","v":0},{"$f":"Кредит!HTU9","v":0},{"$f":"Кредит!HTV9","v":0},{"$f":"Кредит!HTW9","v":0},{"$f":"Кредит!HTX9","v":0},{"$f":"Кредит!HTY9","v":0},{"$f":"Кредит!HTZ9","v":0},{"$f":"Кредит!HUA9","v":0},{"$f":"Кредит!HUB9","v":0},{"$f":"Кредит!HUC9","v":0},{"$f":"Кредит!HUD9","v":0},{"$f":"Кредит!HUE9","v":0},{"$f":"Кредит!HUF9","v":0},{"$f":"Кредит!HUG9","v":0},{"$f":"Кредит!HUH9","v":0},{"$f":"Кредит!HUI9","v":0},{"$f":"Кредит!HUJ9","v":0},{"$f":"Кредит!HUK9","v":0},{"$f":"Кредит!HUL9","v":0},{"$f":"Кредит!HUM9","v":0},{"$f":"Кредит!HUN9","v":0},{"$f":"Кредит!HUO9","v":0},{"$f":"Кредит!HUP9","v":0},{"$f":"Кредит!HUQ9","v":0},{"$f":"Кредит!HUR9","v":0},{"$f":"Кредит!HUS9","v":0},{"$f":"Кредит!HUT9","v":0},{"$f":"Кредит!HUU9","v":0},{"$f":"Кредит!HUV9","v":0},{"$f":"Кредит!HUW9","v":0},{"$f":"Кредит!HUX9","v":0},{"$f":"Кредит!HUY9","v":0},{"$f":"Кредит!HUZ9","v":0},{"$f":"Кредит!HVA9","v":0},{"$f":"Кредит!HVB9","v":0},{"$f":"Кредит!HVC9","v":0},{"$f":"Кредит!HVD9","v":0},{"$f":"Кредит!HVE9","v":0},{"$f":"Кредит!HVF9","v":0},{"$f":"Кредит!HVG9","v":0},{"$f":"Кредит!HVH9","v":0},{"$f":"Кредит!HVI9","v":0},{"$f":"Кредит!HVJ9","v":0},{"$f":"Кредит!HVK9","v":0},{"$f":"Кредит!HVL9","v":0},{"$f":"Кредит!HVM9","v":0},{"$f":"Кредит!HVN9","v":0},{"$f":"Кредит!HVO9","v":0},{"$f":"Кредит!HVP9","v":0},{"$f":"Кредит!HVQ9","v":0},{"$f":"Кредит!HVR9","v":0},{"$f":"Кредит!HVS9","v":0},{"$f":"Кредит!HVT9","v":0},{"$f":"Кредит!HVU9","v":0},{"$f":"Кредит!HVV9","v":0},{"$f":"Кредит!HVW9","v":0},{"$f":"Кредит!HVX9","v":0},{"$f":"Кредит!HVY9","v":0},{"$f":"Кредит!HVZ9","v":0},{"$f":"Кредит!HWA9","v":0},{"$f":"Кредит!HWB9","v":0},{"$f":"Кредит!HWC9","v":0},{"$f":"Кредит!HWD9","v":0},{"$f":"Кредит!HWE9","v":0},{"$f":"Кредит!HWF9","v":0},{"$f":"Кредит!HWG9","v":0},{"$f":"Кредит!HWH9","v":0},{"$f":"Кредит!HWI9","v":0},{"$f":"Кредит!HWJ9","v":0},{"$f":"Кредит!HWK9","v":0},{"$f":"Кредит!HWL9","v":0},{"$f":"Кредит!HWM9","v":0},{"$f":"Кредит!HWN9","v":0},{"$f":"Кредит!HWO9","v":0},{"$f":"Кредит!HWP9","v":0},{"$f":"Кредит!HWQ9","v":0},{"$f":"Кредит!HWR9","v":0},{"$f":"Кредит!HWS9","v":0},{"$f":"Кредит!HWT9","v":0},{"$f":"Кредит!HWU9","v":0},{"$f":"Кредит!HWV9","v":0},{"$f":"Кредит!HWW9","v":0},{"$f":"Кредит!HWX9","v":0},{"$f":"Кредит!HWY9","v":0},{"$f":"Кредит!HWZ9","v":0},{"$f":"Кредит!HXA9","v":0},{"$f":"Кредит!HXB9","v":0},{"$f":"Кредит!HXC9","v":0},{"$f":"Кредит!HXD9","v":0},{"$f":"Кредит!HXE9","v":0},{"$f":"Кредит!HXF9","v":0},{"$f":"Кредит!HXG9","v":0},{"$f":"Кредит!HXH9","v":0},{"$f":"Кредит!HXI9","v":0},{"$f":"Кредит!HXJ9","v":0},{"$f":"Кредит!HXK9","v":0},{"$f":"Кредит!HXL9","v":0},{"$f":"Кредит!HXM9","v":0},{"$f":"Кредит!HXN9","v":0},{"$f":"Кредит!HXO9","v":0},{"$f":"Кредит!HXP9","v":0},{"$f":"Кредит!HXQ9","v":0},{"$f":"Кредит!HXR9","v":0},{"$f":"Кредит!HXS9","v":0},{"$f":"Кредит!HXT9","v":0},{"$f":"Кредит!HXU9","v":0},{"$f":"Кредит!HXV9","v":0},{"$f":"Кредит!HXW9","v":0},{"$f":"Кредит!HXX9","v":0},{"$f":"Кредит!HXY9","v":0},{"$f":"Кредит!HXZ9","v":0},{"$f":"Кредит!HYA9","v":0},{"$f":"Кредит!HYB9","v":0},{"$f":"Кредит!HYC9","v":0},{"$f":"Кредит!HYD9","v":0},{"$f":"Кредит!HYE9","v":0},{"$f":"Кредит!HYF9","v":0},{"$f":"Кредит!HYG9","v":0},{"$f":"Кредит!HYH9","v":0},{"$f":"Кредит!HYI9","v":0},{"$f":"Кредит!HYJ9","v":0},{"$f":"Кредит!HYK9","v":0},{"$f":"Кредит!HYL9","v":0},{"$f":"Кредит!HYM9","v":0},{"$f":"Кредит!HYN9","v":0},{"$f":"Кредит!HYO9","v":0},{"$f":"Кредит!HYP9","v":0},{"$f":"Кредит!HYQ9","v":0},{"$f":"Кредит!HYR9","v":0},{"$f":"Кредит!HYS9","v":0},{"$f":"Кредит!HYT9","v":0},{"$f":"Кредит!HYU9","v":0},{"$f":"Кредит!HYV9","v":0},{"$f":"Кредит!HYW9","v":0},{"$f":"Кредит!HYX9","v":0},{"$f":"Кредит!HYY9","v":0},{"$f":"Кредит!HYZ9","v":0},{"$f":"Кредит!HZA9","v":0},{"$f":"Кредит!HZB9","v":0},{"$f":"Кредит!HZC9","v":0},{"$f":"Кредит!HZD9","v":0},{"$f":"Кредит!HZE9","v":0},{"$f":"Кредит!HZF9","v":0},{"$f":"Кредит!HZG9","v":0},{"$f":"Кредит!HZH9","v":0},{"$f":"Кредит!HZI9","v":0},{"$f":"Кредит!HZJ9","v":0},{"$f":"Кредит!HZK9","v":0},{"$f":"Кредит!HZL9","v":0},{"$f":"Кредит!HZM9","v":0},{"$f":"Кредит!HZN9","v":0},{"$f":"Кредит!HZO9","v":0},{"$f":"Кредит!HZP9","v":0},{"$f":"Кредит!HZQ9","v":0},{"$f":"Кредит!HZR9","v":0},{"$f":"Кредит!HZS9","v":0},{"$f":"Кредит!HZT9","v":0},{"$f":"Кредит!HZU9","v":0},{"$f":"Кредит!HZV9","v":0},{"$f":"Кредит!HZW9","v":0},{"$f":"Кредит!HZX9","v":0},{"$f":"Кредит!HZY9","v":0},{"$f":"Кредит!HZZ9","v":0},{"$f":"Кредит!IAA9","v":0},{"$f":"Кредит!IAB9","v":0},{"$f":"Кредит!IAC9","v":0},{"$f":"Кредит!IAD9","v":0},{"$f":"Кредит!IAE9","v":0},{"$f":"Кредит!IAF9","v":0},{"$f":"Кредит!IAG9","v":0},{"$f":"Кредит!IAH9","v":0},{"$f":"Кредит!IAI9","v":0},{"$f":"Кредит!IAJ9","v":0},{"$f":"Кредит!IAK9","v":0},{"$f":"Кредит!IAL9","v":0},{"$f":"Кредит!IAM9","v":0},{"$f":"Кредит!IAN9","v":0},{"$f":"Кредит!IAO9","v":0},{"$f":"Кредит!IAP9","v":0},{"$f":"Кредит!IAQ9","v":0},{"$f":"Кредит!IAR9","v":0},{"$f":"Кредит!IAS9","v":0},{"$f":"Кредит!IAT9","v":0},{"$f":"Кредит!IAU9","v":0},{"$f":"Кредит!IAV9","v":0},{"$f":"Кредит!IAW9","v":0},{"$f":"Кредит!IAX9","v":0},{"$f":"Кредит!IAY9","v":0},{"$f":"Кредит!IAZ9","v":0},{"$f":"Кредит!IBA9","v":0},{"$f":"Кредит!IBB9","v":0},{"$f":"Кредит!IBC9","v":0},{"$f":"Кредит!IBD9","v":0},{"$f":"Кредит!IBE9","v":0},{"$f":"Кредит!IBF9","v":0},{"$f":"Кредит!IBG9","v":0},{"$f":"Кредит!IBH9","v":0},{"$f":"Кредит!IBI9","v":0},{"$f":"Кредит!IBJ9","v":0},{"$f":"Кредит!IBK9","v":0},{"$f":"Кредит!IBL9","v":0},{"$f":"Кредит!IBM9","v":0},{"$f":"Кредит!IBN9","v":0},{"$f":"Кредит!IBO9","v":0},{"$f":"Кредит!IBP9","v":0},{"$f":"Кредит!IBQ9","v":0},{"$f":"Кредит!IBR9","v":0},{"$f":"Кредит!IBS9","v":0},{"$f":"Кредит!IBT9","v":0},{"$f":"Кредит!IBU9","v":0},{"$f":"Кредит!IBV9","v":0},{"$f":"Кредит!IBW9","v":0},{"$f":"Кредит!IBX9","v":0},{"$f":"Кредит!IBY9","v":0},{"$f":"Кредит!IBZ9","v":0},{"$f":"Кредит!ICA9","v":0},{"$f":"Кредит!ICB9","v":0},{"$f":"Кредит!ICC9","v":0},{"$f":"Кредит!ICD9","v":0},{"$f":"Кредит!ICE9","v":0},{"$f":"Кредит!ICF9","v":0},{"$f":"Кредит!ICG9","v":0},{"$f":"Кредит!ICH9","v":0},{"$f":"Кредит!ICI9","v":0},{"$f":"Кредит!ICJ9","v":0},{"$f":"Кредит!ICK9","v":0},{"$f":"Кредит!ICL9","v":0},{"$f":"Кредит!ICM9","v":0},{"$f":"Кредит!ICN9","v":0},{"$f":"Кредит!ICO9","v":0},{"$f":"Кредит!ICP9","v":0},{"$f":"Кредит!ICQ9","v":0},{"$f":"Кредит!ICR9","v":0},{"$f":"Кредит!ICS9","v":0},{"$f":"Кредит!ICT9","v":0},{"$f":"Кредит!ICU9","v":0},{"$f":"Кредит!ICV9","v":0},{"$f":"Кредит!ICW9","v":0},{"$f":"Кредит!ICX9","v":0},{"$f":"Кредит!ICY9","v":0},{"$f":"Кредит!ICZ9","v":0},{"$f":"Кредит!IDA9","v":0},{"$f":"Кредит!IDB9","v":0},{"$f":"Кредит!IDC9","v":0},{"$f":"Кредит!IDD9","v":0},{"$f":"Кредит!IDE9","v":0},{"$f":"Кредит!IDF9","v":0},{"$f":"Кредит!IDG9","v":0},{"$f":"Кредит!IDH9","v":0},{"$f":"Кредит!IDI9","v":0},{"$f":"Кредит!IDJ9","v":0},{"$f":"Кредит!IDK9","v":0},{"$f":"Кредит!IDL9","v":0},{"$f":"Кредит!IDM9","v":0},{"$f":"Кредит!IDN9","v":0},{"$f":"Кредит!IDO9","v":0},{"$f":"Кредит!IDP9","v":0},{"$f":"Кредит!IDQ9","v":0},{"$f":"Кредит!IDR9","v":0},{"$f":"Кредит!IDS9","v":0},{"$f":"Кредит!IDT9","v":0},{"$f":"Кредит!IDU9","v":0},{"$f":"Кредит!IDV9","v":0},{"$f":"Кредит!IDW9","v":0},{"$f":"Кредит!IDX9","v":0},{"$f":"Кредит!IDY9","v":0},{"$f":"Кредит!IDZ9","v":0},{"$f":"Кредит!IEA9","v":0},{"$f":"Кредит!IEB9","v":0},{"$f":"Кредит!IEC9","v":0},{"$f":"Кредит!IED9","v":0},{"$f":"Кредит!IEE9","v":0},{"$f":"Кредит!IEF9","v":0},{"$f":"Кредит!IEG9","v":0},{"$f":"Кредит!IEH9","v":0},{"$f":"Кредит!IEI9","v":0},{"$f":"Кредит!IEJ9","v":0},{"$f":"Кредит!IEK9","v":0},{"$f":"Кредит!IEL9","v":0},{"$f":"Кредит!IEM9","v":0},{"$f":"Кредит!IEN9","v":0},{"$f":"Кредит!IEO9","v":0},{"$f":"Кредит!IEP9","v":0},{"$f":"Кредит!IEQ9","v":0},{"$f":"Кредит!IER9","v":0},{"$f":"Кредит!IES9","v":0},{"$f":"Кредит!IET9","v":0},{"$f":"Кредит!IEU9","v":0},{"$f":"Кредит!IEV9","v":0},{"$f":"Кредит!IEW9","v":0},{"$f":"Кредит!IEX9","v":0},{"$f":"Кредит!IEY9","v":0},{"$f":"Кредит!IEZ9","v":0},{"$f":"Кредит!IFA9","v":0},{"$f":"Кредит!IFB9","v":0},{"$f":"Кредит!IFC9","v":0},{"$f":"Кредит!IFD9","v":0},{"$f":"Кредит!IFE9","v":0},{"$f":"Кредит!IFF9","v":0},{"$f":"Кредит!IFG9","v":0},{"$f":"Кредит!IFH9","v":0},{"$f":"Кредит!IFI9","v":0},{"$f":"Кредит!IFJ9","v":0},{"$f":"Кредит!IFK9","v":0},{"$f":"Кредит!IFL9","v":0},{"$f":"Кредит!IFM9","v":0},{"$f":"Кредит!IFN9","v":0},{"$f":"Кредит!IFO9","v":0},{"$f":"Кредит!IFP9","v":0},{"$f":"Кредит!IFQ9","v":0},{"$f":"Кредит!IFR9","v":0},{"$f":"Кредит!IFS9","v":0},{"$f":"Кредит!IFT9","v":0},{"$f":"Кредит!IFU9","v":0},{"$f":"Кредит!IFV9","v":0},{"$f":"Кредит!IFW9","v":0},{"$f":"Кредит!IFX9","v":0},{"$f":"Кредит!IFY9","v":0},{"$f":"Кредит!IFZ9","v":0},{"$f":"Кредит!IGA9","v":0},{"$f":"Кредит!IGB9","v":0},{"$f":"Кредит!IGC9","v":0},{"$f":"Кредит!IGD9","v":0},{"$f":"Кредит!IGE9","v":0},{"$f":"Кредит!IGF9","v":0},{"$f":"Кредит!IGG9","v":0},{"$f":"Кредит!IGH9","v":0},{"$f":"Кредит!IGI9","v":0},{"$f":"Кредит!IGJ9","v":0},{"$f":"Кредит!IGK9","v":0},{"$f":"Кредит!IGL9","v":0},{"$f":"Кредит!IGM9","v":0},{"$f":"Кредит!IGN9","v":0},{"$f":"Кредит!IGO9","v":0},{"$f":"Кредит!IGP9","v":0},{"$f":"Кредит!IGQ9","v":0},{"$f":"Кредит!IGR9","v":0},{"$f":"Кредит!IGS9","v":0},{"$f":"Кредит!IGT9","v":0},{"$f":"Кредит!IGU9","v":0},{"$f":"Кредит!IGV9","v":0},{"$f":"Кредит!IGW9","v":0},{"$f":"Кредит!IGX9","v":0},{"$f":"Кредит!IGY9","v":0},{"$f":"Кредит!IGZ9","v":0},{"$f":"Кредит!IHA9","v":0},{"$f":"Кредит!IHB9","v":0},{"$f":"Кредит!IHC9","v":0},{"$f":"Кредит!IHD9","v":0},{"$f":"Кредит!IHE9","v":0},{"$f":"Кредит!IHF9","v":0},{"$f":"Кредит!IHG9","v":0},{"$f":"Кредит!IHH9","v":0},{"$f":"Кредит!IHI9","v":0},{"$f":"Кредит!IHJ9","v":0},{"$f":"Кредит!IHK9","v":0},{"$f":"Кредит!IHL9","v":0},{"$f":"Кредит!IHM9","v":0},{"$f":"Кредит!IHN9","v":0},{"$f":"Кредит!IHO9","v":0},{"$f":"Кредит!IHP9","v":0},{"$f":"Кредит!IHQ9","v":0},{"$f":"Кредит!IHR9","v":0},{"$f":"Кредит!IHS9","v":0},{"$f":"Кредит!IHT9","v":0},{"$f":"Кредит!IHU9","v":0},{"$f":"Кредит!IHV9","v":0},{"$f":"Кредит!IHW9","v":0},{"$f":"Кредит!IHX9","v":0},{"$f":"Кредит!IHY9","v":0},{"$f":"Кредит!IHZ9","v":0},{"$f":"Кредит!IIA9","v":0},{"$f":"Кредит!IIB9","v":0},{"$f":"Кредит!IIC9","v":0},{"$f":"Кредит!IID9","v":0},{"$f":"Кредит!IIE9","v":0},{"$f":"Кредит!IIF9","v":0},{"$f":"Кредит!IIG9","v":0},{"$f":"Кредит!IIH9","v":0},{"$f":"Кредит!III9","v":0},{"$f":"Кредит!IIJ9","v":0},{"$f":"Кредит!IIK9","v":0},{"$f":"Кредит!IIL9","v":0},{"$f":"Кредит!IIM9","v":0},{"$f":"Кредит!IIN9","v":0},{"$f":"Кредит!IIO9","v":0},{"$f":"Кредит!IIP9","v":0},{"$f":"Кредит!IIQ9","v":0},{"$f":"Кредит!IIR9","v":0},{"$f":"Кредит!IIS9","v":0},{"$f":"Кредит!IIT9","v":0},{"$f":"Кредит!IIU9","v":0},{"$f":"Кредит!IIV9","v":0},{"$f":"Кредит!IIW9","v":0},{"$f":"Кредит!IIX9","v":0},{"$f":"Кредит!IIY9","v":0},{"$f":"Кредит!IIZ9","v":0},{"$f":"Кредит!IJA9","v":0},{"$f":"Кредит!IJB9","v":0},{"$f":"Кредит!IJC9","v":0},{"$f":"Кредит!IJD9","v":0},{"$f":"Кредит!IJE9","v":0},{"$f":"Кредит!IJF9","v":0},{"$f":"Кредит!IJG9","v":0},{"$f":"Кредит!IJH9","v":0},{"$f":"Кредит!IJI9","v":0},{"$f":"Кредит!IJJ9","v":0},{"$f":"Кредит!IJK9","v":0},{"$f":"Кредит!IJL9","v":0},{"$f":"Кредит!IJM9","v":0},{"$f":"Кредит!IJN9","v":0},{"$f":"Кредит!IJO9","v":0},{"$f":"Кредит!IJP9","v":0},{"$f":"Кредит!IJQ9","v":0},{"$f":"Кредит!IJR9","v":0},{"$f":"Кредит!IJS9","v":0},{"$f":"Кредит!IJT9","v":0},{"$f":"Кредит!IJU9","v":0},{"$f":"Кредит!IJV9","v":0},{"$f":"Кредит!IJW9","v":0},{"$f":"Кредит!IJX9","v":0},{"$f":"Кредит!IJY9","v":0},{"$f":"Кредит!IJZ9","v":0},{"$f":"Кредит!IKA9","v":0},{"$f":"Кредит!IKB9","v":0},{"$f":"Кредит!IKC9","v":0},{"$f":"Кредит!IKD9","v":0},{"$f":"Кредит!IKE9","v":0},{"$f":"Кредит!IKF9","v":0},{"$f":"Кредит!IKG9","v":0},{"$f":"Кредит!IKH9","v":0},{"$f":"Кредит!IKI9","v":0},{"$f":"Кредит!IKJ9","v":0},{"$f":"Кредит!IKK9","v":0},{"$f":"Кредит!IKL9","v":0},{"$f":"Кредит!IKM9","v":0},{"$f":"Кредит!IKN9","v":0},{"$f":"Кредит!IKO9","v":0},{"$f":"Кредит!IKP9","v":0},{"$f":"Кредит!IKQ9","v":0},{"$f":"Кредит!IKR9","v":0},{"$f":"Кредит!IKS9","v":0},{"$f":"Кредит!IKT9","v":0},{"$f":"Кредит!IKU9","v":0},{"$f":"Кредит!IKV9","v":0},{"$f":"Кредит!IKW9","v":0},{"$f":"Кредит!IKX9","v":0},{"$f":"Кредит!IKY9","v":0},{"$f":"Кредит!IKZ9","v":0},{"$f":"Кредит!ILA9","v":0},{"$f":"Кредит!ILB9","v":0},{"$f":"Кредит!ILC9","v":0},{"$f":"Кредит!ILD9","v":0},{"$f":"Кредит!ILE9","v":0},{"$f":"Кредит!ILF9","v":0},{"$f":"Кредит!ILG9","v":0},{"$f":"Кредит!ILH9","v":0},{"$f":"Кредит!ILI9","v":0},{"$f":"Кредит!ILJ9","v":0},{"$f":"Кредит!ILK9","v":0},{"$f":"Кредит!ILL9","v":0},{"$f":"Кредит!ILM9","v":0},{"$f":"Кредит!ILN9","v":0},{"$f":"Кредит!ILO9","v":0},{"$f":"Кредит!ILP9","v":0},{"$f":"Кредит!ILQ9","v":0},{"$f":"Кредит!ILR9","v":0},{"$f":"Кредит!ILS9","v":0},{"$f":"Кредит!ILT9","v":0},{"$f":"Кредит!ILU9","v":0},{"$f":"Кредит!ILV9","v":0},{"$f":"Кредит!ILW9","v":0},{"$f":"Кредит!ILX9","v":0},{"$f":"Кредит!ILY9","v":0},{"$f":"Кредит!ILZ9","v":0},{"$f":"Кредит!IMA9","v":0},{"$f":"Кредит!IMB9","v":0},{"$f":"Кредит!IMC9","v":0},{"$f":"Кредит!IMD9","v":0},{"$f":"Кредит!IME9","v":0},{"$f":"Кредит!IMF9","v":0},{"$f":"Кредит!IMG9","v":0},{"$f":"Кредит!IMH9","v":0},{"$f":"Кредит!IMI9","v":0},{"$f":"Кредит!IMJ9","v":0},{"$f":"Кредит!IMK9","v":0},{"$f":"Кредит!IML9","v":0},{"$f":"Кредит!IMM9","v":0},{"$f":"Кредит!IMN9","v":0},{"$f":"Кредит!IMO9","v":0},{"$f":"Кредит!IMP9","v":0},{"$f":"Кредит!IMQ9","v":0},{"$f":"Кредит!IMR9","v":0},{"$f":"Кредит!IMS9","v":0},{"$f":"Кредит!IMT9","v":0},{"$f":"Кредит!IMU9","v":0},{"$f":"Кредит!IMV9","v":0},{"$f":"Кредит!IMW9","v":0},{"$f":"Кредит!IMX9","v":0},{"$f":"Кредит!IMY9","v":0},{"$f":"Кредит!IMZ9","v":0},{"$f":"Кредит!INA9","v":0},{"$f":"Кредит!INB9","v":0},{"$f":"Кредит!INC9","v":0},{"$f":"Кредит!IND9","v":0},{"$f":"Кредит!INE9","v":0},{"$f":"Кредит!INF9","v":0},{"$f":"Кредит!ING9","v":0},{"$f":"Кредит!INH9","v":0},{"$f":"Кредит!INI9","v":0},{"$f":"Кредит!INJ9","v":0},{"$f":"Кредит!INK9","v":0},{"$f":"Кредит!INL9","v":0},{"$f":"Кредит!INM9","v":0},{"$f":"Кредит!INN9","v":0},{"$f":"Кредит!INO9","v":0},{"$f":"Кредит!INP9","v":0},{"$f":"Кредит!INQ9","v":0},{"$f":"Кредит!INR9","v":0},{"$f":"Кредит!INS9","v":0},{"$f":"Кредит!INT9","v":0},{"$f":"Кредит!INU9","v":0},{"$f":"Кредит!INV9","v":0},{"$f":"Кредит!INW9","v":0},{"$f":"Кредит!INX9","v":0},{"$f":"Кредит!INY9","v":0},{"$f":"Кредит!INZ9","v":0},{"$f":"Кредит!IOA9","v":0},{"$f":"Кредит!IOB9","v":0},{"$f":"Кредит!IOC9","v":0},{"$f":"Кредит!IOD9","v":0},{"$f":"Кредит!IOE9","v":0},{"$f":"Кредит!IOF9","v":0},{"$f":"Кредит!IOG9","v":0},{"$f":"Кредит!IOH9","v":0},{"$f":"Кредит!IOI9","v":0},{"$f":"Кредит!IOJ9","v":0},{"$f":"Кредит!IOK9","v":0},{"$f":"Кредит!IOL9","v":0},{"$f":"Кредит!IOM9","v":0},{"$f":"Кредит!ION9","v":0},{"$f":"Кредит!IOO9","v":0},{"$f":"Кредит!IOP9","v":0},{"$f":"Кредит!IOQ9","v":0},{"$f":"Кредит!IOR9","v":0},{"$f":"Кредит!IOS9","v":0},{"$f":"Кредит!IOT9","v":0},{"$f":"Кредит!IOU9","v":0},{"$f":"Кредит!IOV9","v":0},{"$f":"Кредит!IOW9","v":0},{"$f":"Кредит!IOX9","v":0},{"$f":"Кредит!IOY9","v":0},{"$f":"Кредит!IOZ9","v":0},{"$f":"Кредит!IPA9","v":0},{"$f":"Кредит!IPB9","v":0},{"$f":"Кредит!IPC9","v":0},{"$f":"Кредит!IPD9","v":0},{"$f":"Кредит!IPE9","v":0},{"$f":"Кредит!IPF9","v":0},{"$f":"Кредит!IPG9","v":0},{"$f":"Кредит!IPH9","v":0},{"$f":"Кредит!IPI9","v":0},{"$f":"Кредит!IPJ9","v":0},{"$f":"Кредит!IPK9","v":0},{"$f":"Кредит!IPL9","v":0},{"$f":"Кредит!IPM9","v":0},{"$f":"Кредит!IPN9","v":0},{"$f":"Кредит!IPO9","v":0},{"$f":"Кредит!IPP9","v":0},{"$f":"Кредит!IPQ9","v":0},{"$f":"Кредит!IPR9","v":0},{"$f":"Кредит!IPS9","v":0},{"$f":"Кредит!IPT9","v":0},{"$f":"Кредит!IPU9","v":0},{"$f":"Кредит!IPV9","v":0},{"$f":"Кредит!IPW9","v":0},{"$f":"Кредит!IPX9","v":0},{"$f":"Кредит!IPY9","v":0},{"$f":"Кредит!IPZ9","v":0},{"$f":"Кредит!IQA9","v":0},{"$f":"Кредит!IQB9","v":0},{"$f":"Кредит!IQC9","v":0},{"$f":"Кредит!IQD9","v":0},{"$f":"Кредит!IQE9","v":0},{"$f":"Кредит!IQF9","v":0},{"$f":"Кредит!IQG9","v":0},{"$f":"Кредит!IQH9","v":0},{"$f":"Кредит!IQI9","v":0},{"$f":"Кредит!IQJ9","v":0},{"$f":"Кредит!IQK9","v":0},{"$f":"Кредит!IQL9","v":0},{"$f":"Кредит!IQM9","v":0},{"$f":"Кредит!IQN9","v":0},{"$f":"Кредит!IQO9","v":0},{"$f":"Кредит!IQP9","v":0},{"$f":"Кредит!IQQ9","v":0},{"$f":"Кредит!IQR9","v":0},{"$f":"Кредит!IQS9","v":0},{"$f":"Кредит!IQT9","v":0},{"$f":"Кредит!IQU9","v":0},{"$f":"Кредит!IQV9","v":0},{"$f":"Кредит!IQW9","v":0},{"$f":"Кредит!IQX9","v":0},{"$f":"Кредит!IQY9","v":0},{"$f":"Кредит!IQZ9","v":0},{"$f":"Кредит!IRA9","v":0},{"$f":"Кредит!IRB9","v":0},{"$f":"Кредит!IRC9","v":0},{"$f":"Кредит!IRD9","v":0},{"$f":"Кредит!IRE9","v":0},{"$f":"Кредит!IRF9","v":0},{"$f":"Кредит!IRG9","v":0},{"$f":"Кредит!IRH9","v":0},{"$f":"Кредит!IRI9","v":0},{"$f":"Кредит!IRJ9","v":0},{"$f":"Кредит!IRK9","v":0},{"$f":"Кредит!IRL9","v":0},{"$f":"Кредит!IRM9","v":0},{"$f":"Кредит!IRN9","v":0},{"$f":"Кредит!IRO9","v":0},{"$f":"Кредит!IRP9","v":0},{"$f":"Кредит!IRQ9","v":0},{"$f":"Кредит!IRR9","v":0},{"$f":"Кредит!IRS9","v":0},{"$f":"Кредит!IRT9","v":0},{"$f":"Кредит!IRU9","v":0},{"$f":"Кредит!IRV9","v":0},{"$f":"Кредит!IRW9","v":0},{"$f":"Кредит!IRX9","v":0},{"$f":"Кредит!IRY9","v":0},{"$f":"Кредит!IRZ9","v":0},{"$f":"Кредит!ISA9","v":0},{"$f":"Кредит!ISB9","v":0},{"$f":"Кредит!ISC9","v":0},{"$f":"Кредит!ISD9","v":0},{"$f":"Кредит!ISE9","v":0},{"$f":"Кредит!ISF9","v":0},{"$f":"Кредит!ISG9","v":0},{"$f":"Кредит!ISH9","v":0},{"$f":"Кредит!ISI9","v":0},{"$f":"Кредит!ISJ9","v":0},{"$f":"Кредит!ISK9","v":0},{"$f":"Кредит!ISL9","v":0},{"$f":"Кредит!ISM9","v":0},{"$f":"Кредит!ISN9","v":0},{"$f":"Кредит!ISO9","v":0},{"$f":"Кредит!ISP9","v":0},{"$f":"Кредит!ISQ9","v":0},{"$f":"Кредит!ISR9","v":0},{"$f":"Кредит!ISS9","v":0},{"$f":"Кредит!IST9","v":0},{"$f":"Кредит!ISU9","v":0},{"$f":"Кредит!ISV9","v":0},{"$f":"Кредит!ISW9","v":0},{"$f":"Кредит!ISX9","v":0},{"$f":"Кредит!ISY9","v":0},{"$f":"Кредит!ISZ9","v":0},{"$f":"Кредит!ITA9","v":0},{"$f":"Кредит!ITB9","v":0},{"$f":"Кредит!ITC9","v":0},{"$f":"Кредит!ITD9","v":0},{"$f":"Кредит!ITE9","v":0},{"$f":"Кредит!ITF9","v":0},{"$f":"Кредит!ITG9","v":0},{"$f":"Кредит!ITH9","v":0},{"$f":"Кредит!ITI9","v":0},{"$f":"Кредит!ITJ9","v":0},{"$f":"Кредит!ITK9","v":0},{"$f":"Кредит!ITL9","v":0},{"$f":"Кредит!ITM9","v":0},{"$f":"Кредит!ITN9","v":0},{"$f":"Кредит!ITO9","v":0},{"$f":"Кредит!ITP9","v":0},{"$f":"Кредит!ITQ9","v":0},{"$f":"Кредит!ITR9","v":0},{"$f":"Кредит!ITS9","v":0},{"$f":"Кредит!ITT9","v":0},{"$f":"Кредит!ITU9","v":0},{"$f":"Кредит!ITV9","v":0},{"$f":"Кредит!ITW9","v":0},{"$f":"Кредит!ITX9","v":0},{"$f":"Кредит!ITY9","v":0},{"$f":"Кредит!ITZ9","v":0},{"$f":"Кредит!IUA9","v":0},{"$f":"Кредит!IUB9","v":0},{"$f":"Кредит!IUC9","v":0},{"$f":"Кредит!IUD9","v":0},{"$f":"Кредит!IUE9","v":0},{"$f":"Кредит!IUF9","v":0},{"$f":"Кредит!IUG9","v":0},{"$f":"Кредит!IUH9","v":0},{"$f":"Кредит!IUI9","v":0},{"$f":"Кредит!IUJ9","v":0},{"$f":"Кредит!IUK9","v":0},{"$f":"Кредит!IUL9","v":0},{"$f":"Кредит!IUM9","v":0},{"$f":"Кредит!IUN9","v":0},{"$f":"Кредит!IUO9","v":0},{"$f":"Кредит!IUP9","v":0},{"$f":"Кредит!IUQ9","v":0},{"$f":"Кредит!IUR9","v":0},{"$f":"Кредит!IUS9","v":0},{"$f":"Кредит!IUT9","v":0},{"$f":"Кредит!IUU9","v":0},{"$f":"Кредит!IUV9","v":0},{"$f":"Кредит!IUW9","v":0},{"$f":"Кредит!IUX9","v":0},{"$f":"Кредит!IUY9","v":0},{"$f":"Кредит!IUZ9","v":0},{"$f":"Кредит!IVA9","v":0},{"$f":"Кредит!IVB9","v":0},{"$f":"Кредит!IVC9","v":0},{"$f":"Кредит!IVD9","v":0},{"$f":"Кредит!IVE9","v":0},{"$f":"Кредит!IVF9","v":0},{"$f":"Кредит!IVG9","v":0},{"$f":"Кредит!IVH9","v":0},{"$f":"Кредит!IVI9","v":0},{"$f":"Кредит!IVJ9","v":0},{"$f":"Кредит!IVK9","v":0},{"$f":"Кредит!IVL9","v":0},{"$f":"Кредит!IVM9","v":0},{"$f":"Кредит!IVN9","v":0},{"$f":"Кредит!IVO9","v":0},{"$f":"Кредит!IVP9","v":0},{"$f":"Кредит!IVQ9","v":0},{"$f":"Кредит!IVR9","v":0},{"$f":"Кредит!IVS9","v":0},{"$f":"Кредит!IVT9","v":0},{"$f":"Кредит!IVU9","v":0},{"$f":"Кредит!IVV9","v":0},{"$f":"Кредит!IVW9","v":0},{"$f":"Кредит!IVX9","v":0},{"$f":"Кредит!IVY9","v":0},{"$f":"Кредит!IVZ9","v":0},{"$f":"Кредит!IWA9","v":0},{"$f":"Кредит!IWB9","v":0},{"$f":"Кредит!IWC9","v":0},{"$f":"Кредит!IWD9","v":0},{"$f":"Кредит!IWE9","v":0},{"$f":"Кредит!IWF9","v":0},{"$f":"Кредит!IWG9","v":0},{"$f":"Кредит!IWH9","v":0},{"$f":"Кредит!IWI9","v":0},{"$f":"Кредит!IWJ9","v":0},{"$f":"Кредит!IWK9","v":0},{"$f":"Кредит!IWL9","v":0},{"$f":"Кредит!IWM9","v":0},{"$f":"Кредит!IWN9","v":0},{"$f":"Кредит!IWO9","v":0},{"$f":"Кредит!IWP9","v":0},{"$f":"Кредит!IWQ9","v":0},{"$f":"Кредит!IWR9","v":0},{"$f":"Кредит!IWS9","v":0},{"$f":"Кредит!IWT9","v":0},{"$f":"Кредит!IWU9","v":0},{"$f":"Кредит!IWV9","v":0},{"$f":"Кредит!IWW9","v":0},{"$f":"Кредит!IWX9","v":0},{"$f":"Кредит!IWY9","v":0},{"$f":"Кредит!IWZ9","v":0},{"$f":"Кредит!IXA9","v":0},{"$f":"Кредит!IXB9","v":0},{"$f":"Кредит!IXC9","v":0},{"$f":"Кредит!IXD9","v":0},{"$f":"Кредит!IXE9","v":0},{"$f":"Кредит!IXF9","v":0},{"$f":"Кредит!IXG9","v":0},{"$f":"Кредит!IXH9","v":0},{"$f":"Кредит!IXI9","v":0},{"$f":"Кредит!IXJ9","v":0},{"$f":"Кредит!IXK9","v":0},{"$f":"Кредит!IXL9","v":0},{"$f":"Кредит!IXM9","v":0},{"$f":"Кредит!IXN9","v":0},{"$f":"Кредит!IXO9","v":0},{"$f":"Кредит!IXP9","v":0},{"$f":"Кредит!IXQ9","v":0},{"$f":"Кредит!IXR9","v":0},{"$f":"Кредит!IXS9","v":0},{"$f":"Кредит!IXT9","v":0},{"$f":"Кредит!IXU9","v":0},{"$f":"Кредит!IXV9","v":0},{"$f":"Кредит!IXW9","v":0},{"$f":"Кредит!IXX9","v":0},{"$f":"Кредит!IXY9","v":0},{"$f":"Кредит!IXZ9","v":0},{"$f":"Кредит!IYA9","v":0},{"$f":"Кредит!IYB9","v":0},{"$f":"Кредит!IYC9","v":0},{"$f":"Кредит!IYD9","v":0},{"$f":"Кредит!IYE9","v":0},{"$f":"Кредит!IYF9","v":0},{"$f":"Кредит!IYG9","v":0},{"$f":"Кредит!IYH9","v":0},{"$f":"Кредит!IYI9","v":0},{"$f":"Кредит!IYJ9","v":0},{"$f":"Кредит!IYK9","v":0},{"$f":"Кредит!IYL9","v":0},{"$f":"Кредит!IYM9","v":0},{"$f":"Кредит!IYN9","v":0},{"$f":"Кредит!IYO9","v":0},{"$f":"Кредит!IYP9","v":0},{"$f":"Кредит!IYQ9","v":0},{"$f":"Кредит!IYR9","v":0},{"$f":"Кредит!IYS9","v":0},{"$f":"Кредит!IYT9","v":0},{"$f":"Кредит!IYU9","v":0},{"$f":"Кредит!IYV9","v":0},{"$f":"Кредит!IYW9","v":0},{"$f":"Кредит!IYX9","v":0},{"$f":"Кредит!IYY9","v":0},{"$f":"Кредит!IYZ9","v":0},{"$f":"Кредит!IZA9","v":0},{"$f":"Кредит!IZB9","v":0},{"$f":"Кредит!IZC9","v":0},{"$f":"Кредит!IZD9","v":0},{"$f":"Кредит!IZE9","v":0},{"$f":"Кредит!IZF9","v":0},{"$f":"Кредит!IZG9","v":0},{"$f":"Кредит!IZH9","v":0},{"$f":"Кредит!IZI9","v":0},{"$f":"Кредит!IZJ9","v":0},{"$f":"Кредит!IZK9","v":0},{"$f":"Кредит!IZL9","v":0},{"$f":"Кредит!IZM9","v":0},{"$f":"Кредит!IZN9","v":0},{"$f":"Кредит!IZO9","v":0},{"$f":"Кредит!IZP9","v":0},{"$f":"Кредит!IZQ9","v":0},{"$f":"Кредит!IZR9","v":0},{"$f":"Кредит!IZS9","v":0},{"$f":"Кредит!IZT9","v":0},{"$f":"Кредит!IZU9","v":0},{"$f":"Кредит!IZV9","v":0},{"$f":"Кредит!IZW9","v":0},{"$f":"Кредит!IZX9","v":0},{"$f":"Кредит!IZY9","v":0},{"$f":"Кредит!IZZ9","v":0},{"$f":"Кредит!JAA9","v":0},{"$f":"Кредит!JAB9","v":0},{"$f":"Кредит!JAC9","v":0},{"$f":"Кредит!JAD9","v":0},{"$f":"Кредит!JAE9","v":0},{"$f":"Кредит!JAF9","v":0},{"$f":"Кредит!JAG9","v":0},{"$f":"Кредит!JAH9","v":0},{"$f":"Кредит!JAI9","v":0},{"$f":"Кредит!JAJ9","v":0},{"$f":"Кредит!JAK9","v":0},{"$f":"Кредит!JAL9","v":0},{"$f":"Кредит!JAM9","v":0},{"$f":"Кредит!JAN9","v":0},{"$f":"Кредит!JAO9","v":0},{"$f":"Кредит!JAP9","v":0},{"$f":"Кредит!JAQ9","v":0},{"$f":"Кредит!JAR9","v":0},{"$f":"Кредит!JAS9","v":0},{"$f":"Кредит!JAT9","v":0},{"$f":"Кредит!JAU9","v":0},{"$f":"Кредит!JAV9","v":0},{"$f":"Кредит!JAW9","v":0},{"$f":"Кредит!JAX9","v":0},{"$f":"Кредит!JAY9","v":0},{"$f":"Кредит!JAZ9","v":0},{"$f":"Кредит!JBA9","v":0},{"$f":"Кредит!JBB9","v":0},{"$f":"Кредит!JBC9","v":0},{"$f":"Кредит!JBD9","v":0},{"$f":"Кредит!JBE9","v":0},{"$f":"Кредит!JBF9","v":0},{"$f":"Кредит!JBG9","v":0},{"$f":"Кредит!JBH9","v":0},{"$f":"Кредит!JBI9","v":0},{"$f":"Кредит!JBJ9","v":0},{"$f":"Кредит!JBK9","v":0},{"$f":"Кредит!JBL9","v":0},{"$f":"Кредит!JBM9","v":0},{"$f":"Кредит!JBN9","v":0},{"$f":"Кредит!JBO9","v":0},{"$f":"Кредит!JBP9","v":0},{"$f":"Кредит!JBQ9","v":0},{"$f":"Кредит!JBR9","v":0},{"$f":"Кредит!JBS9","v":0},{"$f":"Кредит!JBT9","v":0},{"$f":"Кредит!JBU9","v":0},{"$f":"Кредит!JBV9","v":0},{"$f":"Кредит!JBW9","v":0},{"$f":"Кредит!JBX9","v":0},{"$f":"Кредит!JBY9","v":0},{"$f":"Кредит!JBZ9","v":0},{"$f":"Кредит!JCA9","v":0},{"$f":"Кредит!JCB9","v":0},{"$f":"Кредит!JCC9","v":0},{"$f":"Кредит!JCD9","v":0},{"$f":"Кредит!JCE9","v":0},{"$f":"Кредит!JCF9","v":0},{"$f":"Кредит!JCG9","v":0},{"$f":"Кредит!JCH9","v":0},{"$f":"Кредит!JCI9","v":0},{"$f":"Кредит!JCJ9","v":0},{"$f":"Кредит!JCK9","v":0},{"$f":"Кредит!JCL9","v":0},{"$f":"Кредит!JCM9","v":0},{"$f":"Кредит!JCN9","v":0},{"$f":"Кредит!JCO9","v":0},{"$f":"Кредит!JCP9","v":0},{"$f":"Кредит!JCQ9","v":0},{"$f":"Кредит!JCR9","v":0},{"$f":"Кредит!JCS9","v":0},{"$f":"Кредит!JCT9","v":0},{"$f":"Кредит!JCU9","v":0},{"$f":"Кредит!JCV9","v":0},{"$f":"Кредит!JCW9","v":0},{"$f":"Кредит!JCX9","v":0},{"$f":"Кредит!JCY9","v":0},{"$f":"Кредит!JCZ9","v":0},{"$f":"Кредит!JDA9","v":0},{"$f":"Кредит!JDB9","v":0},{"$f":"Кредит!JDC9","v":0},{"$f":"Кредит!JDD9","v":0},{"$f":"Кредит!JDE9","v":0},{"$f":"Кредит!JDF9","v":0},{"$f":"Кредит!JDG9","v":0},{"$f":"Кредит!JDH9","v":0},{"$f":"Кредит!JDI9","v":0},{"$f":"Кредит!JDJ9","v":0},{"$f":"Кредит!JDK9","v":0},{"$f":"Кредит!JDL9","v":0},{"$f":"Кредит!JDM9","v":0},{"$f":"Кредит!JDN9","v":0},{"$f":"Кредит!JDO9","v":0},{"$f":"Кредит!JDP9","v":0},{"$f":"Кредит!JDQ9","v":0},{"$f":"Кредит!JDR9","v":0},{"$f":"Кредит!JDS9","v":0},{"$f":"Кредит!JDT9","v":0},{"$f":"Кредит!JDU9","v":0},{"$f":"Кредит!JDV9","v":0},{"$f":"Кредит!JDW9","v":0},{"$f":"Кредит!JDX9","v":0},{"$f":"Кредит!JDY9","v":0},{"$f":"Кредит!JDZ9","v":0},{"$f":"Кредит!JEA9","v":0},{"$f":"Кредит!JEB9","v":0},{"$f":"Кредит!JEC9","v":0},{"$f":"Кредит!JED9","v":0},{"$f":"Кредит!JEE9","v":0},{"$f":"Кредит!JEF9","v":0},{"$f":"Кредит!JEG9","v":0},{"$f":"Кредит!JEH9","v":0},{"$f":"Кредит!JEI9","v":0},{"$f":"Кредит!JEJ9","v":0},{"$f":"Кредит!JEK9","v":0},{"$f":"Кредит!JEL9","v":0},{"$f":"Кредит!JEM9","v":0},{"$f":"Кредит!JEN9","v":0},{"$f":"Кредит!JEO9","v":0},{"$f":"Кредит!JEP9","v":0},{"$f":"Кредит!JEQ9","v":0},{"$f":"Кредит!JER9","v":0},{"$f":"Кредит!JES9","v":0},{"$f":"Кредит!JET9","v":0},{"$f":"Кредит!JEU9","v":0},{"$f":"Кредит!JEV9","v":0},{"$f":"Кредит!JEW9","v":0},{"$f":"Кредит!JEX9","v":0},{"$f":"Кредит!JEY9","v":0},{"$f":"Кредит!JEZ9","v":0},{"$f":"Кредит!JFA9","v":0},{"$f":"Кредит!JFB9","v":0},{"$f":"Кредит!JFC9","v":0},{"$f":"Кредит!JFD9","v":0},{"$f":"Кредит!JFE9","v":0},{"$f":"Кредит!JFF9","v":0},{"$f":"Кредит!JFG9","v":0},{"$f":"Кредит!JFH9","v":0},{"$f":"Кредит!JFI9","v":0},{"$f":"Кредит!JFJ9","v":0},{"$f":"Кредит!JFK9","v":0},{"$f":"Кредит!JFL9","v":0},{"$f":"Кредит!JFM9","v":0},{"$f":"Кредит!JFN9","v":0},{"$f":"Кредит!JFO9","v":0},{"$f":"Кредит!JFP9","v":0},{"$f":"Кредит!JFQ9","v":0},{"$f":"Кредит!JFR9","v":0},{"$f":"Кредит!JFS9","v":0},{"$f":"Кредит!JFT9","v":0},{"$f":"Кредит!JFU9","v":0},{"$f":"Кредит!JFV9","v":0},{"$f":"Кредит!JFW9","v":0},{"$f":"Кредит!JFX9","v":0},{"$f":"Кредит!JFY9","v":0},{"$f":"Кредит!JFZ9","v":0},{"$f":"Кредит!JGA9","v":0},{"$f":"Кредит!JGB9","v":0},{"$f":"Кредит!JGC9","v":0},{"$f":"Кредит!JGD9","v":0},{"$f":"Кредит!JGE9","v":0},{"$f":"Кредит!JGF9","v":0},{"$f":"Кредит!JGG9","v":0},{"$f":"Кредит!JGH9","v":0},{"$f":"Кредит!JGI9","v":0},{"$f":"Кредит!JGJ9","v":0},{"$f":"Кредит!JGK9","v":0},{"$f":"Кредит!JGL9","v":0},{"$f":"Кредит!JGM9","v":0},{"$f":"Кредит!JGN9","v":0},{"$f":"Кредит!JGO9","v":0},{"$f":"Кредит!JGP9","v":0},{"$f":"Кредит!JGQ9","v":0},{"$f":"Кредит!JGR9","v":0},{"$f":"Кредит!JGS9","v":0},{"$f":"Кредит!JGT9","v":0},{"$f":"Кредит!JGU9","v":0},{"$f":"Кредит!JGV9","v":0},{"$f":"Кредит!JGW9","v":0},{"$f":"Кредит!JGX9","v":0},{"$f":"Кредит!JGY9","v":0},{"$f":"Кредит!JGZ9","v":0},{"$f":"Кредит!JHA9","v":0},{"$f":"Кредит!JHB9","v":0},{"$f":"Кредит!JHC9","v":0},{"$f":"Кредит!JHD9","v":0},{"$f":"Кредит!JHE9","v":0},{"$f":"Кредит!JHF9","v":0},{"$f":"Кредит!JHG9","v":0},{"$f":"Кредит!JHH9","v":0},{"$f":"Кредит!JHI9","v":0},{"$f":"Кредит!JHJ9","v":0},{"$f":"Кредит!JHK9","v":0},{"$f":"Кредит!JHL9","v":0},{"$f":"Кредит!JHM9","v":0},{"$f":"Кредит!JHN9","v":0},{"$f":"Кредит!JHO9","v":0},{"$f":"Кредит!JHP9","v":0},{"$f":"Кредит!JHQ9","v":0},{"$f":"Кредит!JHR9","v":0},{"$f":"Кредит!JHS9","v":0},{"$f":"Кредит!JHT9","v":0},{"$f":"Кредит!JHU9","v":0},{"$f":"Кредит!JHV9","v":0},{"$f":"Кредит!JHW9","v":0},{"$f":"Кредит!JHX9","v":0},{"$f":"Кредит!JHY9","v":0},{"$f":"Кредит!JHZ9","v":0},{"$f":"Кредит!JIA9","v":0},{"$f":"Кредит!JIB9","v":0},{"$f":"Кредит!JIC9","v":0},{"$f":"Кредит!JID9","v":0},{"$f":"Кредит!JIE9","v":0},{"$f":"Кредит!JIF9","v":0},{"$f":"Кредит!JIG9","v":0},{"$f":"Кредит!JIH9","v":0},{"$f":"Кредит!JII9","v":0},{"$f":"Кредит!JIJ9","v":0},{"$f":"Кредит!JIK9","v":0},{"$f":"Кредит!JIL9","v":0},{"$f":"Кредит!JIM9","v":0},{"$f":"Кредит!JIN9","v":0},{"$f":"Кредит!JIO9","v":0},{"$f":"Кредит!JIP9","v":0},{"$f":"Кредит!JIQ9","v":0},{"$f":"Кредит!JIR9","v":0},{"$f":"Кредит!JIS9","v":0},{"$f":"Кредит!JIT9","v":0},{"$f":"Кредит!JIU9","v":0},{"$f":"Кредит!JIV9","v":0},{"$f":"Кредит!JIW9","v":0},{"$f":"Кредит!JIX9","v":0},{"$f":"Кредит!JIY9","v":0},{"$f":"Кредит!JIZ9","v":0},{"$f":"Кредит!JJA9","v":0},{"$f":"Кредит!JJB9","v":0},{"$f":"Кредит!JJC9","v":0},{"$f":"Кредит!JJD9","v":0},{"$f":"Кредит!JJE9","v":0},{"$f":"Кредит!JJF9","v":0},{"$f":"Кредит!JJG9","v":0},{"$f":"Кредит!JJH9","v":0},{"$f":"Кредит!JJI9","v":0},{"$f":"Кредит!JJJ9","v":0},{"$f":"Кредит!JJK9","v":0},{"$f":"Кредит!JJL9","v":0},{"$f":"Кредит!JJM9","v":0},{"$f":"Кредит!JJN9","v":0},{"$f":"Кредит!JJO9","v":0},{"$f":"Кредит!JJP9","v":0},{"$f":"Кредит!JJQ9","v":0},{"$f":"Кредит!JJR9","v":0},{"$f":"Кредит!JJS9","v":0},{"$f":"Кредит!JJT9","v":0},{"$f":"Кредит!JJU9","v":0},{"$f":"Кредит!JJV9","v":0},{"$f":"Кредит!JJW9","v":0},{"$f":"Кредит!JJX9","v":0},{"$f":"Кредит!JJY9","v":0},{"$f":"Кредит!JJZ9","v":0},{"$f":"Кредит!JKA9","v":0},{"$f":"Кредит!JKB9","v":0},{"$f":"Кредит!JKC9","v":0},{"$f":"Кредит!JKD9","v":0},{"$f":"Кредит!JKE9","v":0},{"$f":"Кредит!JKF9","v":0},{"$f":"Кредит!JKG9","v":0},{"$f":"Кредит!JKH9","v":0},{"$f":"Кредит!JKI9","v":0},{"$f":"Кредит!JKJ9","v":0},{"$f":"Кредит!JKK9","v":0},{"$f":"Кредит!JKL9","v":0},{"$f":"Кредит!JKM9","v":0},{"$f":"Кредит!JKN9","v":0},{"$f":"Кредит!JKO9","v":0},{"$f":"Кредит!JKP9","v":0},{"$f":"Кредит!JKQ9","v":0},{"$f":"Кредит!JKR9","v":0},{"$f":"Кредит!JKS9","v":0},{"$f":"Кредит!JKT9","v":0},{"$f":"Кредит!JKU9","v":0},{"$f":"Кредит!JKV9","v":0},{"$f":"Кредит!JKW9","v":0},{"$f":"Кредит!JKX9","v":0},{"$f":"Кредит!JKY9","v":0},{"$f":"Кредит!JKZ9","v":0},{"$f":"Кредит!JLA9","v":0},{"$f":"Кредит!JLB9","v":0},{"$f":"Кредит!JLC9","v":0},{"$f":"Кредит!JLD9","v":0},{"$f":"Кредит!JLE9","v":0},{"$f":"Кредит!JLF9","v":0},{"$f":"Кредит!JLG9","v":0},{"$f":"Кредит!JLH9","v":0},{"$f":"Кредит!JLI9","v":0},{"$f":"Кредит!JLJ9","v":0},{"$f":"Кредит!JLK9","v":0},{"$f":"Кредит!JLL9","v":0},{"$f":"Кредит!JLM9","v":0},{"$f":"Кредит!JLN9","v":0},{"$f":"Кредит!JLO9","v":0},{"$f":"Кредит!JLP9","v":0},{"$f":"Кредит!JLQ9","v":0},{"$f":"Кредит!JLR9","v":0},{"$f":"Кредит!JLS9","v":0},{"$f":"Кредит!JLT9","v":0},{"$f":"Кредит!JLU9","v":0},{"$f":"Кредит!JLV9","v":0},{"$f":"Кредит!JLW9","v":0},{"$f":"Кредит!JLX9","v":0},{"$f":"Кредит!JLY9","v":0},{"$f":"Кредит!JLZ9","v":0},{"$f":"Кредит!JMA9","v":0},{"$f":"Кредит!JMB9","v":0},{"$f":"Кредит!JMC9","v":0},{"$f":"Кредит!JMD9","v":0},{"$f":"Кредит!JME9","v":0},{"$f":"Кредит!JMF9","v":0},{"$f":"Кредит!JMG9","v":0},{"$f":"Кредит!JMH9","v":0},{"$f":"Кредит!JMI9","v":0},{"$f":"Кредит!JMJ9","v":0},{"$f":"Кредит!JMK9","v":0},{"$f":"Кредит!JML9","v":0},{"$f":"Кредит!JMM9","v":0},{"$f":"Кредит!JMN9","v":0},{"$f":"Кредит!JMO9","v":0},{"$f":"Кредит!JMP9","v":0},{"$f":"Кредит!JMQ9","v":0},{"$f":"Кредит!JMR9","v":0},{"$f":"Кредит!JMS9","v":0},{"$f":"Кредит!JMT9","v":0},{"$f":"Кредит!JMU9","v":0},{"$f":"Кредит!JMV9","v":0},{"$f":"Кредит!JMW9","v":0},{"$f":"Кредит!JMX9","v":0},{"$f":"Кредит!JMY9","v":0},{"$f":"Кредит!JMZ9","v":0},{"$f":"Кредит!JNA9","v":0},{"$f":"Кредит!JNB9","v":0},{"$f":"Кредит!JNC9","v":0},{"$f":"Кредит!JND9","v":0},{"$f":"Кредит!JNE9","v":0},{"$f":"Кредит!JNF9","v":0},{"$f":"Кредит!JNG9","v":0},{"$f":"Кредит!JNH9","v":0},{"$f":"Кредит!JNI9","v":0},{"$f":"Кредит!JNJ9","v":0},{"$f":"Кредит!JNK9","v":0},{"$f":"Кредит!JNL9","v":0},{"$f":"Кредит!JNM9","v":0},{"$f":"Кредит!JNN9","v":0},{"$f":"Кредит!JNO9","v":0},{"$f":"Кредит!JNP9","v":0},{"$f":"Кредит!JNQ9","v":0},{"$f":"Кредит!JNR9","v":0},{"$f":"Кредит!JNS9","v":0},{"$f":"Кредит!JNT9","v":0},{"$f":"Кредит!JNU9","v":0},{"$f":"Кредит!JNV9","v":0},{"$f":"Кредит!JNW9","v":0},{"$f":"Кредит!JNX9","v":0},{"$f":"Кредит!JNY9","v":0},{"$f":"Кредит!JNZ9","v":0},{"$f":"Кредит!JOA9","v":0},{"$f":"Кредит!JOB9","v":0},{"$f":"Кредит!JOC9","v":0},{"$f":"Кредит!JOD9","v":0},{"$f":"Кредит!JOE9","v":0},{"$f":"Кредит!JOF9","v":0},{"$f":"Кредит!JOG9","v":0},{"$f":"Кредит!JOH9","v":0},{"$f":"Кредит!JOI9","v":0},{"$f":"Кредит!JOJ9","v":0},{"$f":"Кредит!JOK9","v":0},{"$f":"Кредит!JOL9","v":0},{"$f":"Кредит!JOM9","v":0},{"$f":"Кредит!JON9","v":0},{"$f":"Кредит!JOO9","v":0},{"$f":"Кредит!JOP9","v":0},{"$f":"Кредит!JOQ9","v":0},{"$f":"Кредит!JOR9","v":0},{"$f":"Кредит!JOS9","v":0},{"$f":"Кредит!JOT9","v":0},{"$f":"Кредит!JOU9","v":0},{"$f":"Кредит!JOV9","v":0},{"$f":"Кредит!JOW9","v":0},{"$f":"Кредит!JOX9","v":0},{"$f":"Кредит!JOY9","v":0},{"$f":"Кредит!JOZ9","v":0},{"$f":"Кредит!JPA9","v":0},{"$f":"Кредит!JPB9","v":0},{"$f":"Кредит!JPC9","v":0},{"$f":"Кредит!JPD9","v":0},{"$f":"Кредит!JPE9","v":0},{"$f":"Кредит!JPF9","v":0},{"$f":"Кредит!JPG9","v":0},{"$f":"Кредит!JPH9","v":0},{"$f":"Кредит!JPI9","v":0},{"$f":"Кредит!JPJ9","v":0},{"$f":"Кредит!JPK9","v":0},{"$f":"Кредит!JPL9","v":0},{"$f":"Кредит!JPM9","v":0},{"$f":"Кредит!JPN9","v":0},{"$f":"Кредит!JPO9","v":0},{"$f":"Кредит!JPP9","v":0},{"$f":"Кредит!JPQ9","v":0},{"$f":"Кредит!JPR9","v":0},{"$f":"Кредит!JPS9","v":0},{"$f":"Кредит!JPT9","v":0},{"$f":"Кредит!JPU9","v":0},{"$f":"Кредит!JPV9","v":0},{"$f":"Кредит!JPW9","v":0},{"$f":"Кредит!JPX9","v":0},{"$f":"Кредит!JPY9","v":0},{"$f":"Кредит!JPZ9","v":0},{"$f":"Кредит!JQA9","v":0},{"$f":"Кредит!JQB9","v":0},{"$f":"Кредит!JQC9","v":0},{"$f":"Кредит!JQD9","v":0},{"$f":"Кредит!JQE9","v":0},{"$f":"Кредит!JQF9","v":0},{"$f":"Кредит!JQG9","v":0},{"$f":"Кредит!JQH9","v":0},{"$f":"Кредит!JQI9","v":0},{"$f":"Кредит!JQJ9","v":0},{"$f":"Кредит!JQK9","v":0},{"$f":"Кредит!JQL9","v":0},{"$f":"Кредит!JQM9","v":0},{"$f":"Кредит!JQN9","v":0},{"$f":"Кредит!JQO9","v":0},{"$f":"Кредит!JQP9","v":0},{"$f":"Кредит!JQQ9","v":0},{"$f":"Кредит!JQR9","v":0},{"$f":"Кредит!JQS9","v":0},{"$f":"Кредит!JQT9","v":0},{"$f":"Кредит!JQU9","v":0},{"$f":"Кредит!JQV9","v":0},{"$f":"Кредит!JQW9","v":0},{"$f":"Кредит!JQX9","v":0},{"$f":"Кредит!JQY9","v":0},{"$f":"Кредит!JQZ9","v":0},{"$f":"Кредит!JRA9","v":0},{"$f":"Кредит!JRB9","v":0},{"$f":"Кредит!JRC9","v":0},{"$f":"Кредит!JRD9","v":0},{"$f":"Кредит!JRE9","v":0},{"$f":"Кредит!JRF9","v":0},{"$f":"Кредит!JRG9","v":0},{"$f":"Кредит!JRH9","v":0},{"$f":"Кредит!JRI9","v":0},{"$f":"Кредит!JRJ9","v":0},{"$f":"Кредит!JRK9","v":0},{"$f":"Кредит!JRL9","v":0},{"$f":"Кредит!JRM9","v":0},{"$f":"Кредит!JRN9","v":0},{"$f":"Кредит!JRO9","v":0},{"$f":"Кредит!JRP9","v":0},{"$f":"Кредит!JRQ9","v":0},{"$f":"Кредит!JRR9","v":0},{"$f":"Кредит!JRS9","v":0},{"$f":"Кредит!JRT9","v":0},{"$f":"Кредит!JRU9","v":0},{"$f":"Кредит!JRV9","v":0},{"$f":"Кредит!JRW9","v":0},{"$f":"Кредит!JRX9","v":0},{"$f":"Кредит!JRY9","v":0},{"$f":"Кредит!JRZ9","v":0},{"$f":"Кредит!JSA9","v":0},{"$f":"Кредит!JSB9","v":0},{"$f":"Кредит!JSC9","v":0},{"$f":"Кредит!JSD9","v":0},{"$f":"Кредит!JSE9","v":0},{"$f":"Кредит!JSF9","v":0},{"$f":"Кредит!JSG9","v":0},{"$f":"Кредит!JSH9","v":0},{"$f":"Кредит!JSI9","v":0},{"$f":"Кредит!JSJ9","v":0},{"$f":"Кредит!JSK9","v":0},{"$f":"Кредит!JSL9","v":0},{"$f":"Кредит!JSM9","v":0},{"$f":"Кредит!JSN9","v":0},{"$f":"Кредит!JSO9","v":0},{"$f":"Кредит!JSP9","v":0},{"$f":"Кредит!JSQ9","v":0},{"$f":"Кредит!JSR9","v":0},{"$f":"Кредит!JSS9","v":0},{"$f":"Кредит!JST9","v":0},{"$f":"Кредит!JSU9","v":0},{"$f":"Кредит!JSV9","v":0},{"$f":"Кредит!JSW9","v":0},{"$f":"Кредит!JSX9","v":0},{"$f":"Кредит!JSY9","v":0},{"$f":"Кредит!JSZ9","v":0},{"$f":"Кредит!JTA9","v":0},{"$f":"Кредит!JTB9","v":0},{"$f":"Кредит!JTC9","v":0},{"$f":"Кредит!JTD9","v":0},{"$f":"Кредит!JTE9","v":0},{"$f":"Кредит!JTF9","v":0},{"$f":"Кредит!JTG9","v":0},{"$f":"Кредит!JTH9","v":0},{"$f":"Кредит!JTI9","v":0},{"$f":"Кредит!JTJ9","v":0},{"$f":"Кредит!JTK9","v":0},{"$f":"Кредит!JTL9","v":0},{"$f":"Кредит!JTM9","v":0},{"$f":"Кредит!JTN9","v":0},{"$f":"Кредит!JTO9","v":0},{"$f":"Кредит!JTP9","v":0},{"$f":"Кредит!JTQ9","v":0},{"$f":"Кредит!JTR9","v":0},{"$f":"Кредит!JTS9","v":0},{"$f":"Кредит!JTT9","v":0},{"$f":"Кредит!JTU9","v":0},{"$f":"Кредит!JTV9","v":0},{"$f":"Кредит!JTW9","v":0},{"$f":"Кредит!JTX9","v":0},{"$f":"Кредит!JTY9","v":0},{"$f":"Кредит!JTZ9","v":0},{"$f":"Кредит!JUA9","v":0},{"$f":"Кредит!JUB9","v":0},{"$f":"Кредит!JUC9","v":0},{"$f":"Кредит!JUD9","v":0},{"$f":"Кредит!JUE9","v":0},{"$f":"Кредит!JUF9","v":0},{"$f":"Кредит!JUG9","v":0},{"$f":"Кредит!JUH9","v":0},{"$f":"Кредит!JUI9","v":0},{"$f":"Кредит!JUJ9","v":0},{"$f":"Кредит!JUK9","v":0},{"$f":"Кредит!JUL9","v":0},{"$f":"Кредит!JUM9","v":0},{"$f":"Кредит!JUN9","v":0},{"$f":"Кредит!JUO9","v":0},{"$f":"Кредит!JUP9","v":0},{"$f":"Кредит!JUQ9","v":0},{"$f":"Кредит!JUR9","v":0},{"$f":"Кредит!JUS9","v":0},{"$f":"Кредит!JUT9","v":0},{"$f":"Кредит!JUU9","v":0},{"$f":"Кредит!JUV9","v":0},{"$f":"Кредит!JUW9","v":0},{"$f":"Кредит!JUX9","v":0},{"$f":"Кредит!JUY9","v":0},{"$f":"Кредит!JUZ9","v":0},{"$f":"Кредит!JVA9","v":0},{"$f":"Кредит!JVB9","v":0},{"$f":"Кредит!JVC9","v":0},{"$f":"Кредит!JVD9","v":0},{"$f":"Кредит!JVE9","v":0},{"$f":"Кредит!JVF9","v":0},{"$f":"Кредит!JVG9","v":0},{"$f":"Кредит!JVH9","v":0},{"$f":"Кредит!JVI9","v":0},{"$f":"Кредит!JVJ9","v":0},{"$f":"Кредит!JVK9","v":0},{"$f":"Кредит!JVL9","v":0},{"$f":"Кредит!JVM9","v":0},{"$f":"Кредит!JVN9","v":0},{"$f":"Кредит!JVO9","v":0},{"$f":"Кредит!JVP9","v":0},{"$f":"Кредит!JVQ9","v":0},{"$f":"Кредит!JVR9","v":0},{"$f":"Кредит!JVS9","v":0},{"$f":"Кредит!JVT9","v":0},{"$f":"Кредит!JVU9","v":0},{"$f":"Кредит!JVV9","v":0},{"$f":"Кредит!JVW9","v":0},{"$f":"Кредит!JVX9","v":0},{"$f":"Кредит!JVY9","v":0},{"$f":"Кредит!JVZ9","v":0},{"$f":"Кредит!JWA9","v":0},{"$f":"Кредит!JWB9","v":0},{"$f":"Кредит!JWC9","v":0},{"$f":"Кредит!JWD9","v":0},{"$f":"Кредит!JWE9","v":0},{"$f":"Кредит!JWF9","v":0},{"$f":"Кредит!JWG9","v":0},{"$f":"Кредит!JWH9","v":0},{"$f":"Кредит!JWI9","v":0},{"$f":"Кредит!JWJ9","v":0},{"$f":"Кредит!JWK9","v":0},{"$f":"Кредит!JWL9","v":0},{"$f":"Кредит!JWM9","v":0},{"$f":"Кредит!JWN9","v":0},{"$f":"Кредит!JWO9","v":0},{"$f":"Кредит!JWP9","v":0},{"$f":"Кредит!JWQ9","v":0},{"$f":"Кредит!JWR9","v":0},{"$f":"Кредит!JWS9","v":0},{"$f":"Кредит!JWT9","v":0},{"$f":"Кредит!JWU9","v":0},{"$f":"Кредит!JWV9","v":0},{"$f":"Кредит!JWW9","v":0},{"$f":"Кредит!JWX9","v":0},{"$f":"Кредит!JWY9","v":0},{"$f":"Кредит!JWZ9","v":0},{"$f":"Кредит!JXA9","v":0},{"$f":"Кредит!JXB9","v":0},{"$f":"Кредит!JXC9","v":0},{"$f":"Кредит!JXD9","v":0},{"$f":"Кредит!JXE9","v":0},{"$f":"Кредит!JXF9","v":0},{"$f":"Кредит!JXG9","v":0},{"$f":"Кредит!JXH9","v":0},{"$f":"Кредит!JXI9","v":0},{"$f":"Кредит!JXJ9","v":0},{"$f":"Кредит!JXK9","v":0},{"$f":"Кредит!JXL9","v":0},{"$f":"Кредит!JXM9","v":0},{"$f":"Кредит!JXN9","v":0},{"$f":"Кредит!JXO9","v":0},{"$f":"Кредит!JXP9","v":0},{"$f":"Кредит!JXQ9","v":0},{"$f":"Кредит!JXR9","v":0},{"$f":"Кредит!JXS9","v":0},{"$f":"Кредит!JXT9","v":0},{"$f":"Кредит!JXU9","v":0},{"$f":"Кредит!JXV9","v":0},{"$f":"Кредит!JXW9","v":0},{"$f":"Кредит!JXX9","v":0},{"$f":"Кредит!JXY9","v":0},{"$f":"Кредит!JXZ9","v":0},{"$f":"Кредит!JYA9","v":0},{"$f":"Кредит!JYB9","v":0},{"$f":"Кредит!JYC9","v":0},{"$f":"Кредит!JYD9","v":0},{"$f":"Кредит!JYE9","v":0},{"$f":"Кредит!JYF9","v":0},{"$f":"Кредит!JYG9","v":0},{"$f":"Кредит!JYH9","v":0},{"$f":"Кредит!JYI9","v":0},{"$f":"Кредит!JYJ9","v":0},{"$f":"Кредит!JYK9","v":0},{"$f":"Кредит!JYL9","v":0},{"$f":"Кредит!JYM9","v":0},{"$f":"Кредит!JYN9","v":0},{"$f":"Кредит!JYO9","v":0},{"$f":"Кредит!JYP9","v":0},{"$f":"Кредит!JYQ9","v":0},{"$f":"Кредит!JYR9","v":0},{"$f":"Кредит!JYS9","v":0},{"$f":"Кредит!JYT9","v":0},{"$f":"Кредит!JYU9","v":0},{"$f":"Кредит!JYV9","v":0},{"$f":"Кредит!JYW9","v":0},{"$f":"Кредит!JYX9","v":0},{"$f":"Кредит!JYY9","v":0},{"$f":"Кредит!JYZ9","v":0},{"$f":"Кредит!JZA9","v":0},{"$f":"Кредит!JZB9","v":0},{"$f":"Кредит!JZC9","v":0},{"$f":"Кредит!JZD9","v":0},{"$f":"Кредит!JZE9","v":0},{"$f":"Кредит!JZF9","v":0},{"$f":"Кредит!JZG9","v":0},{"$f":"Кредит!JZH9","v":0},{"$f":"Кредит!JZI9","v":0},{"$f":"Кредит!JZJ9","v":0},{"$f":"Кредит!JZK9","v":0},{"$f":"Кредит!JZL9","v":0},{"$f":"Кредит!JZM9","v":0},{"$f":"Кредит!JZN9","v":0},{"$f":"Кредит!JZO9","v":0},{"$f":"Кредит!JZP9","v":0},{"$f":"Кредит!JZQ9","v":0},{"$f":"Кредит!JZR9","v":0},{"$f":"Кредит!JZS9","v":0},{"$f":"Кредит!JZT9","v":0},{"$f":"Кредит!JZU9","v":0},{"$f":"Кредит!JZV9","v":0},{"$f":"Кредит!JZW9","v":0},{"$f":"Кредит!JZX9","v":0},{"$f":"Кредит!JZY9","v":0},{"$f":"Кредит!JZZ9","v":0},{"$f":"Кредит!KAA9","v":0},{"$f":"Кредит!KAB9","v":0},{"$f":"Кредит!KAC9","v":0},{"$f":"Кредит!KAD9","v":0},{"$f":"Кредит!KAE9","v":0},{"$f":"Кредит!KAF9","v":0},{"$f":"Кредит!KAG9","v":0},{"$f":"Кредит!KAH9","v":0},{"$f":"Кредит!KAI9","v":0},{"$f":"Кредит!KAJ9","v":0},{"$f":"Кредит!KAK9","v":0},{"$f":"Кредит!KAL9","v":0},{"$f":"Кредит!KAM9","v":0},{"$f":"Кредит!KAN9","v":0},{"$f":"Кредит!KAO9","v":0},{"$f":"Кредит!KAP9","v":0},{"$f":"Кредит!KAQ9","v":0},{"$f":"Кредит!KAR9","v":0},{"$f":"Кредит!KAS9","v":0},{"$f":"Кредит!KAT9","v":0},{"$f":"Кредит!KAU9","v":0},{"$f":"Кредит!KAV9","v":0},{"$f":"Кредит!KAW9","v":0},{"$f":"Кредит!KAX9","v":0},{"$f":"Кредит!KAY9","v":0},{"$f":"Кредит!KAZ9","v":0},{"$f":"Кредит!KBA9","v":0},{"$f":"Кредит!KBB9","v":0},{"$f":"Кредит!KBC9","v":0},{"$f":"Кредит!KBD9","v":0},{"$f":"Кредит!KBE9","v":0},{"$f":"Кредит!KBF9","v":0},{"$f":"Кредит!KBG9","v":0},{"$f":"Кредит!KBH9","v":0},{"$f":"Кредит!KBI9","v":0},{"$f":"Кредит!KBJ9","v":0},{"$f":"Кредит!KBK9","v":0},{"$f":"Кредит!KBL9","v":0},{"$f":"Кредит!KBM9","v":0},{"$f":"Кредит!KBN9","v":0},{"$f":"Кредит!KBO9","v":0},{"$f":"Кредит!KBP9","v":0},{"$f":"Кредит!KBQ9","v":0},{"$f":"Кредит!KBR9","v":0},{"$f":"Кредит!KBS9","v":0},{"$f":"Кредит!KBT9","v":0},{"$f":"Кредит!KBU9","v":0},{"$f":"Кредит!KBV9","v":0},{"$f":"Кредит!KBW9","v":0},{"$f":"Кредит!KBX9","v":0},{"$f":"Кредит!KBY9","v":0},{"$f":"Кредит!KBZ9","v":0},{"$f":"Кредит!KCA9","v":0},{"$f":"Кредит!KCB9","v":0},{"$f":"Кредит!KCC9","v":0},{"$f":"Кредит!KCD9","v":0},{"$f":"Кредит!KCE9","v":0},{"$f":"Кредит!KCF9","v":0},{"$f":"Кредит!KCG9","v":0},{"$f":"Кредит!KCH9","v":0},{"$f":"Кредит!KCI9","v":0},{"$f":"Кредит!KCJ9","v":0},{"$f":"Кредит!KCK9","v":0},{"$f":"Кредит!KCL9","v":0},{"$f":"Кредит!KCM9","v":0},{"$f":"Кредит!KCN9","v":0},{"$f":"Кредит!KCO9","v":0},{"$f":"Кредит!KCP9","v":0},{"$f":"Кредит!KCQ9","v":0},{"$f":"Кредит!KCR9","v":0},{"$f":"Кредит!KCS9","v":0},{"$f":"Кредит!KCT9","v":0},{"$f":"Кредит!KCU9","v":0},{"$f":"Кредит!KCV9","v":0},{"$f":"Кредит!KCW9","v":0},{"$f":"Кредит!KCX9","v":0},{"$f":"Кредит!KCY9","v":0},{"$f":"Кредит!KCZ9","v":0},{"$f":"Кредит!KDA9","v":0},{"$f":"Кредит!KDB9","v":0},{"$f":"Кредит!KDC9","v":0},{"$f":"Кредит!KDD9","v":0},{"$f":"Кредит!KDE9","v":0},{"$f":"Кредит!KDF9","v":0},{"$f":"Кредит!KDG9","v":0},{"$f":"Кредит!KDH9","v":0},{"$f":"Кредит!KDI9","v":0},{"$f":"Кредит!KDJ9","v":0},{"$f":"Кредит!KDK9","v":0},{"$f":"Кредит!KDL9","v":0},{"$f":"Кредит!KDM9","v":0},{"$f":"Кредит!KDN9","v":0},{"$f":"Кредит!KDO9","v":0},{"$f":"Кредит!KDP9","v":0},{"$f":"Кредит!KDQ9","v":0},{"$f":"Кредит!KDR9","v":0},{"$f":"Кредит!KDS9","v":0},{"$f":"Кредит!KDT9","v":0},{"$f":"Кредит!KDU9","v":0},{"$f":"Кредит!KDV9","v":0},{"$f":"Кредит!KDW9","v":0},{"$f":"Кредит!KDX9","v":0},{"$f":"Кредит!KDY9","v":0},{"$f":"Кредит!KDZ9","v":0},{"$f":"Кредит!KEA9","v":0},{"$f":"Кредит!KEB9","v":0},{"$f":"Кредит!KEC9","v":0},{"$f":"Кредит!KED9","v":0},{"$f":"Кредит!KEE9","v":0},{"$f":"Кредит!KEF9","v":0},{"$f":"Кредит!KEG9","v":0},{"$f":"Кредит!KEH9","v":0},{"$f":"Кредит!KEI9","v":0},{"$f":"Кредит!KEJ9","v":0},{"$f":"Кредит!KEK9","v":0},{"$f":"Кредит!KEL9","v":0},{"$f":"Кредит!KEM9","v":0},{"$f":"Кредит!KEN9","v":0},{"$f":"Кредит!KEO9","v":0},{"$f":"Кредит!KEP9","v":0},{"$f":"Кредит!KEQ9","v":0},{"$f":"Кредит!KER9","v":0},{"$f":"Кредит!KES9","v":0},{"$f":"Кредит!KET9","v":0},{"$f":"Кредит!KEU9","v":0},{"$f":"Кредит!KEV9","v":0},{"$f":"Кредит!KEW9","v":0},{"$f":"Кредит!KEX9","v":0},{"$f":"Кредит!KEY9","v":0},{"$f":"Кредит!KEZ9","v":0},{"$f":"Кредит!KFA9","v":0},{"$f":"Кредит!KFB9","v":0},{"$f":"Кредит!KFC9","v":0},{"$f":"Кредит!KFD9","v":0},{"$f":"Кредит!KFE9","v":0},{"$f":"Кредит!KFF9","v":0},{"$f":"Кредит!KFG9","v":0},{"$f":"Кредит!KFH9","v":0},{"$f":"Кредит!KFI9","v":0},{"$f":"Кредит!KFJ9","v":0},{"$f":"Кредит!KFK9","v":0},{"$f":"Кредит!KFL9","v":0},{"$f":"Кредит!KFM9","v":0},{"$f":"Кредит!KFN9","v":0},{"$f":"Кредит!KFO9","v":0},{"$f":"Кредит!KFP9","v":0},{"$f":"Кредит!KFQ9","v":0},{"$f":"Кредит!KFR9","v":0},{"$f":"Кредит!KFS9","v":0},{"$f":"Кредит!KFT9","v":0},{"$f":"Кредит!KFU9","v":0},{"$f":"Кредит!KFV9","v":0},{"$f":"Кредит!KFW9","v":0},{"$f":"Кредит!KFX9","v":0},{"$f":"Кредит!KFY9","v":0},{"$f":"Кредит!KFZ9","v":0},{"$f":"Кредит!KGA9","v":0},{"$f":"Кредит!KGB9","v":0},{"$f":"Кредит!KGC9","v":0},{"$f":"Кредит!KGD9","v":0},{"$f":"Кредит!KGE9","v":0},{"$f":"Кредит!KGF9","v":0},{"$f":"Кредит!KGG9","v":0},{"$f":"Кредит!KGH9","v":0},{"$f":"Кредит!KGI9","v":0},{"$f":"Кредит!KGJ9","v":0},{"$f":"Кредит!KGK9","v":0},{"$f":"Кредит!KGL9","v":0},{"$f":"Кредит!KGM9","v":0},{"$f":"Кредит!KGN9","v":0},{"$f":"Кредит!KGO9","v":0},{"$f":"Кредит!KGP9","v":0},{"$f":"Кредит!KGQ9","v":0},{"$f":"Кредит!KGR9","v":0},{"$f":"Кредит!KGS9","v":0},{"$f":"Кредит!KGT9","v":0},{"$f":"Кредит!KGU9","v":0},{"$f":"Кредит!KGV9","v":0},{"$f":"Кредит!KGW9","v":0},{"$f":"Кредит!KGX9","v":0},{"$f":"Кредит!KGY9","v":0},{"$f":"Кредит!KGZ9","v":0},{"$f":"Кредит!KHA9","v":0},{"$f":"Кредит!KHB9","v":0},{"$f":"Кредит!KHC9","v":0},{"$f":"Кредит!KHD9","v":0},{"$f":"Кредит!KHE9","v":0},{"$f":"Кредит!KHF9","v":0},{"$f":"Кредит!KHG9","v":0},{"$f":"Кредит!KHH9","v":0},{"$f":"Кредит!KHI9","v":0},{"$f":"Кредит!KHJ9","v":0},{"$f":"Кредит!KHK9","v":0},{"$f":"Кредит!KHL9","v":0},{"$f":"Кредит!KHM9","v":0},{"$f":"Кредит!KHN9","v":0},{"$f":"Кредит!KHO9","v":0},{"$f":"Кредит!KHP9","v":0},{"$f":"Кредит!KHQ9","v":0},{"$f":"Кредит!KHR9","v":0},{"$f":"Кредит!KHS9","v":0},{"$f":"Кредит!KHT9","v":0},{"$f":"Кредит!KHU9","v":0},{"$f":"Кредит!KHV9","v":0},{"$f":"Кредит!KHW9","v":0},{"$f":"Кредит!KHX9","v":0},{"$f":"Кредит!KHY9","v":0},{"$f":"Кредит!KHZ9","v":0},{"$f":"Кредит!KIA9","v":0},{"$f":"Кредит!KIB9","v":0},{"$f":"Кредит!KIC9","v":0},{"$f":"Кредит!KID9","v":0},{"$f":"Кредит!KIE9","v":0},{"$f":"Кредит!KIF9","v":0},{"$f":"Кредит!KIG9","v":0},{"$f":"Кредит!KIH9","v":0},{"$f":"Кредит!KII9","v":0},{"$f":"Кредит!KIJ9","v":0},{"$f":"Кредит!KIK9","v":0},{"$f":"Кредит!KIL9","v":0},{"$f":"Кредит!KIM9","v":0},{"$f":"Кредит!KIN9","v":0},{"$f":"Кредит!KIO9","v":0},{"$f":"Кредит!KIP9","v":0},{"$f":"Кредит!KIQ9","v":0},{"$f":"Кредит!KIR9","v":0},{"$f":"Кредит!KIS9","v":0},{"$f":"Кредит!KIT9","v":0},{"$f":"Кредит!KIU9","v":0},{"$f":"Кредит!KIV9","v":0},{"$f":"Кредит!KIW9","v":0},{"$f":"Кредит!KIX9","v":0},{"$f":"Кредит!KIY9","v":0},{"$f":"Кредит!KIZ9","v":0},{"$f":"Кредит!KJA9","v":0},{"$f":"Кредит!KJB9","v":0},{"$f":"Кредит!KJC9","v":0},{"$f":"Кредит!KJD9","v":0},{"$f":"Кредит!KJE9","v":0},{"$f":"Кредит!KJF9","v":0},{"$f":"Кредит!KJG9","v":0},{"$f":"Кредит!KJH9","v":0},{"$f":"Кредит!KJI9","v":0},{"$f":"Кредит!KJJ9","v":0},{"$f":"Кредит!KJK9","v":0},{"$f":"Кредит!KJL9","v":0},{"$f":"Кредит!KJM9","v":0},{"$f":"Кредит!KJN9","v":0},{"$f":"Кредит!KJO9","v":0},{"$f":"Кредит!KJP9","v":0},{"$f":"Кредит!KJQ9","v":0},{"$f":"Кредит!KJR9","v":0},{"$f":"Кредит!KJS9","v":0},{"$f":"Кредит!KJT9","v":0},{"$f":"Кредит!KJU9","v":0},{"$f":"Кредит!KJV9","v":0},{"$f":"Кредит!KJW9","v":0},{"$f":"Кредит!KJX9","v":0},{"$f":"Кредит!KJY9","v":0},{"$f":"Кредит!KJZ9","v":0},{"$f":"Кредит!KKA9","v":0},{"$f":"Кредит!KKB9","v":0},{"$f":"Кредит!KKC9","v":0},{"$f":"Кредит!KKD9","v":0},{"$f":"Кредит!KKE9","v":0},{"$f":"Кредит!KKF9","v":0},{"$f":"Кредит!KKG9","v":0},{"$f":"Кредит!KKH9","v":0},{"$f":"Кредит!KKI9","v":0},{"$f":"Кредит!KKJ9","v":0},{"$f":"Кредит!KKK9","v":0},{"$f":"Кредит!KKL9","v":0},{"$f":"Кредит!KKM9","v":0},{"$f":"Кредит!KKN9","v":0},{"$f":"Кредит!KKO9","v":0},{"$f":"Кредит!KKP9","v":0},{"$f":"Кредит!KKQ9","v":0},{"$f":"Кредит!KKR9","v":0},{"$f":"Кредит!KKS9","v":0},{"$f":"Кредит!KKT9","v":0},{"$f":"Кредит!KKU9","v":0},{"$f":"Кредит!KKV9","v":0},{"$f":"Кредит!KKW9","v":0},{"$f":"Кредит!KKX9","v":0},{"$f":"Кредит!KKY9","v":0},{"$f":"Кредит!KKZ9","v":0},{"$f":"Кредит!KLA9","v":0},{"$f":"Кредит!KLB9","v":0},{"$f":"Кредит!KLC9","v":0},{"$f":"Кредит!KLD9","v":0},{"$f":"Кредит!KLE9","v":0},{"$f":"Кредит!KLF9","v":0},{"$f":"Кредит!KLG9","v":0},{"$f":"Кредит!KLH9","v":0},{"$f":"Кредит!KLI9","v":0},{"$f":"Кредит!KLJ9","v":0},{"$f":"Кредит!KLK9","v":0},{"$f":"Кредит!KLL9","v":0},{"$f":"Кредит!KLM9","v":0},{"$f":"Кредит!KLN9","v":0},{"$f":"Кредит!KLO9","v":0},{"$f":"Кредит!KLP9","v":0},{"$f":"Кредит!KLQ9","v":0},{"$f":"Кредит!KLR9","v":0},{"$f":"Кредит!KLS9","v":0},{"$f":"Кредит!KLT9","v":0},{"$f":"Кредит!KLU9","v":0},{"$f":"Кредит!KLV9","v":0},{"$f":"Кредит!KLW9","v":0},{"$f":"Кредит!KLX9","v":0},{"$f":"Кредит!KLY9","v":0},{"$f":"Кредит!KLZ9","v":0},{"$f":"Кредит!KMA9","v":0},{"$f":"Кредит!KMB9","v":0},{"$f":"Кредит!KMC9","v":0},{"$f":"Кредит!KMD9","v":0},{"$f":"Кредит!KME9","v":0},{"$f":"Кредит!KMF9","v":0},{"$f":"Кредит!KMG9","v":0},{"$f":"Кредит!KMH9","v":0},{"$f":"Кредит!KMI9","v":0},{"$f":"Кредит!KMJ9","v":0},{"$f":"Кредит!KMK9","v":0},{"$f":"Кредит!KML9","v":0},{"$f":"Кредит!KMM9","v":0},{"$f":"Кредит!KMN9","v":0},{"$f":"Кредит!KMO9","v":0},{"$f":"Кредит!KMP9","v":0},{"$f":"Кредит!KMQ9","v":0},{"$f":"Кредит!KMR9","v":0},{"$f":"Кредит!KMS9","v":0},{"$f":"Кредит!KMT9","v":0},{"$f":"Кредит!KMU9","v":0},{"$f":"Кредит!KMV9","v":0},{"$f":"Кредит!KMW9","v":0},{"$f":"Кредит!KMX9","v":0},{"$f":"Кредит!KMY9","v":0},{"$f":"Кредит!KMZ9","v":0},{"$f":"Кредит!KNA9","v":0},{"$f":"Кредит!KNB9","v":0},{"$f":"Кредит!KNC9","v":0},{"$f":"Кредит!KND9","v":0},{"$f":"Кредит!KNE9","v":0},{"$f":"Кредит!KNF9","v":0},{"$f":"Кредит!KNG9","v":0},{"$f":"Кредит!KNH9","v":0},{"$f":"Кредит!KNI9","v":0},{"$f":"Кредит!KNJ9","v":0},{"$f":"Кредит!KNK9","v":0},{"$f":"Кредит!KNL9","v":0},{"$f":"Кредит!KNM9","v":0},{"$f":"Кредит!KNN9","v":0},{"$f":"Кредит!KNO9","v":0},{"$f":"Кредит!KNP9","v":0},{"$f":"Кредит!KNQ9","v":0},{"$f":"Кредит!KNR9","v":0},{"$f":"Кредит!KNS9","v":0},{"$f":"Кредит!KNT9","v":0},{"$f":"Кредит!KNU9","v":0},{"$f":"Кредит!KNV9","v":0},{"$f":"Кредит!KNW9","v":0},{"$f":"Кредит!KNX9","v":0},{"$f":"Кредит!KNY9","v":0},{"$f":"Кредит!KNZ9","v":0},{"$f":"Кредит!KOA9","v":0},{"$f":"Кредит!KOB9","v":0},{"$f":"Кредит!KOC9","v":0},{"$f":"Кредит!KOD9","v":0},{"$f":"Кредит!KOE9","v":0},{"$f":"Кредит!KOF9","v":0},{"$f":"Кредит!KOG9","v":0},{"$f":"Кредит!KOH9","v":0},{"$f":"Кредит!KOI9","v":0},{"$f":"Кредит!KOJ9","v":0},{"$f":"Кредит!KOK9","v":0},{"$f":"Кредит!KOL9","v":0},{"$f":"Кредит!KOM9","v":0},{"$f":"Кредит!KON9","v":0},{"$f":"Кредит!KOO9","v":0},{"$f":"Кредит!KOP9","v":0},{"$f":"Кредит!KOQ9","v":0},{"$f":"Кредит!KOR9","v":0},{"$f":"Кредит!KOS9","v":0},{"$f":"Кредит!KOT9","v":0},{"$f":"Кредит!KOU9","v":0},{"$f":"Кредит!KOV9","v":0},{"$f":"Кредит!KOW9","v":0},{"$f":"Кредит!KOX9","v":0},{"$f":"Кредит!KOY9","v":0},{"$f":"Кредит!KOZ9","v":0},{"$f":"Кредит!KPA9","v":0},{"$f":"Кредит!KPB9","v":0},{"$f":"Кредит!KPC9","v":0},{"$f":"Кредит!KPD9","v":0},{"$f":"Кредит!KPE9","v":0},{"$f":"Кредит!KPF9","v":0},{"$f":"Кредит!KPG9","v":0},{"$f":"Кредит!KPH9","v":0},{"$f":"Кредит!KPI9","v":0},{"$f":"Кредит!KPJ9","v":0},{"$f":"Кредит!KPK9","v":0},{"$f":"Кредит!KPL9","v":0},{"$f":"Кредит!KPM9","v":0},{"$f":"Кредит!KPN9","v":0},{"$f":"Кредит!KPO9","v":0},{"$f":"Кредит!KPP9","v":0},{"$f":"Кредит!KPQ9","v":0},{"$f":"Кредит!KPR9","v":0},{"$f":"Кредит!KPS9","v":0},{"$f":"Кредит!KPT9","v":0},{"$f":"Кредит!KPU9","v":0},{"$f":"Кредит!KPV9","v":0},{"$f":"Кредит!KPW9","v":0},{"$f":"Кредит!KPX9","v":0},{"$f":"Кредит!KPY9","v":0},{"$f":"Кредит!KPZ9","v":0},{"$f":"Кредит!KQA9","v":0},{"$f":"Кредит!KQB9","v":0},{"$f":"Кредит!KQC9","v":0},{"$f":"Кредит!KQD9","v":0},{"$f":"Кредит!KQE9","v":0},{"$f":"Кредит!KQF9","v":0},{"$f":"Кредит!KQG9","v":0},{"$f":"Кредит!KQH9","v":0},{"$f":"Кредит!KQI9","v":0},{"$f":"Кредит!KQJ9","v":0},{"$f":"Кредит!KQK9","v":0},{"$f":"Кредит!KQL9","v":0},{"$f":"Кредит!KQM9","v":0},{"$f":"Кредит!KQN9","v":0},{"$f":"Кредит!KQO9","v":0},{"$f":"Кредит!KQP9","v":0},{"$f":"Кредит!KQQ9","v":0},{"$f":"Кредит!KQR9","v":0},{"$f":"Кредит!KQS9","v":0},{"$f":"Кредит!KQT9","v":0},{"$f":"Кредит!KQU9","v":0},{"$f":"Кредит!KQV9","v":0},{"$f":"Кредит!KQW9","v":0},{"$f":"Кредит!KQX9","v":0},{"$f":"Кредит!KQY9","v":0},{"$f":"Кредит!KQZ9","v":0},{"$f":"Кредит!KRA9","v":0},{"$f":"Кредит!KRB9","v":0},{"$f":"Кредит!KRC9","v":0},{"$f":"Кредит!KRD9","v":0},{"$f":"Кредит!KRE9","v":0},{"$f":"Кредит!KRF9","v":0},{"$f":"Кредит!KRG9","v":0},{"$f":"Кредит!KRH9","v":0},{"$f":"Кредит!KRI9","v":0},{"$f":"Кредит!KRJ9","v":0},{"$f":"Кредит!KRK9","v":0},{"$f":"Кредит!KRL9","v":0},{"$f":"Кредит!KRM9","v":0},{"$f":"Кредит!KRN9","v":0},{"$f":"Кредит!KRO9","v":0},{"$f":"Кредит!KRP9","v":0},{"$f":"Кредит!KRQ9","v":0},{"$f":"Кредит!KRR9","v":0},{"$f":"Кредит!KRS9","v":0},{"$f":"Кредит!KRT9","v":0},{"$f":"Кредит!KRU9","v":0},{"$f":"Кредит!KRV9","v":0},{"$f":"Кредит!KRW9","v":0},{"$f":"Кредит!KRX9","v":0},{"$f":"Кредит!KRY9","v":0},{"$f":"Кредит!KRZ9","v":0},{"$f":"Кредит!KSA9","v":0},{"$f":"Кредит!KSB9","v":0},{"$f":"Кредит!KSC9","v":0},{"$f":"Кредит!KSD9","v":0},{"$f":"Кредит!KSE9","v":0},{"$f":"Кредит!KSF9","v":0},{"$f":"Кредит!KSG9","v":0},{"$f":"Кредит!KSH9","v":0},{"$f":"Кредит!KSI9","v":0},{"$f":"Кредит!KSJ9","v":0},{"$f":"Кредит!KSK9","v":0},{"$f":"Кредит!KSL9","v":0},{"$f":"Кредит!KSM9","v":0},{"$f":"Кредит!KSN9","v":0},{"$f":"Кредит!KSO9","v":0},{"$f":"Кредит!KSP9","v":0},{"$f":"Кредит!KSQ9","v":0},{"$f":"Кредит!KSR9","v":0},{"$f":"Кредит!KSS9","v":0},{"$f":"Кредит!KST9","v":0},{"$f":"Кредит!KSU9","v":0},{"$f":"Кредит!KSV9","v":0},{"$f":"Кредит!KSW9","v":0},{"$f":"Кредит!KSX9","v":0},{"$f":"Кредит!KSY9","v":0},{"$f":"Кредит!KSZ9","v":0},{"$f":"Кредит!KTA9","v":0},{"$f":"Кредит!KTB9","v":0},{"$f":"Кредит!KTC9","v":0},{"$f":"Кредит!KTD9","v":0},{"$f":"Кредит!KTE9","v":0},{"$f":"Кредит!KTF9","v":0},{"$f":"Кредит!KTG9","v":0},{"$f":"Кредит!KTH9","v":0},{"$f":"Кредит!KTI9","v":0},{"$f":"Кредит!KTJ9","v":0},{"$f":"Кредит!KTK9","v":0},{"$f":"Кредит!KTL9","v":0},{"$f":"Кредит!KTM9","v":0},{"$f":"Кредит!KTN9","v":0},{"$f":"Кредит!KTO9","v":0},{"$f":"Кредит!KTP9","v":0},{"$f":"Кредит!KTQ9","v":0},{"$f":"Кредит!KTR9","v":0},{"$f":"Кредит!KTS9","v":0},{"$f":"Кредит!KTT9","v":0},{"$f":"Кредит!KTU9","v":0},{"$f":"Кредит!KTV9","v":0},{"$f":"Кредит!KTW9","v":0},{"$f":"Кредит!KTX9","v":0},{"$f":"Кредит!KTY9","v":0},{"$f":"Кредит!KTZ9","v":0},{"$f":"Кредит!KUA9","v":0},{"$f":"Кредит!KUB9","v":0},{"$f":"Кредит!KUC9","v":0},{"$f":"Кредит!KUD9","v":0},{"$f":"Кредит!KUE9","v":0},{"$f":"Кредит!KUF9","v":0},{"$f":"Кредит!KUG9","v":0},{"$f":"Кредит!KUH9","v":0},{"$f":"Кредит!KUI9","v":0},{"$f":"Кредит!KUJ9","v":0},{"$f":"Кредит!KUK9","v":0},{"$f":"Кредит!KUL9","v":0},{"$f":"Кредит!KUM9","v":0},{"$f":"Кредит!KUN9","v":0},{"$f":"Кредит!KUO9","v":0},{"$f":"Кредит!KUP9","v":0},{"$f":"Кредит!KUQ9","v":0},{"$f":"Кредит!KUR9","v":0},{"$f":"Кредит!KUS9","v":0},{"$f":"Кредит!KUT9","v":0},{"$f":"Кредит!KUU9","v":0},{"$f":"Кредит!KUV9","v":0},{"$f":"Кредит!KUW9","v":0},{"$f":"Кредит!KUX9","v":0},{"$f":"Кредит!KUY9","v":0},{"$f":"Кредит!KUZ9","v":0},{"$f":"Кредит!KVA9","v":0},{"$f":"Кредит!KVB9","v":0},{"$f":"Кредит!KVC9","v":0},{"$f":"Кредит!KVD9","v":0},{"$f":"Кредит!KVE9","v":0},{"$f":"Кредит!KVF9","v":0},{"$f":"Кредит!KVG9","v":0},{"$f":"Кредит!KVH9","v":0},{"$f":"Кредит!KVI9","v":0},{"$f":"Кредит!KVJ9","v":0},{"$f":"Кредит!KVK9","v":0},{"$f":"Кредит!KVL9","v":0},{"$f":"Кредит!KVM9","v":0},{"$f":"Кредит!KVN9","v":0},{"$f":"Кредит!KVO9","v":0},{"$f":"Кредит!KVP9","v":0},{"$f":"Кредит!KVQ9","v":0},{"$f":"Кредит!KVR9","v":0},{"$f":"Кредит!KVS9","v":0},{"$f":"Кредит!KVT9","v":0},{"$f":"Кредит!KVU9","v":0},{"$f":"Кредит!KVV9","v":0},{"$f":"Кредит!KVW9","v":0},{"$f":"Кредит!KVX9","v":0},{"$f":"Кредит!KVY9","v":0},{"$f":"Кредит!KVZ9","v":0},{"$f":"Кредит!KWA9","v":0},{"$f":"Кредит!KWB9","v":0},{"$f":"Кредит!KWC9","v":0},{"$f":"Кредит!KWD9","v":0},{"$f":"Кредит!KWE9","v":0},{"$f":"Кредит!KWF9","v":0},{"$f":"Кредит!KWG9","v":0},{"$f":"Кредит!KWH9","v":0},{"$f":"Кредит!KWI9","v":0},{"$f":"Кредит!KWJ9","v":0},{"$f":"Кредит!KWK9","v":0},{"$f":"Кредит!KWL9","v":0},{"$f":"Кредит!KWM9","v":0},{"$f":"Кредит!KWN9","v":0},{"$f":"Кредит!KWO9","v":0},{"$f":"Кредит!KWP9","v":0},{"$f":"Кредит!KWQ9","v":0},{"$f":"Кредит!KWR9","v":0},{"$f":"Кредит!KWS9","v":0},{"$f":"Кредит!KWT9","v":0},{"$f":"Кредит!KWU9","v":0},{"$f":"Кредит!KWV9","v":0},{"$f":"Кредит!KWW9","v":0},{"$f":"Кредит!KWX9","v":0},{"$f":"Кредит!KWY9","v":0},{"$f":"Кредит!KWZ9","v":0},{"$f":"Кредит!KXA9","v":0},{"$f":"Кредит!KXB9","v":0},{"$f":"Кредит!KXC9","v":0},{"$f":"Кредит!KXD9","v":0},{"$f":"Кредит!KXE9","v":0},{"$f":"Кредит!KXF9","v":0},{"$f":"Кредит!KXG9","v":0},{"$f":"Кредит!KXH9","v":0},{"$f":"Кредит!KXI9","v":0},{"$f":"Кредит!KXJ9","v":0},{"$f":"Кредит!KXK9","v":0},{"$f":"Кредит!KXL9","v":0},{"$f":"Кредит!KXM9","v":0},{"$f":"Кредит!KXN9","v":0},{"$f":"Кредит!KXO9","v":0},{"$f":"Кредит!KXP9","v":0},{"$f":"Кредит!KXQ9","v":0},{"$f":"Кредит!KXR9","v":0},{"$f":"Кредит!KXS9","v":0},{"$f":"Кредит!KXT9","v":0},{"$f":"Кредит!KXU9","v":0},{"$f":"Кредит!KXV9","v":0},{"$f":"Кредит!KXW9","v":0},{"$f":"Кредит!KXX9","v":0},{"$f":"Кредит!KXY9","v":0},{"$f":"Кредит!KXZ9","v":0},{"$f":"Кредит!KYA9","v":0},{"$f":"Кредит!KYB9","v":0},{"$f":"Кредит!KYC9","v":0},{"$f":"Кредит!KYD9","v":0},{"$f":"Кредит!KYE9","v":0},{"$f":"Кредит!KYF9","v":0},{"$f":"Кредит!KYG9","v":0},{"$f":"Кредит!KYH9","v":0},{"$f":"Кредит!KYI9","v":0},{"$f":"Кредит!KYJ9","v":0},{"$f":"Кредит!KYK9","v":0},{"$f":"Кредит!KYL9","v":0},{"$f":"Кредит!KYM9","v":0},{"$f":"Кредит!KYN9","v":0},{"$f":"Кредит!KYO9","v":0},{"$f":"Кредит!KYP9","v":0},{"$f":"Кредит!KYQ9","v":0},{"$f":"Кредит!KYR9","v":0},{"$f":"Кредит!KYS9","v":0},{"$f":"Кредит!KYT9","v":0},{"$f":"Кредит!KYU9","v":0},{"$f":"Кредит!KYV9","v":0},{"$f":"Кредит!KYW9","v":0},{"$f":"Кредит!KYX9","v":0},{"$f":"Кредит!KYY9","v":0},{"$f":"Кредит!KYZ9","v":0},{"$f":"Кредит!KZA9","v":0},{"$f":"Кредит!KZB9","v":0},{"$f":"Кредит!KZC9","v":0},{"$f":"Кредит!KZD9","v":0},{"$f":"Кредит!KZE9","v":0},{"$f":"Кредит!KZF9","v":0},{"$f":"Кредит!KZG9","v":0},{"$f":"Кредит!KZH9","v":0},{"$f":"Кредит!KZI9","v":0},{"$f":"Кредит!KZJ9","v":0},{"$f":"Кредит!KZK9","v":0},{"$f":"Кредит!KZL9","v":0},{"$f":"Кредит!KZM9","v":0},{"$f":"Кредит!KZN9","v":0},{"$f":"Кредит!KZO9","v":0},{"$f":"Кредит!KZP9","v":0},{"$f":"Кредит!KZQ9","v":0},{"$f":"Кредит!KZR9","v":0},{"$f":"Кредит!KZS9","v":0},{"$f":"Кредит!KZT9","v":0},{"$f":"Кредит!KZU9","v":0},{"$f":"Кредит!KZV9","v":0},{"$f":"Кредит!KZW9","v":0},{"$f":"Кредит!KZX9","v":0},{"$f":"Кредит!KZY9","v":0},{"$f":"Кредит!KZZ9","v":0},{"$f":"Кредит!LAA9","v":0},{"$f":"Кредит!LAB9","v":0},{"$f":"Кредит!LAC9","v":0},{"$f":"Кредит!LAD9","v":0},{"$f":"Кредит!LAE9","v":0},{"$f":"Кредит!LAF9","v":0},{"$f":"Кредит!LAG9","v":0},{"$f":"Кредит!LAH9","v":0},{"$f":"Кредит!LAI9","v":0},{"$f":"Кредит!LAJ9","v":0},{"$f":"Кредит!LAK9","v":0},{"$f":"Кредит!LAL9","v":0},{"$f":"Кредит!LAM9","v":0},{"$f":"Кредит!LAN9","v":0},{"$f":"Кредит!LAO9","v":0},{"$f":"Кредит!LAP9","v":0},{"$f":"Кредит!LAQ9","v":0},{"$f":"Кредит!LAR9","v":0},{"$f":"Кредит!LAS9","v":0},{"$f":"Кредит!LAT9","v":0},{"$f":"Кредит!LAU9","v":0},{"$f":"Кредит!LAV9","v":0},{"$f":"Кредит!LAW9","v":0},{"$f":"Кредит!LAX9","v":0},{"$f":"Кредит!LAY9","v":0},{"$f":"Кредит!LAZ9","v":0},{"$f":"Кредит!LBA9","v":0},{"$f":"Кредит!LBB9","v":0},{"$f":"Кредит!LBC9","v":0},{"$f":"Кредит!LBD9","v":0},{"$f":"Кредит!LBE9","v":0},{"$f":"Кредит!LBF9","v":0},{"$f":"Кредит!LBG9","v":0},{"$f":"Кредит!LBH9","v":0},{"$f":"Кредит!LBI9","v":0},{"$f":"Кредит!LBJ9","v":0},{"$f":"Кредит!LBK9","v":0},{"$f":"Кредит!LBL9","v":0},{"$f":"Кредит!LBM9","v":0},{"$f":"Кредит!LBN9","v":0},{"$f":"Кредит!LBO9","v":0},{"$f":"Кредит!LBP9","v":0},{"$f":"Кредит!LBQ9","v":0},{"$f":"Кредит!LBR9","v":0},{"$f":"Кредит!LBS9","v":0},{"$f":"Кредит!LBT9","v":0},{"$f":"Кредит!LBU9","v":0},{"$f":"Кредит!LBV9","v":0},{"$f":"Кредит!LBW9","v":0},{"$f":"Кредит!LBX9","v":0},{"$f":"Кредит!LBY9","v":0},{"$f":"Кредит!LBZ9","v":0},{"$f":"Кредит!LCA9","v":0},{"$f":"Кредит!LCB9","v":0},{"$f":"Кредит!LCC9","v":0},{"$f":"Кредит!LCD9","v":0},{"$f":"Кредит!LCE9","v":0},{"$f":"Кредит!LCF9","v":0},{"$f":"Кредит!LCG9","v":0},{"$f":"Кредит!LCH9","v":0},{"$f":"Кредит!LCI9","v":0},{"$f":"Кредит!LCJ9","v":0},{"$f":"Кредит!LCK9","v":0},{"$f":"Кредит!LCL9","v":0},{"$f":"Кредит!LCM9","v":0},{"$f":"Кредит!LCN9","v":0},{"$f":"Кредит!LCO9","v":0},{"$f":"Кредит!LCP9","v":0},{"$f":"Кредит!LCQ9","v":0},{"$f":"Кредит!LCR9","v":0},{"$f":"Кредит!LCS9","v":0},{"$f":"Кредит!LCT9","v":0},{"$f":"Кредит!LCU9","v":0},{"$f":"Кредит!LCV9","v":0},{"$f":"Кредит!LCW9","v":0},{"$f":"Кредит!LCX9","v":0},{"$f":"Кредит!LCY9","v":0},{"$f":"Кредит!LCZ9","v":0},{"$f":"Кредит!LDA9","v":0},{"$f":"Кредит!LDB9","v":0},{"$f":"Кредит!LDC9","v":0},{"$f":"Кредит!LDD9","v":0},{"$f":"Кредит!LDE9","v":0},{"$f":"Кредит!LDF9","v":0},{"$f":"Кредит!LDG9","v":0},{"$f":"Кредит!LDH9","v":0},{"$f":"Кредит!LDI9","v":0},{"$f":"Кредит!LDJ9","v":0},{"$f":"Кредит!LDK9","v":0},{"$f":"Кредит!LDL9","v":0},{"$f":"Кредит!LDM9","v":0},{"$f":"Кредит!LDN9","v":0},{"$f":"Кредит!LDO9","v":0},{"$f":"Кредит!LDP9","v":0},{"$f":"Кредит!LDQ9","v":0},{"$f":"Кредит!LDR9","v":0},{"$f":"Кредит!LDS9","v":0},{"$f":"Кредит!LDT9","v":0},{"$f":"Кредит!LDU9","v":0},{"$f":"Кредит!LDV9","v":0},{"$f":"Кредит!LDW9","v":0},{"$f":"Кредит!LDX9","v":0},{"$f":"Кредит!LDY9","v":0},{"$f":"Кредит!LDZ9","v":0},{"$f":"Кредит!LEA9","v":0},{"$f":"Кредит!LEB9","v":0},{"$f":"Кредит!LEC9","v":0},{"$f":"Кредит!LED9","v":0},{"$f":"Кредит!LEE9","v":0},{"$f":"Кредит!LEF9","v":0},{"$f":"Кредит!LEG9","v":0},{"$f":"Кредит!LEH9","v":0},{"$f":"Кредит!LEI9","v":0},{"$f":"Кредит!LEJ9","v":0},{"$f":"Кредит!LEK9","v":0},{"$f":"Кредит!LEL9","v":0},{"$f":"Кредит!LEM9","v":0},{"$f":"Кредит!LEN9","v":0},{"$f":"Кредит!LEO9","v":0},{"$f":"Кредит!LEP9","v":0},{"$f":"Кредит!LEQ9","v":0},{"$f":"Кредит!LER9","v":0},{"$f":"Кредит!LES9","v":0},{"$f":"Кредит!LET9","v":0},{"$f":"Кредит!LEU9","v":0},{"$f":"Кредит!LEV9","v":0},{"$f":"Кредит!LEW9","v":0},{"$f":"Кредит!LEX9","v":0},{"$f":"Кредит!LEY9","v":0},{"$f":"Кредит!LEZ9","v":0},{"$f":"Кредит!LFA9","v":0},{"$f":"Кредит!LFB9","v":0},{"$f":"Кредит!LFC9","v":0},{"$f":"Кредит!LFD9","v":0},{"$f":"Кредит!LFE9","v":0},{"$f":"Кредит!LFF9","v":0},{"$f":"Кредит!LFG9","v":0},{"$f":"Кредит!LFH9","v":0},{"$f":"Кредит!LFI9","v":0},{"$f":"Кредит!LFJ9","v":0},{"$f":"Кредит!LFK9","v":0},{"$f":"Кредит!LFL9","v":0},{"$f":"Кредит!LFM9","v":0},{"$f":"Кредит!LFN9","v":0},{"$f":"Кредит!LFO9","v":0},{"$f":"Кредит!LFP9","v":0},{"$f":"Кредит!LFQ9","v":0},{"$f":"Кредит!LFR9","v":0},{"$f":"Кредит!LFS9","v":0},{"$f":"Кредит!LFT9","v":0},{"$f":"Кредит!LFU9","v":0},{"$f":"Кредит!LFV9","v":0},{"$f":"Кредит!LFW9","v":0},{"$f":"Кредит!LFX9","v":0},{"$f":"Кредит!LFY9","v":0},{"$f":"Кредит!LFZ9","v":0},{"$f":"Кредит!LGA9","v":0},{"$f":"Кредит!LGB9","v":0},{"$f":"Кредит!LGC9","v":0},{"$f":"Кредит!LGD9","v":0},{"$f":"Кредит!LGE9","v":0},{"$f":"Кредит!LGF9","v":0},{"$f":"Кредит!LGG9","v":0},{"$f":"Кредит!LGH9","v":0},{"$f":"Кредит!LGI9","v":0},{"$f":"Кредит!LGJ9","v":0},{"$f":"Кредит!LGK9","v":0},{"$f":"Кредит!LGL9","v":0},{"$f":"Кредит!LGM9","v":0},{"$f":"Кредит!LGN9","v":0},{"$f":"Кредит!LGO9","v":0},{"$f":"Кредит!LGP9","v":0},{"$f":"Кредит!LGQ9","v":0},{"$f":"Кредит!LGR9","v":0},{"$f":"Кредит!LGS9","v":0},{"$f":"Кредит!LGT9","v":0},{"$f":"Кредит!LGU9","v":0},{"$f":"Кредит!LGV9","v":0},{"$f":"Кредит!LGW9","v":0},{"$f":"Кредит!LGX9","v":0},{"$f":"Кредит!LGY9","v":0},{"$f":"Кредит!LGZ9","v":0},{"$f":"Кредит!LHA9","v":0},{"$f":"Кредит!LHB9","v":0},{"$f":"Кредит!LHC9","v":0},{"$f":"Кредит!LHD9","v":0},{"$f":"Кредит!LHE9","v":0},{"$f":"Кредит!LHF9","v":0},{"$f":"Кредит!LHG9","v":0},{"$f":"Кредит!LHH9","v":0},{"$f":"Кредит!LHI9","v":0},{"$f":"Кредит!LHJ9","v":0},{"$f":"Кредит!LHK9","v":0},{"$f":"Кредит!LHL9","v":0},{"$f":"Кредит!LHM9","v":0},{"$f":"Кредит!LHN9","v":0},{"$f":"Кредит!LHO9","v":0},{"$f":"Кредит!LHP9","v":0},{"$f":"Кредит!LHQ9","v":0},{"$f":"Кредит!LHR9","v":0},{"$f":"Кредит!LHS9","v":0},{"$f":"Кредит!LHT9","v":0},{"$f":"Кредит!LHU9","v":0},{"$f":"Кредит!LHV9","v":0},{"$f":"Кредит!LHW9","v":0},{"$f":"Кредит!LHX9","v":0},{"$f":"Кредит!LHY9","v":0},{"$f":"Кредит!LHZ9","v":0},{"$f":"Кредит!LIA9","v":0},{"$f":"Кредит!LIB9","v":0},{"$f":"Кредит!LIC9","v":0},{"$f":"Кредит!LID9","v":0},{"$f":"Кредит!LIE9","v":0},{"$f":"Кредит!LIF9","v":0},{"$f":"Кредит!LIG9","v":0},{"$f":"Кредит!LIH9","v":0},{"$f":"Кредит!LII9","v":0},{"$f":"Кредит!LIJ9","v":0},{"$f":"Кредит!LIK9","v":0},{"$f":"Кредит!LIL9","v":0},{"$f":"Кредит!LIM9","v":0},{"$f":"Кредит!LIN9","v":0},{"$f":"Кредит!LIO9","v":0},{"$f":"Кредит!LIP9","v":0},{"$f":"Кредит!LIQ9","v":0},{"$f":"Кредит!LIR9","v":0},{"$f":"Кредит!LIS9","v":0},{"$f":"Кредит!LIT9","v":0},{"$f":"Кредит!LIU9","v":0},{"$f":"Кредит!LIV9","v":0},{"$f":"Кредит!LIW9","v":0},{"$f":"Кредит!LIX9","v":0},{"$f":"Кредит!LIY9","v":0},{"$f":"Кредит!LIZ9","v":0},{"$f":"Кредит!LJA9","v":0},{"$f":"Кредит!LJB9","v":0},{"$f":"Кредит!LJC9","v":0},{"$f":"Кредит!LJD9","v":0},{"$f":"Кредит!LJE9","v":0},{"$f":"Кредит!LJF9","v":0},{"$f":"Кредит!LJG9","v":0},{"$f":"Кредит!LJH9","v":0},{"$f":"Кредит!LJI9","v":0},{"$f":"Кредит!LJJ9","v":0},{"$f":"Кредит!LJK9","v":0},{"$f":"Кредит!LJL9","v":0},{"$f":"Кредит!LJM9","v":0},{"$f":"Кредит!LJN9","v":0},{"$f":"Кредит!LJO9","v":0},{"$f":"Кредит!LJP9","v":0},{"$f":"Кредит!LJQ9","v":0},{"$f":"Кредит!LJR9","v":0},{"$f":"Кредит!LJS9","v":0},{"$f":"Кредит!LJT9","v":0},{"$f":"Кредит!LJU9","v":0},{"$f":"Кредит!LJV9","v":0},{"$f":"Кредит!LJW9","v":0},{"$f":"Кредит!LJX9","v":0},{"$f":"Кредит!LJY9","v":0},{"$f":"Кредит!LJZ9","v":0},{"$f":"Кредит!LKA9","v":0},{"$f":"Кредит!LKB9","v":0},{"$f":"Кредит!LKC9","v":0},{"$f":"Кредит!LKD9","v":0},{"$f":"Кредит!LKE9","v":0},{"$f":"Кредит!LKF9","v":0},{"$f":"Кредит!LKG9","v":0},{"$f":"Кредит!LKH9","v":0},{"$f":"Кредит!LKI9","v":0},{"$f":"Кредит!LKJ9","v":0},{"$f":"Кредит!LKK9","v":0},{"$f":"Кредит!LKL9","v":0},{"$f":"Кредит!LKM9","v":0},{"$f":"Кредит!LKN9","v":0},{"$f":"Кредит!LKO9","v":0},{"$f":"Кредит!LKP9","v":0},{"$f":"Кредит!LKQ9","v":0},{"$f":"Кредит!LKR9","v":0},{"$f":"Кредит!LKS9","v":0},{"$f":"Кредит!LKT9","v":0},{"$f":"Кредит!LKU9","v":0},{"$f":"Кредит!LKV9","v":0},{"$f":"Кредит!LKW9","v":0},{"$f":"Кредит!LKX9","v":0},{"$f":"Кредит!LKY9","v":0},{"$f":"Кредит!LKZ9","v":0},{"$f":"Кредит!LLA9","v":0},{"$f":"Кредит!LLB9","v":0},{"$f":"Кредит!LLC9","v":0},{"$f":"Кредит!LLD9","v":0},{"$f":"Кредит!LLE9","v":0},{"$f":"Кредит!LLF9","v":0},{"$f":"Кредит!LLG9","v":0},{"$f":"Кредит!LLH9","v":0},{"$f":"Кредит!LLI9","v":0},{"$f":"Кредит!LLJ9","v":0},{"$f":"Кредит!LLK9","v":0},{"$f":"Кредит!LLL9","v":0},{"$f":"Кредит!LLM9","v":0},{"$f":"Кредит!LLN9","v":0},{"$f":"Кредит!LLO9","v":0},{"$f":"Кредит!LLP9","v":0},{"$f":"Кредит!LLQ9","v":0},{"$f":"Кредит!LLR9","v":0},{"$f":"Кредит!LLS9","v":0},{"$f":"Кредит!LLT9","v":0},{"$f":"Кредит!LLU9","v":0},{"$f":"Кредит!LLV9","v":0},{"$f":"Кредит!LLW9","v":0},{"$f":"Кредит!LLX9","v":0},{"$f":"Кредит!LLY9","v":0},{"$f":"Кредит!LLZ9","v":0},{"$f":"Кредит!LMA9","v":0},{"$f":"Кредит!LMB9","v":0},{"$f":"Кредит!LMC9","v":0},{"$f":"Кредит!LMD9","v":0},{"$f":"Кредит!LME9","v":0},{"$f":"Кредит!LMF9","v":0},{"$f":"Кредит!LMG9","v":0},{"$f":"Кредит!LMH9","v":0},{"$f":"Кредит!LMI9","v":0},{"$f":"Кредит!LMJ9","v":0},{"$f":"Кредит!LMK9","v":0},{"$f":"Кредит!LML9","v":0},{"$f":"Кредит!LMM9","v":0},{"$f":"Кредит!LMN9","v":0},{"$f":"Кредит!LMO9","v":0},{"$f":"Кредит!LMP9","v":0},{"$f":"Кредит!LMQ9","v":0},{"$f":"Кредит!LMR9","v":0},{"$f":"Кредит!LMS9","v":0},{"$f":"Кредит!LMT9","v":0},{"$f":"Кредит!LMU9","v":0},{"$f":"Кредит!LMV9","v":0},{"$f":"Кредит!LMW9","v":0},{"$f":"Кредит!LMX9","v":0},{"$f":"Кредит!LMY9","v":0},{"$f":"Кредит!LMZ9","v":0},{"$f":"Кредит!LNA9","v":0},{"$f":"Кредит!LNB9","v":0},{"$f":"Кредит!LNC9","v":0},{"$f":"Кредит!LND9","v":0},{"$f":"Кредит!LNE9","v":0},{"$f":"Кредит!LNF9","v":0},{"$f":"Кредит!LNG9","v":0},{"$f":"Кредит!LNH9","v":0},{"$f":"Кредит!LNI9","v":0},{"$f":"Кредит!LNJ9","v":0},{"$f":"Кредит!LNK9","v":0},{"$f":"Кредит!LNL9","v":0},{"$f":"Кредит!LNM9","v":0},{"$f":"Кредит!LNN9","v":0},{"$f":"Кредит!LNO9","v":0},{"$f":"Кредит!LNP9","v":0},{"$f":"Кредит!LNQ9","v":0},{"$f":"Кредит!LNR9","v":0},{"$f":"Кредит!LNS9","v":0},{"$f":"Кредит!LNT9","v":0},{"$f":"Кредит!LNU9","v":0},{"$f":"Кредит!LNV9","v":0},{"$f":"Кредит!LNW9","v":0},{"$f":"Кредит!LNX9","v":0},{"$f":"Кредит!LNY9","v":0},{"$f":"Кредит!LNZ9","v":0},{"$f":"Кредит!LOA9","v":0},{"$f":"Кредит!LOB9","v":0},{"$f":"Кредит!LOC9","v":0},{"$f":"Кредит!LOD9","v":0},{"$f":"Кредит!LOE9","v":0},{"$f":"Кредит!LOF9","v":0},{"$f":"Кредит!LOG9","v":0},{"$f":"Кредит!LOH9","v":0},{"$f":"Кредит!LOI9","v":0},{"$f":"Кредит!LOJ9","v":0},{"$f":"Кредит!LOK9","v":0},{"$f":"Кредит!LOL9","v":0},{"$f":"Кредит!LOM9","v":0},{"$f":"Кредит!LON9","v":0},{"$f":"Кредит!LOO9","v":0},{"$f":"Кредит!LOP9","v":0},{"$f":"Кредит!LOQ9","v":0},{"$f":"Кредит!LOR9","v":0},{"$f":"Кредит!LOS9","v":0},{"$f":"Кредит!LOT9","v":0},{"$f":"Кредит!LOU9","v":0},{"$f":"Кредит!LOV9","v":0},{"$f":"Кредит!LOW9","v":0},{"$f":"Кредит!LOX9","v":0},{"$f":"Кредит!LOY9","v":0},{"$f":"Кредит!LOZ9","v":0},{"$f":"Кредит!LPA9","v":0},{"$f":"Кредит!LPB9","v":0},{"$f":"Кредит!LPC9","v":0},{"$f":"Кредит!LPD9","v":0},{"$f":"Кредит!LPE9","v":0},{"$f":"Кредит!LPF9","v":0},{"$f":"Кредит!LPG9","v":0},{"$f":"Кредит!LPH9","v":0},{"$f":"Кредит!LPI9","v":0},{"$f":"Кредит!LPJ9","v":0},{"$f":"Кредит!LPK9","v":0},{"$f":"Кредит!LPL9","v":0},{"$f":"Кредит!LPM9","v":0},{"$f":"Кредит!LPN9","v":0},{"$f":"Кредит!LPO9","v":0},{"$f":"Кредит!LPP9","v":0},{"$f":"Кредит!LPQ9","v":0},{"$f":"Кредит!LPR9","v":0},{"$f":"Кредит!LPS9","v":0},{"$f":"Кредит!LPT9","v":0},{"$f":"Кредит!LPU9","v":0},{"$f":"Кредит!LPV9","v":0},{"$f":"Кредит!LPW9","v":0},{"$f":"Кредит!LPX9","v":0},{"$f":"Кредит!LPY9","v":0},{"$f":"Кредит!LPZ9","v":0},{"$f":"Кредит!LQA9","v":0},{"$f":"Кредит!LQB9","v":0},{"$f":"Кредит!LQC9","v":0},{"$f":"Кредит!LQD9","v":0},{"$f":"Кредит!LQE9","v":0},{"$f":"Кредит!LQF9","v":0},{"$f":"Кредит!LQG9","v":0},{"$f":"Кредит!LQH9","v":0},{"$f":"Кредит!LQI9","v":0},{"$f":"Кредит!LQJ9","v":0},{"$f":"Кредит!LQK9","v":0},{"$f":"Кредит!LQL9","v":0},{"$f":"Кредит!LQM9","v":0},{"$f":"Кредит!LQN9","v":0},{"$f":"Кредит!LQO9","v":0},{"$f":"Кредит!LQP9","v":0},{"$f":"Кредит!LQQ9","v":0},{"$f":"Кредит!LQR9","v":0},{"$f":"Кредит!LQS9","v":0},{"$f":"Кредит!LQT9","v":0},{"$f":"Кредит!LQU9","v":0},{"$f":"Кредит!LQV9","v":0},{"$f":"Кредит!LQW9","v":0},{"$f":"Кредит!LQX9","v":0},{"$f":"Кредит!LQY9","v":0},{"$f":"Кредит!LQZ9","v":0},{"$f":"Кредит!LRA9","v":0},{"$f":"Кредит!LRB9","v":0},{"$f":"Кредит!LRC9","v":0},{"$f":"Кредит!LRD9","v":0},{"$f":"Кредит!LRE9","v":0},{"$f":"Кредит!LRF9","v":0},{"$f":"Кредит!LRG9","v":0},{"$f":"Кредит!LRH9","v":0},{"$f":"Кредит!LRI9","v":0},{"$f":"Кредит!LRJ9","v":0},{"$f":"Кредит!LRK9","v":0},{"$f":"Кредит!LRL9","v":0},{"$f":"Кредит!LRM9","v":0},{"$f":"Кредит!LRN9","v":0},{"$f":"Кредит!LRO9","v":0},{"$f":"Кредит!LRP9","v":0},{"$f":"Кредит!LRQ9","v":0},{"$f":"Кредит!LRR9","v":0},{"$f":"Кредит!LRS9","v":0},{"$f":"Кредит!LRT9","v":0},{"$f":"Кредит!LRU9","v":0},{"$f":"Кредит!LRV9","v":0},{"$f":"Кредит!LRW9","v":0},{"$f":"Кредит!LRX9","v":0},{"$f":"Кредит!LRY9","v":0},{"$f":"Кредит!LRZ9","v":0},{"$f":"Кредит!LSA9","v":0},{"$f":"Кредит!LSB9","v":0},{"$f":"Кредит!LSC9","v":0},{"$f":"Кредит!LSD9","v":0},{"$f":"Кредит!LSE9","v":0},{"$f":"Кредит!LSF9","v":0},{"$f":"Кредит!LSG9","v":0},{"$f":"Кредит!LSH9","v":0},{"$f":"Кредит!LSI9","v":0},{"$f":"Кредит!LSJ9","v":0},{"$f":"Кредит!LSK9","v":0},{"$f":"Кредит!LSL9","v":0},{"$f":"Кредит!LSM9","v":0},{"$f":"Кредит!LSN9","v":0},{"$f":"Кредит!LSO9","v":0},{"$f":"Кредит!LSP9","v":0},{"$f":"Кредит!LSQ9","v":0},{"$f":"Кредит!LSR9","v":0},{"$f":"Кредит!LSS9","v":0},{"$f":"Кредит!LST9","v":0},{"$f":"Кредит!LSU9","v":0},{"$f":"Кредит!LSV9","v":0},{"$f":"Кредит!LSW9","v":0},{"$f":"Кредит!LSX9","v":0},{"$f":"Кредит!LSY9","v":0},{"$f":"Кредит!LSZ9","v":0},{"$f":"Кредит!LTA9","v":0},{"$f":"Кредит!LTB9","v":0},{"$f":"Кредит!LTC9","v":0},{"$f":"Кредит!LTD9","v":0},{"$f":"Кредит!LTE9","v":0},{"$f":"Кредит!LTF9","v":0},{"$f":"Кредит!LTG9","v":0},{"$f":"Кредит!LTH9","v":0},{"$f":"Кредит!LTI9","v":0},{"$f":"Кредит!LTJ9","v":0},{"$f":"Кредит!LTK9","v":0},{"$f":"Кредит!LTL9","v":0},{"$f":"Кредит!LTM9","v":0},{"$f":"Кредит!LTN9","v":0},{"$f":"Кредит!LTO9","v":0},{"$f":"Кредит!LTP9","v":0},{"$f":"Кредит!LTQ9","v":0},{"$f":"Кредит!LTR9","v":0},{"$f":"Кредит!LTS9","v":0},{"$f":"Кредит!LTT9","v":0},{"$f":"Кредит!LTU9","v":0},{"$f":"Кредит!LTV9","v":0},{"$f":"Кредит!LTW9","v":0},{"$f":"Кредит!LTX9","v":0},{"$f":"Кредит!LTY9","v":0},{"$f":"Кредит!LTZ9","v":0},{"$f":"Кредит!LUA9","v":0},{"$f":"Кредит!LUB9","v":0},{"$f":"Кредит!LUC9","v":0},{"$f":"Кредит!LUD9","v":0},{"$f":"Кредит!LUE9","v":0},{"$f":"Кредит!LUF9","v":0},{"$f":"Кредит!LUG9","v":0},{"$f":"Кредит!LUH9","v":0},{"$f":"Кредит!LUI9","v":0},{"$f":"Кредит!LUJ9","v":0},{"$f":"Кредит!LUK9","v":0},{"$f":"Кредит!LUL9","v":0},{"$f":"Кредит!LUM9","v":0},{"$f":"Кредит!LUN9","v":0},{"$f":"Кредит!LUO9","v":0},{"$f":"Кредит!LUP9","v":0},{"$f":"Кредит!LUQ9","v":0},{"$f":"Кредит!LUR9","v":0},{"$f":"Кредит!LUS9","v":0},{"$f":"Кредит!LUT9","v":0},{"$f":"Кредит!LUU9","v":0},{"$f":"Кредит!LUV9","v":0},{"$f":"Кредит!LUW9","v":0},{"$f":"Кредит!LUX9","v":0},{"$f":"Кредит!LUY9","v":0},{"$f":"Кредит!LUZ9","v":0},{"$f":"Кредит!LVA9","v":0},{"$f":"Кредит!LVB9","v":0},{"$f":"Кредит!LVC9","v":0},{"$f":"Кредит!LVD9","v":0},{"$f":"Кредит!LVE9","v":0},{"$f":"Кредит!LVF9","v":0},{"$f":"Кредит!LVG9","v":0},{"$f":"Кредит!LVH9","v":0},{"$f":"Кредит!LVI9","v":0},{"$f":"Кредит!LVJ9","v":0},{"$f":"Кредит!LVK9","v":0},{"$f":"Кредит!LVL9","v":0},{"$f":"Кредит!LVM9","v":0},{"$f":"Кредит!LVN9","v":0},{"$f":"Кредит!LVO9","v":0},{"$f":"Кредит!LVP9","v":0},{"$f":"Кредит!LVQ9","v":0},{"$f":"Кредит!LVR9","v":0},{"$f":"Кредит!LVS9","v":0},{"$f":"Кредит!LVT9","v":0},{"$f":"Кредит!LVU9","v":0},{"$f":"Кредит!LVV9","v":0},{"$f":"Кредит!LVW9","v":0},{"$f":"Кредит!LVX9","v":0},{"$f":"Кредит!LVY9","v":0},{"$f":"Кредит!LVZ9","v":0},{"$f":"Кредит!LWA9","v":0},{"$f":"Кредит!LWB9","v":0},{"$f":"Кредит!LWC9","v":0},{"$f":"Кредит!LWD9","v":0},{"$f":"Кредит!LWE9","v":0},{"$f":"Кредит!LWF9","v":0},{"$f":"Кредит!LWG9","v":0},{"$f":"Кредит!LWH9","v":0},{"$f":"Кредит!LWI9","v":0},{"$f":"Кредит!LWJ9","v":0},{"$f":"Кредит!LWK9","v":0},{"$f":"Кредит!LWL9","v":0},{"$f":"Кредит!LWM9","v":0},{"$f":"Кредит!LWN9","v":0},{"$f":"Кредит!LWO9","v":0},{"$f":"Кредит!LWP9","v":0},{"$f":"Кредит!LWQ9","v":0},{"$f":"Кредит!LWR9","v":0},{"$f":"Кредит!LWS9","v":0},{"$f":"Кредит!LWT9","v":0},{"$f":"Кредит!LWU9","v":0},{"$f":"Кредит!LWV9","v":0},{"$f":"Кредит!LWW9","v":0},{"$f":"Кредит!LWX9","v":0},{"$f":"Кредит!LWY9","v":0},{"$f":"Кредит!LWZ9","v":0},{"$f":"Кредит!LXA9","v":0},{"$f":"Кредит!LXB9","v":0},{"$f":"Кредит!LXC9","v":0},{"$f":"Кредит!LXD9","v":0},{"$f":"Кредит!LXE9","v":0},{"$f":"Кредит!LXF9","v":0},{"$f":"Кредит!LXG9","v":0},{"$f":"Кредит!LXH9","v":0},{"$f":"Кредит!LXI9","v":0},{"$f":"Кредит!LXJ9","v":0},{"$f":"Кредит!LXK9","v":0},{"$f":"Кредит!LXL9","v":0},{"$f":"Кредит!LXM9","v":0},{"$f":"Кредит!LXN9","v":0},{"$f":"Кредит!LXO9","v":0},{"$f":"Кредит!LXP9","v":0},{"$f":"Кредит!LXQ9","v":0},{"$f":"Кредит!LXR9","v":0},{"$f":"Кредит!LXS9","v":0},{"$f":"Кредит!LXT9","v":0},{"$f":"Кредит!LXU9","v":0},{"$f":"Кредит!LXV9","v":0},{"$f":"Кредит!LXW9","v":0},{"$f":"Кредит!LXX9","v":0},{"$f":"Кредит!LXY9","v":0},{"$f":"Кредит!LXZ9","v":0},{"$f":"Кредит!LYA9","v":0},{"$f":"Кредит!LYB9","v":0},{"$f":"Кредит!LYC9","v":0},{"$f":"Кредит!LYD9","v":0},{"$f":"Кредит!LYE9","v":0},{"$f":"Кредит!LYF9","v":0},{"$f":"Кредит!LYG9","v":0},{"$f":"Кредит!LYH9","v":0},{"$f":"Кредит!LYI9","v":0},{"$f":"Кредит!LYJ9","v":0},{"$f":"Кредит!LYK9","v":0},{"$f":"Кредит!LYL9","v":0},{"$f":"Кредит!LYM9","v":0},{"$f":"Кредит!LYN9","v":0},{"$f":"Кредит!LYO9","v":0},{"$f":"Кредит!LYP9","v":0},{"$f":"Кредит!LYQ9","v":0},{"$f":"Кредит!LYR9","v":0},{"$f":"Кредит!LYS9","v":0},{"$f":"Кредит!LYT9","v":0},{"$f":"Кредит!LYU9","v":0},{"$f":"Кредит!LYV9","v":0},{"$f":"Кредит!LYW9","v":0},{"$f":"Кредит!LYX9","v":0},{"$f":"Кредит!LYY9","v":0},{"$f":"Кредит!LYZ9","v":0},{"$f":"Кредит!LZA9","v":0},{"$f":"Кредит!LZB9","v":0},{"$f":"Кредит!LZC9","v":0},{"$f":"Кредит!LZD9","v":0},{"$f":"Кредит!LZE9","v":0},{"$f":"Кредит!LZF9","v":0},{"$f":"Кредит!LZG9","v":0},{"$f":"Кредит!LZH9","v":0},{"$f":"Кредит!LZI9","v":0},{"$f":"Кредит!LZJ9","v":0},{"$f":"Кредит!LZK9","v":0},{"$f":"Кредит!LZL9","v":0},{"$f":"Кредит!LZM9","v":0},{"$f":"Кредит!LZN9","v":0},{"$f":"Кредит!LZO9","v":0},{"$f":"Кредит!LZP9","v":0},{"$f":"Кредит!LZQ9","v":0},{"$f":"Кредит!LZR9","v":0},{"$f":"Кредит!LZS9","v":0},{"$f":"Кредит!LZT9","v":0},{"$f":"Кредит!LZU9","v":0},{"$f":"Кредит!LZV9","v":0},{"$f":"Кредит!LZW9","v":0},{"$f":"Кредит!LZX9","v":0},{"$f":"Кредит!LZY9","v":0},{"$f":"Кредит!LZZ9","v":0},{"$f":"Кредит!MAA9","v":0},{"$f":"Кредит!MAB9","v":0},{"$f":"Кредит!MAC9","v":0},{"$f":"Кредит!MAD9","v":0},{"$f":"Кредит!MAE9","v":0},{"$f":"Кредит!MAF9","v":0},{"$f":"Кредит!MAG9","v":0},{"$f":"Кредит!MAH9","v":0},{"$f":"Кредит!MAI9","v":0},{"$f":"Кредит!MAJ9","v":0},{"$f":"Кредит!MAK9","v":0},{"$f":"Кредит!MAL9","v":0},{"$f":"Кредит!MAM9","v":0},{"$f":"Кредит!MAN9","v":0},{"$f":"Кредит!MAO9","v":0},{"$f":"Кредит!MAP9","v":0},{"$f":"Кредит!MAQ9","v":0},{"$f":"Кредит!MAR9","v":0},{"$f":"Кредит!MAS9","v":0},{"$f":"Кредит!MAT9","v":0},{"$f":"Кредит!MAU9","v":0},{"$f":"Кредит!MAV9","v":0},{"$f":"Кредит!MAW9","v":0},{"$f":"Кредит!MAX9","v":0},{"$f":"Кредит!MAY9","v":0},{"$f":"Кредит!MAZ9","v":0},{"$f":"Кредит!MBA9","v":0},{"$f":"Кредит!MBB9","v":0},{"$f":"Кредит!MBC9","v":0},{"$f":"Кредит!MBD9","v":0},{"$f":"Кредит!MBE9","v":0},{"$f":"Кредит!MBF9","v":0},{"$f":"Кредит!MBG9","v":0},{"$f":"Кредит!MBH9","v":0},{"$f":"Кредит!MBI9","v":0},{"$f":"Кредит!MBJ9","v":0},{"$f":"Кредит!MBK9","v":0},{"$f":"Кредит!MBL9","v":0},{"$f":"Кредит!MBM9","v":0},{"$f":"Кредит!MBN9","v":0},{"$f":"Кредит!MBO9","v":0},{"$f":"Кредит!MBP9","v":0},{"$f":"Кредит!MBQ9","v":0},{"$f":"Кредит!MBR9","v":0},{"$f":"Кредит!MBS9","v":0},{"$f":"Кредит!MBT9","v":0},{"$f":"Кредит!MBU9","v":0},{"$f":"Кредит!MBV9","v":0},{"$f":"Кредит!MBW9","v":0},{"$f":"Кредит!MBX9","v":0},{"$f":"Кредит!MBY9","v":0},{"$f":"Кредит!MBZ9","v":0},{"$f":"Кредит!MCA9","v":0},{"$f":"Кредит!MCB9","v":0},{"$f":"Кредит!MCC9","v":0},{"$f":"Кредит!MCD9","v":0},{"$f":"Кредит!MCE9","v":0},{"$f":"Кредит!MCF9","v":0},{"$f":"Кредит!MCG9","v":0},{"$f":"Кредит!MCH9","v":0},{"$f":"Кредит!MCI9","v":0},{"$f":"Кредит!MCJ9","v":0},{"$f":"Кредит!MCK9","v":0},{"$f":"Кредит!MCL9","v":0},{"$f":"Кредит!MCM9","v":0},{"$f":"Кредит!MCN9","v":0},{"$f":"Кредит!MCO9","v":0},{"$f":"Кредит!MCP9","v":0},{"$f":"Кредит!MCQ9","v":0},{"$f":"Кредит!MCR9","v":0},{"$f":"Кредит!MCS9","v":0},{"$f":"Кредит!MCT9","v":0},{"$f":"Кредит!MCU9","v":0},{"$f":"Кредит!MCV9","v":0},{"$f":"Кредит!MCW9","v":0},{"$f":"Кредит!MCX9","v":0},{"$f":"Кредит!MCY9","v":0},{"$f":"Кредит!MCZ9","v":0},{"$f":"Кредит!MDA9","v":0},{"$f":"Кредит!MDB9","v":0},{"$f":"Кредит!MDC9","v":0},{"$f":"Кредит!MDD9","v":0},{"$f":"Кредит!MDE9","v":0},{"$f":"Кредит!MDF9","v":0},{"$f":"Кредит!MDG9","v":0},{"$f":"Кредит!MDH9","v":0},{"$f":"Кредит!MDI9","v":0},{"$f":"Кредит!MDJ9","v":0},{"$f":"Кредит!MDK9","v":0},{"$f":"Кредит!MDL9","v":0},{"$f":"Кредит!MDM9","v":0},{"$f":"Кредит!MDN9","v":0},{"$f":"Кредит!MDO9","v":0},{"$f":"Кредит!MDP9","v":0},{"$f":"Кредит!MDQ9","v":0},{"$f":"Кредит!MDR9","v":0},{"$f":"Кредит!MDS9","v":0},{"$f":"Кредит!MDT9","v":0},{"$f":"Кредит!MDU9","v":0},{"$f":"Кредит!MDV9","v":0},{"$f":"Кредит!MDW9","v":0},{"$f":"Кредит!MDX9","v":0},{"$f":"Кредит!MDY9","v":0},{"$f":"Кредит!MDZ9","v":0},{"$f":"Кредит!MEA9","v":0},{"$f":"Кредит!MEB9","v":0},{"$f":"Кредит!MEC9","v":0},{"$f":"Кредит!MED9","v":0},{"$f":"Кредит!MEE9","v":0},{"$f":"Кредит!MEF9","v":0},{"$f":"Кредит!MEG9","v":0},{"$f":"Кредит!MEH9","v":0},{"$f":"Кредит!MEI9","v":0},{"$f":"Кредит!MEJ9","v":0},{"$f":"Кредит!MEK9","v":0},{"$f":"Кредит!MEL9","v":0},{"$f":"Кредит!MEM9","v":0},{"$f":"Кредит!MEN9","v":0},{"$f":"Кредит!MEO9","v":0},{"$f":"Кредит!MEP9","v":0},{"$f":"Кредит!MEQ9","v":0},{"$f":"Кредит!MER9","v":0},{"$f":"Кредит!MES9","v":0},{"$f":"Кредит!MET9","v":0},{"$f":"Кредит!MEU9","v":0},{"$f":"Кредит!MEV9","v":0},{"$f":"Кредит!MEW9","v":0},{"$f":"Кредит!MEX9","v":0},{"$f":"Кредит!MEY9","v":0},{"$f":"Кредит!MEZ9","v":0},{"$f":"Кредит!MFA9","v":0},{"$f":"Кредит!MFB9","v":0},{"$f":"Кредит!MFC9","v":0},{"$f":"Кредит!MFD9","v":0},{"$f":"Кредит!MFE9","v":0},{"$f":"Кредит!MFF9","v":0},{"$f":"Кредит!MFG9","v":0},{"$f":"Кредит!MFH9","v":0},{"$f":"Кредит!MFI9","v":0},{"$f":"Кредит!MFJ9","v":0},{"$f":"Кредит!MFK9","v":0},{"$f":"Кредит!MFL9","v":0},{"$f":"Кредит!MFM9","v":0},{"$f":"Кредит!MFN9","v":0},{"$f":"Кредит!MFO9","v":0},{"$f":"Кредит!MFP9","v":0},{"$f":"Кредит!MFQ9","v":0},{"$f":"Кредит!MFR9","v":0},{"$f":"Кредит!MFS9","v":0},{"$f":"Кредит!MFT9","v":0},{"$f":"Кредит!MFU9","v":0},{"$f":"Кредит!MFV9","v":0},{"$f":"Кредит!MFW9","v":0},{"$f":"Кредит!MFX9","v":0},{"$f":"Кредит!MFY9","v":0},{"$f":"Кредит!MFZ9","v":0},{"$f":"Кредит!MGA9","v":0},{"$f":"Кредит!MGB9","v":0},{"$f":"Кредит!MGC9","v":0},{"$f":"Кредит!MGD9","v":0},{"$f":"Кредит!MGE9","v":0},{"$f":"Кредит!MGF9","v":0},{"$f":"Кредит!MGG9","v":0},{"$f":"Кредит!MGH9","v":0},{"$f":"Кредит!MGI9","v":0},{"$f":"Кредит!MGJ9","v":0},{"$f":"Кредит!MGK9","v":0},{"$f":"Кредит!MGL9","v":0},{"$f":"Кредит!MGM9","v":0},{"$f":"Кредит!MGN9","v":0},{"$f":"Кредит!MGO9","v":0},{"$f":"Кредит!MGP9","v":0},{"$f":"Кредит!MGQ9","v":0},{"$f":"Кредит!MGR9","v":0},{"$f":"Кредит!MGS9","v":0},{"$f":"Кредит!MGT9","v":0},{"$f":"Кредит!MGU9","v":0},{"$f":"Кредит!MGV9","v":0},{"$f":"Кредит!MGW9","v":0},{"$f":"Кредит!MGX9","v":0},{"$f":"Кредит!MGY9","v":0},{"$f":"Кредит!MGZ9","v":0},{"$f":"Кредит!MHA9","v":0},{"$f":"Кредит!MHB9","v":0},{"$f":"Кредит!MHC9","v":0},{"$f":"Кредит!MHD9","v":0},{"$f":"Кредит!MHE9","v":0},{"$f":"Кредит!MHF9","v":0},{"$f":"Кредит!MHG9","v":0},{"$f":"Кредит!MHH9","v":0},{"$f":"Кредит!MHI9","v":0},{"$f":"Кредит!MHJ9","v":0},{"$f":"Кредит!MHK9","v":0},{"$f":"Кредит!MHL9","v":0},{"$f":"Кредит!MHM9","v":0},{"$f":"Кредит!MHN9","v":0},{"$f":"Кредит!MHO9","v":0},{"$f":"Кредит!MHP9","v":0},{"$f":"Кредит!MHQ9","v":0},{"$f":"Кредит!MHR9","v":0},{"$f":"Кредит!MHS9","v":0},{"$f":"Кредит!MHT9","v":0},{"$f":"Кредит!MHU9","v":0},{"$f":"Кредит!MHV9","v":0},{"$f":"Кредит!MHW9","v":0},{"$f":"Кредит!MHX9","v":0},{"$f":"Кредит!MHY9","v":0},{"$f":"Кредит!MHZ9","v":0},{"$f":"Кредит!MIA9","v":0},{"$f":"Кредит!MIB9","v":0},{"$f":"Кредит!MIC9","v":0},{"$f":"Кредит!MID9","v":0},{"$f":"Кредит!MIE9","v":0},{"$f":"Кредит!MIF9","v":0},{"$f":"Кредит!MIG9","v":0},{"$f":"Кредит!MIH9","v":0},{"$f":"Кредит!MII9","v":0},{"$f":"Кредит!MIJ9","v":0},{"$f":"Кредит!MIK9","v":0},{"$f":"Кредит!MIL9","v":0},{"$f":"Кредит!MIM9","v":0},{"$f":"Кредит!MIN9","v":0},{"$f":"Кредит!MIO9","v":0},{"$f":"Кредит!MIP9","v":0},{"$f":"Кредит!MIQ9","v":0},{"$f":"Кредит!MIR9","v":0},{"$f":"Кредит!MIS9","v":0},{"$f":"Кредит!MIT9","v":0},{"$f":"Кредит!MIU9","v":0},{"$f":"Кредит!MIV9","v":0},{"$f":"Кредит!MIW9","v":0},{"$f":"Кредит!MIX9","v":0},{"$f":"Кредит!MIY9","v":0},{"$f":"Кредит!MIZ9","v":0},{"$f":"Кредит!MJA9","v":0},{"$f":"Кредит!MJB9","v":0},{"$f":"Кредит!MJC9","v":0},{"$f":"Кредит!MJD9","v":0},{"$f":"Кредит!MJE9","v":0},{"$f":"Кредит!MJF9","v":0},{"$f":"Кредит!MJG9","v":0},{"$f":"Кредит!MJH9","v":0},{"$f":"Кредит!MJI9","v":0},{"$f":"Кредит!MJJ9","v":0},{"$f":"Кредит!MJK9","v":0},{"$f":"Кредит!MJL9","v":0},{"$f":"Кредит!MJM9","v":0},{"$f":"Кредит!MJN9","v":0},{"$f":"Кредит!MJO9","v":0},{"$f":"Кредит!MJP9","v":0},{"$f":"Кредит!MJQ9","v":0},{"$f":"Кредит!MJR9","v":0},{"$f":"Кредит!MJS9","v":0},{"$f":"Кредит!MJT9","v":0},{"$f":"Кредит!MJU9","v":0},{"$f":"Кредит!MJV9","v":0},{"$f":"Кредит!MJW9","v":0},{"$f":"Кредит!MJX9","v":0},{"$f":"Кредит!MJY9","v":0},{"$f":"Кредит!MJZ9","v":0},{"$f":"Кредит!MKA9","v":0},{"$f":"Кредит!MKB9","v":0},{"$f":"Кредит!MKC9","v":0},{"$f":"Кредит!MKD9","v":0},{"$f":"Кредит!MKE9","v":0},{"$f":"Кредит!MKF9","v":0},{"$f":"Кредит!MKG9","v":0},{"$f":"Кредит!MKH9","v":0},{"$f":"Кредит!MKI9","v":0},{"$f":"Кредит!MKJ9","v":0},{"$f":"Кредит!MKK9","v":0},{"$f":"Кредит!MKL9","v":0},{"$f":"Кредит!MKM9","v":0},{"$f":"Кредит!MKN9","v":0},{"$f":"Кредит!MKO9","v":0},{"$f":"Кредит!MKP9","v":0},{"$f":"Кредит!MKQ9","v":0},{"$f":"Кредит!MKR9","v":0},{"$f":"Кредит!MKS9","v":0},{"$f":"Кредит!MKT9","v":0},{"$f":"Кредит!MKU9","v":0},{"$f":"Кредит!MKV9","v":0},{"$f":"Кредит!MKW9","v":0},{"$f":"Кредит!MKX9","v":0},{"$f":"Кредит!MKY9","v":0},{"$f":"Кредит!MKZ9","v":0},{"$f":"Кредит!MLA9","v":0},{"$f":"Кредит!MLB9","v":0},{"$f":"Кредит!MLC9","v":0},{"$f":"Кредит!MLD9","v":0},{"$f":"Кредит!MLE9","v":0},{"$f":"Кредит!MLF9","v":0},{"$f":"Кредит!MLG9","v":0},{"$f":"Кредит!MLH9","v":0},{"$f":"Кредит!MLI9","v":0},{"$f":"Кредит!MLJ9","v":0},{"$f":"Кредит!MLK9","v":0},{"$f":"Кредит!MLL9","v":0},{"$f":"Кредит!MLM9","v":0},{"$f":"Кредит!MLN9","v":0},{"$f":"Кредит!MLO9","v":0},{"$f":"Кредит!MLP9","v":0},{"$f":"Кредит!MLQ9","v":0},{"$f":"Кредит!MLR9","v":0},{"$f":"Кредит!MLS9","v":0},{"$f":"Кредит!MLT9","v":0},{"$f":"Кредит!MLU9","v":0},{"$f":"Кредит!MLV9","v":0},{"$f":"Кредит!MLW9","v":0},{"$f":"Кредит!MLX9","v":0},{"$f":"Кредит!MLY9","v":0},{"$f":"Кредит!MLZ9","v":0},{"$f":"Кредит!MMA9","v":0},{"$f":"Кредит!MMB9","v":0},{"$f":"Кредит!MMC9","v":0},{"$f":"Кредит!MMD9","v":0},{"$f":"Кредит!MME9","v":0},{"$f":"Кредит!MMF9","v":0},{"$f":"Кредит!MMG9","v":0},{"$f":"Кредит!MMH9","v":0},{"$f":"Кредит!MMI9","v":0},{"$f":"Кредит!MMJ9","v":0},{"$f":"Кредит!MMK9","v":0},{"$f":"Кредит!MML9","v":0},{"$f":"Кредит!MMM9","v":0},{"$f":"Кредит!MMN9","v":0},{"$f":"Кредит!MMO9","v":0},{"$f":"Кредит!MMP9","v":0},{"$f":"Кредит!MMQ9","v":0},{"$f":"Кредит!MMR9","v":0},{"$f":"Кредит!MMS9","v":0},{"$f":"Кредит!MMT9","v":0},{"$f":"Кредит!MMU9","v":0},{"$f":"Кредит!MMV9","v":0},{"$f":"Кредит!MMW9","v":0},{"$f":"Кредит!MMX9","v":0},{"$f":"Кредит!MMY9","v":0},{"$f":"Кредит!MMZ9","v":0},{"$f":"Кредит!MNA9","v":0},{"$f":"Кредит!MNB9","v":0},{"$f":"Кредит!MNC9","v":0},{"$f":"Кредит!MND9","v":0},{"$f":"Кредит!MNE9","v":0},{"$f":"Кредит!MNF9","v":0},{"$f":"Кредит!MNG9","v":0},{"$f":"Кредит!MNH9","v":0},{"$f":"Кредит!MNI9","v":0},{"$f":"Кредит!MNJ9","v":0},{"$f":"Кредит!MNK9","v":0},{"$f":"Кредит!MNL9","v":0},{"$f":"Кредит!MNM9","v":0},{"$f":"Кредит!MNN9","v":0},{"$f":"Кредит!MNO9","v":0},{"$f":"Кредит!MNP9","v":0},{"$f":"Кредит!MNQ9","v":0},{"$f":"Кредит!MNR9","v":0},{"$f":"Кредит!MNS9","v":0},{"$f":"Кредит!MNT9","v":0},{"$f":"Кредит!MNU9","v":0},{"$f":"Кредит!MNV9","v":0},{"$f":"Кредит!MNW9","v":0},{"$f":"Кредит!MNX9","v":0},{"$f":"Кредит!MNY9","v":0},{"$f":"Кредит!MNZ9","v":0},{"$f":"Кредит!MOA9","v":0},{"$f":"Кредит!MOB9","v":0},{"$f":"Кредит!MOC9","v":0},{"$f":"Кредит!MOD9","v":0},{"$f":"Кредит!MOE9","v":0},{"$f":"Кредит!MOF9","v":0},{"$f":"Кредит!MOG9","v":0},{"$f":"Кредит!MOH9","v":0},{"$f":"Кредит!MOI9","v":0},{"$f":"Кредит!MOJ9","v":0},{"$f":"Кредит!MOK9","v":0},{"$f":"Кредит!MOL9","v":0},{"$f":"Кредит!MOM9","v":0},{"$f":"Кредит!MON9","v":0},{"$f":"Кредит!MOO9","v":0},{"$f":"Кредит!MOP9","v":0},{"$f":"Кредит!MOQ9","v":0},{"$f":"Кредит!MOR9","v":0},{"$f":"Кредит!MOS9","v":0},{"$f":"Кредит!MOT9","v":0},{"$f":"Кредит!MOU9","v":0},{"$f":"Кредит!MOV9","v":0},{"$f":"Кредит!MOW9","v":0},{"$f":"Кредит!MOX9","v":0},{"$f":"Кредит!MOY9","v":0},{"$f":"Кредит!MOZ9","v":0},{"$f":"Кредит!MPA9","v":0},{"$f":"Кредит!MPB9","v":0},{"$f":"Кредит!MPC9","v":0},{"$f":"Кредит!MPD9","v":0},{"$f":"Кредит!MPE9","v":0},{"$f":"Кредит!MPF9","v":0},{"$f":"Кредит!MPG9","v":0},{"$f":"Кредит!MPH9","v":0},{"$f":"Кредит!MPI9","v":0},{"$f":"Кредит!MPJ9","v":0},{"$f":"Кредит!MPK9","v":0},{"$f":"Кредит!MPL9","v":0},{"$f":"Кредит!MPM9","v":0},{"$f":"Кредит!MPN9","v":0},{"$f":"Кредит!MPO9","v":0},{"$f":"Кредит!MPP9","v":0},{"$f":"Кредит!MPQ9","v":0},{"$f":"Кредит!MPR9","v":0},{"$f":"Кредит!MPS9","v":0},{"$f":"Кредит!MPT9","v":0},{"$f":"Кредит!MPU9","v":0},{"$f":"Кредит!MPV9","v":0},{"$f":"Кредит!MPW9","v":0},{"$f":"Кредит!MPX9","v":0},{"$f":"Кредит!MPY9","v":0},{"$f":"Кредит!MPZ9","v":0},{"$f":"Кредит!MQA9","v":0},{"$f":"Кредит!MQB9","v":0},{"$f":"Кредит!MQC9","v":0},{"$f":"Кредит!MQD9","v":0},{"$f":"Кредит!MQE9","v":0},{"$f":"Кредит!MQF9","v":0},{"$f":"Кредит!MQG9","v":0},{"$f":"Кредит!MQH9","v":0},{"$f":"Кредит!MQI9","v":0},{"$f":"Кредит!MQJ9","v":0},{"$f":"Кредит!MQK9","v":0},{"$f":"Кредит!MQL9","v":0},{"$f":"Кредит!MQM9","v":0},{"$f":"Кредит!MQN9","v":0},{"$f":"Кредит!MQO9","v":0},{"$f":"Кредит!MQP9","v":0},{"$f":"Кредит!MQQ9","v":0},{"$f":"Кредит!MQR9","v":0},{"$f":"Кредит!MQS9","v":0},{"$f":"Кредит!MQT9","v":0},{"$f":"Кредит!MQU9","v":0},{"$f":"Кредит!MQV9","v":0},{"$f":"Кредит!MQW9","v":0},{"$f":"Кредит!MQX9","v":0},{"$f":"Кредит!MQY9","v":0},{"$f":"Кредит!MQZ9","v":0},{"$f":"Кредит!MRA9","v":0},{"$f":"Кредит!MRB9","v":0},{"$f":"Кредит!MRC9","v":0},{"$f":"Кредит!MRD9","v":0},{"$f":"Кредит!MRE9","v":0},{"$f":"Кредит!MRF9","v":0},{"$f":"Кредит!MRG9","v":0},{"$f":"Кредит!MRH9","v":0},{"$f":"Кредит!MRI9","v":0},{"$f":"Кредит!MRJ9","v":0},{"$f":"Кредит!MRK9","v":0},{"$f":"Кредит!MRL9","v":0},{"$f":"Кредит!MRM9","v":0},{"$f":"Кредит!MRN9","v":0},{"$f":"Кредит!MRO9","v":0},{"$f":"Кредит!MRP9","v":0},{"$f":"Кредит!MRQ9","v":0},{"$f":"Кредит!MRR9","v":0},{"$f":"Кредит!MRS9","v":0},{"$f":"Кредит!MRT9","v":0},{"$f":"Кредит!MRU9","v":0},{"$f":"Кредит!MRV9","v":0},{"$f":"Кредит!MRW9","v":0},{"$f":"Кредит!MRX9","v":0},{"$f":"Кредит!MRY9","v":0},{"$f":"Кредит!MRZ9","v":0},{"$f":"Кредит!MSA9","v":0},{"$f":"Кредит!MSB9","v":0},{"$f":"Кредит!MSC9","v":0},{"$f":"Кредит!MSD9","v":0},{"$f":"Кредит!MSE9","v":0},{"$f":"Кредит!MSF9","v":0},{"$f":"Кредит!MSG9","v":0},{"$f":"Кредит!MSH9","v":0},{"$f":"Кредит!MSI9","v":0},{"$f":"Кредит!MSJ9","v":0},{"$f":"Кредит!MSK9","v":0},{"$f":"Кредит!MSL9","v":0},{"$f":"Кредит!MSM9","v":0},{"$f":"Кредит!MSN9","v":0},{"$f":"Кредит!MSO9","v":0},{"$f":"Кредит!MSP9","v":0},{"$f":"Кредит!MSQ9","v":0},{"$f":"Кредит!MSR9","v":0},{"$f":"Кредит!MSS9","v":0},{"$f":"Кредит!MST9","v":0},{"$f":"Кредит!MSU9","v":0},{"$f":"Кредит!MSV9","v":0},{"$f":"Кредит!MSW9","v":0},{"$f":"Кредит!MSX9","v":0},{"$f":"Кредит!MSY9","v":0},{"$f":"Кредит!MSZ9","v":0},{"$f":"Кредит!MTA9","v":0},{"$f":"Кредит!MTB9","v":0},{"$f":"Кредит!MTC9","v":0},{"$f":"Кредит!MTD9","v":0},{"$f":"Кредит!MTE9","v":0},{"$f":"Кредит!MTF9","v":0},{"$f":"Кредит!MTG9","v":0},{"$f":"Кредит!MTH9","v":0},{"$f":"Кредит!MTI9","v":0},{"$f":"Кредит!MTJ9","v":0},{"$f":"Кредит!MTK9","v":0},{"$f":"Кредит!MTL9","v":0},{"$f":"Кредит!MTM9","v":0},{"$f":"Кредит!MTN9","v":0},{"$f":"Кредит!MTO9","v":0},{"$f":"Кредит!MTP9","v":0},{"$f":"Кредит!MTQ9","v":0},{"$f":"Кредит!MTR9","v":0},{"$f":"Кредит!MTS9","v":0},{"$f":"Кредит!MTT9","v":0},{"$f":"Кредит!MTU9","v":0},{"$f":"Кредит!MTV9","v":0},{"$f":"Кредит!MTW9","v":0},{"$f":"Кредит!MTX9","v":0},{"$f":"Кредит!MTY9","v":0},{"$f":"Кредит!MTZ9","v":0},{"$f":"Кредит!MUA9","v":0},{"$f":"Кредит!MUB9","v":0},{"$f":"Кредит!MUC9","v":0},{"$f":"Кредит!MUD9","v":0},{"$f":"Кредит!MUE9","v":0},{"$f":"Кредит!MUF9","v":0},{"$f":"Кредит!MUG9","v":0},{"$f":"Кредит!MUH9","v":0},{"$f":"Кредит!MUI9","v":0},{"$f":"Кредит!MUJ9","v":0},{"$f":"Кредит!MUK9","v":0},{"$f":"Кредит!MUL9","v":0},{"$f":"Кредит!MUM9","v":0},{"$f":"Кредит!MUN9","v":0},{"$f":"Кредит!MUO9","v":0},{"$f":"Кредит!MUP9","v":0},{"$f":"Кредит!MUQ9","v":0},{"$f":"Кредит!MUR9","v":0},{"$f":"Кредит!MUS9","v":0},{"$f":"Кредит!MUT9","v":0},{"$f":"Кредит!MUU9","v":0},{"$f":"Кредит!MUV9","v":0},{"$f":"Кредит!MUW9","v":0},{"$f":"Кредит!MUX9","v":0},{"$f":"Кредит!MUY9","v":0},{"$f":"Кредит!MUZ9","v":0},{"$f":"Кредит!MVA9","v":0},{"$f":"Кредит!MVB9","v":0},{"$f":"Кредит!MVC9","v":0},{"$f":"Кредит!MVD9","v":0},{"$f":"Кредит!MVE9","v":0},{"$f":"Кредит!MVF9","v":0},{"$f":"Кредит!MVG9","v":0},{"$f":"Кредит!MVH9","v":0},{"$f":"Кредит!MVI9","v":0},{"$f":"Кредит!MVJ9","v":0},{"$f":"Кредит!MVK9","v":0},{"$f":"Кредит!MVL9","v":0},{"$f":"Кредит!MVM9","v":0},{"$f":"Кредит!MVN9","v":0},{"$f":"Кредит!MVO9","v":0},{"$f":"Кредит!MVP9","v":0},{"$f":"Кредит!MVQ9","v":0},{"$f":"Кредит!MVR9","v":0},{"$f":"Кредит!MVS9","v":0},{"$f":"Кредит!MVT9","v":0},{"$f":"Кредит!MVU9","v":0},{"$f":"Кредит!MVV9","v":0},{"$f":"Кредит!MVW9","v":0},{"$f":"Кредит!MVX9","v":0},{"$f":"Кредит!MVY9","v":0},{"$f":"Кредит!MVZ9","v":0},{"$f":"Кредит!MWA9","v":0},{"$f":"Кредит!MWB9","v":0},{"$f":"Кредит!MWC9","v":0},{"$f":"Кредит!MWD9","v":0},{"$f":"Кредит!MWE9","v":0},{"$f":"Кредит!MWF9","v":0},{"$f":"Кредит!MWG9","v":0},{"$f":"Кредит!MWH9","v":0},{"$f":"Кредит!MWI9","v":0},{"$f":"Кредит!MWJ9","v":0},{"$f":"Кредит!MWK9","v":0},{"$f":"Кредит!MWL9","v":0},{"$f":"Кредит!MWM9","v":0},{"$f":"Кредит!MWN9","v":0},{"$f":"Кредит!MWO9","v":0},{"$f":"Кредит!MWP9","v":0},{"$f":"Кредит!MWQ9","v":0},{"$f":"Кредит!MWR9","v":0},{"$f":"Кредит!MWS9","v":0},{"$f":"Кредит!MWT9","v":0},{"$f":"Кредит!MWU9","v":0},{"$f":"Кредит!MWV9","v":0},{"$f":"Кредит!MWW9","v":0},{"$f":"Кредит!MWX9","v":0},{"$f":"Кредит!MWY9","v":0},{"$f":"Кредит!MWZ9","v":0},{"$f":"Кредит!MXA9","v":0},{"$f":"Кредит!MXB9","v":0},{"$f":"Кредит!MXC9","v":0},{"$f":"Кредит!MXD9","v":0},{"$f":"Кредит!MXE9","v":0},{"$f":"Кредит!MXF9","v":0},{"$f":"Кредит!MXG9","v":0},{"$f":"Кредит!MXH9","v":0},{"$f":"Кредит!MXI9","v":0},{"$f":"Кредит!MXJ9","v":0},{"$f":"Кредит!MXK9","v":0},{"$f":"Кредит!MXL9","v":0},{"$f":"Кредит!MXM9","v":0},{"$f":"Кредит!MXN9","v":0},{"$f":"Кредит!MXO9","v":0},{"$f":"Кредит!MXP9","v":0},{"$f":"Кредит!MXQ9","v":0},{"$f":"Кредит!MXR9","v":0},{"$f":"Кредит!MXS9","v":0},{"$f":"Кредит!MXT9","v":0},{"$f":"Кредит!MXU9","v":0},{"$f":"Кредит!MXV9","v":0},{"$f":"Кредит!MXW9","v":0},{"$f":"Кредит!MXX9","v":0},{"$f":"Кредит!MXY9","v":0},{"$f":"Кредит!MXZ9","v":0},{"$f":"Кредит!MYA9","v":0},{"$f":"Кредит!MYB9","v":0},{"$f":"Кредит!MYC9","v":0},{"$f":"Кредит!MYD9","v":0},{"$f":"Кредит!MYE9","v":0},{"$f":"Кредит!MYF9","v":0},{"$f":"Кредит!MYG9","v":0},{"$f":"Кредит!MYH9","v":0},{"$f":"Кредит!MYI9","v":0},{"$f":"Кредит!MYJ9","v":0},{"$f":"Кредит!MYK9","v":0},{"$f":"Кредит!MYL9","v":0},{"$f":"Кредит!MYM9","v":0},{"$f":"Кредит!MYN9","v":0},{"$f":"Кредит!MYO9","v":0},{"$f":"Кредит!MYP9","v":0},{"$f":"Кредит!MYQ9","v":0},{"$f":"Кредит!MYR9","v":0},{"$f":"Кредит!MYS9","v":0},{"$f":"Кредит!MYT9","v":0},{"$f":"Кредит!MYU9","v":0},{"$f":"Кредит!MYV9","v":0},{"$f":"Кредит!MYW9","v":0},{"$f":"Кредит!MYX9","v":0},{"$f":"Кредит!MYY9","v":0},{"$f":"Кредит!MYZ9","v":0},{"$f":"Кредит!MZA9","v":0},{"$f":"Кредит!MZB9","v":0},{"$f":"Кредит!MZC9","v":0},{"$f":"Кредит!MZD9","v":0},{"$f":"Кредит!MZE9","v":0},{"$f":"Кредит!MZF9","v":0},{"$f":"Кредит!MZG9","v":0},{"$f":"Кредит!MZH9","v":0},{"$f":"Кредит!MZI9","v":0},{"$f":"Кредит!MZJ9","v":0},{"$f":"Кредит!MZK9","v":0},{"$f":"Кредит!MZL9","v":0},{"$f":"Кредит!MZM9","v":0},{"$f":"Кредит!MZN9","v":0},{"$f":"Кредит!MZO9","v":0},{"$f":"Кредит!MZP9","v":0},{"$f":"Кредит!MZQ9","v":0},{"$f":"Кредит!MZR9","v":0},{"$f":"Кредит!MZS9","v":0},{"$f":"Кредит!MZT9","v":0},{"$f":"Кредит!MZU9","v":0},{"$f":"Кредит!MZV9","v":0},{"$f":"Кредит!MZW9","v":0},{"$f":"Кредит!MZX9","v":0},{"$f":"Кредит!MZY9","v":0},{"$f":"Кредит!MZZ9","v":0},{"$f":"Кредит!NAA9","v":0},{"$f":"Кредит!NAB9","v":0},{"$f":"Кредит!NAC9","v":0},{"$f":"Кредит!NAD9","v":0},{"$f":"Кредит!NAE9","v":0},{"$f":"Кредит!NAF9","v":0},{"$f":"Кредит!NAG9","v":0},{"$f":"Кредит!NAH9","v":0},{"$f":"Кредит!NAI9","v":0},{"$f":"Кредит!NAJ9","v":0},{"$f":"Кредит!NAK9","v":0},{"$f":"Кредит!NAL9","v":0},{"$f":"Кредит!NAM9","v":0},{"$f":"Кредит!NAN9","v":0},{"$f":"Кредит!NAO9","v":0},{"$f":"Кредит!NAP9","v":0},{"$f":"Кредит!NAQ9","v":0},{"$f":"Кредит!NAR9","v":0},{"$f":"Кредит!NAS9","v":0},{"$f":"Кредит!NAT9","v":0},{"$f":"Кредит!NAU9","v":0},{"$f":"Кредит!NAV9","v":0},{"$f":"Кредит!NAW9","v":0},{"$f":"Кредит!NAX9","v":0},{"$f":"Кредит!NAY9","v":0},{"$f":"Кредит!NAZ9","v":0},{"$f":"Кредит!NBA9","v":0},{"$f":"Кредит!NBB9","v":0},{"$f":"Кредит!NBC9","v":0},{"$f":"Кредит!NBD9","v":0},{"$f":"Кредит!NBE9","v":0},{"$f":"Кредит!NBF9","v":0},{"$f":"Кредит!NBG9","v":0},{"$f":"Кредит!NBH9","v":0},{"$f":"Кредит!NBI9","v":0},{"$f":"Кредит!NBJ9","v":0},{"$f":"Кредит!NBK9","v":0},{"$f":"Кредит!NBL9","v":0},{"$f":"Кредит!NBM9","v":0},{"$f":"Кредит!NBN9","v":0},{"$f":"Кредит!NBO9","v":0},{"$f":"Кредит!NBP9","v":0},{"$f":"Кредит!NBQ9","v":0},{"$f":"Кредит!NBR9","v":0},{"$f":"Кредит!NBS9","v":0},{"$f":"Кредит!NBT9","v":0},{"$f":"Кредит!NBU9","v":0},{"$f":"Кредит!NBV9","v":0},{"$f":"Кредит!NBW9","v":0},{"$f":"Кредит!NBX9","v":0},{"$f":"Кредит!NBY9","v":0},{"$f":"Кредит!NBZ9","v":0},{"$f":"Кредит!NCA9","v":0},{"$f":"Кредит!NCB9","v":0},{"$f":"Кредит!NCC9","v":0},{"$f":"Кредит!NCD9","v":0},{"$f":"Кредит!NCE9","v":0},{"$f":"Кредит!NCF9","v":0},{"$f":"Кредит!NCG9","v":0},{"$f":"Кредит!NCH9","v":0},{"$f":"Кредит!NCI9","v":0},{"$f":"Кредит!NCJ9","v":0},{"$f":"Кредит!NCK9","v":0},{"$f":"Кредит!NCL9","v":0},{"$f":"Кредит!NCM9","v":0},{"$f":"Кредит!NCN9","v":0},{"$f":"Кредит!NCO9","v":0},{"$f":"Кредит!NCP9","v":0},{"$f":"Кредит!NCQ9","v":0},{"$f":"Кредит!NCR9","v":0},{"$f":"Кредит!NCS9","v":0},{"$f":"Кредит!NCT9","v":0},{"$f":"Кредит!NCU9","v":0},{"$f":"Кредит!NCV9","v":0},{"$f":"Кредит!NCW9","v":0},{"$f":"Кредит!NCX9","v":0},{"$f":"Кредит!NCY9","v":0},{"$f":"Кредит!NCZ9","v":0},{"$f":"Кредит!NDA9","v":0},{"$f":"Кредит!NDB9","v":0},{"$f":"Кредит!NDC9","v":0},{"$f":"Кредит!NDD9","v":0},{"$f":"Кредит!NDE9","v":0},{"$f":"Кредит!NDF9","v":0},{"$f":"Кредит!NDG9","v":0},{"$f":"Кредит!NDH9","v":0},{"$f":"Кредит!NDI9","v":0},{"$f":"Кредит!NDJ9","v":0},{"$f":"Кредит!NDK9","v":0},{"$f":"Кредит!NDL9","v":0},{"$f":"Кредит!NDM9","v":0},{"$f":"Кредит!NDN9","v":0},{"$f":"Кредит!NDO9","v":0},{"$f":"Кредит!NDP9","v":0},{"$f":"Кредит!NDQ9","v":0},{"$f":"Кредит!NDR9","v":0},{"$f":"Кредит!NDS9","v":0},{"$f":"Кредит!NDT9","v":0},{"$f":"Кредит!NDU9","v":0},{"$f":"Кредит!NDV9","v":0},{"$f":"Кредит!NDW9","v":0},{"$f":"Кредит!NDX9","v":0},{"$f":"Кредит!NDY9","v":0},{"$f":"Кредит!NDZ9","v":0},{"$f":"Кредит!NEA9","v":0},{"$f":"Кредит!NEB9","v":0},{"$f":"Кредит!NEC9","v":0},{"$f":"Кредит!NED9","v":0},{"$f":"Кредит!NEE9","v":0},{"$f":"Кредит!NEF9","v":0},{"$f":"Кредит!NEG9","v":0},{"$f":"Кредит!NEH9","v":0},{"$f":"Кредит!NEI9","v":0},{"$f":"Кредит!NEJ9","v":0},{"$f":"Кредит!NEK9","v":0},{"$f":"Кредит!NEL9","v":0},{"$f":"Кредит!NEM9","v":0},{"$f":"Кредит!NEN9","v":0},{"$f":"Кредит!NEO9","v":0},{"$f":"Кредит!NEP9","v":0},{"$f":"Кредит!NEQ9","v":0},{"$f":"Кредит!NER9","v":0},{"$f":"Кредит!NES9","v":0},{"$f":"Кредит!NET9","v":0},{"$f":"Кредит!NEU9","v":0},{"$f":"Кредит!NEV9","v":0},{"$f":"Кредит!NEW9","v":0},{"$f":"Кредит!NEX9","v":0},{"$f":"Кредит!NEY9","v":0},{"$f":"Кредит!NEZ9","v":0},{"$f":"Кредит!NFA9","v":0},{"$f":"Кредит!NFB9","v":0},{"$f":"Кредит!NFC9","v":0},{"$f":"Кредит!NFD9","v":0},{"$f":"Кредит!NFE9","v":0},{"$f":"Кредит!NFF9","v":0},{"$f":"Кредит!NFG9","v":0},{"$f":"Кредит!NFH9","v":0},{"$f":"Кредит!NFI9","v":0},{"$f":"Кредит!NFJ9","v":0},{"$f":"Кредит!NFK9","v":0},{"$f":"Кредит!NFL9","v":0},{"$f":"Кредит!NFM9","v":0},{"$f":"Кредит!NFN9","v":0},{"$f":"Кредит!NFO9","v":0},{"$f":"Кредит!NFP9","v":0},{"$f":"Кредит!NFQ9","v":0},{"$f":"Кредит!NFR9","v":0},{"$f":"Кредит!NFS9","v":0},{"$f":"Кредит!NFT9","v":0},{"$f":"Кредит!NFU9","v":0},{"$f":"Кредит!NFV9","v":0},{"$f":"Кредит!NFW9","v":0},{"$f":"Кредит!NFX9","v":0},{"$f":"Кредит!NFY9","v":0},{"$f":"Кредит!NFZ9","v":0},{"$f":"Кредит!NGA9","v":0},{"$f":"Кредит!NGB9","v":0},{"$f":"Кредит!NGC9","v":0},{"$f":"Кредит!NGD9","v":0},{"$f":"Кредит!NGE9","v":0},{"$f":"Кредит!NGF9","v":0},{"$f":"Кредит!NGG9","v":0},{"$f":"Кредит!NGH9","v":0},{"$f":"Кредит!NGI9","v":0},{"$f":"Кредит!NGJ9","v":0},{"$f":"Кредит!NGK9","v":0},{"$f":"Кредит!NGL9","v":0},{"$f":"Кредит!NGM9","v":0},{"$f":"Кредит!NGN9","v":0},{"$f":"Кредит!NGO9","v":0},{"$f":"Кредит!NGP9","v":0},{"$f":"Кредит!NGQ9","v":0},{"$f":"Кредит!NGR9","v":0},{"$f":"Кредит!NGS9","v":0},{"$f":"Кредит!NGT9","v":0},{"$f":"Кредит!NGU9","v":0},{"$f":"Кредит!NGV9","v":0},{"$f":"Кредит!NGW9","v":0},{"$f":"Кредит!NGX9","v":0},{"$f":"Кредит!NGY9","v":0},{"$f":"Кредит!NGZ9","v":0},{"$f":"Кредит!NHA9","v":0},{"$f":"Кредит!NHB9","v":0},{"$f":"Кредит!NHC9","v":0},{"$f":"Кредит!NHD9","v":0},{"$f":"Кредит!NHE9","v":0},{"$f":"Кредит!NHF9","v":0},{"$f":"Кредит!NHG9","v":0},{"$f":"Кредит!NHH9","v":0},{"$f":"Кредит!NHI9","v":0},{"$f":"Кредит!NHJ9","v":0},{"$f":"Кредит!NHK9","v":0},{"$f":"Кредит!NHL9","v":0},{"$f":"Кредит!NHM9","v":0},{"$f":"Кредит!NHN9","v":0},{"$f":"Кредит!NHO9","v":0},{"$f":"Кредит!NHP9","v":0},{"$f":"Кредит!NHQ9","v":0},{"$f":"Кредит!NHR9","v":0},{"$f":"Кредит!NHS9","v":0},{"$f":"Кредит!NHT9","v":0},{"$f":"Кредит!NHU9","v":0},{"$f":"Кредит!NHV9","v":0},{"$f":"Кредит!NHW9","v":0},{"$f":"Кредит!NHX9","v":0},{"$f":"Кредит!NHY9","v":0},{"$f":"Кредит!NHZ9","v":0},{"$f":"Кредит!NIA9","v":0},{"$f":"Кредит!NIB9","v":0},{"$f":"Кредит!NIC9","v":0},{"$f":"Кредит!NID9","v":0},{"$f":"Кредит!NIE9","v":0},{"$f":"Кредит!NIF9","v":0},{"$f":"Кредит!NIG9","v":0},{"$f":"Кредит!NIH9","v":0},{"$f":"Кредит!NII9","v":0},{"$f":"Кредит!NIJ9","v":0},{"$f":"Кредит!NIK9","v":0},{"$f":"Кредит!NIL9","v":0},{"$f":"Кредит!NIM9","v":0},{"$f":"Кредит!NIN9","v":0},{"$f":"Кредит!NIO9","v":0},{"$f":"Кредит!NIP9","v":0},{"$f":"Кредит!NIQ9","v":0},{"$f":"Кредит!NIR9","v":0},{"$f":"Кредит!NIS9","v":0},{"$f":"Кредит!NIT9","v":0},{"$f":"Кредит!NIU9","v":0},{"$f":"Кредит!NIV9","v":0},{"$f":"Кредит!NIW9","v":0},{"$f":"Кредит!NIX9","v":0},{"$f":"Кредит!NIY9","v":0},{"$f":"Кредит!NIZ9","v":0},{"$f":"Кредит!NJA9","v":0},{"$f":"Кредит!NJB9","v":0},{"$f":"Кредит!NJC9","v":0},{"$f":"Кредит!NJD9","v":0},{"$f":"Кредит!NJE9","v":0},{"$f":"Кредит!NJF9","v":0},{"$f":"Кредит!NJG9","v":0},{"$f":"Кредит!NJH9","v":0},{"$f":"Кредит!NJI9","v":0},{"$f":"Кредит!NJJ9","v":0},{"$f":"Кредит!NJK9","v":0},{"$f":"Кредит!NJL9","v":0},{"$f":"Кредит!NJM9","v":0},{"$f":"Кредит!NJN9","v":0},{"$f":"Кредит!NJO9","v":0},{"$f":"Кредит!NJP9","v":0},{"$f":"Кредит!NJQ9","v":0},{"$f":"Кредит!NJR9","v":0},{"$f":"Кредит!NJS9","v":0},{"$f":"Кредит!NJT9","v":0},{"$f":"Кредит!NJU9","v":0},{"$f":"Кредит!NJV9","v":0},{"$f":"Кредит!NJW9","v":0},{"$f":"Кредит!NJX9","v":0},{"$f":"Кредит!NJY9","v":0},{"$f":"Кредит!NJZ9","v":0},{"$f":"Кредит!NKA9","v":0},{"$f":"Кредит!NKB9","v":0},{"$f":"Кредит!NKC9","v":0},{"$f":"Кредит!NKD9","v":0},{"$f":"Кредит!NKE9","v":0},{"$f":"Кредит!NKF9","v":0},{"$f":"Кредит!NKG9","v":0},{"$f":"Кредит!NKH9","v":0},{"$f":"Кредит!NKI9","v":0},{"$f":"Кредит!NKJ9","v":0},{"$f":"Кредит!NKK9","v":0},{"$f":"Кредит!NKL9","v":0},{"$f":"Кредит!NKM9","v":0},{"$f":"Кредит!NKN9","v":0},{"$f":"Кредит!NKO9","v":0},{"$f":"Кредит!NKP9","v":0},{"$f":"Кредит!NKQ9","v":0},{"$f":"Кредит!NKR9","v":0},{"$f":"Кредит!NKS9","v":0},{"$f":"Кредит!NKT9","v":0},{"$f":"Кредит!NKU9","v":0},{"$f":"Кредит!NKV9","v":0},{"$f":"Кредит!NKW9","v":0},{"$f":"Кредит!NKX9","v":0},{"$f":"Кредит!NKY9","v":0},{"$f":"Кредит!NKZ9","v":0},{"$f":"Кредит!NLA9","v":0},{"$f":"Кредит!NLB9","v":0},{"$f":"Кредит!NLC9","v":0},{"$f":"Кредит!NLD9","v":0},{"$f":"Кредит!NLE9","v":0},{"$f":"Кредит!NLF9","v":0},{"$f":"Кредит!NLG9","v":0},{"$f":"Кредит!NLH9","v":0},{"$f":"Кредит!NLI9","v":0},{"$f":"Кредит!NLJ9","v":0},{"$f":"Кредит!NLK9","v":0},{"$f":"Кредит!NLL9","v":0},{"$f":"Кредит!NLM9","v":0},{"$f":"Кредит!NLN9","v":0},{"$f":"Кредит!NLO9","v":0},{"$f":"Кредит!NLP9","v":0},{"$f":"Кредит!NLQ9","v":0},{"$f":"Кредит!NLR9","v":0},{"$f":"Кредит!NLS9","v":0},{"$f":"Кредит!NLT9","v":0},{"$f":"Кредит!NLU9","v":0},{"$f":"Кредит!NLV9","v":0},{"$f":"Кредит!NLW9","v":0},{"$f":"Кредит!NLX9","v":0},{"$f":"Кредит!NLY9","v":0},{"$f":"Кредит!NLZ9","v":0},{"$f":"Кредит!NMA9","v":0},{"$f":"Кредит!NMB9","v":0},{"$f":"Кредит!NMC9","v":0},{"$f":"Кредит!NMD9","v":0},{"$f":"Кредит!NME9","v":0},{"$f":"Кредит!NMF9","v":0},{"$f":"Кредит!NMG9","v":0},{"$f":"Кредит!NMH9","v":0},{"$f":"Кредит!NMI9","v":0},{"$f":"Кредит!NMJ9","v":0},{"$f":"Кредит!NMK9","v":0},{"$f":"Кредит!NML9","v":0},{"$f":"Кредит!NMM9","v":0},{"$f":"Кредит!NMN9","v":0},{"$f":"Кредит!NMO9","v":0},{"$f":"Кредит!NMP9","v":0},{"$f":"Кредит!NMQ9","v":0},{"$f":"Кредит!NMR9","v":0},{"$f":"Кредит!NMS9","v":0},{"$f":"Кредит!NMT9","v":0},{"$f":"Кредит!NMU9","v":0},{"$f":"Кредит!NMV9","v":0},{"$f":"Кредит!NMW9","v":0},{"$f":"Кредит!NMX9","v":0},{"$f":"Кредит!NMY9","v":0},{"$f":"Кредит!NMZ9","v":0},{"$f":"Кредит!NNA9","v":0},{"$f":"Кредит!NNB9","v":0},{"$f":"Кредит!NNC9","v":0},{"$f":"Кредит!NND9","v":0},{"$f":"Кредит!NNE9","v":0},{"$f":"Кредит!NNF9","v":0},{"$f":"Кредит!NNG9","v":0},{"$f":"Кредит!NNH9","v":0},{"$f":"Кредит!NNI9","v":0},{"$f":"Кредит!NNJ9","v":0},{"$f":"Кредит!NNK9","v":0},{"$f":"Кредит!NNL9","v":0},{"$f":"Кредит!NNM9","v":0},{"$f":"Кредит!NNN9","v":0},{"$f":"Кредит!NNO9","v":0},{"$f":"Кредит!NNP9","v":0},{"$f":"Кредит!NNQ9","v":0},{"$f":"Кредит!NNR9","v":0},{"$f":"Кредит!NNS9","v":0},{"$f":"Кредит!NNT9","v":0},{"$f":"Кредит!NNU9","v":0},{"$f":"Кредит!NNV9","v":0},{"$f":"Кредит!NNW9","v":0},{"$f":"Кредит!NNX9","v":0},{"$f":"Кредит!NNY9","v":0},{"$f":"Кредит!NNZ9","v":0},{"$f":"Кредит!NOA9","v":0},{"$f":"Кредит!NOB9","v":0},{"$f":"Кредит!NOC9","v":0},{"$f":"Кредит!NOD9","v":0},{"$f":"Кредит!NOE9","v":0},{"$f":"Кредит!NOF9","v":0},{"$f":"Кредит!NOG9","v":0},{"$f":"Кредит!NOH9","v":0},{"$f":"Кредит!NOI9","v":0},{"$f":"Кредит!NOJ9","v":0},{"$f":"Кредит!NOK9","v":0},{"$f":"Кредит!NOL9","v":0},{"$f":"Кредит!NOM9","v":0},{"$f":"Кредит!NON9","v":0},{"$f":"Кредит!NOO9","v":0},{"$f":"Кредит!NOP9","v":0},{"$f":"Кредит!NOQ9","v":0},{"$f":"Кредит!NOR9","v":0},{"$f":"Кредит!NOS9","v":0},{"$f":"Кредит!NOT9","v":0},{"$f":"Кредит!NOU9","v":0},{"$f":"Кредит!NOV9","v":0},{"$f":"Кредит!NOW9","v":0},{"$f":"Кредит!NOX9","v":0},{"$f":"Кредит!NOY9","v":0},{"$f":"Кредит!NOZ9","v":0},{"$f":"Кредит!NPA9","v":0},{"$f":"Кредит!NPB9","v":0},{"$f":"Кредит!NPC9","v":0},{"$f":"Кредит!NPD9","v":0},{"$f":"Кредит!NPE9","v":0},{"$f":"Кредит!NPF9","v":0},{"$f":"Кредит!NPG9","v":0},{"$f":"Кредит!NPH9","v":0},{"$f":"Кредит!NPI9","v":0},{"$f":"Кредит!NPJ9","v":0},{"$f":"Кредит!NPK9","v":0},{"$f":"Кредит!NPL9","v":0},{"$f":"Кредит!NPM9","v":0},{"$f":"Кредит!NPN9","v":0},{"$f":"Кредит!NPO9","v":0},{"$f":"Кредит!NPP9","v":0},{"$f":"Кредит!NPQ9","v":0},{"$f":"Кредит!NPR9","v":0},{"$f":"Кредит!NPS9","v":0},{"$f":"Кредит!NPT9","v":0},{"$f":"Кредит!NPU9","v":0},{"$f":"Кредит!NPV9","v":0},{"$f":"Кредит!NPW9","v":0},{"$f":"Кредит!NPX9","v":0},{"$f":"Кредит!NPY9","v":0},{"$f":"Кредит!NPZ9","v":0},{"$f":"Кредит!NQA9","v":0},{"$f":"Кредит!NQB9","v":0},{"$f":"Кредит!NQC9","v":0},{"$f":"Кредит!NQD9","v":0},{"$f":"Кредит!NQE9","v":0},{"$f":"Кредит!NQF9","v":0},{"$f":"Кредит!NQG9","v":0},{"$f":"Кредит!NQH9","v":0},{"$f":"Кредит!NQI9","v":0},{"$f":"Кредит!NQJ9","v":0},{"$f":"Кредит!NQK9","v":0},{"$f":"Кредит!NQL9","v":0},{"$f":"Кредит!NQM9","v":0},{"$f":"Кредит!NQN9","v":0},{"$f":"Кредит!NQO9","v":0},{"$f":"Кредит!NQP9","v":0},{"$f":"Кредит!NQQ9","v":0},{"$f":"Кредит!NQR9","v":0},{"$f":"Кредит!NQS9","v":0},{"$f":"Кредит!NQT9","v":0},{"$f":"Кредит!NQU9","v":0},{"$f":"Кредит!NQV9","v":0},{"$f":"Кредит!NQW9","v":0},{"$f":"Кредит!NQX9","v":0},{"$f":"Кредит!NQY9","v":0},{"$f":"Кредит!NQZ9","v":0},{"$f":"Кредит!NRA9","v":0},{"$f":"Кредит!NRB9","v":0},{"$f":"Кредит!NRC9","v":0},{"$f":"Кредит!NRD9","v":0},{"$f":"Кредит!NRE9","v":0},{"$f":"Кредит!NRF9","v":0},{"$f":"Кредит!NRG9","v":0},{"$f":"Кредит!NRH9","v":0},{"$f":"Кредит!NRI9","v":0},{"$f":"Кредит!NRJ9","v":0},{"$f":"Кредит!NRK9","v":0},{"$f":"Кредит!NRL9","v":0},{"$f":"Кредит!NRM9","v":0},{"$f":"Кредит!NRN9","v":0},{"$f":"Кредит!NRO9","v":0},{"$f":"Кредит!NRP9","v":0},{"$f":"Кредит!NRQ9","v":0},{"$f":"Кредит!NRR9","v":0},{"$f":"Кредит!NRS9","v":0},{"$f":"Кредит!NRT9","v":0},{"$f":"Кредит!NRU9","v":0},{"$f":"Кредит!NRV9","v":0},{"$f":"Кредит!NRW9","v":0},{"$f":"Кредит!NRX9","v":0},{"$f":"Кредит!NRY9","v":0},{"$f":"Кредит!NRZ9","v":0},{"$f":"Кредит!NSA9","v":0},{"$f":"Кредит!NSB9","v":0},{"$f":"Кредит!NSC9","v":0},{"$f":"Кредит!NSD9","v":0},{"$f":"Кредит!NSE9","v":0},{"$f":"Кредит!NSF9","v":0},{"$f":"Кредит!NSG9","v":0},{"$f":"Кредит!NSH9","v":0},{"$f":"Кредит!NSI9","v":0},{"$f":"Кредит!NSJ9","v":0},{"$f":"Кредит!NSK9","v":0},{"$f":"Кредит!NSL9","v":0},{"$f":"Кредит!NSM9","v":0},{"$f":"Кредит!NSN9","v":0},{"$f":"Кредит!NSO9","v":0},{"$f":"Кредит!NSP9","v":0},{"$f":"Кредит!NSQ9","v":0},{"$f":"Кредит!NSR9","v":0},{"$f":"Кредит!NSS9","v":0},{"$f":"Кредит!NST9","v":0},{"$f":"Кредит!NSU9","v":0},{"$f":"Кредит!NSV9","v":0},{"$f":"Кредит!NSW9","v":0},{"$f":"Кредит!NSX9","v":0},{"$f":"Кредит!NSY9","v":0},{"$f":"Кредит!NSZ9","v":0},{"$f":"Кредит!NTA9","v":0},{"$f":"Кредит!NTB9","v":0},{"$f":"Кредит!NTC9","v":0},{"$f":"Кредит!NTD9","v":0},{"$f":"Кредит!NTE9","v":0},{"$f":"Кредит!NTF9","v":0},{"$f":"Кредит!NTG9","v":0},{"$f":"Кредит!NTH9","v":0},{"$f":"Кредит!NTI9","v":0},{"$f":"Кредит!NTJ9","v":0},{"$f":"Кредит!NTK9","v":0},{"$f":"Кредит!NTL9","v":0},{"$f":"Кредит!NTM9","v":0},{"$f":"Кредит!NTN9","v":0},{"$f":"Кредит!NTO9","v":0},{"$f":"Кредит!NTP9","v":0},{"$f":"Кредит!NTQ9","v":0},{"$f":"Кредит!NTR9","v":0},{"$f":"Кредит!NTS9","v":0},{"$f":"Кредит!NTT9","v":0},{"$f":"Кредит!NTU9","v":0},{"$f":"Кредит!NTV9","v":0},{"$f":"Кредит!NTW9","v":0},{"$f":"Кредит!NTX9","v":0},{"$f":"Кредит!NTY9","v":0},{"$f":"Кредит!NTZ9","v":0},{"$f":"Кредит!NUA9","v":0},{"$f":"Кредит!NUB9","v":0},{"$f":"Кредит!NUC9","v":0},{"$f":"Кредит!NUD9","v":0},{"$f":"Кредит!NUE9","v":0},{"$f":"Кредит!NUF9","v":0},{"$f":"Кредит!NUG9","v":0},{"$f":"Кредит!NUH9","v":0},{"$f":"Кредит!NUI9","v":0},{"$f":"Кредит!NUJ9","v":0},{"$f":"Кредит!NUK9","v":0},{"$f":"Кредит!NUL9","v":0},{"$f":"Кредит!NUM9","v":0},{"$f":"Кредит!NUN9","v":0},{"$f":"Кредит!NUO9","v":0},{"$f":"Кредит!NUP9","v":0},{"$f":"Кредит!NUQ9","v":0},{"$f":"Кредит!NUR9","v":0},{"$f":"Кредит!NUS9","v":0},{"$f":"Кредит!NUT9","v":0},{"$f":"Кредит!NUU9","v":0},{"$f":"Кредит!NUV9","v":0},{"$f":"Кредит!NUW9","v":0},{"$f":"Кредит!NUX9","v":0},{"$f":"Кредит!NUY9","v":0},{"$f":"Кредит!NUZ9","v":0},{"$f":"Кредит!NVA9","v":0},{"$f":"Кредит!NVB9","v":0},{"$f":"Кредит!NVC9","v":0},{"$f":"Кредит!NVD9","v":0},{"$f":"Кредит!NVE9","v":0},{"$f":"Кредит!NVF9","v":0},{"$f":"Кредит!NVG9","v":0},{"$f":"Кредит!NVH9","v":0},{"$f":"Кредит!NVI9","v":0},{"$f":"Кредит!NVJ9","v":0},{"$f":"Кредит!NVK9","v":0},{"$f":"Кредит!NVL9","v":0},{"$f":"Кредит!NVM9","v":0},{"$f":"Кредит!NVN9","v":0},{"$f":"Кредит!NVO9","v":0},{"$f":"Кредит!NVP9","v":0},{"$f":"Кредит!NVQ9","v":0},{"$f":"Кредит!NVR9","v":0},{"$f":"Кредит!NVS9","v":0},{"$f":"Кредит!NVT9","v":0},{"$f":"Кредит!NVU9","v":0},{"$f":"Кредит!NVV9","v":0},{"$f":"Кредит!NVW9","v":0},{"$f":"Кредит!NVX9","v":0},{"$f":"Кредит!NVY9","v":0},{"$f":"Кредит!NVZ9","v":0},{"$f":"Кредит!NWA9","v":0},{"$f":"Кредит!NWB9","v":0},{"$f":"Кредит!NWC9","v":0},{"$f":"Кредит!NWD9","v":0},{"$f":"Кредит!NWE9","v":0},{"$f":"Кредит!NWF9","v":0},{"$f":"Кредит!NWG9","v":0},{"$f":"Кредит!NWH9","v":0},{"$f":"Кредит!NWI9","v":0},{"$f":"Кредит!NWJ9","v":0},{"$f":"Кредит!NWK9","v":0},{"$f":"Кредит!NWL9","v":0},{"$f":"Кредит!NWM9","v":0},{"$f":"Кредит!NWN9","v":0},{"$f":"Кредит!NWO9","v":0},{"$f":"Кредит!NWP9","v":0},{"$f":"Кредит!NWQ9","v":0},{"$f":"Кредит!NWR9","v":0},{"$f":"Кредит!NWS9","v":0},{"$f":"Кредит!NWT9","v":0},{"$f":"Кредит!NWU9","v":0},{"$f":"Кредит!NWV9","v":0},{"$f":"Кредит!NWW9","v":0},{"$f":"Кредит!NWX9","v":0},{"$f":"Кредит!NWY9","v":0},{"$f":"Кредит!NWZ9","v":0},{"$f":"Кредит!NXA9","v":0},{"$f":"Кредит!NXB9","v":0},{"$f":"Кредит!NXC9","v":0},{"$f":"Кредит!NXD9","v":0},{"$f":"Кредит!NXE9","v":0},{"$f":"Кредит!NXF9","v":0},{"$f":"Кредит!NXG9","v":0},{"$f":"Кредит!NXH9","v":0},{"$f":"Кредит!NXI9","v":0},{"$f":"Кредит!NXJ9","v":0},{"$f":"Кредит!NXK9","v":0},{"$f":"Кредит!NXL9","v":0},{"$f":"Кредит!NXM9","v":0},{"$f":"Кредит!NXN9","v":0},{"$f":"Кредит!NXO9","v":0},{"$f":"Кредит!NXP9","v":0},{"$f":"Кредит!NXQ9","v":0},{"$f":"Кредит!NXR9","v":0},{"$f":"Кредит!NXS9","v":0},{"$f":"Кредит!NXT9","v":0},{"$f":"Кредит!NXU9","v":0},{"$f":"Кредит!NXV9","v":0},{"$f":"Кредит!NXW9","v":0},{"$f":"Кредит!NXX9","v":0},{"$f":"Кредит!NXY9","v":0},{"$f":"Кредит!NXZ9","v":0},{"$f":"Кредит!NYA9","v":0},{"$f":"Кредит!NYB9","v":0},{"$f":"Кредит!NYC9","v":0},{"$f":"Кредит!NYD9","v":0},{"$f":"Кредит!NYE9","v":0},{"$f":"Кредит!NYF9","v":0},{"$f":"Кредит!NYG9","v":0},{"$f":"Кредит!NYH9","v":0},{"$f":"Кредит!NYI9","v":0},{"$f":"Кредит!NYJ9","v":0},{"$f":"Кредит!NYK9","v":0},{"$f":"Кредит!NYL9","v":0},{"$f":"Кредит!NYM9","v":0},{"$f":"Кредит!NYN9","v":0},{"$f":"Кредит!NYO9","v":0},{"$f":"Кредит!NYP9","v":0},{"$f":"Кредит!NYQ9","v":0},{"$f":"Кредит!NYR9","v":0},{"$f":"Кредит!NYS9","v":0},{"$f":"Кредит!NYT9","v":0},{"$f":"Кредит!NYU9","v":0},{"$f":"Кредит!NYV9","v":0},{"$f":"Кредит!NYW9","v":0},{"$f":"Кредит!NYX9","v":0},{"$f":"Кредит!NYY9","v":0},{"$f":"Кредит!NYZ9","v":0},{"$f":"Кредит!NZA9","v":0},{"$f":"Кредит!NZB9","v":0},{"$f":"Кредит!NZC9","v":0},{"$f":"Кредит!NZD9","v":0},{"$f":"Кредит!NZE9","v":0},{"$f":"Кредит!NZF9","v":0},{"$f":"Кредит!NZG9","v":0},{"$f":"Кредит!NZH9","v":0},{"$f":"Кредит!NZI9","v":0},{"$f":"Кредит!NZJ9","v":0},{"$f":"Кредит!NZK9","v":0},{"$f":"Кредит!NZL9","v":0},{"$f":"Кредит!NZM9","v":0},{"$f":"Кредит!NZN9","v":0},{"$f":"Кредит!NZO9","v":0},{"$f":"Кредит!NZP9","v":0},{"$f":"Кредит!NZQ9","v":0},{"$f":"Кредит!NZR9","v":0},{"$f":"Кредит!NZS9","v":0},{"$f":"Кредит!NZT9","v":0},{"$f":"Кредит!NZU9","v":0},{"$f":"Кредит!NZV9","v":0},{"$f":"Кредит!NZW9","v":0},{"$f":"Кредит!NZX9","v":0},{"$f":"Кредит!NZY9","v":0},{"$f":"Кредит!NZZ9","v":0},{"$f":"Кредит!OAA9","v":0},{"$f":"Кредит!OAB9","v":0},{"$f":"Кредит!OAC9","v":0},{"$f":"Кредит!OAD9","v":0},{"$f":"Кредит!OAE9","v":0},{"$f":"Кредит!OAF9","v":0},{"$f":"Кредит!OAG9","v":0},{"$f":"Кредит!OAH9","v":0},{"$f":"Кредит!OAI9","v":0},{"$f":"Кредит!OAJ9","v":0},{"$f":"Кредит!OAK9","v":0},{"$f":"Кредит!OAL9","v":0},{"$f":"Кредит!OAM9","v":0},{"$f":"Кредит!OAN9","v":0},{"$f":"Кредит!OAO9","v":0},{"$f":"Кредит!OAP9","v":0},{"$f":"Кредит!OAQ9","v":0},{"$f":"Кредит!OAR9","v":0},{"$f":"Кредит!OAS9","v":0},{"$f":"Кредит!OAT9","v":0},{"$f":"Кредит!OAU9","v":0},{"$f":"Кредит!OAV9","v":0},{"$f":"Кредит!OAW9","v":0},{"$f":"Кредит!OAX9","v":0},{"$f":"Кредит!OAY9","v":0},{"$f":"Кредит!OAZ9","v":0},{"$f":"Кредит!OBA9","v":0},{"$f":"Кредит!OBB9","v":0},{"$f":"Кредит!OBC9","v":0},{"$f":"Кредит!OBD9","v":0},{"$f":"Кредит!OBE9","v":0},{"$f":"Кредит!OBF9","v":0},{"$f":"Кредит!OBG9","v":0},{"$f":"Кредит!OBH9","v":0},{"$f":"Кредит!OBI9","v":0},{"$f":"Кредит!OBJ9","v":0},{"$f":"Кредит!OBK9","v":0},{"$f":"Кредит!OBL9","v":0},{"$f":"Кредит!OBM9","v":0},{"$f":"Кредит!OBN9","v":0},{"$f":"Кредит!OBO9","v":0},{"$f":"Кредит!OBP9","v":0},{"$f":"Кредит!OBQ9","v":0},{"$f":"Кредит!OBR9","v":0},{"$f":"Кредит!OBS9","v":0},{"$f":"Кредит!OBT9","v":0},{"$f":"Кредит!OBU9","v":0},{"$f":"Кредит!OBV9","v":0},{"$f":"Кредит!OBW9","v":0},{"$f":"Кредит!OBX9","v":0},{"$f":"Кредит!OBY9","v":0},{"$f":"Кредит!OBZ9","v":0},{"$f":"Кредит!OCA9","v":0},{"$f":"Кредит!OCB9","v":0},{"$f":"Кредит!OCC9","v":0},{"$f":"Кредит!OCD9","v":0},{"$f":"Кредит!OCE9","v":0},{"$f":"Кредит!OCF9","v":0},{"$f":"Кредит!OCG9","v":0},{"$f":"Кредит!OCH9","v":0},{"$f":"Кредит!OCI9","v":0},{"$f":"Кредит!OCJ9","v":0},{"$f":"Кредит!OCK9","v":0},{"$f":"Кредит!OCL9","v":0},{"$f":"Кредит!OCM9","v":0},{"$f":"Кредит!OCN9","v":0},{"$f":"Кредит!OCO9","v":0},{"$f":"Кредит!OCP9","v":0},{"$f":"Кредит!OCQ9","v":0},{"$f":"Кредит!OCR9","v":0},{"$f":"Кредит!OCS9","v":0},{"$f":"Кредит!OCT9","v":0},{"$f":"Кредит!OCU9","v":0},{"$f":"Кредит!OCV9","v":0},{"$f":"Кредит!OCW9","v":0},{"$f":"Кредит!OCX9","v":0},{"$f":"Кредит!OCY9","v":0},{"$f":"Кредит!OCZ9","v":0},{"$f":"Кредит!ODA9","v":0},{"$f":"Кредит!ODB9","v":0},{"$f":"Кредит!ODC9","v":0},{"$f":"Кредит!ODD9","v":0},{"$f":"Кредит!ODE9","v":0},{"$f":"Кредит!ODF9","v":0},{"$f":"Кредит!ODG9","v":0},{"$f":"Кредит!ODH9","v":0},{"$f":"Кредит!ODI9","v":0},{"$f":"Кредит!ODJ9","v":0},{"$f":"Кредит!ODK9","v":0},{"$f":"Кредит!ODL9","v":0},{"$f":"Кредит!ODM9","v":0},{"$f":"Кредит!ODN9","v":0},{"$f":"Кредит!ODO9","v":0},{"$f":"Кредит!ODP9","v":0},{"$f":"Кредит!ODQ9","v":0},{"$f":"Кредит!ODR9","v":0},{"$f":"Кредит!ODS9","v":0},{"$f":"Кредит!ODT9","v":0},{"$f":"Кредит!ODU9","v":0},{"$f":"Кредит!ODV9","v":0},{"$f":"Кредит!ODW9","v":0},{"$f":"Кредит!ODX9","v":0},{"$f":"Кредит!ODY9","v":0},{"$f":"Кредит!ODZ9","v":0},{"$f":"Кредит!OEA9","v":0},{"$f":"Кредит!OEB9","v":0},{"$f":"Кредит!OEC9","v":0},{"$f":"Кредит!OED9","v":0},{"$f":"Кредит!OEE9","v":0},{"$f":"Кредит!OEF9","v":0},{"$f":"Кредит!OEG9","v":0},{"$f":"Кредит!OEH9","v":0},{"$f":"Кредит!OEI9","v":0},{"$f":"Кредит!OEJ9","v":0},{"$f":"Кредит!OEK9","v":0},{"$f":"Кредит!OEL9","v":0},{"$f":"Кредит!OEM9","v":0},{"$f":"Кредит!OEN9","v":0},{"$f":"Кредит!OEO9","v":0},{"$f":"Кредит!OEP9","v":0},{"$f":"Кредит!OEQ9","v":0},{"$f":"Кредит!OER9","v":0},{"$f":"Кредит!OES9","v":0},{"$f":"Кредит!OET9","v":0},{"$f":"Кредит!OEU9","v":0},{"$f":"Кредит!OEV9","v":0},{"$f":"Кредит!OEW9","v":0},{"$f":"Кредит!OEX9","v":0},{"$f":"Кредит!OEY9","v":0},{"$f":"Кредит!OEZ9","v":0},{"$f":"Кредит!OFA9","v":0},{"$f":"Кредит!OFB9","v":0},{"$f":"Кредит!OFC9","v":0},{"$f":"Кредит!OFD9","v":0},{"$f":"Кредит!OFE9","v":0},{"$f":"Кредит!OFF9","v":0},{"$f":"Кредит!OFG9","v":0},{"$f":"Кредит!OFH9","v":0},{"$f":"Кредит!OFI9","v":0},{"$f":"Кредит!OFJ9","v":0},{"$f":"Кредит!OFK9","v":0},{"$f":"Кредит!OFL9","v":0},{"$f":"Кредит!OFM9","v":0},{"$f":"Кредит!OFN9","v":0},{"$f":"Кредит!OFO9","v":0},{"$f":"Кредит!OFP9","v":0},{"$f":"Кредит!OFQ9","v":0},{"$f":"Кредит!OFR9","v":0},{"$f":"Кредит!OFS9","v":0},{"$f":"Кредит!OFT9","v":0},{"$f":"Кредит!OFU9","v":0},{"$f":"Кредит!OFV9","v":0},{"$f":"Кредит!OFW9","v":0},{"$f":"Кредит!OFX9","v":0},{"$f":"Кредит!OFY9","v":0},{"$f":"Кредит!OFZ9","v":0},{"$f":"Кредит!OGA9","v":0},{"$f":"Кредит!OGB9","v":0},{"$f":"Кредит!OGC9","v":0},{"$f":"Кредит!OGD9","v":0},{"$f":"Кредит!OGE9","v":0},{"$f":"Кредит!OGF9","v":0},{"$f":"Кредит!OGG9","v":0},{"$f":"Кредит!OGH9","v":0},{"$f":"Кредит!OGI9","v":0},{"$f":"Кредит!OGJ9","v":0},{"$f":"Кредит!OGK9","v":0},{"$f":"Кредит!OGL9","v":0},{"$f":"Кредит!OGM9","v":0},{"$f":"Кредит!OGN9","v":0},{"$f":"Кредит!OGO9","v":0},{"$f":"Кредит!OGP9","v":0},{"$f":"Кредит!OGQ9","v":0},{"$f":"Кредит!OGR9","v":0},{"$f":"Кредит!OGS9","v":0},{"$f":"Кредит!OGT9","v":0},{"$f":"Кредит!OGU9","v":0},{"$f":"Кредит!OGV9","v":0},{"$f":"Кредит!OGW9","v":0},{"$f":"Кредит!OGX9","v":0},{"$f":"Кредит!OGY9","v":0},{"$f":"Кредит!OGZ9","v":0},{"$f":"Кредит!OHA9","v":0},{"$f":"Кредит!OHB9","v":0},{"$f":"Кредит!OHC9","v":0},{"$f":"Кредит!OHD9","v":0},{"$f":"Кредит!OHE9","v":0},{"$f":"Кредит!OHF9","v":0},{"$f":"Кредит!OHG9","v":0},{"$f":"Кредит!OHH9","v":0},{"$f":"Кредит!OHI9","v":0},{"$f":"Кредит!OHJ9","v":0},{"$f":"Кредит!OHK9","v":0},{"$f":"Кредит!OHL9","v":0},{"$f":"Кредит!OHM9","v":0},{"$f":"Кредит!OHN9","v":0},{"$f":"Кредит!OHO9","v":0},{"$f":"Кредит!OHP9","v":0},{"$f":"Кредит!OHQ9","v":0},{"$f":"Кредит!OHR9","v":0},{"$f":"Кредит!OHS9","v":0},{"$f":"Кредит!OHT9","v":0},{"$f":"Кредит!OHU9","v":0},{"$f":"Кредит!OHV9","v":0},{"$f":"Кредит!OHW9","v":0},{"$f":"Кредит!OHX9","v":0},{"$f":"Кредит!OHY9","v":0},{"$f":"Кредит!OHZ9","v":0},{"$f":"Кредит!OIA9","v":0},{"$f":"Кредит!OIB9","v":0},{"$f":"Кредит!OIC9","v":0},{"$f":"Кредит!OID9","v":0},{"$f":"Кредит!OIE9","v":0},{"$f":"Кредит!OIF9","v":0},{"$f":"Кредит!OIG9","v":0},{"$f":"Кредит!OIH9","v":0},{"$f":"Кредит!OII9","v":0},{"$f":"Кредит!OIJ9","v":0},{"$f":"Кредит!OIK9","v":0},{"$f":"Кредит!OIL9","v":0},{"$f":"Кредит!OIM9","v":0},{"$f":"Кредит!OIN9","v":0},{"$f":"Кредит!OIO9","v":0},{"$f":"Кредит!OIP9","v":0},{"$f":"Кредит!OIQ9","v":0},{"$f":"Кредит!OIR9","v":0},{"$f":"Кредит!OIS9","v":0},{"$f":"Кредит!OIT9","v":0},{"$f":"Кредит!OIU9","v":0},{"$f":"Кредит!OIV9","v":0},{"$f":"Кредит!OIW9","v":0},{"$f":"Кредит!OIX9","v":0},{"$f":"Кредит!OIY9","v":0},{"$f":"Кредит!OIZ9","v":0},{"$f":"Кредит!OJA9","v":0},{"$f":"Кредит!OJB9","v":0},{"$f":"Кредит!OJC9","v":0},{"$f":"Кредит!OJD9","v":0},{"$f":"Кредит!OJE9","v":0},{"$f":"Кредит!OJF9","v":0},{"$f":"Кредит!OJG9","v":0},{"$f":"Кредит!OJH9","v":0},{"$f":"Кредит!OJI9","v":0},{"$f":"Кредит!OJJ9","v":0},{"$f":"Кредит!OJK9","v":0},{"$f":"Кредит!OJL9","v":0},{"$f":"Кредит!OJM9","v":0},{"$f":"Кредит!OJN9","v":0},{"$f":"Кредит!OJO9","v":0},{"$f":"Кредит!OJP9","v":0},{"$f":"Кредит!OJQ9","v":0},{"$f":"Кредит!OJR9","v":0},{"$f":"Кредит!OJS9","v":0},{"$f":"Кредит!OJT9","v":0},{"$f":"Кредит!OJU9","v":0},{"$f":"Кредит!OJV9","v":0},{"$f":"Кредит!OJW9","v":0},{"$f":"Кредит!OJX9","v":0},{"$f":"Кредит!OJY9","v":0},{"$f":"Кредит!OJZ9","v":0},{"$f":"Кредит!OKA9","v":0},{"$f":"Кредит!OKB9","v":0},{"$f":"Кредит!OKC9","v":0},{"$f":"Кредит!OKD9","v":0},{"$f":"Кредит!OKE9","v":0},{"$f":"Кредит!OKF9","v":0},{"$f":"Кредит!OKG9","v":0},{"$f":"Кредит!OKH9","v":0},{"$f":"Кредит!OKI9","v":0},{"$f":"Кредит!OKJ9","v":0},{"$f":"Кредит!OKK9","v":0},{"$f":"Кредит!OKL9","v":0},{"$f":"Кредит!OKM9","v":0},{"$f":"Кредит!OKN9","v":0},{"$f":"Кредит!OKO9","v":0},{"$f":"Кредит!OKP9","v":0},{"$f":"Кредит!OKQ9","v":0},{"$f":"Кредит!OKR9","v":0},{"$f":"Кредит!OKS9","v":0},{"$f":"Кредит!OKT9","v":0},{"$f":"Кредит!OKU9","v":0},{"$f":"Кредит!OKV9","v":0},{"$f":"Кредит!OKW9","v":0},{"$f":"Кредит!OKX9","v":0},{"$f":"Кредит!OKY9","v":0},{"$f":"Кредит!OKZ9","v":0},{"$f":"Кредит!OLA9","v":0},{"$f":"Кредит!OLB9","v":0},{"$f":"Кредит!OLC9","v":0},{"$f":"Кредит!OLD9","v":0},{"$f":"Кредит!OLE9","v":0},{"$f":"Кредит!OLF9","v":0},{"$f":"Кредит!OLG9","v":0},{"$f":"Кредит!OLH9","v":0},{"$f":"Кредит!OLI9","v":0},{"$f":"Кредит!OLJ9","v":0},{"$f":"Кредит!OLK9","v":0},{"$f":"Кредит!OLL9","v":0},{"$f":"Кредит!OLM9","v":0},{"$f":"Кредит!OLN9","v":0},{"$f":"Кредит!OLO9","v":0},{"$f":"Кредит!OLP9","v":0},{"$f":"Кредит!OLQ9","v":0},{"$f":"Кредит!OLR9","v":0},{"$f":"Кредит!OLS9","v":0},{"$f":"Кредит!OLT9","v":0},{"$f":"Кредит!OLU9","v":0},{"$f":"Кредит!OLV9","v":0},{"$f":"Кредит!OLW9","v":0},{"$f":"Кредит!OLX9","v":0},{"$f":"Кредит!OLY9","v":0},{"$f":"Кредит!OLZ9","v":0},{"$f":"Кредит!OMA9","v":0},{"$f":"Кредит!OMB9","v":0},{"$f":"Кредит!OMC9","v":0},{"$f":"Кредит!OMD9","v":0},{"$f":"Кредит!OME9","v":0},{"$f":"Кредит!OMF9","v":0},{"$f":"Кредит!OMG9","v":0},{"$f":"Кредит!OMH9","v":0},{"$f":"Кредит!OMI9","v":0},{"$f":"Кредит!OMJ9","v":0},{"$f":"Кредит!OMK9","v":0},{"$f":"Кредит!OML9","v":0},{"$f":"Кредит!OMM9","v":0},{"$f":"Кредит!OMN9","v":0},{"$f":"Кредит!OMO9","v":0},{"$f":"Кредит!OMP9","v":0},{"$f":"Кредит!OMQ9","v":0},{"$f":"Кредит!OMR9","v":0},{"$f":"Кредит!OMS9","v":0},{"$f":"Кредит!OMT9","v":0},{"$f":"Кредит!OMU9","v":0},{"$f":"Кредит!OMV9","v":0},{"$f":"Кредит!OMW9","v":0},{"$f":"Кредит!OMX9","v":0},{"$f":"Кредит!OMY9","v":0},{"$f":"Кредит!OMZ9","v":0},{"$f":"Кредит!ONA9","v":0},{"$f":"Кредит!ONB9","v":0},{"$f":"Кредит!ONC9","v":0},{"$f":"Кредит!OND9","v":0},{"$f":"Кредит!ONE9","v":0},{"$f":"Кредит!ONF9","v":0},{"$f":"Кредит!ONG9","v":0},{"$f":"Кредит!ONH9","v":0},{"$f":"Кредит!ONI9","v":0},{"$f":"Кредит!ONJ9","v":0},{"$f":"Кредит!ONK9","v":0},{"$f":"Кредит!ONL9","v":0},{"$f":"Кредит!ONM9","v":0},{"$f":"Кредит!ONN9","v":0},{"$f":"Кредит!ONO9","v":0},{"$f":"Кредит!ONP9","v":0},{"$f":"Кредит!ONQ9","v":0},{"$f":"Кредит!ONR9","v":0},{"$f":"Кредит!ONS9","v":0},{"$f":"Кредит!ONT9","v":0},{"$f":"Кредит!ONU9","v":0},{"$f":"Кредит!ONV9","v":0},{"$f":"Кредит!ONW9","v":0},{"$f":"Кредит!ONX9","v":0},{"$f":"Кредит!ONY9","v":0},{"$f":"Кредит!ONZ9","v":0},{"$f":"Кредит!OOA9","v":0},{"$f":"Кредит!OOB9","v":0},{"$f":"Кредит!OOC9","v":0},{"$f":"Кредит!OOD9","v":0},{"$f":"Кредит!OOE9","v":0},{"$f":"Кредит!OOF9","v":0},{"$f":"Кредит!OOG9","v":0},{"$f":"Кредит!OOH9","v":0},{"$f":"Кредит!OOI9","v":0},{"$f":"Кредит!OOJ9","v":0},{"$f":"Кредит!OOK9","v":0},{"$f":"Кредит!OOL9","v":0},{"$f":"Кредит!OOM9","v":0},{"$f":"Кредит!OON9","v":0},{"$f":"Кредит!OOO9","v":0},{"$f":"Кредит!OOP9","v":0},{"$f":"Кредит!OOQ9","v":0},{"$f":"Кредит!OOR9","v":0},{"$f":"Кредит!OOS9","v":0},{"$f":"Кредит!OOT9","v":0},{"$f":"Кредит!OOU9","v":0},{"$f":"Кредит!OOV9","v":0},{"$f":"Кредит!OOW9","v":0},{"$f":"Кредит!OOX9","v":0},{"$f":"Кредит!OOY9","v":0},{"$f":"Кредит!OOZ9","v":0},{"$f":"Кредит!OPA9","v":0},{"$f":"Кредит!OPB9","v":0},{"$f":"Кредит!OPC9","v":0},{"$f":"Кредит!OPD9","v":0},{"$f":"Кредит!OPE9","v":0},{"$f":"Кредит!OPF9","v":0},{"$f":"Кредит!OPG9","v":0},{"$f":"Кредит!OPH9","v":0},{"$f":"Кредит!OPI9","v":0},{"$f":"Кредит!OPJ9","v":0},{"$f":"Кредит!OPK9","v":0},{"$f":"Кредит!OPL9","v":0},{"$f":"Кредит!OPM9","v":0},{"$f":"Кредит!OPN9","v":0},{"$f":"Кредит!OPO9","v":0},{"$f":"Кредит!OPP9","v":0},{"$f":"Кредит!OPQ9","v":0},{"$f":"Кредит!OPR9","v":0},{"$f":"Кредит!OPS9","v":0},{"$f":"Кредит!OPT9","v":0},{"$f":"Кредит!OPU9","v":0},{"$f":"Кредит!OPV9","v":0},{"$f":"Кредит!OPW9","v":0},{"$f":"Кредит!OPX9","v":0},{"$f":"Кредит!OPY9","v":0},{"$f":"Кредит!OPZ9","v":0},{"$f":"Кредит!OQA9","v":0},{"$f":"Кредит!OQB9","v":0},{"$f":"Кредит!OQC9","v":0},{"$f":"Кредит!OQD9","v":0},{"$f":"Кредит!OQE9","v":0},{"$f":"Кредит!OQF9","v":0},{"$f":"Кредит!OQG9","v":0},{"$f":"Кредит!OQH9","v":0},{"$f":"Кредит!OQI9","v":0},{"$f":"Кредит!OQJ9","v":0},{"$f":"Кредит!OQK9","v":0},{"$f":"Кредит!OQL9","v":0},{"$f":"Кредит!OQM9","v":0},{"$f":"Кредит!OQN9","v":0},{"$f":"Кредит!OQO9","v":0},{"$f":"Кредит!OQP9","v":0},{"$f":"Кредит!OQQ9","v":0},{"$f":"Кредит!OQR9","v":0},{"$f":"Кредит!OQS9","v":0},{"$f":"Кредит!OQT9","v":0},{"$f":"Кредит!OQU9","v":0},{"$f":"Кредит!OQV9","v":0},{"$f":"Кредит!OQW9","v":0},{"$f":"Кредит!OQX9","v":0},{"$f":"Кредит!OQY9","v":0},{"$f":"Кредит!OQZ9","v":0},{"$f":"Кредит!ORA9","v":0},{"$f":"Кредит!ORB9","v":0},{"$f":"Кредит!ORC9","v":0},{"$f":"Кредит!ORD9","v":0},{"$f":"Кредит!ORE9","v":0},{"$f":"Кредит!ORF9","v":0},{"$f":"Кредит!ORG9","v":0},{"$f":"Кредит!ORH9","v":0},{"$f":"Кредит!ORI9","v":0},{"$f":"Кредит!ORJ9","v":0},{"$f":"Кредит!ORK9","v":0},{"$f":"Кредит!ORL9","v":0},{"$f":"Кредит!ORM9","v":0},{"$f":"Кредит!ORN9","v":0},{"$f":"Кредит!ORO9","v":0},{"$f":"Кредит!ORP9","v":0},{"$f":"Кредит!ORQ9","v":0},{"$f":"Кредит!ORR9","v":0},{"$f":"Кредит!ORS9","v":0},{"$f":"Кредит!ORT9","v":0},{"$f":"Кредит!ORU9","v":0},{"$f":"Кредит!ORV9","v":0},{"$f":"Кредит!ORW9","v":0},{"$f":"Кредит!ORX9","v":0},{"$f":"Кредит!ORY9","v":0},{"$f":"Кредит!ORZ9","v":0},{"$f":"Кредит!OSA9","v":0},{"$f":"Кредит!OSB9","v":0},{"$f":"Кредит!OSC9","v":0},{"$f":"Кредит!OSD9","v":0},{"$f":"Кредит!OSE9","v":0},{"$f":"Кредит!OSF9","v":0},{"$f":"Кредит!OSG9","v":0},{"$f":"Кредит!OSH9","v":0},{"$f":"Кредит!OSI9","v":0},{"$f":"Кредит!OSJ9","v":0},{"$f":"Кредит!OSK9","v":0},{"$f":"Кредит!OSL9","v":0},{"$f":"Кредит!OSM9","v":0},{"$f":"Кредит!OSN9","v":0},{"$f":"Кредит!OSO9","v":0},{"$f":"Кредит!OSP9","v":0},{"$f":"Кредит!OSQ9","v":0},{"$f":"Кредит!OSR9","v":0},{"$f":"Кредит!OSS9","v":0},{"$f":"Кредит!OST9","v":0},{"$f":"Кредит!OSU9","v":0},{"$f":"Кредит!OSV9","v":0},{"$f":"Кредит!OSW9","v":0},{"$f":"Кредит!OSX9","v":0},{"$f":"Кредит!OSY9","v":0},{"$f":"Кредит!OSZ9","v":0},{"$f":"Кредит!OTA9","v":0},{"$f":"Кредит!OTB9","v":0},{"$f":"Кредит!OTC9","v":0},{"$f":"Кредит!OTD9","v":0},{"$f":"Кредит!OTE9","v":0},{"$f":"Кредит!OTF9","v":0},{"$f":"Кредит!OTG9","v":0},{"$f":"Кредит!OTH9","v":0},{"$f":"Кредит!OTI9","v":0},{"$f":"Кредит!OTJ9","v":0},{"$f":"Кредит!OTK9","v":0},{"$f":"Кредит!OTL9","v":0},{"$f":"Кредит!OTM9","v":0},{"$f":"Кредит!OTN9","v":0},{"$f":"Кредит!OTO9","v":0},{"$f":"Кредит!OTP9","v":0},{"$f":"Кредит!OTQ9","v":0},{"$f":"Кредит!OTR9","v":0},{"$f":"Кредит!OTS9","v":0},{"$f":"Кредит!OTT9","v":0},{"$f":"Кредит!OTU9","v":0},{"$f":"Кредит!OTV9","v":0},{"$f":"Кредит!OTW9","v":0},{"$f":"Кредит!OTX9","v":0},{"$f":"Кредит!OTY9","v":0},{"$f":"Кредит!OTZ9","v":0},{"$f":"Кредит!OUA9","v":0},{"$f":"Кредит!OUB9","v":0},{"$f":"Кредит!OUC9","v":0},{"$f":"Кредит!OUD9","v":0},{"$f":"Кредит!OUE9","v":0},{"$f":"Кредит!OUF9","v":0},{"$f":"Кредит!OUG9","v":0},{"$f":"Кредит!OUH9","v":0},{"$f":"Кредит!OUI9","v":0},{"$f":"Кредит!OUJ9","v":0},{"$f":"Кредит!OUK9","v":0},{"$f":"Кредит!OUL9","v":0},{"$f":"Кредит!OUM9","v":0},{"$f":"Кредит!OUN9","v":0},{"$f":"Кредит!OUO9","v":0},{"$f":"Кредит!OUP9","v":0},{"$f":"Кредит!OUQ9","v":0},{"$f":"Кредит!OUR9","v":0},{"$f":"Кредит!OUS9","v":0},{"$f":"Кредит!OUT9","v":0},{"$f":"Кредит!OUU9","v":0},{"$f":"Кредит!OUV9","v":0},{"$f":"Кредит!OUW9","v":0},{"$f":"Кредит!OUX9","v":0},{"$f":"Кредит!OUY9","v":0},{"$f":"Кредит!OUZ9","v":0},{"$f":"Кредит!OVA9","v":0},{"$f":"Кредит!OVB9","v":0},{"$f":"Кредит!OVC9","v":0},{"$f":"Кредит!OVD9","v":0},{"$f":"Кредит!OVE9","v":0},{"$f":"Кредит!OVF9","v":0},{"$f":"Кредит!OVG9","v":0},{"$f":"Кредит!OVH9","v":0},{"$f":"Кредит!OVI9","v":0},{"$f":"Кредит!OVJ9","v":0},{"$f":"Кредит!OVK9","v":0},{"$f":"Кредит!OVL9","v":0},{"$f":"Кредит!OVM9","v":0},{"$f":"Кредит!OVN9","v":0},{"$f":"Кредит!OVO9","v":0},{"$f":"Кредит!OVP9","v":0},{"$f":"Кредит!OVQ9","v":0},{"$f":"Кредит!OVR9","v":0},{"$f":"Кредит!OVS9","v":0},{"$f":"Кредит!OVT9","v":0},{"$f":"Кредит!OVU9","v":0},{"$f":"Кредит!OVV9","v":0},{"$f":"Кредит!OVW9","v":0},{"$f":"Кредит!OVX9","v":0},{"$f":"Кредит!OVY9","v":0},{"$f":"Кредит!OVZ9","v":0},{"$f":"Кредит!OWA9","v":0},{"$f":"Кредит!OWB9","v":0},{"$f":"Кредит!OWC9","v":0},{"$f":"Кредит!OWD9","v":0},{"$f":"Кредит!OWE9","v":0},{"$f":"Кредит!OWF9","v":0},{"$f":"Кредит!OWG9","v":0},{"$f":"Кредит!OWH9","v":0},{"$f":"Кредит!OWI9","v":0},{"$f":"Кредит!OWJ9","v":0},{"$f":"Кредит!OWK9","v":0},{"$f":"Кредит!OWL9","v":0},{"$f":"Кредит!OWM9","v":0},{"$f":"Кредит!OWN9","v":0},{"$f":"Кредит!OWO9","v":0},{"$f":"Кредит!OWP9","v":0},{"$f":"Кредит!OWQ9","v":0},{"$f":"Кредит!OWR9","v":0},{"$f":"Кредит!OWS9","v":0},{"$f":"Кредит!OWT9","v":0},{"$f":"Кредит!OWU9","v":0},{"$f":"Кредит!OWV9","v":0},{"$f":"Кредит!OWW9","v":0},{"$f":"Кредит!OWX9","v":0},{"$f":"Кредит!OWY9","v":0},{"$f":"Кредит!OWZ9","v":0},{"$f":"Кредит!OXA9","v":0},{"$f":"Кредит!OXB9","v":0},{"$f":"Кредит!OXC9","v":0},{"$f":"Кредит!OXD9","v":0},{"$f":"Кредит!OXE9","v":0},{"$f":"Кредит!OXF9","v":0},{"$f":"Кредит!OXG9","v":0},{"$f":"Кредит!OXH9","v":0},{"$f":"Кредит!OXI9","v":0},{"$f":"Кредит!OXJ9","v":0},{"$f":"Кредит!OXK9","v":0},{"$f":"Кредит!OXL9","v":0},{"$f":"Кредит!OXM9","v":0},{"$f":"Кредит!OXN9","v":0},{"$f":"Кредит!OXO9","v":0},{"$f":"Кредит!OXP9","v":0},{"$f":"Кредит!OXQ9","v":0},{"$f":"Кредит!OXR9","v":0},{"$f":"Кредит!OXS9","v":0},{"$f":"Кредит!OXT9","v":0},{"$f":"Кредит!OXU9","v":0},{"$f":"Кредит!OXV9","v":0},{"$f":"Кредит!OXW9","v":0},{"$f":"Кредит!OXX9","v":0},{"$f":"Кредит!OXY9","v":0},{"$f":"Кредит!OXZ9","v":0},{"$f":"Кредит!OYA9","v":0},{"$f":"Кредит!OYB9","v":0},{"$f":"Кредит!OYC9","v":0},{"$f":"Кредит!OYD9","v":0},{"$f":"Кредит!OYE9","v":0},{"$f":"Кредит!OYF9","v":0},{"$f":"Кредит!OYG9","v":0},{"$f":"Кредит!OYH9","v":0},{"$f":"Кредит!OYI9","v":0},{"$f":"Кредит!OYJ9","v":0},{"$f":"Кредит!OYK9","v":0},{"$f":"Кредит!OYL9","v":0},{"$f":"Кредит!OYM9","v":0},{"$f":"Кредит!OYN9","v":0},{"$f":"Кредит!OYO9","v":0},{"$f":"Кредит!OYP9","v":0},{"$f":"Кредит!OYQ9","v":0},{"$f":"Кредит!OYR9","v":0},{"$f":"Кредит!OYS9","v":0},{"$f":"Кредит!OYT9","v":0},{"$f":"Кредит!OYU9","v":0},{"$f":"Кредит!OYV9","v":0},{"$f":"Кредит!OYW9","v":0},{"$f":"Кредит!OYX9","v":0},{"$f":"Кредит!OYY9","v":0},{"$f":"Кредит!OYZ9","v":0},{"$f":"Кредит!OZA9","v":0},{"$f":"Кредит!OZB9","v":0},{"$f":"Кредит!OZC9","v":0},{"$f":"Кредит!OZD9","v":0},{"$f":"Кредит!OZE9","v":0},{"$f":"Кредит!OZF9","v":0},{"$f":"Кредит!OZG9","v":0},{"$f":"Кредит!OZH9","v":0},{"$f":"Кредит!OZI9","v":0},{"$f":"Кредит!OZJ9","v":0},{"$f":"Кредит!OZK9","v":0},{"$f":"Кредит!OZL9","v":0},{"$f":"Кредит!OZM9","v":0},{"$f":"Кредит!OZN9","v":0},{"$f":"Кредит!OZO9","v":0},{"$f":"Кредит!OZP9","v":0},{"$f":"Кредит!OZQ9","v":0},{"$f":"Кредит!OZR9","v":0},{"$f":"Кредит!OZS9","v":0},{"$f":"Кредит!OZT9","v":0},{"$f":"Кредит!OZU9","v":0},{"$f":"Кредит!OZV9","v":0},{"$f":"Кредит!OZW9","v":0},{"$f":"Кредит!OZX9","v":0},{"$f":"Кредит!OZY9","v":0},{"$f":"Кредит!OZZ9","v":0},{"$f":"Кредит!PAA9","v":0},{"$f":"Кредит!PAB9","v":0},{"$f":"Кредит!PAC9","v":0},{"$f":"Кредит!PAD9","v":0},{"$f":"Кредит!PAE9","v":0},{"$f":"Кредит!PAF9","v":0},{"$f":"Кредит!PAG9","v":0},{"$f":"Кредит!PAH9","v":0},{"$f":"Кредит!PAI9","v":0},{"$f":"Кредит!PAJ9","v":0},{"$f":"Кредит!PAK9","v":0},{"$f":"Кредит!PAL9","v":0},{"$f":"Кредит!PAM9","v":0},{"$f":"Кредит!PAN9","v":0},{"$f":"Кредит!PAO9","v":0},{"$f":"Кредит!PAP9","v":0},{"$f":"Кредит!PAQ9","v":0},{"$f":"Кредит!PAR9","v":0},{"$f":"Кредит!PAS9","v":0},{"$f":"Кредит!PAT9","v":0},{"$f":"Кредит!PAU9","v":0},{"$f":"Кредит!PAV9","v":0},{"$f":"Кредит!PAW9","v":0},{"$f":"Кредит!PAX9","v":0},{"$f":"Кредит!PAY9","v":0},{"$f":"Кредит!PAZ9","v":0},{"$f":"Кредит!PBA9","v":0},{"$f":"Кредит!PBB9","v":0},{"$f":"Кредит!PBC9","v":0},{"$f":"Кредит!PBD9","v":0},{"$f":"Кредит!PBE9","v":0},{"$f":"Кредит!PBF9","v":0},{"$f":"Кредит!PBG9","v":0},{"$f":"Кредит!PBH9","v":0},{"$f":"Кредит!PBI9","v":0},{"$f":"Кредит!PBJ9","v":0},{"$f":"Кредит!PBK9","v":0},{"$f":"Кредит!PBL9","v":0},{"$f":"Кредит!PBM9","v":0},{"$f":"Кредит!PBN9","v":0},{"$f":"Кредит!PBO9","v":0},{"$f":"Кредит!PBP9","v":0},{"$f":"Кредит!PBQ9","v":0},{"$f":"Кредит!PBR9","v":0},{"$f":"Кредит!PBS9","v":0},{"$f":"Кредит!PBT9","v":0},{"$f":"Кредит!PBU9","v":0},{"$f":"Кредит!PBV9","v":0},{"$f":"Кредит!PBW9","v":0},{"$f":"Кредит!PBX9","v":0},{"$f":"Кредит!PBY9","v":0},{"$f":"Кредит!PBZ9","v":0},{"$f":"Кредит!PCA9","v":0},{"$f":"Кредит!PCB9","v":0},{"$f":"Кредит!PCC9","v":0},{"$f":"Кредит!PCD9","v":0},{"$f":"Кредит!PCE9","v":0},{"$f":"Кредит!PCF9","v":0},{"$f":"Кредит!PCG9","v":0},{"$f":"Кредит!PCH9","v":0},{"$f":"Кредит!PCI9","v":0},{"$f":"Кредит!PCJ9","v":0},{"$f":"Кредит!PCK9","v":0},{"$f":"Кредит!PCL9","v":0},{"$f":"Кредит!PCM9","v":0},{"$f":"Кредит!PCN9","v":0},{"$f":"Кредит!PCO9","v":0},{"$f":"Кредит!PCP9","v":0},{"$f":"Кредит!PCQ9","v":0},{"$f":"Кредит!PCR9","v":0},{"$f":"Кредит!PCS9","v":0},{"$f":"Кредит!PCT9","v":0},{"$f":"Кредит!PCU9","v":0},{"$f":"Кредит!PCV9","v":0},{"$f":"Кредит!PCW9","v":0},{"$f":"Кредит!PCX9","v":0},{"$f":"Кредит!PCY9","v":0},{"$f":"Кредит!PCZ9","v":0},{"$f":"Кредит!PDA9","v":0},{"$f":"Кредит!PDB9","v":0},{"$f":"Кредит!PDC9","v":0},{"$f":"Кредит!PDD9","v":0},{"$f":"Кредит!PDE9","v":0},{"$f":"Кредит!PDF9","v":0},{"$f":"Кредит!PDG9","v":0},{"$f":"Кредит!PDH9","v":0},{"$f":"Кредит!PDI9","v":0},{"$f":"Кредит!PDJ9","v":0},{"$f":"Кредит!PDK9","v":0},{"$f":"Кредит!PDL9","v":0},{"$f":"Кредит!PDM9","v":0},{"$f":"Кредит!PDN9","v":0},{"$f":"Кредит!PDO9","v":0},{"$f":"Кредит!PDP9","v":0},{"$f":"Кредит!PDQ9","v":0},{"$f":"Кредит!PDR9","v":0},{"$f":"Кредит!PDS9","v":0},{"$f":"Кредит!PDT9","v":0},{"$f":"Кредит!PDU9","v":0},{"$f":"Кредит!PDV9","v":0},{"$f":"Кредит!PDW9","v":0},{"$f":"Кредит!PDX9","v":0},{"$f":"Кредит!PDY9","v":0},{"$f":"Кредит!PDZ9","v":0},{"$f":"Кредит!PEA9","v":0},{"$f":"Кредит!PEB9","v":0},{"$f":"Кредит!PEC9","v":0},{"$f":"Кредит!PED9","v":0},{"$f":"Кредит!PEE9","v":0},{"$f":"Кредит!PEF9","v":0},{"$f":"Кредит!PEG9","v":0},{"$f":"Кредит!PEH9","v":0},{"$f":"Кредит!PEI9","v":0},{"$f":"Кредит!PEJ9","v":0},{"$f":"Кредит!PEK9","v":0},{"$f":"Кредит!PEL9","v":0},{"$f":"Кредит!PEM9","v":0},{"$f":"Кредит!PEN9","v":0},{"$f":"Кредит!PEO9","v":0},{"$f":"Кредит!PEP9","v":0},{"$f":"Кредит!PEQ9","v":0},{"$f":"Кредит!PER9","v":0},{"$f":"Кредит!PES9","v":0},{"$f":"Кредит!PET9","v":0},{"$f":"Кредит!PEU9","v":0},{"$f":"Кредит!PEV9","v":0},{"$f":"Кредит!PEW9","v":0},{"$f":"Кредит!PEX9","v":0},{"$f":"Кредит!PEY9","v":0},{"$f":"Кредит!PEZ9","v":0},{"$f":"Кредит!PFA9","v":0},{"$f":"Кредит!PFB9","v":0},{"$f":"Кредит!PFC9","v":0},{"$f":"Кредит!PFD9","v":0},{"$f":"Кредит!PFE9","v":0},{"$f":"Кредит!PFF9","v":0},{"$f":"Кредит!PFG9","v":0},{"$f":"Кредит!PFH9","v":0},{"$f":"Кредит!PFI9","v":0},{"$f":"Кредит!PFJ9","v":0},{"$f":"Кредит!PFK9","v":0},{"$f":"Кредит!PFL9","v":0},{"$f":"Кредит!PFM9","v":0},{"$f":"Кредит!PFN9","v":0},{"$f":"Кредит!PFO9","v":0},{"$f":"Кредит!PFP9","v":0},{"$f":"Кредит!PFQ9","v":0},{"$f":"Кредит!PFR9","v":0},{"$f":"Кредит!PFS9","v":0},{"$f":"Кредит!PFT9","v":0},{"$f":"Кредит!PFU9","v":0},{"$f":"Кредит!PFV9","v":0},{"$f":"Кредит!PFW9","v":0},{"$f":"Кредит!PFX9","v":0},{"$f":"Кредит!PFY9","v":0},{"$f":"Кредит!PFZ9","v":0},{"$f":"Кредит!PGA9","v":0},{"$f":"Кредит!PGB9","v":0},{"$f":"Кредит!PGC9","v":0},{"$f":"Кредит!PGD9","v":0},{"$f":"Кредит!PGE9","v":0},{"$f":"Кредит!PGF9","v":0},{"$f":"Кредит!PGG9","v":0},{"$f":"Кредит!PGH9","v":0},{"$f":"Кредит!PGI9","v":0},{"$f":"Кредит!PGJ9","v":0},{"$f":"Кредит!PGK9","v":0},{"$f":"Кредит!PGL9","v":0},{"$f":"Кредит!PGM9","v":0},{"$f":"Кредит!PGN9","v":0},{"$f":"Кредит!PGO9","v":0},{"$f":"Кредит!PGP9","v":0},{"$f":"Кредит!PGQ9","v":0},{"$f":"Кредит!PGR9","v":0},{"$f":"Кредит!PGS9","v":0},{"$f":"Кредит!PGT9","v":0},{"$f":"Кредит!PGU9","v":0},{"$f":"Кредит!PGV9","v":0},{"$f":"Кредит!PGW9","v":0},{"$f":"Кредит!PGX9","v":0},{"$f":"Кредит!PGY9","v":0},{"$f":"Кредит!PGZ9","v":0},{"$f":"Кредит!PHA9","v":0},{"$f":"Кредит!PHB9","v":0},{"$f":"Кредит!PHC9","v":0},{"$f":"Кредит!PHD9","v":0},{"$f":"Кредит!PHE9","v":0},{"$f":"Кредит!PHF9","v":0},{"$f":"Кредит!PHG9","v":0},{"$f":"Кредит!PHH9","v":0},{"$f":"Кредит!PHI9","v":0},{"$f":"Кредит!PHJ9","v":0},{"$f":"Кредит!PHK9","v":0},{"$f":"Кредит!PHL9","v":0},{"$f":"Кредит!PHM9","v":0},{"$f":"Кредит!PHN9","v":0},{"$f":"Кредит!PHO9","v":0},{"$f":"Кредит!PHP9","v":0},{"$f":"Кредит!PHQ9","v":0},{"$f":"Кредит!PHR9","v":0},{"$f":"Кредит!PHS9","v":0},{"$f":"Кредит!PHT9","v":0},{"$f":"Кредит!PHU9","v":0},{"$f":"Кредит!PHV9","v":0},{"$f":"Кредит!PHW9","v":0},{"$f":"Кредит!PHX9","v":0},{"$f":"Кредит!PHY9","v":0},{"$f":"Кредит!PHZ9","v":0},{"$f":"Кредит!PIA9","v":0},{"$f":"Кредит!PIB9","v":0},{"$f":"Кредит!PIC9","v":0},{"$f":"Кредит!PID9","v":0},{"$f":"Кредит!PIE9","v":0},{"$f":"Кредит!PIF9","v":0},{"$f":"Кредит!PIG9","v":0},{"$f":"Кредит!PIH9","v":0},{"$f":"Кредит!PII9","v":0},{"$f":"Кредит!PIJ9","v":0},{"$f":"Кредит!PIK9","v":0},{"$f":"Кредит!PIL9","v":0},{"$f":"Кредит!PIM9","v":0},{"$f":"Кредит!PIN9","v":0},{"$f":"Кредит!PIO9","v":0},{"$f":"Кредит!PIP9","v":0},{"$f":"Кредит!PIQ9","v":0},{"$f":"Кредит!PIR9","v":0},{"$f":"Кредит!PIS9","v":0},{"$f":"Кредит!PIT9","v":0},{"$f":"Кредит!PIU9","v":0},{"$f":"Кредит!PIV9","v":0},{"$f":"Кредит!PIW9","v":0},{"$f":"Кредит!PIX9","v":0},{"$f":"Кредит!PIY9","v":0},{"$f":"Кредит!PIZ9","v":0},{"$f":"Кредит!PJA9","v":0},{"$f":"Кредит!PJB9","v":0},{"$f":"Кредит!PJC9","v":0},{"$f":"Кредит!PJD9","v":0},{"$f":"Кредит!PJE9","v":0},{"$f":"Кредит!PJF9","v":0},{"$f":"Кредит!PJG9","v":0},{"$f":"Кредит!PJH9","v":0},{"$f":"Кредит!PJI9","v":0},{"$f":"Кредит!PJJ9","v":0},{"$f":"Кредит!PJK9","v":0},{"$f":"Кредит!PJL9","v":0},{"$f":"Кредит!PJM9","v":0},{"$f":"Кредит!PJN9","v":0},{"$f":"Кредит!PJO9","v":0},{"$f":"Кредит!PJP9","v":0},{"$f":"Кредит!PJQ9","v":0},{"$f":"Кредит!PJR9","v":0},{"$f":"Кредит!PJS9","v":0},{"$f":"Кредит!PJT9","v":0},{"$f":"Кредит!PJU9","v":0},{"$f":"Кредит!PJV9","v":0},{"$f":"Кредит!PJW9","v":0},{"$f":"Кредит!PJX9","v":0},{"$f":"Кредит!PJY9","v":0},{"$f":"Кредит!PJZ9","v":0},{"$f":"Кредит!PKA9","v":0},{"$f":"Кредит!PKB9","v":0},{"$f":"Кредит!PKC9","v":0},{"$f":"Кредит!PKD9","v":0},{"$f":"Кредит!PKE9","v":0},{"$f":"Кредит!PKF9","v":0},{"$f":"Кредит!PKG9","v":0},{"$f":"Кредит!PKH9","v":0},{"$f":"Кредит!PKI9","v":0},{"$f":"Кредит!PKJ9","v":0},{"$f":"Кредит!PKK9","v":0},{"$f":"Кредит!PKL9","v":0},{"$f":"Кредит!PKM9","v":0},{"$f":"Кредит!PKN9","v":0},{"$f":"Кредит!PKO9","v":0},{"$f":"Кредит!PKP9","v":0},{"$f":"Кредит!PKQ9","v":0},{"$f":"Кредит!PKR9","v":0},{"$f":"Кредит!PKS9","v":0},{"$f":"Кредит!PKT9","v":0},{"$f":"Кредит!PKU9","v":0},{"$f":"Кредит!PKV9","v":0},{"$f":"Кредит!PKW9","v":0},{"$f":"Кредит!PKX9","v":0},{"$f":"Кредит!PKY9","v":0},{"$f":"Кредит!PKZ9","v":0},{"$f":"Кредит!PLA9","v":0},{"$f":"Кредит!PLB9","v":0},{"$f":"Кредит!PLC9","v":0},{"$f":"Кредит!PLD9","v":0},{"$f":"Кредит!PLE9","v":0},{"$f":"Кредит!PLF9","v":0},{"$f":"Кредит!PLG9","v":0},{"$f":"Кредит!PLH9","v":0},{"$f":"Кредит!PLI9","v":0},{"$f":"Кредит!PLJ9","v":0},{"$f":"Кредит!PLK9","v":0},{"$f":"Кредит!PLL9","v":0},{"$f":"Кредит!PLM9","v":0},{"$f":"Кредит!PLN9","v":0},{"$f":"Кредит!PLO9","v":0},{"$f":"Кредит!PLP9","v":0},{"$f":"Кредит!PLQ9","v":0},{"$f":"Кредит!PLR9","v":0},{"$f":"Кредит!PLS9","v":0},{"$f":"Кредит!PLT9","v":0},{"$f":"Кредит!PLU9","v":0},{"$f":"Кредит!PLV9","v":0},{"$f":"Кредит!PLW9","v":0},{"$f":"Кредит!PLX9","v":0},{"$f":"Кредит!PLY9","v":0},{"$f":"Кредит!PLZ9","v":0},{"$f":"Кредит!PMA9","v":0},{"$f":"Кредит!PMB9","v":0},{"$f":"Кредит!PMC9","v":0},{"$f":"Кредит!PMD9","v":0},{"$f":"Кредит!PME9","v":0},{"$f":"Кредит!PMF9","v":0},{"$f":"Кредит!PMG9","v":0},{"$f":"Кредит!PMH9","v":0},{"$f":"Кредит!PMI9","v":0},{"$f":"Кредит!PMJ9","v":0},{"$f":"Кредит!PMK9","v":0},{"$f":"Кредит!PML9","v":0},{"$f":"Кредит!PMM9","v":0},{"$f":"Кредит!PMN9","v":0},{"$f":"Кредит!PMO9","v":0},{"$f":"Кредит!PMP9","v":0},{"$f":"Кредит!PMQ9","v":0},{"$f":"Кредит!PMR9","v":0},{"$f":"Кредит!PMS9","v":0},{"$f":"Кредит!PMT9","v":0},{"$f":"Кредит!PMU9","v":0},{"$f":"Кредит!PMV9","v":0},{"$f":"Кредит!PMW9","v":0},{"$f":"Кредит!PMX9","v":0},{"$f":"Кредит!PMY9","v":0},{"$f":"Кредит!PMZ9","v":0},{"$f":"Кредит!PNA9","v":0},{"$f":"Кредит!PNB9","v":0},{"$f":"Кредит!PNC9","v":0},{"$f":"Кредит!PND9","v":0},{"$f":"Кредит!PNE9","v":0},{"$f":"Кредит!PNF9","v":0},{"$f":"Кредит!PNG9","v":0},{"$f":"Кредит!PNH9","v":0},{"$f":"Кредит!PNI9","v":0},{"$f":"Кредит!PNJ9","v":0},{"$f":"Кредит!PNK9","v":0},{"$f":"Кредит!PNL9","v":0},{"$f":"Кредит!PNM9","v":0},{"$f":"Кредит!PNN9","v":0},{"$f":"Кредит!PNO9","v":0},{"$f":"Кредит!PNP9","v":0},{"$f":"Кредит!PNQ9","v":0},{"$f":"Кредит!PNR9","v":0},{"$f":"Кредит!PNS9","v":0},{"$f":"Кредит!PNT9","v":0},{"$f":"Кредит!PNU9","v":0},{"$f":"Кредит!PNV9","v":0},{"$f":"Кредит!PNW9","v":0},{"$f":"Кредит!PNX9","v":0},{"$f":"Кредит!PNY9","v":0},{"$f":"Кредит!PNZ9","v":0},{"$f":"Кредит!POA9","v":0},{"$f":"Кредит!POB9","v":0},{"$f":"Кредит!POC9","v":0},{"$f":"Кредит!POD9","v":0},{"$f":"Кредит!POE9","v":0},{"$f":"Кредит!POF9","v":0},{"$f":"Кредит!POG9","v":0},{"$f":"Кредит!POH9","v":0},{"$f":"Кредит!POI9","v":0},{"$f":"Кредит!POJ9","v":0},{"$f":"Кредит!POK9","v":0},{"$f":"Кредит!POL9","v":0},{"$f":"Кредит!POM9","v":0},{"$f":"Кредит!PON9","v":0},{"$f":"Кредит!POO9","v":0},{"$f":"Кредит!POP9","v":0},{"$f":"Кредит!POQ9","v":0},{"$f":"Кредит!POR9","v":0},{"$f":"Кредит!POS9","v":0},{"$f":"Кредит!POT9","v":0},{"$f":"Кредит!POU9","v":0},{"$f":"Кредит!POV9","v":0},{"$f":"Кредит!POW9","v":0},{"$f":"Кредит!POX9","v":0},{"$f":"Кредит!POY9","v":0},{"$f":"Кредит!POZ9","v":0},{"$f":"Кредит!PPA9","v":0},{"$f":"Кредит!PPB9","v":0},{"$f":"Кредит!PPC9","v":0},{"$f":"Кредит!PPD9","v":0},{"$f":"Кредит!PPE9","v":0},{"$f":"Кредит!PPF9","v":0},{"$f":"Кредит!PPG9","v":0},{"$f":"Кредит!PPH9","v":0},{"$f":"Кредит!PPI9","v":0},{"$f":"Кредит!PPJ9","v":0},{"$f":"Кредит!PPK9","v":0},{"$f":"Кредит!PPL9","v":0},{"$f":"Кредит!PPM9","v":0},{"$f":"Кредит!PPN9","v":0},{"$f":"Кредит!PPO9","v":0},{"$f":"Кредит!PPP9","v":0},{"$f":"Кредит!PPQ9","v":0},{"$f":"Кредит!PPR9","v":0},{"$f":"Кредит!PPS9","v":0},{"$f":"Кредит!PPT9","v":0},{"$f":"Кредит!PPU9","v":0},{"$f":"Кредит!PPV9","v":0},{"$f":"Кредит!PPW9","v":0},{"$f":"Кредит!PPX9","v":0},{"$f":"Кредит!PPY9","v":0},{"$f":"Кредит!PPZ9","v":0},{"$f":"Кредит!PQA9","v":0},{"$f":"Кредит!PQB9","v":0},{"$f":"Кредит!PQC9","v":0},{"$f":"Кредит!PQD9","v":0},{"$f":"Кредит!PQE9","v":0},{"$f":"Кредит!PQF9","v":0},{"$f":"Кредит!PQG9","v":0},{"$f":"Кредит!PQH9","v":0},{"$f":"Кредит!PQI9","v":0},{"$f":"Кредит!PQJ9","v":0},{"$f":"Кредит!PQK9","v":0},{"$f":"Кредит!PQL9","v":0},{"$f":"Кредит!PQM9","v":0},{"$f":"Кредит!PQN9","v":0},{"$f":"Кредит!PQO9","v":0},{"$f":"Кредит!PQP9","v":0},{"$f":"Кредит!PQQ9","v":0},{"$f":"Кредит!PQR9","v":0},{"$f":"Кредит!PQS9","v":0},{"$f":"Кредит!PQT9","v":0},{"$f":"Кредит!PQU9","v":0},{"$f":"Кредит!PQV9","v":0},{"$f":"Кредит!PQW9","v":0},{"$f":"Кредит!PQX9","v":0},{"$f":"Кредит!PQY9","v":0},{"$f":"Кредит!PQZ9","v":0},{"$f":"Кредит!PRA9","v":0},{"$f":"Кредит!PRB9","v":0},{"$f":"Кредит!PRC9","v":0},{"$f":"Кредит!PRD9","v":0},{"$f":"Кредит!PRE9","v":0},{"$f":"Кредит!PRF9","v":0},{"$f":"Кредит!PRG9","v":0},{"$f":"Кредит!PRH9","v":0},{"$f":"Кредит!PRI9","v":0},{"$f":"Кредит!PRJ9","v":0},{"$f":"Кредит!PRK9","v":0},{"$f":"Кредит!PRL9","v":0},{"$f":"Кредит!PRM9","v":0},{"$f":"Кредит!PRN9","v":0},{"$f":"Кредит!PRO9","v":0},{"$f":"Кредит!PRP9","v":0},{"$f":"Кредит!PRQ9","v":0},{"$f":"Кредит!PRR9","v":0},{"$f":"Кредит!PRS9","v":0},{"$f":"Кредит!PRT9","v":0},{"$f":"Кредит!PRU9","v":0},{"$f":"Кредит!PRV9","v":0},{"$f":"Кредит!PRW9","v":0},{"$f":"Кредит!PRX9","v":0},{"$f":"Кредит!PRY9","v":0},{"$f":"Кредит!PRZ9","v":0},{"$f":"Кредит!PSA9","v":0},{"$f":"Кредит!PSB9","v":0},{"$f":"Кредит!PSC9","v":0},{"$f":"Кредит!PSD9","v":0},{"$f":"Кредит!PSE9","v":0},{"$f":"Кредит!PSF9","v":0},{"$f":"Кредит!PSG9","v":0},{"$f":"Кредит!PSH9","v":0},{"$f":"Кредит!PSI9","v":0},{"$f":"Кредит!PSJ9","v":0},{"$f":"Кредит!PSK9","v":0},{"$f":"Кредит!PSL9","v":0},{"$f":"Кредит!PSM9","v":0},{"$f":"Кредит!PSN9","v":0},{"$f":"Кредит!PSO9","v":0},{"$f":"Кредит!PSP9","v":0},{"$f":"Кредит!PSQ9","v":0},{"$f":"Кредит!PSR9","v":0},{"$f":"Кредит!PSS9","v":0},{"$f":"Кредит!PST9","v":0},{"$f":"Кредит!PSU9","v":0},{"$f":"Кредит!PSV9","v":0},{"$f":"Кредит!PSW9","v":0},{"$f":"Кредит!PSX9","v":0},{"$f":"Кредит!PSY9","v":0},{"$f":"Кредит!PSZ9","v":0},{"$f":"Кредит!PTA9","v":0},{"$f":"Кредит!PTB9","v":0},{"$f":"Кредит!PTC9","v":0},{"$f":"Кредит!PTD9","v":0},{"$f":"Кредит!PTE9","v":0},{"$f":"Кредит!PTF9","v":0},{"$f":"Кредит!PTG9","v":0},{"$f":"Кредит!PTH9","v":0},{"$f":"Кредит!PTI9","v":0},{"$f":"Кредит!PTJ9","v":0},{"$f":"Кредит!PTK9","v":0},{"$f":"Кредит!PTL9","v":0},{"$f":"Кредит!PTM9","v":0},{"$f":"Кредит!PTN9","v":0},{"$f":"Кредит!PTO9","v":0},{"$f":"Кредит!PTP9","v":0},{"$f":"Кредит!PTQ9","v":0},{"$f":"Кредит!PTR9","v":0},{"$f":"Кредит!PTS9","v":0},{"$f":"Кредит!PTT9","v":0},{"$f":"Кредит!PTU9","v":0},{"$f":"Кредит!PTV9","v":0},{"$f":"Кредит!PTW9","v":0},{"$f":"Кредит!PTX9","v":0},{"$f":"Кредит!PTY9","v":0},{"$f":"Кредит!PTZ9","v":0},{"$f":"Кредит!PUA9","v":0},{"$f":"Кредит!PUB9","v":0},{"$f":"Кредит!PUC9","v":0},{"$f":"Кредит!PUD9","v":0},{"$f":"Кредит!PUE9","v":0},{"$f":"Кредит!PUF9","v":0},{"$f":"Кредит!PUG9","v":0},{"$f":"Кредит!PUH9","v":0},{"$f":"Кредит!PUI9","v":0},{"$f":"Кредит!PUJ9","v":0},{"$f":"Кредит!PUK9","v":0},{"$f":"Кредит!PUL9","v":0},{"$f":"Кредит!PUM9","v":0},{"$f":"Кредит!PUN9","v":0},{"$f":"Кредит!PUO9","v":0},{"$f":"Кредит!PUP9","v":0},{"$f":"Кредит!PUQ9","v":0},{"$f":"Кредит!PUR9","v":0},{"$f":"Кредит!PUS9","v":0},{"$f":"Кредит!PUT9","v":0},{"$f":"Кредит!PUU9","v":0},{"$f":"Кредит!PUV9","v":0},{"$f":"Кредит!PUW9","v":0},{"$f":"Кредит!PUX9","v":0},{"$f":"Кредит!PUY9","v":0},{"$f":"Кредит!PUZ9","v":0},{"$f":"Кредит!PVA9","v":0},{"$f":"Кредит!PVB9","v":0},{"$f":"Кредит!PVC9","v":0},{"$f":"Кредит!PVD9","v":0},{"$f":"Кредит!PVE9","v":0},{"$f":"Кредит!PVF9","v":0},{"$f":"Кредит!PVG9","v":0},{"$f":"Кредит!PVH9","v":0},{"$f":"Кредит!PVI9","v":0},{"$f":"Кредит!PVJ9","v":0},{"$f":"Кредит!PVK9","v":0},{"$f":"Кредит!PVL9","v":0},{"$f":"Кредит!PVM9","v":0},{"$f":"Кредит!PVN9","v":0},{"$f":"Кредит!PVO9","v":0},{"$f":"Кредит!PVP9","v":0},{"$f":"Кредит!PVQ9","v":0},{"$f":"Кредит!PVR9","v":0},{"$f":"Кредит!PVS9","v":0},{"$f":"Кредит!PVT9","v":0},{"$f":"Кредит!PVU9","v":0},{"$f":"Кредит!PVV9","v":0},{"$f":"Кредит!PVW9","v":0},{"$f":"Кредит!PVX9","v":0},{"$f":"Кредит!PVY9","v":0},{"$f":"Кредит!PVZ9","v":0},{"$f":"Кредит!PWA9","v":0},{"$f":"Кредит!PWB9","v":0},{"$f":"Кредит!PWC9","v":0},{"$f":"Кредит!PWD9","v":0},{"$f":"Кредит!PWE9","v":0},{"$f":"Кредит!PWF9","v":0},{"$f":"Кредит!PWG9","v":0},{"$f":"Кредит!PWH9","v":0},{"$f":"Кредит!PWI9","v":0},{"$f":"Кредит!PWJ9","v":0},{"$f":"Кредит!PWK9","v":0},{"$f":"Кредит!PWL9","v":0},{"$f":"Кредит!PWM9","v":0},{"$f":"Кредит!PWN9","v":0},{"$f":"Кредит!PWO9","v":0},{"$f":"Кредит!PWP9","v":0},{"$f":"Кредит!PWQ9","v":0},{"$f":"Кредит!PWR9","v":0},{"$f":"Кредит!PWS9","v":0},{"$f":"Кредит!PWT9","v":0},{"$f":"Кредит!PWU9","v":0},{"$f":"Кредит!PWV9","v":0},{"$f":"Кредит!PWW9","v":0},{"$f":"Кредит!PWX9","v":0},{"$f":"Кредит!PWY9","v":0},{"$f":"Кредит!PWZ9","v":0},{"$f":"Кредит!PXA9","v":0},{"$f":"Кредит!PXB9","v":0},{"$f":"Кредит!PXC9","v":0},{"$f":"Кредит!PXD9","v":0},{"$f":"Кредит!PXE9","v":0},{"$f":"Кредит!PXF9","v":0},{"$f":"Кредит!PXG9","v":0},{"$f":"Кредит!PXH9","v":0},{"$f":"Кредит!PXI9","v":0},{"$f":"Кредит!PXJ9","v":0},{"$f":"Кредит!PXK9","v":0},{"$f":"Кредит!PXL9","v":0},{"$f":"Кредит!PXM9","v":0},{"$f":"Кредит!PXN9","v":0},{"$f":"Кредит!PXO9","v":0},{"$f":"Кредит!PXP9","v":0},{"$f":"Кредит!PXQ9","v":0},{"$f":"Кредит!PXR9","v":0},{"$f":"Кредит!PXS9","v":0},{"$f":"Кредит!PXT9","v":0},{"$f":"Кредит!PXU9","v":0},{"$f":"Кредит!PXV9","v":0},{"$f":"Кредит!PXW9","v":0},{"$f":"Кредит!PXX9","v":0},{"$f":"Кредит!PXY9","v":0},{"$f":"Кредит!PXZ9","v":0},{"$f":"Кредит!PYA9","v":0},{"$f":"Кредит!PYB9","v":0},{"$f":"Кредит!PYC9","v":0},{"$f":"Кредит!PYD9","v":0},{"$f":"Кредит!PYE9","v":0},{"$f":"Кредит!PYF9","v":0},{"$f":"Кредит!PYG9","v":0},{"$f":"Кредит!PYH9","v":0},{"$f":"Кредит!PYI9","v":0},{"$f":"Кредит!PYJ9","v":0},{"$f":"Кредит!PYK9","v":0},{"$f":"Кредит!PYL9","v":0},{"$f":"Кредит!PYM9","v":0},{"$f":"Кредит!PYN9","v":0},{"$f":"Кредит!PYO9","v":0},{"$f":"Кредит!PYP9","v":0},{"$f":"Кредит!PYQ9","v":0},{"$f":"Кредит!PYR9","v":0},{"$f":"Кредит!PYS9","v":0},{"$f":"Кредит!PYT9","v":0},{"$f":"Кредит!PYU9","v":0},{"$f":"Кредит!PYV9","v":0},{"$f":"Кредит!PYW9","v":0},{"$f":"Кредит!PYX9","v":0},{"$f":"Кредит!PYY9","v":0},{"$f":"Кредит!PYZ9","v":0},{"$f":"Кредит!PZA9","v":0},{"$f":"Кредит!PZB9","v":0},{"$f":"Кредит!PZC9","v":0},{"$f":"Кредит!PZD9","v":0},{"$f":"Кредит!PZE9","v":0},{"$f":"Кредит!PZF9","v":0},{"$f":"Кредит!PZG9","v":0},{"$f":"Кредит!PZH9","v":0},{"$f":"Кредит!PZI9","v":0},{"$f":"Кредит!PZJ9","v":0},{"$f":"Кредит!PZK9","v":0},{"$f":"Кредит!PZL9","v":0},{"$f":"Кредит!PZM9","v":0},{"$f":"Кредит!PZN9","v":0},{"$f":"Кредит!PZO9","v":0},{"$f":"Кредит!PZP9","v":0},{"$f":"Кредит!PZQ9","v":0},{"$f":"Кредит!PZR9","v":0},{"$f":"Кредит!PZS9","v":0},{"$f":"Кредит!PZT9","v":0},{"$f":"Кредит!PZU9","v":0},{"$f":"Кредит!PZV9","v":0},{"$f":"Кредит!PZW9","v":0},{"$f":"Кредит!PZX9","v":0},{"$f":"Кредит!PZY9","v":0},{"$f":"Кредит!PZZ9","v":0},{"$f":"Кредит!QAA9","v":0},{"$f":"Кредит!QAB9","v":0},{"$f":"Кредит!QAC9","v":0},{"$f":"Кредит!QAD9","v":0},{"$f":"Кредит!QAE9","v":0},{"$f":"Кредит!QAF9","v":0},{"$f":"Кредит!QAG9","v":0},{"$f":"Кредит!QAH9","v":0},{"$f":"Кредит!QAI9","v":0},{"$f":"Кредит!QAJ9","v":0},{"$f":"Кредит!QAK9","v":0},{"$f":"Кредит!QAL9","v":0},{"$f":"Кредит!QAM9","v":0},{"$f":"Кредит!QAN9","v":0},{"$f":"Кредит!QAO9","v":0},{"$f":"Кредит!QAP9","v":0},{"$f":"Кредит!QAQ9","v":0},{"$f":"Кредит!QAR9","v":0},{"$f":"Кредит!QAS9","v":0},{"$f":"Кредит!QAT9","v":0},{"$f":"Кредит!QAU9","v":0},{"$f":"Кредит!QAV9","v":0},{"$f":"Кредит!QAW9","v":0},{"$f":"Кредит!QAX9","v":0},{"$f":"Кредит!QAY9","v":0},{"$f":"Кредит!QAZ9","v":0},{"$f":"Кредит!QBA9","v":0},{"$f":"Кредит!QBB9","v":0},{"$f":"Кредит!QBC9","v":0},{"$f":"Кредит!QBD9","v":0},{"$f":"Кредит!QBE9","v":0},{"$f":"Кредит!QBF9","v":0},{"$f":"Кредит!QBG9","v":0},{"$f":"Кредит!QBH9","v":0},{"$f":"Кредит!QBI9","v":0},{"$f":"Кредит!QBJ9","v":0},{"$f":"Кредит!QBK9","v":0},{"$f":"Кредит!QBL9","v":0},{"$f":"Кредит!QBM9","v":0},{"$f":"Кредит!QBN9","v":0},{"$f":"Кредит!QBO9","v":0},{"$f":"Кредит!QBP9","v":0},{"$f":"Кредит!QBQ9","v":0},{"$f":"Кредит!QBR9","v":0},{"$f":"Кредит!QBS9","v":0},{"$f":"Кредит!QBT9","v":0},{"$f":"Кредит!QBU9","v":0},{"$f":"Кредит!QBV9","v":0},{"$f":"Кредит!QBW9","v":0},{"$f":"Кредит!QBX9","v":0},{"$f":"Кредит!QBY9","v":0},{"$f":"Кредит!QBZ9","v":0},{"$f":"Кредит!QCA9","v":0},{"$f":"Кредит!QCB9","v":0},{"$f":"Кредит!QCC9","v":0},{"$f":"Кредит!QCD9","v":0},{"$f":"Кредит!QCE9","v":0},{"$f":"Кредит!QCF9","v":0},{"$f":"Кредит!QCG9","v":0},{"$f":"Кредит!QCH9","v":0},{"$f":"Кредит!QCI9","v":0},{"$f":"Кредит!QCJ9","v":0},{"$f":"Кредит!QCK9","v":0},{"$f":"Кредит!QCL9","v":0},{"$f":"Кредит!QCM9","v":0},{"$f":"Кредит!QCN9","v":0},{"$f":"Кредит!QCO9","v":0},{"$f":"Кредит!QCP9","v":0},{"$f":"Кредит!QCQ9","v":0},{"$f":"Кредит!QCR9","v":0},{"$f":"Кредит!QCS9","v":0},{"$f":"Кредит!QCT9","v":0},{"$f":"Кредит!QCU9","v":0},{"$f":"Кредит!QCV9","v":0},{"$f":"Кредит!QCW9","v":0},{"$f":"Кредит!QCX9","v":0},{"$f":"Кредит!QCY9","v":0},{"$f":"Кредит!QCZ9","v":0},{"$f":"Кредит!QDA9","v":0},{"$f":"Кредит!QDB9","v":0},{"$f":"Кредит!QDC9","v":0},{"$f":"Кредит!QDD9","v":0},{"$f":"Кредит!QDE9","v":0},{"$f":"Кредит!QDF9","v":0},{"$f":"Кредит!QDG9","v":0},{"$f":"Кредит!QDH9","v":0},{"$f":"Кредит!QDI9","v":0},{"$f":"Кредит!QDJ9","v":0},{"$f":"Кредит!QDK9","v":0},{"$f":"Кредит!QDL9","v":0},{"$f":"Кредит!QDM9","v":0},{"$f":"Кредит!QDN9","v":0},{"$f":"Кредит!QDO9","v":0},{"$f":"Кредит!QDP9","v":0},{"$f":"Кредит!QDQ9","v":0},{"$f":"Кредит!QDR9","v":0},{"$f":"Кредит!QDS9","v":0},{"$f":"Кредит!QDT9","v":0},{"$f":"Кредит!QDU9","v":0},{"$f":"Кредит!QDV9","v":0},{"$f":"Кредит!QDW9","v":0},{"$f":"Кредит!QDX9","v":0},{"$f":"Кредит!QDY9","v":0},{"$f":"Кредит!QDZ9","v":0},{"$f":"Кредит!QEA9","v":0},{"$f":"Кредит!QEB9","v":0},{"$f":"Кредит!QEC9","v":0},{"$f":"Кредит!QED9","v":0},{"$f":"Кредит!QEE9","v":0},{"$f":"Кредит!QEF9","v":0},{"$f":"Кредит!QEG9","v":0},{"$f":"Кредит!QEH9","v":0},{"$f":"Кредит!QEI9","v":0},{"$f":"Кредит!QEJ9","v":0},{"$f":"Кредит!QEK9","v":0},{"$f":"Кредит!QEL9","v":0},{"$f":"Кредит!QEM9","v":0},{"$f":"Кредит!QEN9","v":0},{"$f":"Кредит!QEO9","v":0},{"$f":"Кредит!QEP9","v":0},{"$f":"Кредит!QEQ9","v":0},{"$f":"Кредит!QER9","v":0},{"$f":"Кредит!QES9","v":0},{"$f":"Кредит!QET9","v":0},{"$f":"Кредит!QEU9","v":0},{"$f":"Кредит!QEV9","v":0},{"$f":"Кредит!QEW9","v":0},{"$f":"Кредит!QEX9","v":0},{"$f":"Кредит!QEY9","v":0},{"$f":"Кредит!QEZ9","v":0},{"$f":"Кредит!QFA9","v":0},{"$f":"Кредит!QFB9","v":0},{"$f":"Кредит!QFC9","v":0},{"$f":"Кредит!QFD9","v":0},{"$f":"Кредит!QFE9","v":0},{"$f":"Кредит!QFF9","v":0},{"$f":"Кредит!QFG9","v":0},{"$f":"Кредит!QFH9","v":0},{"$f":"Кредит!QFI9","v":0},{"$f":"Кредит!QFJ9","v":0},{"$f":"Кредит!QFK9","v":0},{"$f":"Кредит!QFL9","v":0},{"$f":"Кредит!QFM9","v":0},{"$f":"Кредит!QFN9","v":0},{"$f":"Кредит!QFO9","v":0},{"$f":"Кредит!QFP9","v":0},{"$f":"Кредит!QFQ9","v":0},{"$f":"Кредит!QFR9","v":0},{"$f":"Кредит!QFS9","v":0},{"$f":"Кредит!QFT9","v":0},{"$f":"Кредит!QFU9","v":0},{"$f":"Кредит!QFV9","v":0},{"$f":"Кредит!QFW9","v":0},{"$f":"Кредит!QFX9","v":0},{"$f":"Кредит!QFY9","v":0},{"$f":"Кредит!QFZ9","v":0},{"$f":"Кредит!QGA9","v":0},{"$f":"Кредит!QGB9","v":0},{"$f":"Кредит!QGC9","v":0},{"$f":"Кредит!QGD9","v":0},{"$f":"Кредит!QGE9","v":0},{"$f":"Кредит!QGF9","v":0},{"$f":"Кредит!QGG9","v":0},{"$f":"Кредит!QGH9","v":0},{"$f":"Кредит!QGI9","v":0},{"$f":"Кредит!QGJ9","v":0},{"$f":"Кредит!QGK9","v":0},{"$f":"Кредит!QGL9","v":0},{"$f":"Кредит!QGM9","v":0},{"$f":"Кредит!QGN9","v":0},{"$f":"Кредит!QGO9","v":0},{"$f":"Кредит!QGP9","v":0},{"$f":"Кредит!QGQ9","v":0},{"$f":"Кредит!QGR9","v":0},{"$f":"Кредит!QGS9","v":0},{"$f":"Кредит!QGT9","v":0},{"$f":"Кредит!QGU9","v":0},{"$f":"Кредит!QGV9","v":0},{"$f":"Кредит!QGW9","v":0},{"$f":"Кредит!QGX9","v":0},{"$f":"Кредит!QGY9","v":0},{"$f":"Кредит!QGZ9","v":0},{"$f":"Кредит!QHA9","v":0},{"$f":"Кредит!QHB9","v":0},{"$f":"Кредит!QHC9","v":0},{"$f":"Кредит!QHD9","v":0},{"$f":"Кредит!QHE9","v":0},{"$f":"Кредит!QHF9","v":0},{"$f":"Кредит!QHG9","v":0},{"$f":"Кредит!QHH9","v":0},{"$f":"Кредит!QHI9","v":0},{"$f":"Кредит!QHJ9","v":0},{"$f":"Кредит!QHK9","v":0},{"$f":"Кредит!QHL9","v":0},{"$f":"Кредит!QHM9","v":0},{"$f":"Кредит!QHN9","v":0},{"$f":"Кредит!QHO9","v":0},{"$f":"Кредит!QHP9","v":0},{"$f":"Кредит!QHQ9","v":0},{"$f":"Кредит!QHR9","v":0},{"$f":"Кредит!QHS9","v":0},{"$f":"Кредит!QHT9","v":0},{"$f":"Кредит!QHU9","v":0},{"$f":"Кредит!QHV9","v":0},{"$f":"Кредит!QHW9","v":0},{"$f":"Кредит!QHX9","v":0},{"$f":"Кредит!QHY9","v":0},{"$f":"Кредит!QHZ9","v":0},{"$f":"Кредит!QIA9","v":0},{"$f":"Кредит!QIB9","v":0},{"$f":"Кредит!QIC9","v":0},{"$f":"Кредит!QID9","v":0},{"$f":"Кредит!QIE9","v":0},{"$f":"Кредит!QIF9","v":0},{"$f":"Кредит!QIG9","v":0},{"$f":"Кредит!QIH9","v":0},{"$f":"Кредит!QII9","v":0},{"$f":"Кредит!QIJ9","v":0},{"$f":"Кредит!QIK9","v":0},{"$f":"Кредит!QIL9","v":0},{"$f":"Кредит!QIM9","v":0},{"$f":"Кредит!QIN9","v":0},{"$f":"Кредит!QIO9","v":0},{"$f":"Кредит!QIP9","v":0},{"$f":"Кредит!QIQ9","v":0},{"$f":"Кредит!QIR9","v":0},{"$f":"Кредит!QIS9","v":0},{"$f":"Кредит!QIT9","v":0},{"$f":"Кредит!QIU9","v":0},{"$f":"Кредит!QIV9","v":0},{"$f":"Кредит!QIW9","v":0},{"$f":"Кредит!QIX9","v":0},{"$f":"Кредит!QIY9","v":0},{"$f":"Кредит!QIZ9","v":0},{"$f":"Кредит!QJA9","v":0},{"$f":"Кредит!QJB9","v":0},{"$f":"Кредит!QJC9","v":0},{"$f":"Кредит!QJD9","v":0},{"$f":"Кредит!QJE9","v":0},{"$f":"Кредит!QJF9","v":0},{"$f":"Кредит!QJG9","v":0},{"$f":"Кредит!QJH9","v":0},{"$f":"Кредит!QJI9","v":0},{"$f":"Кредит!QJJ9","v":0},{"$f":"Кредит!QJK9","v":0},{"$f":"Кредит!QJL9","v":0},{"$f":"Кредит!QJM9","v":0},{"$f":"Кредит!QJN9","v":0},{"$f":"Кредит!QJO9","v":0},{"$f":"Кредит!QJP9","v":0},{"$f":"Кредит!QJQ9","v":0},{"$f":"Кредит!QJR9","v":0},{"$f":"Кредит!QJS9","v":0},{"$f":"Кредит!QJT9","v":0},{"$f":"Кредит!QJU9","v":0},{"$f":"Кредит!QJV9","v":0},{"$f":"Кредит!QJW9","v":0},{"$f":"Кредит!QJX9","v":0},{"$f":"Кредит!QJY9","v":0},{"$f":"Кредит!QJZ9","v":0},{"$f":"Кредит!QKA9","v":0},{"$f":"Кредит!QKB9","v":0},{"$f":"Кредит!QKC9","v":0},{"$f":"Кредит!QKD9","v":0},{"$f":"Кредит!QKE9","v":0},{"$f":"Кредит!QKF9","v":0},{"$f":"Кредит!QKG9","v":0},{"$f":"Кредит!QKH9","v":0},{"$f":"Кредит!QKI9","v":0},{"$f":"Кредит!QKJ9","v":0},{"$f":"Кредит!QKK9","v":0},{"$f":"Кредит!QKL9","v":0},{"$f":"Кредит!QKM9","v":0},{"$f":"Кредит!QKN9","v":0},{"$f":"Кредит!QKO9","v":0},{"$f":"Кредит!QKP9","v":0},{"$f":"Кредит!QKQ9","v":0},{"$f":"Кредит!QKR9","v":0},{"$f":"Кредит!QKS9","v":0},{"$f":"Кредит!QKT9","v":0},{"$f":"Кредит!QKU9","v":0},{"$f":"Кредит!QKV9","v":0},{"$f":"Кредит!QKW9","v":0},{"$f":"Кредит!QKX9","v":0},{"$f":"Кредит!QKY9","v":0},{"$f":"Кредит!QKZ9","v":0},{"$f":"Кредит!QLA9","v":0},{"$f":"Кредит!QLB9","v":0},{"$f":"Кредит!QLC9","v":0},{"$f":"Кредит!QLD9","v":0},{"$f":"Кредит!QLE9","v":0},{"$f":"Кредит!QLF9","v":0},{"$f":"Кредит!QLG9","v":0},{"$f":"Кредит!QLH9","v":0},{"$f":"Кредит!QLI9","v":0},{"$f":"Кредит!QLJ9","v":0},{"$f":"Кредит!QLK9","v":0},{"$f":"Кредит!QLL9","v":0},{"$f":"Кредит!QLM9","v":0},{"$f":"Кредит!QLN9","v":0},{"$f":"Кредит!QLO9","v":0},{"$f":"Кредит!QLP9","v":0},{"$f":"Кредит!QLQ9","v":0},{"$f":"Кредит!QLR9","v":0},{"$f":"Кредит!QLS9","v":0},{"$f":"Кредит!QLT9","v":0},{"$f":"Кредит!QLU9","v":0},{"$f":"Кредит!QLV9","v":0},{"$f":"Кредит!QLW9","v":0},{"$f":"Кредит!QLX9","v":0},{"$f":"Кредит!QLY9","v":0},{"$f":"Кредит!QLZ9","v":0},{"$f":"Кредит!QMA9","v":0},{"$f":"Кредит!QMB9","v":0},{"$f":"Кредит!QMC9","v":0},{"$f":"Кредит!QMD9","v":0},{"$f":"Кредит!QME9","v":0},{"$f":"Кредит!QMF9","v":0},{"$f":"Кредит!QMG9","v":0},{"$f":"Кредит!QMH9","v":0},{"$f":"Кредит!QMI9","v":0},{"$f":"Кредит!QMJ9","v":0},{"$f":"Кредит!QMK9","v":0},{"$f":"Кредит!QML9","v":0},{"$f":"Кредит!QMM9","v":0},{"$f":"Кредит!QMN9","v":0},{"$f":"Кредит!QMO9","v":0},{"$f":"Кредит!QMP9","v":0},{"$f":"Кредит!QMQ9","v":0},{"$f":"Кредит!QMR9","v":0},{"$f":"Кредит!QMS9","v":0},{"$f":"Кредит!QMT9","v":0},{"$f":"Кредит!QMU9","v":0},{"$f":"Кредит!QMV9","v":0},{"$f":"Кредит!QMW9","v":0},{"$f":"Кредит!QMX9","v":0},{"$f":"Кредит!QMY9","v":0},{"$f":"Кредит!QMZ9","v":0},{"$f":"Кредит!QNA9","v":0},{"$f":"Кредит!QNB9","v":0},{"$f":"Кредит!QNC9","v":0},{"$f":"Кредит!QND9","v":0},{"$f":"Кредит!QNE9","v":0},{"$f":"Кредит!QNF9","v":0},{"$f":"Кредит!QNG9","v":0},{"$f":"Кредит!QNH9","v":0},{"$f":"Кредит!QNI9","v":0},{"$f":"Кредит!QNJ9","v":0},{"$f":"Кредит!QNK9","v":0},{"$f":"Кредит!QNL9","v":0},{"$f":"Кредит!QNM9","v":0},{"$f":"Кредит!QNN9","v":0},{"$f":"Кредит!QNO9","v":0},{"$f":"Кредит!QNP9","v":0},{"$f":"Кредит!QNQ9","v":0},{"$f":"Кредит!QNR9","v":0},{"$f":"Кредит!QNS9","v":0},{"$f":"Кредит!QNT9","v":0},{"$f":"Кредит!QNU9","v":0},{"$f":"Кредит!QNV9","v":0},{"$f":"Кредит!QNW9","v":0},{"$f":"Кредит!QNX9","v":0},{"$f":"Кредит!QNY9","v":0},{"$f":"Кредит!QNZ9","v":0},{"$f":"Кредит!QOA9","v":0},{"$f":"Кредит!QOB9","v":0},{"$f":"Кредит!QOC9","v":0},{"$f":"Кредит!QOD9","v":0},{"$f":"Кредит!QOE9","v":0},{"$f":"Кредит!QOF9","v":0},{"$f":"Кредит!QOG9","v":0},{"$f":"Кредит!QOH9","v":0},{"$f":"Кредит!QOI9","v":0},{"$f":"Кредит!QOJ9","v":0},{"$f":"Кредит!QOK9","v":0},{"$f":"Кредит!QOL9","v":0},{"$f":"Кредит!QOM9","v":0},{"$f":"Кредит!QON9","v":0},{"$f":"Кредит!QOO9","v":0},{"$f":"Кредит!QOP9","v":0},{"$f":"Кредит!QOQ9","v":0},{"$f":"Кредит!QOR9","v":0},{"$f":"Кредит!QOS9","v":0},{"$f":"Кредит!QOT9","v":0},{"$f":"Кредит!QOU9","v":0},{"$f":"Кредит!QOV9","v":0},{"$f":"Кредит!QOW9","v":0},{"$f":"Кредит!QOX9","v":0},{"$f":"Кредит!QOY9","v":0},{"$f":"Кредит!QOZ9","v":0},{"$f":"Кредит!QPA9","v":0},{"$f":"Кредит!QPB9","v":0},{"$f":"Кредит!QPC9","v":0},{"$f":"Кредит!QPD9","v":0},{"$f":"Кредит!QPE9","v":0},{"$f":"Кредит!QPF9","v":0},{"$f":"Кредит!QPG9","v":0},{"$f":"Кредит!QPH9","v":0},{"$f":"Кредит!QPI9","v":0},{"$f":"Кредит!QPJ9","v":0},{"$f":"Кредит!QPK9","v":0},{"$f":"Кредит!QPL9","v":0},{"$f":"Кредит!QPM9","v":0},{"$f":"Кредит!QPN9","v":0},{"$f":"Кредит!QPO9","v":0},{"$f":"Кредит!QPP9","v":0},{"$f":"Кредит!QPQ9","v":0},{"$f":"Кредит!QPR9","v":0},{"$f":"Кредит!QPS9","v":0},{"$f":"Кредит!QPT9","v":0},{"$f":"Кредит!QPU9","v":0},{"$f":"Кредит!QPV9","v":0},{"$f":"Кредит!QPW9","v":0},{"$f":"Кредит!QPX9","v":0},{"$f":"Кредит!QPY9","v":0},{"$f":"Кредит!QPZ9","v":0},{"$f":"Кредит!QQA9","v":0},{"$f":"Кредит!QQB9","v":0},{"$f":"Кредит!QQC9","v":0},{"$f":"Кредит!QQD9","v":0},{"$f":"Кредит!QQE9","v":0},{"$f":"Кредит!QQF9","v":0},{"$f":"Кредит!QQG9","v":0},{"$f":"Кредит!QQH9","v":0},{"$f":"Кредит!QQI9","v":0},{"$f":"Кредит!QQJ9","v":0},{"$f":"Кредит!QQK9","v":0},{"$f":"Кредит!QQL9","v":0},{"$f":"Кредит!QQM9","v":0},{"$f":"Кредит!QQN9","v":0},{"$f":"Кредит!QQO9","v":0},{"$f":"Кредит!QQP9","v":0},{"$f":"Кредит!QQQ9","v":0},{"$f":"Кредит!QQR9","v":0},{"$f":"Кредит!QQS9","v":0},{"$f":"Кредит!QQT9","v":0},{"$f":"Кредит!QQU9","v":0},{"$f":"Кредит!QQV9","v":0},{"$f":"Кредит!QQW9","v":0},{"$f":"Кредит!QQX9","v":0},{"$f":"Кредит!QQY9","v":0},{"$f":"Кредит!QQZ9","v":0},{"$f":"Кредит!QRA9","v":0},{"$f":"Кредит!QRB9","v":0},{"$f":"Кредит!QRC9","v":0},{"$f":"Кредит!QRD9","v":0},{"$f":"Кредит!QRE9","v":0},{"$f":"Кредит!QRF9","v":0},{"$f":"Кредит!QRG9","v":0},{"$f":"Кредит!QRH9","v":0},{"$f":"Кредит!QRI9","v":0},{"$f":"Кредит!QRJ9","v":0},{"$f":"Кредит!QRK9","v":0},{"$f":"Кредит!QRL9","v":0},{"$f":"Кредит!QRM9","v":0},{"$f":"Кредит!QRN9","v":0},{"$f":"Кредит!QRO9","v":0},{"$f":"Кредит!QRP9","v":0},{"$f":"Кредит!QRQ9","v":0},{"$f":"Кредит!QRR9","v":0},{"$f":"Кредит!QRS9","v":0},{"$f":"Кредит!QRT9","v":0},{"$f":"Кредит!QRU9","v":0},{"$f":"Кредит!QRV9","v":0},{"$f":"Кредит!QRW9","v":0},{"$f":"Кредит!QRX9","v":0},{"$f":"Кредит!QRY9","v":0},{"$f":"Кредит!QRZ9","v":0},{"$f":"Кредит!QSA9","v":0},{"$f":"Кредит!QSB9","v":0},{"$f":"Кредит!QSC9","v":0},{"$f":"Кредит!QSD9","v":0},{"$f":"Кредит!QSE9","v":0},{"$f":"Кредит!QSF9","v":0},{"$f":"Кредит!QSG9","v":0},{"$f":"Кредит!QSH9","v":0},{"$f":"Кредит!QSI9","v":0},{"$f":"Кредит!QSJ9","v":0},{"$f":"Кредит!QSK9","v":0},{"$f":"Кредит!QSL9","v":0},{"$f":"Кредит!QSM9","v":0},{"$f":"Кредит!QSN9","v":0},{"$f":"Кредит!QSO9","v":0},{"$f":"Кредит!QSP9","v":0},{"$f":"Кредит!QSQ9","v":0},{"$f":"Кредит!QSR9","v":0},{"$f":"Кредит!QSS9","v":0},{"$f":"Кредит!QST9","v":0},{"$f":"Кредит!QSU9","v":0},{"$f":"Кредит!QSV9","v":0},{"$f":"Кредит!QSW9","v":0},{"$f":"Кредит!QSX9","v":0},{"$f":"Кредит!QSY9","v":0},{"$f":"Кредит!QSZ9","v":0},{"$f":"Кредит!QTA9","v":0},{"$f":"Кредит!QTB9","v":0},{"$f":"Кредит!QTC9","v":0},{"$f":"Кредит!QTD9","v":0},{"$f":"Кредит!QTE9","v":0},{"$f":"Кредит!QTF9","v":0},{"$f":"Кредит!QTG9","v":0},{"$f":"Кредит!QTH9","v":0},{"$f":"Кредит!QTI9","v":0},{"$f":"Кредит!QTJ9","v":0},{"$f":"Кредит!QTK9","v":0},{"$f":"Кредит!QTL9","v":0},{"$f":"Кредит!QTM9","v":0},{"$f":"Кредит!QTN9","v":0},{"$f":"Кредит!QTO9","v":0},{"$f":"Кредит!QTP9","v":0},{"$f":"Кредит!QTQ9","v":0},{"$f":"Кредит!QTR9","v":0},{"$f":"Кредит!QTS9","v":0},{"$f":"Кредит!QTT9","v":0},{"$f":"Кредит!QTU9","v":0},{"$f":"Кредит!QTV9","v":0},{"$f":"Кредит!QTW9","v":0},{"$f":"Кредит!QTX9","v":0},{"$f":"Кредит!QTY9","v":0},{"$f":"Кредит!QTZ9","v":0},{"$f":"Кредит!QUA9","v":0},{"$f":"Кредит!QUB9","v":0},{"$f":"Кредит!QUC9","v":0},{"$f":"Кредит!QUD9","v":0},{"$f":"Кредит!QUE9","v":0},{"$f":"Кредит!QUF9","v":0},{"$f":"Кредит!QUG9","v":0},{"$f":"Кредит!QUH9","v":0},{"$f":"Кредит!QUI9","v":0},{"$f":"Кредит!QUJ9","v":0},{"$f":"Кредит!QUK9","v":0},{"$f":"Кредит!QUL9","v":0},{"$f":"Кредит!QUM9","v":0},{"$f":"Кредит!QUN9","v":0},{"$f":"Кредит!QUO9","v":0},{"$f":"Кредит!QUP9","v":0},{"$f":"Кредит!QUQ9","v":0},{"$f":"Кредит!QUR9","v":0},{"$f":"Кредит!QUS9","v":0},{"$f":"Кредит!QUT9","v":0},{"$f":"Кредит!QUU9","v":0},{"$f":"Кредит!QUV9","v":0},{"$f":"Кредит!QUW9","v":0},{"$f":"Кредит!QUX9","v":0},{"$f":"Кредит!QUY9","v":0},{"$f":"Кредит!QUZ9","v":0},{"$f":"Кредит!QVA9","v":0},{"$f":"Кредит!QVB9","v":0},{"$f":"Кредит!QVC9","v":0},{"$f":"Кредит!QVD9","v":0},{"$f":"Кредит!QVE9","v":0},{"$f":"Кредит!QVF9","v":0},{"$f":"Кредит!QVG9","v":0},{"$f":"Кредит!QVH9","v":0},{"$f":"Кредит!QVI9","v":0},{"$f":"Кредит!QVJ9","v":0},{"$f":"Кредит!QVK9","v":0},{"$f":"Кредит!QVL9","v":0},{"$f":"Кредит!QVM9","v":0},{"$f":"Кредит!QVN9","v":0},{"$f":"Кредит!QVO9","v":0},{"$f":"Кредит!QVP9","v":0},{"$f":"Кредит!QVQ9","v":0},{"$f":"Кредит!QVR9","v":0},{"$f":"Кредит!QVS9","v":0},{"$f":"Кредит!QVT9","v":0},{"$f":"Кредит!QVU9","v":0},{"$f":"Кредит!QVV9","v":0},{"$f":"Кредит!QVW9","v":0},{"$f":"Кредит!QVX9","v":0},{"$f":"Кредит!QVY9","v":0},{"$f":"Кредит!QVZ9","v":0},{"$f":"Кредит!QWA9","v":0},{"$f":"Кредит!QWB9","v":0},{"$f":"Кредит!QWC9","v":0},{"$f":"Кредит!QWD9","v":0},{"$f":"Кредит!QWE9","v":0},{"$f":"Кредит!QWF9","v":0},{"$f":"Кредит!QWG9","v":0},{"$f":"Кредит!QWH9","v":0},{"$f":"Кредит!QWI9","v":0},{"$f":"Кредит!QWJ9","v":0},{"$f":"Кредит!QWK9","v":0},{"$f":"Кредит!QWL9","v":0},{"$f":"Кредит!QWM9","v":0},{"$f":"Кредит!QWN9","v":0},{"$f":"Кредит!QWO9","v":0},{"$f":"Кредит!QWP9","v":0},{"$f":"Кредит!QWQ9","v":0},{"$f":"Кредит!QWR9","v":0},{"$f":"Кредит!QWS9","v":0},{"$f":"Кредит!QWT9","v":0},{"$f":"Кредит!QWU9","v":0},{"$f":"Кредит!QWV9","v":0},{"$f":"Кредит!QWW9","v":0},{"$f":"Кредит!QWX9","v":0},{"$f":"Кредит!QWY9","v":0},{"$f":"Кредит!QWZ9","v":0},{"$f":"Кредит!QXA9","v":0},{"$f":"Кредит!QXB9","v":0},{"$f":"Кредит!QXC9","v":0},{"$f":"Кредит!QXD9","v":0},{"$f":"Кредит!QXE9","v":0},{"$f":"Кредит!QXF9","v":0},{"$f":"Кредит!QXG9","v":0},{"$f":"Кредит!QXH9","v":0},{"$f":"Кредит!QXI9","v":0},{"$f":"Кредит!QXJ9","v":0},{"$f":"Кредит!QXK9","v":0},{"$f":"Кредит!QXL9","v":0},{"$f":"Кредит!QXM9","v":0},{"$f":"Кредит!QXN9","v":0},{"$f":"Кредит!QXO9","v":0},{"$f":"Кредит!QXP9","v":0},{"$f":"Кредит!QXQ9","v":0},{"$f":"Кредит!QXR9","v":0},{"$f":"Кредит!QXS9","v":0},{"$f":"Кредит!QXT9","v":0},{"$f":"Кредит!QXU9","v":0},{"$f":"Кредит!QXV9","v":0},{"$f":"Кредит!QXW9","v":0},{"$f":"Кредит!QXX9","v":0},{"$f":"Кредит!QXY9","v":0},{"$f":"Кредит!QXZ9","v":0},{"$f":"Кредит!QYA9","v":0},{"$f":"Кредит!QYB9","v":0},{"$f":"Кредит!QYC9","v":0},{"$f":"Кредит!QYD9","v":0},{"$f":"Кредит!QYE9","v":0},{"$f":"Кредит!QYF9","v":0},{"$f":"Кредит!QYG9","v":0},{"$f":"Кредит!QYH9","v":0},{"$f":"Кредит!QYI9","v":0},{"$f":"Кредит!QYJ9","v":0},{"$f":"Кредит!QYK9","v":0},{"$f":"Кредит!QYL9","v":0},{"$f":"Кредит!QYM9","v":0},{"$f":"Кредит!QYN9","v":0},{"$f":"Кредит!QYO9","v":0},{"$f":"Кредит!QYP9","v":0},{"$f":"Кредит!QYQ9","v":0},{"$f":"Кредит!QYR9","v":0},{"$f":"Кредит!QYS9","v":0},{"$f":"Кредит!QYT9","v":0},{"$f":"Кредит!QYU9","v":0},{"$f":"Кредит!QYV9","v":0},{"$f":"Кредит!QYW9","v":0},{"$f":"Кредит!QYX9","v":0},{"$f":"Кредит!QYY9","v":0},{"$f":"Кредит!QYZ9","v":0},{"$f":"Кредит!QZA9","v":0},{"$f":"Кредит!QZB9","v":0},{"$f":"Кредит!QZC9","v":0},{"$f":"Кредит!QZD9","v":0},{"$f":"Кредит!QZE9","v":0},{"$f":"Кредит!QZF9","v":0},{"$f":"Кредит!QZG9","v":0},{"$f":"Кредит!QZH9","v":0},{"$f":"Кредит!QZI9","v":0},{"$f":"Кредит!QZJ9","v":0},{"$f":"Кредит!QZK9","v":0},{"$f":"Кредит!QZL9","v":0},{"$f":"Кредит!QZM9","v":0},{"$f":"Кредит!QZN9","v":0},{"$f":"Кредит!QZO9","v":0},{"$f":"Кредит!QZP9","v":0},{"$f":"Кредит!QZQ9","v":0},{"$f":"Кредит!QZR9","v":0},{"$f":"Кредит!QZS9","v":0},{"$f":"Кредит!QZT9","v":0},{"$f":"Кредит!QZU9","v":0},{"$f":"Кредит!QZV9","v":0},{"$f":"Кредит!QZW9","v":0},{"$f":"Кредит!QZX9","v":0},{"$f":"Кредит!QZY9","v":0},{"$f":"Кредит!QZZ9","v":0},{"$f":"Кредит!RAA9","v":0},{"$f":"Кредит!RAB9","v":0},{"$f":"Кредит!RAC9","v":0},{"$f":"Кредит!RAD9","v":0},{"$f":"Кредит!RAE9","v":0},{"$f":"Кредит!RAF9","v":0},{"$f":"Кредит!RAG9","v":0},{"$f":"Кредит!RAH9","v":0},{"$f":"Кредит!RAI9","v":0},{"$f":"Кредит!RAJ9","v":0},{"$f":"Кредит!RAK9","v":0},{"$f":"Кредит!RAL9","v":0},{"$f":"Кредит!RAM9","v":0},{"$f":"Кредит!RAN9","v":0},{"$f":"Кредит!RAO9","v":0},{"$f":"Кредит!RAP9","v":0},{"$f":"Кредит!RAQ9","v":0},{"$f":"Кредит!RAR9","v":0},{"$f":"Кредит!RAS9","v":0},{"$f":"Кредит!RAT9","v":0},{"$f":"Кредит!RAU9","v":0},{"$f":"Кредит!RAV9","v":0},{"$f":"Кредит!RAW9","v":0},{"$f":"Кредит!RAX9","v":0},{"$f":"Кредит!RAY9","v":0},{"$f":"Кредит!RAZ9","v":0},{"$f":"Кредит!RBA9","v":0},{"$f":"Кредит!RBB9","v":0},{"$f":"Кредит!RBC9","v":0},{"$f":"Кредит!RBD9","v":0},{"$f":"Кредит!RBE9","v":0},{"$f":"Кредит!RBF9","v":0},{"$f":"Кредит!RBG9","v":0},{"$f":"Кредит!RBH9","v":0},{"$f":"Кредит!RBI9","v":0},{"$f":"Кредит!RBJ9","v":0},{"$f":"Кредит!RBK9","v":0},{"$f":"Кредит!RBL9","v":0},{"$f":"Кредит!RBM9","v":0},{"$f":"Кредит!RBN9","v":0},{"$f":"Кредит!RBO9","v":0},{"$f":"Кредит!RBP9","v":0},{"$f":"Кредит!RBQ9","v":0},{"$f":"Кредит!RBR9","v":0},{"$f":"Кредит!RBS9","v":0},{"$f":"Кредит!RBT9","v":0},{"$f":"Кредит!RBU9","v":0},{"$f":"Кредит!RBV9","v":0},{"$f":"Кредит!RBW9","v":0},{"$f":"Кредит!RBX9","v":0},{"$f":"Кредит!RBY9","v":0},{"$f":"Кредит!RBZ9","v":0},{"$f":"Кредит!RCA9","v":0},{"$f":"Кредит!RCB9","v":0},{"$f":"Кредит!RCC9","v":0},{"$f":"Кредит!RCD9","v":0},{"$f":"Кредит!RCE9","v":0},{"$f":"Кредит!RCF9","v":0},{"$f":"Кредит!RCG9","v":0},{"$f":"Кредит!RCH9","v":0},{"$f":"Кредит!RCI9","v":0},{"$f":"Кредит!RCJ9","v":0},{"$f":"Кредит!RCK9","v":0},{"$f":"Кредит!RCL9","v":0},{"$f":"Кредит!RCM9","v":0},{"$f":"Кредит!RCN9","v":0},{"$f":"Кредит!RCO9","v":0},{"$f":"Кредит!RCP9","v":0},{"$f":"Кредит!RCQ9","v":0},{"$f":"Кредит!RCR9","v":0},{"$f":"Кредит!RCS9","v":0},{"$f":"Кредит!RCT9","v":0},{"$f":"Кредит!RCU9","v":0},{"$f":"Кредит!RCV9","v":0},{"$f":"Кредит!RCW9","v":0},{"$f":"Кредит!RCX9","v":0},{"$f":"Кредит!RCY9","v":0},{"$f":"Кредит!RCZ9","v":0},{"$f":"Кредит!RDA9","v":0},{"$f":"Кредит!RDB9","v":0},{"$f":"Кредит!RDC9","v":0},{"$f":"Кредит!RDD9","v":0},{"$f":"Кредит!RDE9","v":0},{"$f":"Кредит!RDF9","v":0},{"$f":"Кредит!RDG9","v":0},{"$f":"Кредит!RDH9","v":0},{"$f":"Кредит!RDI9","v":0},{"$f":"Кредит!RDJ9","v":0},{"$f":"Кредит!RDK9","v":0},{"$f":"Кредит!RDL9","v":0},{"$f":"Кредит!RDM9","v":0},{"$f":"Кредит!RDN9","v":0},{"$f":"Кредит!RDO9","v":0},{"$f":"Кредит!RDP9","v":0},{"$f":"Кредит!RDQ9","v":0},{"$f":"Кредит!RDR9","v":0},{"$f":"Кредит!RDS9","v":0},{"$f":"Кредит!RDT9","v":0},{"$f":"Кредит!RDU9","v":0},{"$f":"Кредит!RDV9","v":0},{"$f":"Кредит!RDW9","v":0},{"$f":"Кредит!RDX9","v":0},{"$f":"Кредит!RDY9","v":0},{"$f":"Кредит!RDZ9","v":0},{"$f":"Кредит!REA9","v":0},{"$f":"Кредит!REB9","v":0},{"$f":"Кредит!REC9","v":0},{"$f":"Кредит!RED9","v":0},{"$f":"Кредит!REE9","v":0},{"$f":"Кредит!REF9","v":0},{"$f":"Кредит!REG9","v":0},{"$f":"Кредит!REH9","v":0},{"$f":"Кредит!REI9","v":0},{"$f":"Кредит!REJ9","v":0},{"$f":"Кредит!REK9","v":0},{"$f":"Кредит!REL9","v":0},{"$f":"Кредит!REM9","v":0},{"$f":"Кредит!REN9","v":0},{"$f":"Кредит!REO9","v":0},{"$f":"Кредит!REP9","v":0},{"$f":"Кредит!REQ9","v":0},{"$f":"Кредит!RER9","v":0},{"$f":"Кредит!RES9","v":0},{"$f":"Кредит!RET9","v":0},{"$f":"Кредит!REU9","v":0},{"$f":"Кредит!REV9","v":0},{"$f":"Кредит!REW9","v":0},{"$f":"Кредит!REX9","v":0},{"$f":"Кредит!REY9","v":0},{"$f":"Кредит!REZ9","v":0},{"$f":"Кредит!RFA9","v":0},{"$f":"Кредит!RFB9","v":0},{"$f":"Кредит!RFC9","v":0},{"$f":"Кредит!RFD9","v":0},{"$f":"Кредит!RFE9","v":0},{"$f":"Кредит!RFF9","v":0},{"$f":"Кредит!RFG9","v":0},{"$f":"Кредит!RFH9","v":0},{"$f":"Кредит!RFI9","v":0},{"$f":"Кредит!RFJ9","v":0},{"$f":"Кредит!RFK9","v":0},{"$f":"Кредит!RFL9","v":0},{"$f":"Кредит!RFM9","v":0},{"$f":"Кредит!RFN9","v":0},{"$f":"Кредит!RFO9","v":0},{"$f":"Кредит!RFP9","v":0},{"$f":"Кредит!RFQ9","v":0},{"$f":"Кредит!RFR9","v":0},{"$f":"Кредит!RFS9","v":0},{"$f":"Кредит!RFT9","v":0},{"$f":"Кредит!RFU9","v":0},{"$f":"Кредит!RFV9","v":0},{"$f":"Кредит!RFW9","v":0},{"$f":"Кредит!RFX9","v":0},{"$f":"Кредит!RFY9","v":0},{"$f":"Кредит!RFZ9","v":0},{"$f":"Кредит!RGA9","v":0},{"$f":"Кредит!RGB9","v":0},{"$f":"Кредит!RGC9","v":0},{"$f":"Кредит!RGD9","v":0},{"$f":"Кредит!RGE9","v":0},{"$f":"Кредит!RGF9","v":0},{"$f":"Кредит!RGG9","v":0},{"$f":"Кредит!RGH9","v":0},{"$f":"Кредит!RGI9","v":0},{"$f":"Кредит!RGJ9","v":0},{"$f":"Кредит!RGK9","v":0},{"$f":"Кредит!RGL9","v":0},{"$f":"Кредит!RGM9","v":0},{"$f":"Кредит!RGN9","v":0},{"$f":"Кредит!RGO9","v":0},{"$f":"Кредит!RGP9","v":0},{"$f":"Кредит!RGQ9","v":0},{"$f":"Кредит!RGR9","v":0},{"$f":"Кредит!RGS9","v":0},{"$f":"Кредит!RGT9","v":0},{"$f":"Кредит!RGU9","v":0},{"$f":"Кредит!RGV9","v":0},{"$f":"Кредит!RGW9","v":0},{"$f":"Кредит!RGX9","v":0},{"$f":"Кредит!RGY9","v":0},{"$f":"Кредит!RGZ9","v":0},{"$f":"Кредит!RHA9","v":0},{"$f":"Кредит!RHB9","v":0},{"$f":"Кредит!RHC9","v":0},{"$f":"Кредит!RHD9","v":0},{"$f":"Кредит!RHE9","v":0},{"$f":"Кредит!RHF9","v":0},{"$f":"Кредит!RHG9","v":0},{"$f":"Кредит!RHH9","v":0},{"$f":"Кредит!RHI9","v":0},{"$f":"Кредит!RHJ9","v":0},{"$f":"Кредит!RHK9","v":0},{"$f":"Кредит!RHL9","v":0},{"$f":"Кредит!RHM9","v":0},{"$f":"Кредит!RHN9","v":0},{"$f":"Кредит!RHO9","v":0},{"$f":"Кредит!RHP9","v":0},{"$f":"Кредит!RHQ9","v":0},{"$f":"Кредит!RHR9","v":0},{"$f":"Кредит!RHS9","v":0},{"$f":"Кредит!RHT9","v":0},{"$f":"Кредит!RHU9","v":0},{"$f":"Кредит!RHV9","v":0},{"$f":"Кредит!RHW9","v":0},{"$f":"Кредит!RHX9","v":0},{"$f":"Кредит!RHY9","v":0},{"$f":"Кредит!RHZ9","v":0},{"$f":"Кредит!RIA9","v":0},{"$f":"Кредит!RIB9","v":0},{"$f":"Кредит!RIC9","v":0},{"$f":"Кредит!RID9","v":0},{"$f":"Кредит!RIE9","v":0},{"$f":"Кредит!RIF9","v":0},{"$f":"Кредит!RIG9","v":0},{"$f":"Кредит!RIH9","v":0},{"$f":"Кредит!RII9","v":0},{"$f":"Кредит!RIJ9","v":0},{"$f":"Кредит!RIK9","v":0},{"$f":"Кредит!RIL9","v":0},{"$f":"Кредит!RIM9","v":0},{"$f":"Кредит!RIN9","v":0},{"$f":"Кредит!RIO9","v":0},{"$f":"Кредит!RIP9","v":0},{"$f":"Кредит!RIQ9","v":0},{"$f":"Кредит!RIR9","v":0},{"$f":"Кредит!RIS9","v":0},{"$f":"Кредит!RIT9","v":0},{"$f":"Кредит!RIU9","v":0},{"$f":"Кредит!RIV9","v":0},{"$f":"Кредит!RIW9","v":0},{"$f":"Кредит!RIX9","v":0},{"$f":"Кредит!RIY9","v":0},{"$f":"Кредит!RIZ9","v":0},{"$f":"Кредит!RJA9","v":0},{"$f":"Кредит!RJB9","v":0},{"$f":"Кредит!RJC9","v":0},{"$f":"Кредит!RJD9","v":0},{"$f":"Кредит!RJE9","v":0},{"$f":"Кредит!RJF9","v":0},{"$f":"Кредит!RJG9","v":0},{"$f":"Кредит!RJH9","v":0},{"$f":"Кредит!RJI9","v":0},{"$f":"Кредит!RJJ9","v":0},{"$f":"Кредит!RJK9","v":0},{"$f":"Кредит!RJL9","v":0},{"$f":"Кредит!RJM9","v":0},{"$f":"Кредит!RJN9","v":0},{"$f":"Кредит!RJO9","v":0},{"$f":"Кредит!RJP9","v":0},{"$f":"Кредит!RJQ9","v":0},{"$f":"Кредит!RJR9","v":0},{"$f":"Кредит!RJS9","v":0},{"$f":"Кредит!RJT9","v":0},{"$f":"Кредит!RJU9","v":0},{"$f":"Кредит!RJV9","v":0},{"$f":"Кредит!RJW9","v":0},{"$f":"Кредит!RJX9","v":0},{"$f":"Кредит!RJY9","v":0},{"$f":"Кредит!RJZ9","v":0},{"$f":"Кредит!RKA9","v":0},{"$f":"Кредит!RKB9","v":0},{"$f":"Кредит!RKC9","v":0},{"$f":"Кредит!RKD9","v":0},{"$f":"Кредит!RKE9","v":0},{"$f":"Кредит!RKF9","v":0},{"$f":"Кредит!RKG9","v":0},{"$f":"Кредит!RKH9","v":0},{"$f":"Кредит!RKI9","v":0},{"$f":"Кредит!RKJ9","v":0},{"$f":"Кредит!RKK9","v":0},{"$f":"Кредит!RKL9","v":0},{"$f":"Кредит!RKM9","v":0},{"$f":"Кредит!RKN9","v":0},{"$f":"Кредит!RKO9","v":0},{"$f":"Кредит!RKP9","v":0},{"$f":"Кредит!RKQ9","v":0},{"$f":"Кредит!RKR9","v":0},{"$f":"Кредит!RKS9","v":0},{"$f":"Кредит!RKT9","v":0},{"$f":"Кредит!RKU9","v":0},{"$f":"Кредит!RKV9","v":0},{"$f":"Кредит!RKW9","v":0},{"$f":"Кредит!RKX9","v":0},{"$f":"Кредит!RKY9","v":0},{"$f":"Кредит!RKZ9","v":0},{"$f":"Кредит!RLA9","v":0},{"$f":"Кредит!RLB9","v":0},{"$f":"Кредит!RLC9","v":0},{"$f":"Кредит!RLD9","v":0},{"$f":"Кредит!RLE9","v":0},{"$f":"Кредит!RLF9","v":0},{"$f":"Кредит!RLG9","v":0},{"$f":"Кредит!RLH9","v":0},{"$f":"Кредит!RLI9","v":0},{"$f":"Кредит!RLJ9","v":0},{"$f":"Кредит!RLK9","v":0},{"$f":"Кредит!RLL9","v":0},{"$f":"Кредит!RLM9","v":0},{"$f":"Кредит!RLN9","v":0},{"$f":"Кредит!RLO9","v":0},{"$f":"Кредит!RLP9","v":0},{"$f":"Кредит!RLQ9","v":0},{"$f":"Кредит!RLR9","v":0},{"$f":"Кредит!RLS9","v":0},{"$f":"Кредит!RLT9","v":0},{"$f":"Кредит!RLU9","v":0},{"$f":"Кредит!RLV9","v":0},{"$f":"Кредит!RLW9","v":0},{"$f":"Кредит!RLX9","v":0},{"$f":"Кредит!RLY9","v":0},{"$f":"Кредит!RLZ9","v":0},{"$f":"Кредит!RMA9","v":0},{"$f":"Кредит!RMB9","v":0},{"$f":"Кредит!RMC9","v":0},{"$f":"Кредит!RMD9","v":0},{"$f":"Кредит!RME9","v":0},{"$f":"Кредит!RMF9","v":0},{"$f":"Кредит!RMG9","v":0},{"$f":"Кредит!RMH9","v":0},{"$f":"Кредит!RMI9","v":0},{"$f":"Кредит!RMJ9","v":0},{"$f":"Кредит!RMK9","v":0},{"$f":"Кредит!RML9","v":0},{"$f":"Кредит!RMM9","v":0},{"$f":"Кредит!RMN9","v":0},{"$f":"Кредит!RMO9","v":0},{"$f":"Кредит!RMP9","v":0},{"$f":"Кредит!RMQ9","v":0},{"$f":"Кредит!RMR9","v":0},{"$f":"Кредит!RMS9","v":0},{"$f":"Кредит!RMT9","v":0},{"$f":"Кредит!RMU9","v":0},{"$f":"Кредит!RMV9","v":0},{"$f":"Кредит!RMW9","v":0},{"$f":"Кредит!RMX9","v":0},{"$f":"Кредит!RMY9","v":0},{"$f":"Кредит!RMZ9","v":0},{"$f":"Кредит!RNA9","v":0},{"$f":"Кредит!RNB9","v":0},{"$f":"Кредит!RNC9","v":0},{"$f":"Кредит!RND9","v":0},{"$f":"Кредит!RNE9","v":0},{"$f":"Кредит!RNF9","v":0},{"$f":"Кредит!RNG9","v":0},{"$f":"Кредит!RNH9","v":0},{"$f":"Кредит!RNI9","v":0},{"$f":"Кредит!RNJ9","v":0},{"$f":"Кредит!RNK9","v":0},{"$f":"Кредит!RNL9","v":0},{"$f":"Кредит!RNM9","v":0},{"$f":"Кредит!RNN9","v":0},{"$f":"Кредит!RNO9","v":0},{"$f":"Кредит!RNP9","v":0},{"$f":"Кредит!RNQ9","v":0},{"$f":"Кредит!RNR9","v":0},{"$f":"Кредит!RNS9","v":0},{"$f":"Кредит!RNT9","v":0},{"$f":"Кредит!RNU9","v":0},{"$f":"Кредит!RNV9","v":0},{"$f":"Кредит!RNW9","v":0},{"$f":"Кредит!RNX9","v":0},{"$f":"Кредит!RNY9","v":0},{"$f":"Кредит!RNZ9","v":0},{"$f":"Кредит!ROA9","v":0},{"$f":"Кредит!ROB9","v":0},{"$f":"Кредит!ROC9","v":0},{"$f":"Кредит!ROD9","v":0},{"$f":"Кредит!ROE9","v":0},{"$f":"Кредит!ROF9","v":0},{"$f":"Кредит!ROG9","v":0},{"$f":"Кредит!ROH9","v":0},{"$f":"Кредит!ROI9","v":0},{"$f":"Кредит!ROJ9","v":0},{"$f":"Кредит!ROK9","v":0},{"$f":"Кредит!ROL9","v":0},{"$f":"Кредит!ROM9","v":0},{"$f":"Кредит!RON9","v":0},{"$f":"Кредит!ROO9","v":0},{"$f":"Кредит!ROP9","v":0},{"$f":"Кредит!ROQ9","v":0},{"$f":"Кредит!ROR9","v":0},{"$f":"Кредит!ROS9","v":0},{"$f":"Кредит!ROT9","v":0},{"$f":"Кредит!ROU9","v":0},{"$f":"Кредит!ROV9","v":0},{"$f":"Кредит!ROW9","v":0},{"$f":"Кредит!ROX9","v":0},{"$f":"Кредит!ROY9","v":0},{"$f":"Кредит!ROZ9","v":0},{"$f":"Кредит!RPA9","v":0},{"$f":"Кредит!RPB9","v":0},{"$f":"Кредит!RPC9","v":0},{"$f":"Кредит!RPD9","v":0},{"$f":"Кредит!RPE9","v":0},{"$f":"Кредит!RPF9","v":0},{"$f":"Кредит!RPG9","v":0},{"$f":"Кредит!RPH9","v":0},{"$f":"Кредит!RPI9","v":0},{"$f":"Кредит!RPJ9","v":0},{"$f":"Кредит!RPK9","v":0},{"$f":"Кредит!RPL9","v":0},{"$f":"Кредит!RPM9","v":0},{"$f":"Кредит!RPN9","v":0},{"$f":"Кредит!RPO9","v":0},{"$f":"Кредит!RPP9","v":0},{"$f":"Кредит!RPQ9","v":0},{"$f":"Кредит!RPR9","v":0},{"$f":"Кредит!RPS9","v":0},{"$f":"Кредит!RPT9","v":0},{"$f":"Кредит!RPU9","v":0},{"$f":"Кредит!RPV9","v":0},{"$f":"Кредит!RPW9","v":0},{"$f":"Кредит!RPX9","v":0},{"$f":"Кредит!RPY9","v":0},{"$f":"Кредит!RPZ9","v":0},{"$f":"Кредит!RQA9","v":0},{"$f":"Кредит!RQB9","v":0},{"$f":"Кредит!RQC9","v":0},{"$f":"Кредит!RQD9","v":0},{"$f":"Кредит!RQE9","v":0},{"$f":"Кредит!RQF9","v":0},{"$f":"Кредит!RQG9","v":0},{"$f":"Кредит!RQH9","v":0},{"$f":"Кредит!RQI9","v":0},{"$f":"Кредит!RQJ9","v":0},{"$f":"Кредит!RQK9","v":0},{"$f":"Кредит!RQL9","v":0},{"$f":"Кредит!RQM9","v":0},{"$f":"Кредит!RQN9","v":0},{"$f":"Кредит!RQO9","v":0},{"$f":"Кредит!RQP9","v":0},{"$f":"Кредит!RQQ9","v":0},{"$f":"Кредит!RQR9","v":0},{"$f":"Кредит!RQS9","v":0},{"$f":"Кредит!RQT9","v":0},{"$f":"Кредит!RQU9","v":0},{"$f":"Кредит!RQV9","v":0},{"$f":"Кредит!RQW9","v":0},{"$f":"Кредит!RQX9","v":0},{"$f":"Кредит!RQY9","v":0},{"$f":"Кредит!RQZ9","v":0},{"$f":"Кредит!RRA9","v":0},{"$f":"Кредит!RRB9","v":0},{"$f":"Кредит!RRC9","v":0},{"$f":"Кредит!RRD9","v":0},{"$f":"Кредит!RRE9","v":0},{"$f":"Кредит!RRF9","v":0},{"$f":"Кредит!RRG9","v":0},{"$f":"Кредит!RRH9","v":0},{"$f":"Кредит!RRI9","v":0},{"$f":"Кредит!RRJ9","v":0},{"$f":"Кредит!RRK9","v":0},{"$f":"Кредит!RRL9","v":0},{"$f":"Кредит!RRM9","v":0},{"$f":"Кредит!RRN9","v":0},{"$f":"Кредит!RRO9","v":0},{"$f":"Кредит!RRP9","v":0},{"$f":"Кредит!RRQ9","v":0},{"$f":"Кредит!RRR9","v":0},{"$f":"Кредит!RRS9","v":0},{"$f":"Кредит!RRT9","v":0},{"$f":"Кредит!RRU9","v":0},{"$f":"Кредит!RRV9","v":0},{"$f":"Кредит!RRW9","v":0},{"$f":"Кредит!RRX9","v":0},{"$f":"Кредит!RRY9","v":0},{"$f":"Кредит!RRZ9","v":0},{"$f":"Кредит!RSA9","v":0},{"$f":"Кредит!RSB9","v":0},{"$f":"Кредит!RSC9","v":0},{"$f":"Кредит!RSD9","v":0},{"$f":"Кредит!RSE9","v":0},{"$f":"Кредит!RSF9","v":0},{"$f":"Кредит!RSG9","v":0},{"$f":"Кредит!RSH9","v":0},{"$f":"Кредит!RSI9","v":0},{"$f":"Кредит!RSJ9","v":0},{"$f":"Кредит!RSK9","v":0},{"$f":"Кредит!RSL9","v":0},{"$f":"Кредит!RSM9","v":0},{"$f":"Кредит!RSN9","v":0},{"$f":"Кредит!RSO9","v":0},{"$f":"Кредит!RSP9","v":0},{"$f":"Кредит!RSQ9","v":0},{"$f":"Кредит!RSR9","v":0},{"$f":"Кредит!RSS9","v":0},{"$f":"Кредит!RST9","v":0},{"$f":"Кредит!RSU9","v":0},{"$f":"Кредит!RSV9","v":0},{"$f":"Кредит!RSW9","v":0},{"$f":"Кредит!RSX9","v":0},{"$f":"Кредит!RSY9","v":0},{"$f":"Кредит!RSZ9","v":0},{"$f":"Кредит!RTA9","v":0},{"$f":"Кредит!RTB9","v":0},{"$f":"Кредит!RTC9","v":0},{"$f":"Кредит!RTD9","v":0},{"$f":"Кредит!RTE9","v":0},{"$f":"Кредит!RTF9","v":0},{"$f":"Кредит!RTG9","v":0},{"$f":"Кредит!RTH9","v":0},{"$f":"Кредит!RTI9","v":0},{"$f":"Кредит!RTJ9","v":0},{"$f":"Кредит!RTK9","v":0},{"$f":"Кредит!RTL9","v":0},{"$f":"Кредит!RTM9","v":0},{"$f":"Кредит!RTN9","v":0},{"$f":"Кредит!RTO9","v":0},{"$f":"Кредит!RTP9","v":0},{"$f":"Кредит!RTQ9","v":0},{"$f":"Кредит!RTR9","v":0},{"$f":"Кредит!RTS9","v":0},{"$f":"Кредит!RTT9","v":0},{"$f":"Кредит!RTU9","v":0},{"$f":"Кредит!RTV9","v":0},{"$f":"Кредит!RTW9","v":0},{"$f":"Кредит!RTX9","v":0},{"$f":"Кредит!RTY9","v":0},{"$f":"Кредит!RTZ9","v":0},{"$f":"Кредит!RUA9","v":0},{"$f":"Кредит!RUB9","v":0},{"$f":"Кредит!RUC9","v":0},{"$f":"Кредит!RUD9","v":0},{"$f":"Кредит!RUE9","v":0},{"$f":"Кредит!RUF9","v":0},{"$f":"Кредит!RUG9","v":0},{"$f":"Кредит!RUH9","v":0},{"$f":"Кредит!RUI9","v":0},{"$f":"Кредит!RUJ9","v":0},{"$f":"Кредит!RUK9","v":0},{"$f":"Кредит!RUL9","v":0},{"$f":"Кредит!RUM9","v":0},{"$f":"Кредит!RUN9","v":0},{"$f":"Кредит!RUO9","v":0},{"$f":"Кредит!RUP9","v":0},{"$f":"Кредит!RUQ9","v":0},{"$f":"Кредит!RUR9","v":0},{"$f":"Кредит!RUS9","v":0},{"$f":"Кредит!RUT9","v":0},{"$f":"Кредит!RUU9","v":0},{"$f":"Кредит!RUV9","v":0},{"$f":"Кредит!RUW9","v":0},{"$f":"Кредит!RUX9","v":0},{"$f":"Кредит!RUY9","v":0},{"$f":"Кредит!RUZ9","v":0},{"$f":"Кредит!RVA9","v":0},{"$f":"Кредит!RVB9","v":0},{"$f":"Кредит!RVC9","v":0},{"$f":"Кредит!RVD9","v":0},{"$f":"Кредит!RVE9","v":0},{"$f":"Кредит!RVF9","v":0},{"$f":"Кредит!RVG9","v":0},{"$f":"Кредит!RVH9","v":0},{"$f":"Кредит!RVI9","v":0},{"$f":"Кредит!RVJ9","v":0},{"$f":"Кредит!RVK9","v":0},{"$f":"Кредит!RVL9","v":0},{"$f":"Кредит!RVM9","v":0},{"$f":"Кредит!RVN9","v":0},{"$f":"Кредит!RVO9","v":0},{"$f":"Кредит!RVP9","v":0},{"$f":"Кредит!RVQ9","v":0},{"$f":"Кредит!RVR9","v":0},{"$f":"Кредит!RVS9","v":0},{"$f":"Кредит!RVT9","v":0},{"$f":"Кредит!RVU9","v":0},{"$f":"Кредит!RVV9","v":0},{"$f":"Кредит!RVW9","v":0},{"$f":"Кредит!RVX9","v":0},{"$f":"Кредит!RVY9","v":0},{"$f":"Кредит!RVZ9","v":0},{"$f":"Кредит!RWA9","v":0},{"$f":"Кредит!RWB9","v":0},{"$f":"Кредит!RWC9","v":0},{"$f":"Кредит!RWD9","v":0},{"$f":"Кредит!RWE9","v":0},{"$f":"Кредит!RWF9","v":0},{"$f":"Кредит!RWG9","v":0},{"$f":"Кредит!RWH9","v":0},{"$f":"Кредит!RWI9","v":0},{"$f":"Кредит!RWJ9","v":0},{"$f":"Кредит!RWK9","v":0},{"$f":"Кредит!RWL9","v":0},{"$f":"Кредит!RWM9","v":0},{"$f":"Кредит!RWN9","v":0},{"$f":"Кредит!RWO9","v":0},{"$f":"Кредит!RWP9","v":0},{"$f":"Кредит!RWQ9","v":0},{"$f":"Кредит!RWR9","v":0},{"$f":"Кредит!RWS9","v":0},{"$f":"Кредит!RWT9","v":0},{"$f":"Кредит!RWU9","v":0},{"$f":"Кредит!RWV9","v":0},{"$f":"Кредит!RWW9","v":0},{"$f":"Кредит!RWX9","v":0},{"$f":"Кредит!RWY9","v":0},{"$f":"Кредит!RWZ9","v":0},{"$f":"Кредит!RXA9","v":0},{"$f":"Кредит!RXB9","v":0},{"$f":"Кредит!RXC9","v":0},{"$f":"Кредит!RXD9","v":0},{"$f":"Кредит!RXE9","v":0},{"$f":"Кредит!RXF9","v":0},{"$f":"Кредит!RXG9","v":0},{"$f":"Кредит!RXH9","v":0},{"$f":"Кредит!RXI9","v":0},{"$f":"Кредит!RXJ9","v":0},{"$f":"Кредит!RXK9","v":0},{"$f":"Кредит!RXL9","v":0},{"$f":"Кредит!RXM9","v":0},{"$f":"Кредит!RXN9","v":0},{"$f":"Кредит!RXO9","v":0},{"$f":"Кредит!RXP9","v":0},{"$f":"Кредит!RXQ9","v":0},{"$f":"Кредит!RXR9","v":0},{"$f":"Кредит!RXS9","v":0},{"$f":"Кредит!RXT9","v":0},{"$f":"Кредит!RXU9","v":0},{"$f":"Кредит!RXV9","v":0},{"$f":"Кредит!RXW9","v":0},{"$f":"Кредит!RXX9","v":0},{"$f":"Кредит!RXY9","v":0},{"$f":"Кредит!RXZ9","v":0},{"$f":"Кредит!RYA9","v":0},{"$f":"Кредит!RYB9","v":0},{"$f":"Кредит!RYC9","v":0},{"$f":"Кредит!RYD9","v":0},{"$f":"Кредит!RYE9","v":0},{"$f":"Кредит!RYF9","v":0},{"$f":"Кредит!RYG9","v":0},{"$f":"Кредит!RYH9","v":0},{"$f":"Кредит!RYI9","v":0},{"$f":"Кредит!RYJ9","v":0},{"$f":"Кредит!RYK9","v":0},{"$f":"Кредит!RYL9","v":0},{"$f":"Кредит!RYM9","v":0},{"$f":"Кредит!RYN9","v":0},{"$f":"Кредит!RYO9","v":0},{"$f":"Кредит!RYP9","v":0},{"$f":"Кредит!RYQ9","v":0},{"$f":"Кредит!RYR9","v":0},{"$f":"Кредит!RYS9","v":0},{"$f":"Кредит!RYT9","v":0},{"$f":"Кредит!RYU9","v":0},{"$f":"Кредит!RYV9","v":0},{"$f":"Кредит!RYW9","v":0},{"$f":"Кредит!RYX9","v":0},{"$f":"Кредит!RYY9","v":0},{"$f":"Кредит!RYZ9","v":0},{"$f":"Кредит!RZA9","v":0},{"$f":"Кредит!RZB9","v":0},{"$f":"Кредит!RZC9","v":0},{"$f":"Кредит!RZD9","v":0},{"$f":"Кредит!RZE9","v":0},{"$f":"Кредит!RZF9","v":0},{"$f":"Кредит!RZG9","v":0},{"$f":"Кредит!RZH9","v":0},{"$f":"Кредит!RZI9","v":0},{"$f":"Кредит!RZJ9","v":0},{"$f":"Кредит!RZK9","v":0},{"$f":"Кредит!RZL9","v":0},{"$f":"Кредит!RZM9","v":0},{"$f":"Кредит!RZN9","v":0},{"$f":"Кредит!RZO9","v":0},{"$f":"Кредит!RZP9","v":0},{"$f":"Кредит!RZQ9","v":0},{"$f":"Кредит!RZR9","v":0},{"$f":"Кредит!RZS9","v":0},{"$f":"Кредит!RZT9","v":0},{"$f":"Кредит!RZU9","v":0},{"$f":"Кредит!RZV9","v":0},{"$f":"Кредит!RZW9","v":0},{"$f":"Кредит!RZX9","v":0},{"$f":"Кредит!RZY9","v":0},{"$f":"Кредит!RZZ9","v":0},{"$f":"Кредит!SAA9","v":0},{"$f":"Кредит!SAB9","v":0},{"$f":"Кредит!SAC9","v":0},{"$f":"Кредит!SAD9","v":0},{"$f":"Кредит!SAE9","v":0},{"$f":"Кредит!SAF9","v":0},{"$f":"Кредит!SAG9","v":0},{"$f":"Кредит!SAH9","v":0},{"$f":"Кредит!SAI9","v":0},{"$f":"Кредит!SAJ9","v":0},{"$f":"Кредит!SAK9","v":0},{"$f":"Кредит!SAL9","v":0},{"$f":"Кредит!SAM9","v":0},{"$f":"Кредит!SAN9","v":0},{"$f":"Кредит!SAO9","v":0},{"$f":"Кредит!SAP9","v":0},{"$f":"Кредит!SAQ9","v":0},{"$f":"Кредит!SAR9","v":0},{"$f":"Кредит!SAS9","v":0},{"$f":"Кредит!SAT9","v":0},{"$f":"Кредит!SAU9","v":0},{"$f":"Кредит!SAV9","v":0},{"$f":"Кредит!SAW9","v":0},{"$f":"Кредит!SAX9","v":0},{"$f":"Кредит!SAY9","v":0},{"$f":"Кредит!SAZ9","v":0},{"$f":"Кредит!SBA9","v":0},{"$f":"Кредит!SBB9","v":0},{"$f":"Кредит!SBC9","v":0},{"$f":"Кредит!SBD9","v":0},{"$f":"Кредит!SBE9","v":0},{"$f":"Кредит!SBF9","v":0},{"$f":"Кредит!SBG9","v":0},{"$f":"Кредит!SBH9","v":0},{"$f":"Кредит!SBI9","v":0},{"$f":"Кредит!SBJ9","v":0},{"$f":"Кредит!SBK9","v":0},{"$f":"Кредит!SBL9","v":0},{"$f":"Кредит!SBM9","v":0},{"$f":"Кредит!SBN9","v":0},{"$f":"Кредит!SBO9","v":0},{"$f":"Кредит!SBP9","v":0},{"$f":"Кредит!SBQ9","v":0},{"$f":"Кредит!SBR9","v":0},{"$f":"Кредит!SBS9","v":0},{"$f":"Кредит!SBT9","v":0},{"$f":"Кредит!SBU9","v":0},{"$f":"Кредит!SBV9","v":0},{"$f":"Кредит!SBW9","v":0},{"$f":"Кредит!SBX9","v":0},{"$f":"Кредит!SBY9","v":0},{"$f":"Кредит!SBZ9","v":0},{"$f":"Кредит!SCA9","v":0},{"$f":"Кредит!SCB9","v":0},{"$f":"Кредит!SCC9","v":0},{"$f":"Кредит!SCD9","v":0},{"$f":"Кредит!SCE9","v":0},{"$f":"Кредит!SCF9","v":0},{"$f":"Кредит!SCG9","v":0},{"$f":"Кредит!SCH9","v":0},{"$f":"Кредит!SCI9","v":0},{"$f":"Кредит!SCJ9","v":0},{"$f":"Кредит!SCK9","v":0},{"$f":"Кредит!SCL9","v":0},{"$f":"Кредит!SCM9","v":0},{"$f":"Кредит!SCN9","v":0},{"$f":"Кредит!SCO9","v":0},{"$f":"Кредит!SCP9","v":0},{"$f":"Кредит!SCQ9","v":0},{"$f":"Кредит!SCR9","v":0},{"$f":"Кредит!SCS9","v":0},{"$f":"Кредит!SCT9","v":0},{"$f":"Кредит!SCU9","v":0},{"$f":"Кредит!SCV9","v":0},{"$f":"Кредит!SCW9","v":0},{"$f":"Кредит!SCX9","v":0},{"$f":"Кредит!SCY9","v":0},{"$f":"Кредит!SCZ9","v":0},{"$f":"Кредит!SDA9","v":0},{"$f":"Кредит!SDB9","v":0},{"$f":"Кредит!SDC9","v":0},{"$f":"Кредит!SDD9","v":0},{"$f":"Кредит!SDE9","v":0},{"$f":"Кредит!SDF9","v":0},{"$f":"Кредит!SDG9","v":0},{"$f":"Кредит!SDH9","v":0},{"$f":"Кредит!SDI9","v":0},{"$f":"Кредит!SDJ9","v":0},{"$f":"Кредит!SDK9","v":0},{"$f":"Кредит!SDL9","v":0},{"$f":"Кредит!SDM9","v":0},{"$f":"Кредит!SDN9","v":0},{"$f":"Кредит!SDO9","v":0},{"$f":"Кредит!SDP9","v":0},{"$f":"Кредит!SDQ9","v":0},{"$f":"Кредит!SDR9","v":0},{"$f":"Кредит!SDS9","v":0},{"$f":"Кредит!SDT9","v":0},{"$f":"Кредит!SDU9","v":0},{"$f":"Кредит!SDV9","v":0},{"$f":"Кредит!SDW9","v":0},{"$f":"Кредит!SDX9","v":0},{"$f":"Кредит!SDY9","v":0},{"$f":"Кредит!SDZ9","v":0},{"$f":"Кредит!SEA9","v":0},{"$f":"Кредит!SEB9","v":0},{"$f":"Кредит!SEC9","v":0},{"$f":"Кредит!SED9","v":0},{"$f":"Кредит!SEE9","v":0},{"$f":"Кредит!SEF9","v":0},{"$f":"Кредит!SEG9","v":0},{"$f":"Кредит!SEH9","v":0},{"$f":"Кредит!SEI9","v":0},{"$f":"Кредит!SEJ9","v":0},{"$f":"Кредит!SEK9","v":0},{"$f":"Кредит!SEL9","v":0},{"$f":"Кредит!SEM9","v":0},{"$f":"Кредит!SEN9","v":0},{"$f":"Кредит!SEO9","v":0},{"$f":"Кредит!SEP9","v":0},{"$f":"Кредит!SEQ9","v":0},{"$f":"Кредит!SER9","v":0},{"$f":"Кредит!SES9","v":0},{"$f":"Кредит!SET9","v":0},{"$f":"Кредит!SEU9","v":0},{"$f":"Кредит!SEV9","v":0},{"$f":"Кредит!SEW9","v":0},{"$f":"Кредит!SEX9","v":0},{"$f":"Кредит!SEY9","v":0},{"$f":"Кредит!SEZ9","v":0},{"$f":"Кредит!SFA9","v":0},{"$f":"Кредит!SFB9","v":0},{"$f":"Кредит!SFC9","v":0},{"$f":"Кредит!SFD9","v":0},{"$f":"Кредит!SFE9","v":0},{"$f":"Кредит!SFF9","v":0},{"$f":"Кредит!SFG9","v":0},{"$f":"Кредит!SFH9","v":0},{"$f":"Кредит!SFI9","v":0},{"$f":"Кредит!SFJ9","v":0},{"$f":"Кредит!SFK9","v":0},{"$f":"Кредит!SFL9","v":0},{"$f":"Кредит!SFM9","v":0},{"$f":"Кредит!SFN9","v":0},{"$f":"Кредит!SFO9","v":0},{"$f":"Кредит!SFP9","v":0},{"$f":"Кредит!SFQ9","v":0},{"$f":"Кредит!SFR9","v":0},{"$f":"Кредит!SFS9","v":0},{"$f":"Кредит!SFT9","v":0},{"$f":"Кредит!SFU9","v":0},{"$f":"Кредит!SFV9","v":0},{"$f":"Кредит!SFW9","v":0},{"$f":"Кредит!SFX9","v":0},{"$f":"Кредит!SFY9","v":0},{"$f":"Кредит!SFZ9","v":0},{"$f":"Кредит!SGA9","v":0},{"$f":"Кредит!SGB9","v":0},{"$f":"Кредит!SGC9","v":0},{"$f":"Кредит!SGD9","v":0},{"$f":"Кредит!SGE9","v":0},{"$f":"Кредит!SGF9","v":0},{"$f":"Кредит!SGG9","v":0},{"$f":"Кредит!SGH9","v":0},{"$f":"Кредит!SGI9","v":0},{"$f":"Кредит!SGJ9","v":0},{"$f":"Кредит!SGK9","v":0},{"$f":"Кредит!SGL9","v":0},{"$f":"Кредит!SGM9","v":0},{"$f":"Кредит!SGN9","v":0},{"$f":"Кредит!SGO9","v":0},{"$f":"Кредит!SGP9","v":0},{"$f":"Кредит!SGQ9","v":0},{"$f":"Кредит!SGR9","v":0},{"$f":"Кредит!SGS9","v":0},{"$f":"Кредит!SGT9","v":0},{"$f":"Кредит!SGU9","v":0},{"$f":"Кредит!SGV9","v":0},{"$f":"Кредит!SGW9","v":0},{"$f":"Кредит!SGX9","v":0},{"$f":"Кредит!SGY9","v":0},{"$f":"Кредит!SGZ9","v":0},{"$f":"Кредит!SHA9","v":0},{"$f":"Кредит!SHB9","v":0},{"$f":"Кредит!SHC9","v":0},{"$f":"Кредит!SHD9","v":0},{"$f":"Кредит!SHE9","v":0},{"$f":"Кредит!SHF9","v":0},{"$f":"Кредит!SHG9","v":0},{"$f":"Кредит!SHH9","v":0},{"$f":"Кредит!SHI9","v":0},{"$f":"Кредит!SHJ9","v":0},{"$f":"Кредит!SHK9","v":0},{"$f":"Кредит!SHL9","v":0},{"$f":"Кредит!SHM9","v":0},{"$f":"Кредит!SHN9","v":0},{"$f":"Кредит!SHO9","v":0},{"$f":"Кредит!SHP9","v":0},{"$f":"Кредит!SHQ9","v":0},{"$f":"Кредит!SHR9","v":0},{"$f":"Кредит!SHS9","v":0},{"$f":"Кредит!SHT9","v":0},{"$f":"Кредит!SHU9","v":0},{"$f":"Кредит!SHV9","v":0},{"$f":"Кредит!SHW9","v":0},{"$f":"Кредит!SHX9","v":0},{"$f":"Кредит!SHY9","v":0},{"$f":"Кредит!SHZ9","v":0},{"$f":"Кредит!SIA9","v":0},{"$f":"Кредит!SIB9","v":0},{"$f":"Кредит!SIC9","v":0},{"$f":"Кредит!SID9","v":0},{"$f":"Кредит!SIE9","v":0},{"$f":"Кредит!SIF9","v":0},{"$f":"Кредит!SIG9","v":0},{"$f":"Кредит!SIH9","v":0},{"$f":"Кредит!SII9","v":0},{"$f":"Кредит!SIJ9","v":0},{"$f":"Кредит!SIK9","v":0},{"$f":"Кредит!SIL9","v":0},{"$f":"Кредит!SIM9","v":0},{"$f":"Кредит!SIN9","v":0},{"$f":"Кредит!SIO9","v":0},{"$f":"Кредит!SIP9","v":0},{"$f":"Кредит!SIQ9","v":0},{"$f":"Кредит!SIR9","v":0},{"$f":"Кредит!SIS9","v":0},{"$f":"Кредит!SIT9","v":0},{"$f":"Кредит!SIU9","v":0},{"$f":"Кредит!SIV9","v":0},{"$f":"Кредит!SIW9","v":0},{"$f":"Кредит!SIX9","v":0},{"$f":"Кредит!SIY9","v":0},{"$f":"Кредит!SIZ9","v":0},{"$f":"Кредит!SJA9","v":0},{"$f":"Кредит!SJB9","v":0},{"$f":"Кредит!SJC9","v":0},{"$f":"Кредит!SJD9","v":0},{"$f":"Кредит!SJE9","v":0},{"$f":"Кредит!SJF9","v":0},{"$f":"Кредит!SJG9","v":0},{"$f":"Кредит!SJH9","v":0},{"$f":"Кредит!SJI9","v":0},{"$f":"Кредит!SJJ9","v":0},{"$f":"Кредит!SJK9","v":0},{"$f":"Кредит!SJL9","v":0},{"$f":"Кредит!SJM9","v":0},{"$f":"Кредит!SJN9","v":0},{"$f":"Кредит!SJO9","v":0},{"$f":"Кредит!SJP9","v":0},{"$f":"Кредит!SJQ9","v":0},{"$f":"Кредит!SJR9","v":0},{"$f":"Кредит!SJS9","v":0},{"$f":"Кредит!SJT9","v":0},{"$f":"Кредит!SJU9","v":0},{"$f":"Кредит!SJV9","v":0},{"$f":"Кредит!SJW9","v":0},{"$f":"Кредит!SJX9","v":0},{"$f":"Кредит!SJY9","v":0},{"$f":"Кредит!SJZ9","v":0},{"$f":"Кредит!SKA9","v":0},{"$f":"Кредит!SKB9","v":0},{"$f":"Кредит!SKC9","v":0},{"$f":"Кредит!SKD9","v":0},{"$f":"Кредит!SKE9","v":0},{"$f":"Кредит!SKF9","v":0},{"$f":"Кредит!SKG9","v":0},{"$f":"Кредит!SKH9","v":0},{"$f":"Кредит!SKI9","v":0},{"$f":"Кредит!SKJ9","v":0},{"$f":"Кредит!SKK9","v":0},{"$f":"Кредит!SKL9","v":0},{"$f":"Кредит!SKM9","v":0},{"$f":"Кредит!SKN9","v":0},{"$f":"Кредит!SKO9","v":0},{"$f":"Кредит!SKP9","v":0},{"$f":"Кредит!SKQ9","v":0},{"$f":"Кредит!SKR9","v":0},{"$f":"Кредит!SKS9","v":0},{"$f":"Кредит!SKT9","v":0},{"$f":"Кредит!SKU9","v":0},{"$f":"Кредит!SKV9","v":0},{"$f":"Кредит!SKW9","v":0},{"$f":"Кредит!SKX9","v":0},{"$f":"Кредит!SKY9","v":0},{"$f":"Кредит!SKZ9","v":0},{"$f":"Кредит!SLA9","v":0},{"$f":"Кредит!SLB9","v":0},{"$f":"Кредит!SLC9","v":0},{"$f":"Кредит!SLD9","v":0},{"$f":"Кредит!SLE9","v":0},{"$f":"Кредит!SLF9","v":0},{"$f":"Кредит!SLG9","v":0},{"$f":"Кредит!SLH9","v":0},{"$f":"Кредит!SLI9","v":0},{"$f":"Кредит!SLJ9","v":0},{"$f":"Кредит!SLK9","v":0},{"$f":"Кредит!SLL9","v":0},{"$f":"Кредит!SLM9","v":0},{"$f":"Кредит!SLN9","v":0},{"$f":"Кредит!SLO9","v":0},{"$f":"Кредит!SLP9","v":0},{"$f":"Кредит!SLQ9","v":0},{"$f":"Кредит!SLR9","v":0},{"$f":"Кредит!SLS9","v":0},{"$f":"Кредит!SLT9","v":0},{"$f":"Кредит!SLU9","v":0},{"$f":"Кредит!SLV9","v":0},{"$f":"Кредит!SLW9","v":0},{"$f":"Кредит!SLX9","v":0},{"$f":"Кредит!SLY9","v":0},{"$f":"Кредит!SLZ9","v":0},{"$f":"Кредит!SMA9","v":0},{"$f":"Кредит!SMB9","v":0},{"$f":"Кредит!SMC9","v":0},{"$f":"Кредит!SMD9","v":0},{"$f":"Кредит!SME9","v":0},{"$f":"Кредит!SMF9","v":0},{"$f":"Кредит!SMG9","v":0},{"$f":"Кредит!SMH9","v":0},{"$f":"Кредит!SMI9","v":0},{"$f":"Кредит!SMJ9","v":0},{"$f":"Кредит!SMK9","v":0},{"$f":"Кредит!SML9","v":0},{"$f":"Кредит!SMM9","v":0},{"$f":"Кредит!SMN9","v":0},{"$f":"Кредит!SMO9","v":0},{"$f":"Кредит!SMP9","v":0},{"$f":"Кредит!SMQ9","v":0},{"$f":"Кредит!SMR9","v":0},{"$f":"Кредит!SMS9","v":0},{"$f":"Кредит!SMT9","v":0},{"$f":"Кредит!SMU9","v":0},{"$f":"Кредит!SMV9","v":0},{"$f":"Кредит!SMW9","v":0},{"$f":"Кредит!SMX9","v":0},{"$f":"Кредит!SMY9","v":0},{"$f":"Кредит!SMZ9","v":0},{"$f":"Кредит!SNA9","v":0},{"$f":"Кредит!SNB9","v":0},{"$f":"Кредит!SNC9","v":0},{"$f":"Кредит!SND9","v":0},{"$f":"Кредит!SNE9","v":0},{"$f":"Кредит!SNF9","v":0},{"$f":"Кредит!SNG9","v":0},{"$f":"Кредит!SNH9","v":0},{"$f":"Кредит!SNI9","v":0},{"$f":"Кредит!SNJ9","v":0},{"$f":"Кредит!SNK9","v":0},{"$f":"Кредит!SNL9","v":0},{"$f":"Кредит!SNM9","v":0},{"$f":"Кредит!SNN9","v":0},{"$f":"Кредит!SNO9","v":0},{"$f":"Кредит!SNP9","v":0},{"$f":"Кредит!SNQ9","v":0},{"$f":"Кредит!SNR9","v":0},{"$f":"Кредит!SNS9","v":0},{"$f":"Кредит!SNT9","v":0},{"$f":"Кредит!SNU9","v":0},{"$f":"Кредит!SNV9","v":0},{"$f":"Кредит!SNW9","v":0},{"$f":"Кредит!SNX9","v":0},{"$f":"Кредит!SNY9","v":0},{"$f":"Кредит!SNZ9","v":0},{"$f":"Кредит!SOA9","v":0},{"$f":"Кредит!SOB9","v":0},{"$f":"Кредит!SOC9","v":0},{"$f":"Кредит!SOD9","v":0},{"$f":"Кредит!SOE9","v":0},{"$f":"Кредит!SOF9","v":0},{"$f":"Кредит!SOG9","v":0},{"$f":"Кредит!SOH9","v":0},{"$f":"Кредит!SOI9","v":0},{"$f":"Кредит!SOJ9","v":0},{"$f":"Кредит!SOK9","v":0},{"$f":"Кредит!SOL9","v":0},{"$f":"Кредит!SOM9","v":0},{"$f":"Кредит!SON9","v":0},{"$f":"Кредит!SOO9","v":0},{"$f":"Кредит!SOP9","v":0},{"$f":"Кредит!SOQ9","v":0},{"$f":"Кредит!SOR9","v":0},{"$f":"Кредит!SOS9","v":0},{"$f":"Кредит!SOT9","v":0},{"$f":"Кредит!SOU9","v":0},{"$f":"Кредит!SOV9","v":0},{"$f":"Кредит!SOW9","v":0},{"$f":"Кредит!SOX9","v":0},{"$f":"Кредит!SOY9","v":0},{"$f":"Кредит!SOZ9","v":0},{"$f":"Кредит!SPA9","v":0},{"$f":"Кредит!SPB9","v":0},{"$f":"Кредит!SPC9","v":0},{"$f":"Кредит!SPD9","v":0},{"$f":"Кредит!SPE9","v":0},{"$f":"Кредит!SPF9","v":0},{"$f":"Кредит!SPG9","v":0},{"$f":"Кредит!SPH9","v":0},{"$f":"Кредит!SPI9","v":0},{"$f":"Кредит!SPJ9","v":0},{"$f":"Кредит!SPK9","v":0},{"$f":"Кредит!SPL9","v":0},{"$f":"Кредит!SPM9","v":0},{"$f":"Кредит!SPN9","v":0},{"$f":"Кредит!SPO9","v":0},{"$f":"Кредит!SPP9","v":0},{"$f":"Кредит!SPQ9","v":0},{"$f":"Кредит!SPR9","v":0},{"$f":"Кредит!SPS9","v":0},{"$f":"Кредит!SPT9","v":0},{"$f":"Кредит!SPU9","v":0},{"$f":"Кредит!SPV9","v":0},{"$f":"Кредит!SPW9","v":0},{"$f":"Кредит!SPX9","v":0},{"$f":"Кредит!SPY9","v":0},{"$f":"Кредит!SPZ9","v":0},{"$f":"Кредит!SQA9","v":0},{"$f":"Кредит!SQB9","v":0},{"$f":"Кредит!SQC9","v":0},{"$f":"Кредит!SQD9","v":0},{"$f":"Кредит!SQE9","v":0},{"$f":"Кредит!SQF9","v":0},{"$f":"Кредит!SQG9","v":0},{"$f":"Кредит!SQH9","v":0},{"$f":"Кредит!SQI9","v":0},{"$f":"Кредит!SQJ9","v":0},{"$f":"Кредит!SQK9","v":0},{"$f":"Кредит!SQL9","v":0},{"$f":"Кредит!SQM9","v":0},{"$f":"Кредит!SQN9","v":0},{"$f":"Кредит!SQO9","v":0},{"$f":"Кредит!SQP9","v":0},{"$f":"Кредит!SQQ9","v":0},{"$f":"Кредит!SQR9","v":0},{"$f":"Кредит!SQS9","v":0},{"$f":"Кредит!SQT9","v":0},{"$f":"Кредит!SQU9","v":0},{"$f":"Кредит!SQV9","v":0},{"$f":"Кредит!SQW9","v":0},{"$f":"Кредит!SQX9","v":0},{"$f":"Кредит!SQY9","v":0},{"$f":"Кредит!SQZ9","v":0},{"$f":"Кредит!SRA9","v":0},{"$f":"Кредит!SRB9","v":0},{"$f":"Кредит!SRC9","v":0},{"$f":"Кредит!SRD9","v":0},{"$f":"Кредит!SRE9","v":0},{"$f":"Кредит!SRF9","v":0},{"$f":"Кредит!SRG9","v":0},{"$f":"Кредит!SRH9","v":0},{"$f":"Кредит!SRI9","v":0},{"$f":"Кредит!SRJ9","v":0},{"$f":"Кредит!SRK9","v":0},{"$f":"Кредит!SRL9","v":0},{"$f":"Кредит!SRM9","v":0},{"$f":"Кредит!SRN9","v":0},{"$f":"Кредит!SRO9","v":0},{"$f":"Кредит!SRP9","v":0},{"$f":"Кредит!SRQ9","v":0},{"$f":"Кредит!SRR9","v":0},{"$f":"Кредит!SRS9","v":0},{"$f":"Кредит!SRT9","v":0},{"$f":"Кредит!SRU9","v":0},{"$f":"Кредит!SRV9","v":0},{"$f":"Кредит!SRW9","v":0},{"$f":"Кредит!SRX9","v":0},{"$f":"Кредит!SRY9","v":0},{"$f":"Кредит!SRZ9","v":0},{"$f":"Кредит!SSA9","v":0},{"$f":"Кредит!SSB9","v":0},{"$f":"Кредит!SSC9","v":0},{"$f":"Кредит!SSD9","v":0},{"$f":"Кредит!SSE9","v":0},{"$f":"Кредит!SSF9","v":0},{"$f":"Кредит!SSG9","v":0},{"$f":"Кредит!SSH9","v":0},{"$f":"Кредит!SSI9","v":0},{"$f":"Кредит!SSJ9","v":0},{"$f":"Кредит!SSK9","v":0},{"$f":"Кредит!SSL9","v":0},{"$f":"Кредит!SSM9","v":0},{"$f":"Кредит!SSN9","v":0},{"$f":"Кредит!SSO9","v":0},{"$f":"Кредит!SSP9","v":0},{"$f":"Кредит!SSQ9","v":0},{"$f":"Кредит!SSR9","v":0},{"$f":"Кредит!SSS9","v":0},{"$f":"Кредит!SST9","v":0},{"$f":"Кредит!SSU9","v":0},{"$f":"Кредит!SSV9","v":0},{"$f":"Кредит!SSW9","v":0},{"$f":"Кредит!SSX9","v":0},{"$f":"Кредит!SSY9","v":0},{"$f":"Кредит!SSZ9","v":0},{"$f":"Кредит!STA9","v":0},{"$f":"Кредит!STB9","v":0},{"$f":"Кредит!STC9","v":0},{"$f":"Кредит!STD9","v":0},{"$f":"Кредит!STE9","v":0},{"$f":"Кредит!STF9","v":0},{"$f":"Кредит!STG9","v":0},{"$f":"Кредит!STH9","v":0},{"$f":"Кредит!STI9","v":0},{"$f":"Кредит!STJ9","v":0},{"$f":"Кредит!STK9","v":0},{"$f":"Кредит!STL9","v":0},{"$f":"Кредит!STM9","v":0},{"$f":"Кредит!STN9","v":0},{"$f":"Кредит!STO9","v":0},{"$f":"Кредит!STP9","v":0},{"$f":"Кредит!STQ9","v":0},{"$f":"Кредит!STR9","v":0},{"$f":"Кредит!STS9","v":0},{"$f":"Кредит!STT9","v":0},{"$f":"Кредит!STU9","v":0},{"$f":"Кредит!STV9","v":0},{"$f":"Кредит!STW9","v":0},{"$f":"Кредит!STX9","v":0},{"$f":"Кредит!STY9","v":0},{"$f":"Кредит!STZ9","v":0},{"$f":"Кредит!SUA9","v":0},{"$f":"Кредит!SUB9","v":0},{"$f":"Кредит!SUC9","v":0},{"$f":"Кредит!SUD9","v":0},{"$f":"Кредит!SUE9","v":0},{"$f":"Кредит!SUF9","v":0},{"$f":"Кредит!SUG9","v":0},{"$f":"Кредит!SUH9","v":0},{"$f":"Кредит!SUI9","v":0},{"$f":"Кредит!SUJ9","v":0},{"$f":"Кредит!SUK9","v":0},{"$f":"Кредит!SUL9","v":0},{"$f":"Кредит!SUM9","v":0},{"$f":"Кредит!SUN9","v":0},{"$f":"Кредит!SUO9","v":0},{"$f":"Кредит!SUP9","v":0},{"$f":"Кредит!SUQ9","v":0},{"$f":"Кредит!SUR9","v":0},{"$f":"Кредит!SUS9","v":0},{"$f":"Кредит!SUT9","v":0},{"$f":"Кредит!SUU9","v":0},{"$f":"Кредит!SUV9","v":0},{"$f":"Кредит!SUW9","v":0},{"$f":"Кредит!SUX9","v":0},{"$f":"Кредит!SUY9","v":0},{"$f":"Кредит!SUZ9","v":0},{"$f":"Кредит!SVA9","v":0},{"$f":"Кредит!SVB9","v":0},{"$f":"Кредит!SVC9","v":0},{"$f":"Кредит!SVD9","v":0},{"$f":"Кредит!SVE9","v":0},{"$f":"Кредит!SVF9","v":0},{"$f":"Кредит!SVG9","v":0},{"$f":"Кредит!SVH9","v":0},{"$f":"Кредит!SVI9","v":0},{"$f":"Кредит!SVJ9","v":0},{"$f":"Кредит!SVK9","v":0},{"$f":"Кредит!SVL9","v":0},{"$f":"Кредит!SVM9","v":0},{"$f":"Кредит!SVN9","v":0},{"$f":"Кредит!SVO9","v":0},{"$f":"Кредит!SVP9","v":0},{"$f":"Кредит!SVQ9","v":0},{"$f":"Кредит!SVR9","v":0},{"$f":"Кредит!SVS9","v":0},{"$f":"Кредит!SVT9","v":0},{"$f":"Кредит!SVU9","v":0},{"$f":"Кредит!SVV9","v":0},{"$f":"Кредит!SVW9","v":0},{"$f":"Кредит!SVX9","v":0},{"$f":"Кредит!SVY9","v":0},{"$f":"Кредит!SVZ9","v":0},{"$f":"Кредит!SWA9","v":0},{"$f":"Кредит!SWB9","v":0},{"$f":"Кредит!SWC9","v":0},{"$f":"Кредит!SWD9","v":0},{"$f":"Кредит!SWE9","v":0},{"$f":"Кредит!SWF9","v":0},{"$f":"Кредит!SWG9","v":0},{"$f":"Кредит!SWH9","v":0},{"$f":"Кредит!SWI9","v":0},{"$f":"Кредит!SWJ9","v":0},{"$f":"Кредит!SWK9","v":0},{"$f":"Кредит!SWL9","v":0},{"$f":"Кредит!SWM9","v":0},{"$f":"Кредит!SWN9","v":0},{"$f":"Кредит!SWO9","v":0},{"$f":"Кредит!SWP9","v":0},{"$f":"Кредит!SWQ9","v":0},{"$f":"Кредит!SWR9","v":0},{"$f":"Кредит!SWS9","v":0},{"$f":"Кредит!SWT9","v":0},{"$f":"Кредит!SWU9","v":0},{"$f":"Кредит!SWV9","v":0},{"$f":"Кредит!SWW9","v":0},{"$f":"Кредит!SWX9","v":0},{"$f":"Кредит!SWY9","v":0},{"$f":"Кредит!SWZ9","v":0},{"$f":"Кредит!SXA9","v":0},{"$f":"Кредит!SXB9","v":0},{"$f":"Кредит!SXC9","v":0},{"$f":"Кредит!SXD9","v":0},{"$f":"Кредит!SXE9","v":0},{"$f":"Кредит!SXF9","v":0},{"$f":"Кредит!SXG9","v":0},{"$f":"Кредит!SXH9","v":0},{"$f":"Кредит!SXI9","v":0},{"$f":"Кредит!SXJ9","v":0},{"$f":"Кредит!SXK9","v":0},{"$f":"Кредит!SXL9","v":0},{"$f":"Кредит!SXM9","v":0},{"$f":"Кредит!SXN9","v":0},{"$f":"Кредит!SXO9","v":0},{"$f":"Кредит!SXP9","v":0},{"$f":"Кредит!SXQ9","v":0},{"$f":"Кредит!SXR9","v":0},{"$f":"Кредит!SXS9","v":0},{"$f":"Кредит!SXT9","v":0},{"$f":"Кредит!SXU9","v":0},{"$f":"Кредит!SXV9","v":0},{"$f":"Кредит!SXW9","v":0},{"$f":"Кредит!SXX9","v":0},{"$f":"Кредит!SXY9","v":0},{"$f":"Кредит!SXZ9","v":0},{"$f":"Кредит!SYA9","v":0},{"$f":"Кредит!SYB9","v":0},{"$f":"Кредит!SYC9","v":0},{"$f":"Кредит!SYD9","v":0},{"$f":"Кредит!SYE9","v":0},{"$f":"Кредит!SYF9","v":0},{"$f":"Кредит!SYG9","v":0},{"$f":"Кредит!SYH9","v":0},{"$f":"Кредит!SYI9","v":0},{"$f":"Кредит!SYJ9","v":0},{"$f":"Кредит!SYK9","v":0},{"$f":"Кредит!SYL9","v":0},{"$f":"Кредит!SYM9","v":0},{"$f":"Кредит!SYN9","v":0},{"$f":"Кредит!SYO9","v":0},{"$f":"Кредит!SYP9","v":0},{"$f":"Кредит!SYQ9","v":0},{"$f":"Кредит!SYR9","v":0},{"$f":"Кредит!SYS9","v":0},{"$f":"Кредит!SYT9","v":0},{"$f":"Кредит!SYU9","v":0},{"$f":"Кредит!SYV9","v":0},{"$f":"Кредит!SYW9","v":0},{"$f":"Кредит!SYX9","v":0},{"$f":"Кредит!SYY9","v":0},{"$f":"Кредит!SYZ9","v":0},{"$f":"Кредит!SZA9","v":0},{"$f":"Кредит!SZB9","v":0},{"$f":"Кредит!SZC9","v":0},{"$f":"Кредит!SZD9","v":0},{"$f":"Кредит!SZE9","v":0},{"$f":"Кредит!SZF9","v":0},{"$f":"Кредит!SZG9","v":0},{"$f":"Кредит!SZH9","v":0},{"$f":"Кредит!SZI9","v":0},{"$f":"Кредит!SZJ9","v":0},{"$f":"Кредит!SZK9","v":0},{"$f":"Кредит!SZL9","v":0},{"$f":"Кредит!SZM9","v":0},{"$f":"Кредит!SZN9","v":0},{"$f":"Кредит!SZO9","v":0},{"$f":"Кредит!SZP9","v":0},{"$f":"Кредит!SZQ9","v":0},{"$f":"Кредит!SZR9","v":0},{"$f":"Кредит!SZS9","v":0},{"$f":"Кредит!SZT9","v":0},{"$f":"Кредит!SZU9","v":0},{"$f":"Кредит!SZV9","v":0},{"$f":"Кредит!SZW9","v":0},{"$f":"Кредит!SZX9","v":0},{"$f":"Кредит!SZY9","v":0},{"$f":"Кредит!SZZ9","v":0},{"$f":"Кредит!TAA9","v":0},{"$f":"Кредит!TAB9","v":0},{"$f":"Кредит!TAC9","v":0},{"$f":"Кредит!TAD9","v":0},{"$f":"Кредит!TAE9","v":0},{"$f":"Кредит!TAF9","v":0},{"$f":"Кредит!TAG9","v":0},{"$f":"Кредит!TAH9","v":0},{"$f":"Кредит!TAI9","v":0},{"$f":"Кредит!TAJ9","v":0},{"$f":"Кредит!TAK9","v":0},{"$f":"Кредит!TAL9","v":0},{"$f":"Кредит!TAM9","v":0},{"$f":"Кредит!TAN9","v":0},{"$f":"Кредит!TAO9","v":0},{"$f":"Кредит!TAP9","v":0},{"$f":"Кредит!TAQ9","v":0},{"$f":"Кредит!TAR9","v":0},{"$f":"Кредит!TAS9","v":0},{"$f":"Кредит!TAT9","v":0},{"$f":"Кредит!TAU9","v":0},{"$f":"Кредит!TAV9","v":0},{"$f":"Кредит!TAW9","v":0},{"$f":"Кредит!TAX9","v":0},{"$f":"Кредит!TAY9","v":0},{"$f":"Кредит!TAZ9","v":0},{"$f":"Кредит!TBA9","v":0},{"$f":"Кредит!TBB9","v":0},{"$f":"Кредит!TBC9","v":0},{"$f":"Кредит!TBD9","v":0},{"$f":"Кредит!TBE9","v":0},{"$f":"Кредит!TBF9","v":0},{"$f":"Кредит!TBG9","v":0},{"$f":"Кредит!TBH9","v":0},{"$f":"Кредит!TBI9","v":0},{"$f":"Кредит!TBJ9","v":0},{"$f":"Кредит!TBK9","v":0},{"$f":"Кредит!TBL9","v":0},{"$f":"Кредит!TBM9","v":0},{"$f":"Кредит!TBN9","v":0},{"$f":"Кредит!TBO9","v":0},{"$f":"Кредит!TBP9","v":0},{"$f":"Кредит!TBQ9","v":0},{"$f":"Кредит!TBR9","v":0},{"$f":"Кредит!TBS9","v":0},{"$f":"Кредит!TBT9","v":0},{"$f":"Кредит!TBU9","v":0},{"$f":"Кредит!TBV9","v":0},{"$f":"Кредит!TBW9","v":0},{"$f":"Кредит!TBX9","v":0},{"$f":"Кредит!TBY9","v":0},{"$f":"Кредит!TBZ9","v":0},{"$f":"Кредит!TCA9","v":0},{"$f":"Кредит!TCB9","v":0},{"$f":"Кредит!TCC9","v":0},{"$f":"Кредит!TCD9","v":0},{"$f":"Кредит!TCE9","v":0},{"$f":"Кредит!TCF9","v":0},{"$f":"Кредит!TCG9","v":0},{"$f":"Кредит!TCH9","v":0},{"$f":"Кредит!TCI9","v":0},{"$f":"Кредит!TCJ9","v":0},{"$f":"Кредит!TCK9","v":0},{"$f":"Кредит!TCL9","v":0},{"$f":"Кредит!TCM9","v":0},{"$f":"Кредит!TCN9","v":0},{"$f":"Кредит!TCO9","v":0},{"$f":"Кредит!TCP9","v":0},{"$f":"Кредит!TCQ9","v":0},{"$f":"Кредит!TCR9","v":0},{"$f":"Кредит!TCS9","v":0},{"$f":"Кредит!TCT9","v":0},{"$f":"Кредит!TCU9","v":0},{"$f":"Кредит!TCV9","v":0},{"$f":"Кредит!TCW9","v":0},{"$f":"Кредит!TCX9","v":0},{"$f":"Кредит!TCY9","v":0},{"$f":"Кредит!TCZ9","v":0},{"$f":"Кредит!TDA9","v":0},{"$f":"Кредит!TDB9","v":0},{"$f":"Кредит!TDC9","v":0},{"$f":"Кредит!TDD9","v":0},{"$f":"Кредит!TDE9","v":0},{"$f":"Кредит!TDF9","v":0},{"$f":"Кредит!TDG9","v":0},{"$f":"Кредит!TDH9","v":0},{"$f":"Кредит!TDI9","v":0},{"$f":"Кредит!TDJ9","v":0},{"$f":"Кредит!TDK9","v":0},{"$f":"Кредит!TDL9","v":0},{"$f":"Кредит!TDM9","v":0},{"$f":"Кредит!TDN9","v":0},{"$f":"Кредит!TDO9","v":0},{"$f":"Кредит!TDP9","v":0},{"$f":"Кредит!TDQ9","v":0},{"$f":"Кредит!TDR9","v":0},{"$f":"Кредит!TDS9","v":0},{"$f":"Кредит!TDT9","v":0},{"$f":"Кредит!TDU9","v":0},{"$f":"Кредит!TDV9","v":0},{"$f":"Кредит!TDW9","v":0},{"$f":"Кредит!TDX9","v":0},{"$f":"Кредит!TDY9","v":0},{"$f":"Кредит!TDZ9","v":0},{"$f":"Кредит!TEA9","v":0},{"$f":"Кредит!TEB9","v":0},{"$f":"Кредит!TEC9","v":0},{"$f":"Кредит!TED9","v":0},{"$f":"Кредит!TEE9","v":0},{"$f":"Кредит!TEF9","v":0},{"$f":"Кредит!TEG9","v":0},{"$f":"Кредит!TEH9","v":0},{"$f":"Кредит!TEI9","v":0},{"$f":"Кредит!TEJ9","v":0},{"$f":"Кредит!TEK9","v":0},{"$f":"Кредит!TEL9","v":0},{"$f":"Кредит!TEM9","v":0},{"$f":"Кредит!TEN9","v":0},{"$f":"Кредит!TEO9","v":0},{"$f":"Кредит!TEP9","v":0},{"$f":"Кредит!TEQ9","v":0},{"$f":"Кредит!TER9","v":0},{"$f":"Кредит!TES9","v":0},{"$f":"Кредит!TET9","v":0},{"$f":"Кредит!TEU9","v":0},{"$f":"Кредит!TEV9","v":0},{"$f":"Кредит!TEW9","v":0},{"$f":"Кредит!TEX9","v":0},{"$f":"Кредит!TEY9","v":0},{"$f":"Кредит!TEZ9","v":0},{"$f":"Кредит!TFA9","v":0},{"$f":"Кредит!TFB9","v":0},{"$f":"Кредит!TFC9","v":0},{"$f":"Кредит!TFD9","v":0},{"$f":"Кредит!TFE9","v":0},{"$f":"Кредит!TFF9","v":0},{"$f":"Кредит!TFG9","v":0},{"$f":"Кредит!TFH9","v":0},{"$f":"Кредит!TFI9","v":0},{"$f":"Кредит!TFJ9","v":0},{"$f":"Кредит!TFK9","v":0},{"$f":"Кредит!TFL9","v":0},{"$f":"Кредит!TFM9","v":0},{"$f":"Кредит!TFN9","v":0},{"$f":"Кредит!TFO9","v":0},{"$f":"Кредит!TFP9","v":0},{"$f":"Кредит!TFQ9","v":0},{"$f":"Кредит!TFR9","v":0},{"$f":"Кредит!TFS9","v":0},{"$f":"Кредит!TFT9","v":0},{"$f":"Кредит!TFU9","v":0},{"$f":"Кредит!TFV9","v":0},{"$f":"Кредит!TFW9","v":0},{"$f":"Кредит!TFX9","v":0},{"$f":"Кредит!TFY9","v":0},{"$f":"Кредит!TFZ9","v":0},{"$f":"Кредит!TGA9","v":0},{"$f":"Кредит!TGB9","v":0},{"$f":"Кредит!TGC9","v":0},{"$f":"Кредит!TGD9","v":0},{"$f":"Кредит!TGE9","v":0},{"$f":"Кредит!TGF9","v":0},{"$f":"Кредит!TGG9","v":0},{"$f":"Кредит!TGH9","v":0},{"$f":"Кредит!TGI9","v":0},{"$f":"Кредит!TGJ9","v":0},{"$f":"Кредит!TGK9","v":0},{"$f":"Кредит!TGL9","v":0},{"$f":"Кредит!TGM9","v":0},{"$f":"Кредит!TGN9","v":0},{"$f":"Кредит!TGO9","v":0},{"$f":"Кредит!TGP9","v":0},{"$f":"Кредит!TGQ9","v":0},{"$f":"Кредит!TGR9","v":0},{"$f":"Кредит!TGS9","v":0},{"$f":"Кредит!TGT9","v":0},{"$f":"Кредит!TGU9","v":0},{"$f":"Кредит!TGV9","v":0},{"$f":"Кредит!TGW9","v":0},{"$f":"Кредит!TGX9","v":0},{"$f":"Кредит!TGY9","v":0},{"$f":"Кредит!TGZ9","v":0},{"$f":"Кредит!THA9","v":0},{"$f":"Кредит!THB9","v":0},{"$f":"Кредит!THC9","v":0},{"$f":"Кредит!THD9","v":0},{"$f":"Кредит!THE9","v":0},{"$f":"Кредит!THF9","v":0},{"$f":"Кредит!THG9","v":0},{"$f":"Кредит!THH9","v":0},{"$f":"Кредит!THI9","v":0},{"$f":"Кредит!THJ9","v":0},{"$f":"Кредит!THK9","v":0},{"$f":"Кредит!THL9","v":0},{"$f":"Кредит!THM9","v":0},{"$f":"Кредит!THN9","v":0},{"$f":"Кредит!THO9","v":0},{"$f":"Кредит!THP9","v":0},{"$f":"Кредит!THQ9","v":0},{"$f":"Кредит!THR9","v":0},{"$f":"Кредит!THS9","v":0},{"$f":"Кредит!THT9","v":0},{"$f":"Кредит!THU9","v":0},{"$f":"Кредит!THV9","v":0},{"$f":"Кредит!THW9","v":0},{"$f":"Кредит!THX9","v":0},{"$f":"Кредит!THY9","v":0},{"$f":"Кредит!THZ9","v":0},{"$f":"Кредит!TIA9","v":0},{"$f":"Кредит!TIB9","v":0},{"$f":"Кредит!TIC9","v":0},{"$f":"Кредит!TID9","v":0},{"$f":"Кредит!TIE9","v":0},{"$f":"Кредит!TIF9","v":0},{"$f":"Кредит!TIG9","v":0},{"$f":"Кредит!TIH9","v":0},{"$f":"Кредит!TII9","v":0},{"$f":"Кредит!TIJ9","v":0},{"$f":"Кредит!TIK9","v":0},{"$f":"Кредит!TIL9","v":0},{"$f":"Кредит!TIM9","v":0},{"$f":"Кредит!TIN9","v":0},{"$f":"Кредит!TIO9","v":0},{"$f":"Кредит!TIP9","v":0},{"$f":"Кредит!TIQ9","v":0},{"$f":"Кредит!TIR9","v":0},{"$f":"Кредит!TIS9","v":0},{"$f":"Кредит!TIT9","v":0},{"$f":"Кредит!TIU9","v":0},{"$f":"Кредит!TIV9","v":0},{"$f":"Кредит!TIW9","v":0},{"$f":"Кредит!TIX9","v":0},{"$f":"Кредит!TIY9","v":0},{"$f":"Кредит!TIZ9","v":0},{"$f":"Кредит!TJA9","v":0},{"$f":"Кредит!TJB9","v":0},{"$f":"Кредит!TJC9","v":0},{"$f":"Кредит!TJD9","v":0},{"$f":"Кредит!TJE9","v":0},{"$f":"Кредит!TJF9","v":0},{"$f":"Кредит!TJG9","v":0},{"$f":"Кредит!TJH9","v":0},{"$f":"Кредит!TJI9","v":0},{"$f":"Кредит!TJJ9","v":0},{"$f":"Кредит!TJK9","v":0},{"$f":"Кредит!TJL9","v":0},{"$f":"Кредит!TJM9","v":0},{"$f":"Кредит!TJN9","v":0},{"$f":"Кредит!TJO9","v":0},{"$f":"Кредит!TJP9","v":0},{"$f":"Кредит!TJQ9","v":0},{"$f":"Кредит!TJR9","v":0},{"$f":"Кредит!TJS9","v":0},{"$f":"Кредит!TJT9","v":0},{"$f":"Кредит!TJU9","v":0},{"$f":"Кредит!TJV9","v":0},{"$f":"Кредит!TJW9","v":0},{"$f":"Кредит!TJX9","v":0},{"$f":"Кредит!TJY9","v":0},{"$f":"Кредит!TJZ9","v":0},{"$f":"Кредит!TKA9","v":0},{"$f":"Кредит!TKB9","v":0},{"$f":"Кредит!TKC9","v":0},{"$f":"Кредит!TKD9","v":0},{"$f":"Кредит!TKE9","v":0},{"$f":"Кредит!TKF9","v":0},{"$f":"Кредит!TKG9","v":0},{"$f":"Кредит!TKH9","v":0},{"$f":"Кредит!TKI9","v":0},{"$f":"Кредит!TKJ9","v":0},{"$f":"Кредит!TKK9","v":0},{"$f":"Кредит!TKL9","v":0},{"$f":"Кредит!TKM9","v":0},{"$f":"Кредит!TKN9","v":0},{"$f":"Кредит!TKO9","v":0},{"$f":"Кредит!TKP9","v":0},{"$f":"Кредит!TKQ9","v":0},{"$f":"Кредит!TKR9","v":0},{"$f":"Кредит!TKS9","v":0},{"$f":"Кредит!TKT9","v":0},{"$f":"Кредит!TKU9","v":0},{"$f":"Кредит!TKV9","v":0},{"$f":"Кредит!TKW9","v":0},{"$f":"Кредит!TKX9","v":0},{"$f":"Кредит!TKY9","v":0},{"$f":"Кредит!TKZ9","v":0},{"$f":"Кредит!TLA9","v":0},{"$f":"Кредит!TLB9","v":0},{"$f":"Кредит!TLC9","v":0},{"$f":"Кредит!TLD9","v":0},{"$f":"Кредит!TLE9","v":0},{"$f":"Кредит!TLF9","v":0},{"$f":"Кредит!TLG9","v":0},{"$f":"Кредит!TLH9","v":0},{"$f":"Кредит!TLI9","v":0},{"$f":"Кредит!TLJ9","v":0},{"$f":"Кредит!TLK9","v":0},{"$f":"Кредит!TLL9","v":0},{"$f":"Кредит!TLM9","v":0},{"$f":"Кредит!TLN9","v":0},{"$f":"Кредит!TLO9","v":0},{"$f":"Кредит!TLP9","v":0},{"$f":"Кредит!TLQ9","v":0},{"$f":"Кредит!TLR9","v":0},{"$f":"Кредит!TLS9","v":0},{"$f":"Кредит!TLT9","v":0},{"$f":"Кредит!TLU9","v":0},{"$f":"Кредит!TLV9","v":0},{"$f":"Кредит!TLW9","v":0},{"$f":"Кредит!TLX9","v":0},{"$f":"Кредит!TLY9","v":0},{"$f":"Кредит!TLZ9","v":0},{"$f":"Кредит!TMA9","v":0},{"$f":"Кредит!TMB9","v":0},{"$f":"Кредит!TMC9","v":0},{"$f":"Кредит!TMD9","v":0},{"$f":"Кредит!TME9","v":0},{"$f":"Кредит!TMF9","v":0},{"$f":"Кредит!TMG9","v":0},{"$f":"Кредит!TMH9","v":0},{"$f":"Кредит!TMI9","v":0},{"$f":"Кредит!TMJ9","v":0},{"$f":"Кредит!TMK9","v":0},{"$f":"Кредит!TML9","v":0},{"$f":"Кредит!TMM9","v":0},{"$f":"Кредит!TMN9","v":0},{"$f":"Кредит!TMO9","v":0},{"$f":"Кредит!TMP9","v":0},{"$f":"Кредит!TMQ9","v":0},{"$f":"Кредит!TMR9","v":0},{"$f":"Кредит!TMS9","v":0},{"$f":"Кредит!TMT9","v":0},{"$f":"Кредит!TMU9","v":0},{"$f":"Кредит!TMV9","v":0},{"$f":"Кредит!TMW9","v":0},{"$f":"Кредит!TMX9","v":0},{"$f":"Кредит!TMY9","v":0},{"$f":"Кредит!TMZ9","v":0},{"$f":"Кредит!TNA9","v":0},{"$f":"Кредит!TNB9","v":0},{"$f":"Кредит!TNC9","v":0},{"$f":"Кредит!TND9","v":0},{"$f":"Кредит!TNE9","v":0},{"$f":"Кредит!TNF9","v":0},{"$f":"Кредит!TNG9","v":0},{"$f":"Кредит!TNH9","v":0},{"$f":"Кредит!TNI9","v":0},{"$f":"Кредит!TNJ9","v":0},{"$f":"Кредит!TNK9","v":0},{"$f":"Кредит!TNL9","v":0},{"$f":"Кредит!TNM9","v":0},{"$f":"Кредит!TNN9","v":0},{"$f":"Кредит!TNO9","v":0},{"$f":"Кредит!TNP9","v":0},{"$f":"Кредит!TNQ9","v":0},{"$f":"Кредит!TNR9","v":0},{"$f":"Кредит!TNS9","v":0},{"$f":"Кредит!TNT9","v":0},{"$f":"Кредит!TNU9","v":0},{"$f":"Кредит!TNV9","v":0},{"$f":"Кредит!TNW9","v":0},{"$f":"Кредит!TNX9","v":0},{"$f":"Кредит!TNY9","v":0},{"$f":"Кредит!TNZ9","v":0},{"$f":"Кредит!TOA9","v":0},{"$f":"Кредит!TOB9","v":0},{"$f":"Кредит!TOC9","v":0},{"$f":"Кредит!TOD9","v":0},{"$f":"Кредит!TOE9","v":0},{"$f":"Кредит!TOF9","v":0},{"$f":"Кредит!TOG9","v":0},{"$f":"Кредит!TOH9","v":0},{"$f":"Кредит!TOI9","v":0},{"$f":"Кредит!TOJ9","v":0},{"$f":"Кредит!TOK9","v":0},{"$f":"Кредит!TOL9","v":0},{"$f":"Кредит!TOM9","v":0},{"$f":"Кредит!TON9","v":0},{"$f":"Кредит!TOO9","v":0},{"$f":"Кредит!TOP9","v":0},{"$f":"Кредит!TOQ9","v":0},{"$f":"Кредит!TOR9","v":0},{"$f":"Кредит!TOS9","v":0},{"$f":"Кредит!TOT9","v":0},{"$f":"Кредит!TOU9","v":0},{"$f":"Кредит!TOV9","v":0},{"$f":"Кредит!TOW9","v":0},{"$f":"Кредит!TOX9","v":0},{"$f":"Кредит!TOY9","v":0},{"$f":"Кредит!TOZ9","v":0},{"$f":"Кредит!TPA9","v":0},{"$f":"Кредит!TPB9","v":0},{"$f":"Кредит!TPC9","v":0},{"$f":"Кредит!TPD9","v":0},{"$f":"Кредит!TPE9","v":0},{"$f":"Кредит!TPF9","v":0},{"$f":"Кредит!TPG9","v":0},{"$f":"Кредит!TPH9","v":0},{"$f":"Кредит!TPI9","v":0},{"$f":"Кредит!TPJ9","v":0},{"$f":"Кредит!TPK9","v":0},{"$f":"Кредит!TPL9","v":0},{"$f":"Кредит!TPM9","v":0},{"$f":"Кредит!TPN9","v":0},{"$f":"Кредит!TPO9","v":0},{"$f":"Кредит!TPP9","v":0},{"$f":"Кредит!TPQ9","v":0},{"$f":"Кредит!TPR9","v":0},{"$f":"Кредит!TPS9","v":0},{"$f":"Кредит!TPT9","v":0},{"$f":"Кредит!TPU9","v":0},{"$f":"Кредит!TPV9","v":0},{"$f":"Кредит!TPW9","v":0},{"$f":"Кредит!TPX9","v":0},{"$f":"Кредит!TPY9","v":0},{"$f":"Кредит!TPZ9","v":0},{"$f":"Кредит!TQA9","v":0},{"$f":"Кредит!TQB9","v":0},{"$f":"Кредит!TQC9","v":0},{"$f":"Кредит!TQD9","v":0},{"$f":"Кредит!TQE9","v":0},{"$f":"Кредит!TQF9","v":0},{"$f":"Кредит!TQG9","v":0},{"$f":"Кредит!TQH9","v":0},{"$f":"Кредит!TQI9","v":0},{"$f":"Кредит!TQJ9","v":0},{"$f":"Кредит!TQK9","v":0},{"$f":"Кредит!TQL9","v":0},{"$f":"Кредит!TQM9","v":0},{"$f":"Кредит!TQN9","v":0},{"$f":"Кредит!TQO9","v":0},{"$f":"Кредит!TQP9","v":0},{"$f":"Кредит!TQQ9","v":0},{"$f":"Кредит!TQR9","v":0},{"$f":"Кредит!TQS9","v":0},{"$f":"Кредит!TQT9","v":0},{"$f":"Кредит!TQU9","v":0},{"$f":"Кредит!TQV9","v":0},{"$f":"Кредит!TQW9","v":0},{"$f":"Кредит!TQX9","v":0},{"$f":"Кредит!TQY9","v":0},{"$f":"Кредит!TQZ9","v":0},{"$f":"Кредит!TRA9","v":0},{"$f":"Кредит!TRB9","v":0},{"$f":"Кредит!TRC9","v":0},{"$f":"Кредит!TRD9","v":0},{"$f":"Кредит!TRE9","v":0},{"$f":"Кредит!TRF9","v":0},{"$f":"Кредит!TRG9","v":0},{"$f":"Кредит!TRH9","v":0},{"$f":"Кредит!TRI9","v":0},{"$f":"Кредит!TRJ9","v":0},{"$f":"Кредит!TRK9","v":0},{"$f":"Кредит!TRL9","v":0},{"$f":"Кредит!TRM9","v":0},{"$f":"Кредит!TRN9","v":0},{"$f":"Кредит!TRO9","v":0},{"$f":"Кредит!TRP9","v":0},{"$f":"Кредит!TRQ9","v":0},{"$f":"Кредит!TRR9","v":0},{"$f":"Кредит!TRS9","v":0},{"$f":"Кредит!TRT9","v":0},{"$f":"Кредит!TRU9","v":0},{"$f":"Кредит!TRV9","v":0},{"$f":"Кредит!TRW9","v":0},{"$f":"Кредит!TRX9","v":0},{"$f":"Кредит!TRY9","v":0},{"$f":"Кредит!TRZ9","v":0},{"$f":"Кредит!TSA9","v":0},{"$f":"Кредит!TSB9","v":0},{"$f":"Кредит!TSC9","v":0},{"$f":"Кредит!TSD9","v":0},{"$f":"Кредит!TSE9","v":0},{"$f":"Кредит!TSF9","v":0},{"$f":"Кредит!TSG9","v":0},{"$f":"Кредит!TSH9","v":0},{"$f":"Кредит!TSI9","v":0},{"$f":"Кредит!TSJ9","v":0},{"$f":"Кредит!TSK9","v":0},{"$f":"Кредит!TSL9","v":0},{"$f":"Кредит!TSM9","v":0},{"$f":"Кредит!TSN9","v":0},{"$f":"Кредит!TSO9","v":0},{"$f":"Кредит!TSP9","v":0},{"$f":"Кредит!TSQ9","v":0},{"$f":"Кредит!TSR9","v":0},{"$f":"Кредит!TSS9","v":0},{"$f":"Кредит!TST9","v":0},{"$f":"Кредит!TSU9","v":0},{"$f":"Кредит!TSV9","v":0},{"$f":"Кредит!TSW9","v":0},{"$f":"Кредит!TSX9","v":0},{"$f":"Кредит!TSY9","v":0},{"$f":"Кредит!TSZ9","v":0},{"$f":"Кредит!TTA9","v":0},{"$f":"Кредит!TTB9","v":0},{"$f":"Кредит!TTC9","v":0},{"$f":"Кредит!TTD9","v":0},{"$f":"Кредит!TTE9","v":0},{"$f":"Кредит!TTF9","v":0},{"$f":"Кредит!TTG9","v":0},{"$f":"Кредит!TTH9","v":0},{"$f":"Кредит!TTI9","v":0},{"$f":"Кредит!TTJ9","v":0},{"$f":"Кредит!TTK9","v":0},{"$f":"Кредит!TTL9","v":0},{"$f":"Кредит!TTM9","v":0},{"$f":"Кредит!TTN9","v":0},{"$f":"Кредит!TTO9","v":0},{"$f":"Кредит!TTP9","v":0},{"$f":"Кредит!TTQ9","v":0},{"$f":"Кредит!TTR9","v":0},{"$f":"Кредит!TTS9","v":0},{"$f":"Кредит!TTT9","v":0},{"$f":"Кредит!TTU9","v":0},{"$f":"Кредит!TTV9","v":0},{"$f":"Кредит!TTW9","v":0},{"$f":"Кредит!TTX9","v":0},{"$f":"Кредит!TTY9","v":0},{"$f":"Кредит!TTZ9","v":0},{"$f":"Кредит!TUA9","v":0},{"$f":"Кредит!TUB9","v":0},{"$f":"Кредит!TUC9","v":0},{"$f":"Кредит!TUD9","v":0},{"$f":"Кредит!TUE9","v":0},{"$f":"Кредит!TUF9","v":0},{"$f":"Кредит!TUG9","v":0},{"$f":"Кредит!TUH9","v":0},{"$f":"Кредит!TUI9","v":0},{"$f":"Кредит!TUJ9","v":0},{"$f":"Кредит!TUK9","v":0},{"$f":"Кредит!TUL9","v":0},{"$f":"Кредит!TUM9","v":0},{"$f":"Кредит!TUN9","v":0},{"$f":"Кредит!TUO9","v":0},{"$f":"Кредит!TUP9","v":0},{"$f":"Кредит!TUQ9","v":0},{"$f":"Кредит!TUR9","v":0},{"$f":"Кредит!TUS9","v":0},{"$f":"Кредит!TUT9","v":0},{"$f":"Кредит!TUU9","v":0},{"$f":"Кредит!TUV9","v":0},{"$f":"Кредит!TUW9","v":0},{"$f":"Кредит!TUX9","v":0},{"$f":"Кредит!TUY9","v":0},{"$f":"Кредит!TUZ9","v":0},{"$f":"Кредит!TVA9","v":0},{"$f":"Кредит!TVB9","v":0},{"$f":"Кредит!TVC9","v":0},{"$f":"Кредит!TVD9","v":0},{"$f":"Кредит!TVE9","v":0},{"$f":"Кредит!TVF9","v":0},{"$f":"Кредит!TVG9","v":0},{"$f":"Кредит!TVH9","v":0},{"$f":"Кредит!TVI9","v":0},{"$f":"Кредит!TVJ9","v":0},{"$f":"Кредит!TVK9","v":0},{"$f":"Кредит!TVL9","v":0},{"$f":"Кредит!TVM9","v":0},{"$f":"Кредит!TVN9","v":0},{"$f":"Кредит!TVO9","v":0},{"$f":"Кредит!TVP9","v":0},{"$f":"Кредит!TVQ9","v":0},{"$f":"Кредит!TVR9","v":0},{"$f":"Кредит!TVS9","v":0},{"$f":"Кредит!TVT9","v":0},{"$f":"Кредит!TVU9","v":0},{"$f":"Кредит!TVV9","v":0},{"$f":"Кредит!TVW9","v":0},{"$f":"Кредит!TVX9","v":0},{"$f":"Кредит!TVY9","v":0},{"$f":"Кредит!TVZ9","v":0},{"$f":"Кредит!TWA9","v":0},{"$f":"Кредит!TWB9","v":0},{"$f":"Кредит!TWC9","v":0},{"$f":"Кредит!TWD9","v":0},{"$f":"Кредит!TWE9","v":0},{"$f":"Кредит!TWF9","v":0},{"$f":"Кредит!TWG9","v":0},{"$f":"Кредит!TWH9","v":0},{"$f":"Кредит!TWI9","v":0},{"$f":"Кредит!TWJ9","v":0},{"$f":"Кредит!TWK9","v":0},{"$f":"Кредит!TWL9","v":0},{"$f":"Кредит!TWM9","v":0},{"$f":"Кредит!TWN9","v":0},{"$f":"Кредит!TWO9","v":0},{"$f":"Кредит!TWP9","v":0},{"$f":"Кредит!TWQ9","v":0},{"$f":"Кредит!TWR9","v":0},{"$f":"Кредит!TWS9","v":0},{"$f":"Кредит!TWT9","v":0},{"$f":"Кредит!TWU9","v":0},{"$f":"Кредит!TWV9","v":0},{"$f":"Кредит!TWW9","v":0},{"$f":"Кредит!TWX9","v":0},{"$f":"Кредит!TWY9","v":0},{"$f":"Кредит!TWZ9","v":0},{"$f":"Кредит!TXA9","v":0},{"$f":"Кредит!TXB9","v":0},{"$f":"Кредит!TXC9","v":0},{"$f":"Кредит!TXD9","v":0},{"$f":"Кредит!TXE9","v":0},{"$f":"Кредит!TXF9","v":0},{"$f":"Кредит!TXG9","v":0},{"$f":"Кредит!TXH9","v":0},{"$f":"Кредит!TXI9","v":0},{"$f":"Кредит!TXJ9","v":0},{"$f":"Кредит!TXK9","v":0},{"$f":"Кредит!TXL9","v":0},{"$f":"Кредит!TXM9","v":0},{"$f":"Кредит!TXN9","v":0},{"$f":"Кредит!TXO9","v":0},{"$f":"Кредит!TXP9","v":0},{"$f":"Кредит!TXQ9","v":0},{"$f":"Кредит!TXR9","v":0},{"$f":"Кредит!TXS9","v":0},{"$f":"Кредит!TXT9","v":0},{"$f":"Кредит!TXU9","v":0},{"$f":"Кредит!TXV9","v":0},{"$f":"Кредит!TXW9","v":0},{"$f":"Кредит!TXX9","v":0},{"$f":"Кредит!TXY9","v":0},{"$f":"Кредит!TXZ9","v":0},{"$f":"Кредит!TYA9","v":0},{"$f":"Кредит!TYB9","v":0},{"$f":"Кредит!TYC9","v":0},{"$f":"Кредит!TYD9","v":0},{"$f":"Кредит!TYE9","v":0},{"$f":"Кредит!TYF9","v":0},{"$f":"Кредит!TYG9","v":0},{"$f":"Кредит!TYH9","v":0},{"$f":"Кредит!TYI9","v":0},{"$f":"Кредит!TYJ9","v":0},{"$f":"Кредит!TYK9","v":0},{"$f":"Кредит!TYL9","v":0},{"$f":"Кредит!TYM9","v":0},{"$f":"Кредит!TYN9","v":0},{"$f":"Кредит!TYO9","v":0},{"$f":"Кредит!TYP9","v":0},{"$f":"Кредит!TYQ9","v":0},{"$f":"Кредит!TYR9","v":0},{"$f":"Кредит!TYS9","v":0},{"$f":"Кредит!TYT9","v":0},{"$f":"Кредит!TYU9","v":0},{"$f":"Кредит!TYV9","v":0},{"$f":"Кредит!TYW9","v":0},{"$f":"Кредит!TYX9","v":0},{"$f":"Кредит!TYY9","v":0},{"$f":"Кредит!TYZ9","v":0},{"$f":"Кредит!TZA9","v":0},{"$f":"Кредит!TZB9","v":0},{"$f":"Кредит!TZC9","v":0},{"$f":"Кредит!TZD9","v":0},{"$f":"Кредит!TZE9","v":0},{"$f":"Кредит!TZF9","v":0},{"$f":"Кредит!TZG9","v":0},{"$f":"Кредит!TZH9","v":0},{"$f":"Кредит!TZI9","v":0},{"$f":"Кредит!TZJ9","v":0},{"$f":"Кредит!TZK9","v":0},{"$f":"Кредит!TZL9","v":0},{"$f":"Кредит!TZM9","v":0},{"$f":"Кредит!TZN9","v":0},{"$f":"Кредит!TZO9","v":0},{"$f":"Кредит!TZP9","v":0},{"$f":"Кредит!TZQ9","v":0},{"$f":"Кредит!TZR9","v":0},{"$f":"Кредит!TZS9","v":0},{"$f":"Кредит!TZT9","v":0},{"$f":"Кредит!TZU9","v":0},{"$f":"Кредит!TZV9","v":0},{"$f":"Кредит!TZW9","v":0},{"$f":"Кредит!TZX9","v":0},{"$f":"Кредит!TZY9","v":0},{"$f":"Кредит!TZZ9","v":0},{"$f":"Кредит!UAA9","v":0},{"$f":"Кредит!UAB9","v":0},{"$f":"Кредит!UAC9","v":0},{"$f":"Кредит!UAD9","v":0},{"$f":"Кредит!UAE9","v":0},{"$f":"Кредит!UAF9","v":0},{"$f":"Кредит!UAG9","v":0},{"$f":"Кредит!UAH9","v":0},{"$f":"Кредит!UAI9","v":0},{"$f":"Кредит!UAJ9","v":0},{"$f":"Кредит!UAK9","v":0},{"$f":"Кредит!UAL9","v":0},{"$f":"Кредит!UAM9","v":0},{"$f":"Кредит!UAN9","v":0},{"$f":"Кредит!UAO9","v":0},{"$f":"Кредит!UAP9","v":0},{"$f":"Кредит!UAQ9","v":0},{"$f":"Кредит!UAR9","v":0},{"$f":"Кредит!UAS9","v":0},{"$f":"Кредит!UAT9","v":0},{"$f":"Кредит!UAU9","v":0},{"$f":"Кредит!UAV9","v":0},{"$f":"Кредит!UAW9","v":0},{"$f":"Кредит!UAX9","v":0},{"$f":"Кредит!UAY9","v":0},{"$f":"Кредит!UAZ9","v":0},{"$f":"Кредит!UBA9","v":0},{"$f":"Кредит!UBB9","v":0},{"$f":"Кредит!UBC9","v":0},{"$f":"Кредит!UBD9","v":0},{"$f":"Кредит!UBE9","v":0},{"$f":"Кредит!UBF9","v":0},{"$f":"Кредит!UBG9","v":0},{"$f":"Кредит!UBH9","v":0},{"$f":"Кредит!UBI9","v":0},{"$f":"Кредит!UBJ9","v":0},{"$f":"Кредит!UBK9","v":0},{"$f":"Кредит!UBL9","v":0},{"$f":"Кредит!UBM9","v":0},{"$f":"Кредит!UBN9","v":0},{"$f":"Кредит!UBO9","v":0},{"$f":"Кредит!UBP9","v":0},{"$f":"Кредит!UBQ9","v":0},{"$f":"Кредит!UBR9","v":0},{"$f":"Кредит!UBS9","v":0},{"$f":"Кредит!UBT9","v":0},{"$f":"Кредит!UBU9","v":0},{"$f":"Кредит!UBV9","v":0},{"$f":"Кредит!UBW9","v":0},{"$f":"Кредит!UBX9","v":0},{"$f":"Кредит!UBY9","v":0},{"$f":"Кредит!UBZ9","v":0},{"$f":"Кредит!UCA9","v":0},{"$f":"Кредит!UCB9","v":0},{"$f":"Кредит!UCC9","v":0},{"$f":"Кредит!UCD9","v":0},{"$f":"Кредит!UCE9","v":0},{"$f":"Кредит!UCF9","v":0},{"$f":"Кредит!UCG9","v":0},{"$f":"Кредит!UCH9","v":0},{"$f":"Кредит!UCI9","v":0},{"$f":"Кредит!UCJ9","v":0},{"$f":"Кредит!UCK9","v":0},{"$f":"Кредит!UCL9","v":0},{"$f":"Кредит!UCM9","v":0},{"$f":"Кредит!UCN9","v":0},{"$f":"Кредит!UCO9","v":0},{"$f":"Кредит!UCP9","v":0},{"$f":"Кредит!UCQ9","v":0},{"$f":"Кредит!UCR9","v":0},{"$f":"Кредит!UCS9","v":0},{"$f":"Кредит!UCT9","v":0},{"$f":"Кредит!UCU9","v":0},{"$f":"Кредит!UCV9","v":0},{"$f":"Кредит!UCW9","v":0},{"$f":"Кредит!UCX9","v":0},{"$f":"Кредит!UCY9","v":0},{"$f":"Кредит!UCZ9","v":0},{"$f":"Кредит!UDA9","v":0},{"$f":"Кредит!UDB9","v":0},{"$f":"Кредит!UDC9","v":0},{"$f":"Кредит!UDD9","v":0},{"$f":"Кредит!UDE9","v":0},{"$f":"Кредит!UDF9","v":0},{"$f":"Кредит!UDG9","v":0},{"$f":"Кредит!UDH9","v":0},{"$f":"Кредит!UDI9","v":0},{"$f":"Кредит!UDJ9","v":0},{"$f":"Кредит!UDK9","v":0},{"$f":"Кредит!UDL9","v":0},{"$f":"Кредит!UDM9","v":0},{"$f":"Кредит!UDN9","v":0},{"$f":"Кредит!UDO9","v":0},{"$f":"Кредит!UDP9","v":0},{"$f":"Кредит!UDQ9","v":0},{"$f":"Кредит!UDR9","v":0},{"$f":"Кредит!UDS9","v":0},{"$f":"Кредит!UDT9","v":0},{"$f":"Кредит!UDU9","v":0},{"$f":"Кредит!UDV9","v":0},{"$f":"Кредит!UDW9","v":0},{"$f":"Кредит!UDX9","v":0},{"$f":"Кредит!UDY9","v":0},{"$f":"Кредит!UDZ9","v":0},{"$f":"Кредит!UEA9","v":0},{"$f":"Кредит!UEB9","v":0},{"$f":"Кредит!UEC9","v":0},{"$f":"Кредит!UED9","v":0},{"$f":"Кредит!UEE9","v":0},{"$f":"Кредит!UEF9","v":0},{"$f":"Кредит!UEG9","v":0},{"$f":"Кредит!UEH9","v":0},{"$f":"Кредит!UEI9","v":0},{"$f":"Кредит!UEJ9","v":0},{"$f":"Кредит!UEK9","v":0},{"$f":"Кредит!UEL9","v":0},{"$f":"Кредит!UEM9","v":0},{"$f":"Кредит!UEN9","v":0},{"$f":"Кредит!UEO9","v":0},{"$f":"Кредит!UEP9","v":0},{"$f":"Кредит!UEQ9","v":0},{"$f":"Кредит!UER9","v":0},{"$f":"Кредит!UES9","v":0},{"$f":"Кредит!UET9","v":0},{"$f":"Кредит!UEU9","v":0},{"$f":"Кредит!UEV9","v":0},{"$f":"Кредит!UEW9","v":0},{"$f":"Кредит!UEX9","v":0},{"$f":"Кредит!UEY9","v":0},{"$f":"Кредит!UEZ9","v":0},{"$f":"Кредит!UFA9","v":0},{"$f":"Кредит!UFB9","v":0},{"$f":"Кредит!UFC9","v":0},{"$f":"Кредит!UFD9","v":0},{"$f":"Кредит!UFE9","v":0},{"$f":"Кредит!UFF9","v":0},{"$f":"Кредит!UFG9","v":0},{"$f":"Кредит!UFH9","v":0},{"$f":"Кредит!UFI9","v":0},{"$f":"Кредит!UFJ9","v":0},{"$f":"Кредит!UFK9","v":0},{"$f":"Кредит!UFL9","v":0},{"$f":"Кредит!UFM9","v":0},{"$f":"Кредит!UFN9","v":0},{"$f":"Кредит!UFO9","v":0},{"$f":"Кредит!UFP9","v":0},{"$f":"Кредит!UFQ9","v":0},{"$f":"Кредит!UFR9","v":0},{"$f":"Кредит!UFS9","v":0},{"$f":"Кредит!UFT9","v":0},{"$f":"Кредит!UFU9","v":0},{"$f":"Кредит!UFV9","v":0},{"$f":"Кредит!UFW9","v":0},{"$f":"Кредит!UFX9","v":0},{"$f":"Кредит!UFY9","v":0},{"$f":"Кредит!UFZ9","v":0},{"$f":"Кредит!UGA9","v":0},{"$f":"Кредит!UGB9","v":0},{"$f":"Кредит!UGC9","v":0},{"$f":"Кредит!UGD9","v":0},{"$f":"Кредит!UGE9","v":0},{"$f":"Кредит!UGF9","v":0},{"$f":"Кредит!UGG9","v":0},{"$f":"Кредит!UGH9","v":0},{"$f":"Кредит!UGI9","v":0},{"$f":"Кредит!UGJ9","v":0},{"$f":"Кредит!UGK9","v":0},{"$f":"Кредит!UGL9","v":0},{"$f":"Кредит!UGM9","v":0},{"$f":"Кредит!UGN9","v":0},{"$f":"Кредит!UGO9","v":0},{"$f":"Кредит!UGP9","v":0},{"$f":"Кредит!UGQ9","v":0},{"$f":"Кредит!UGR9","v":0},{"$f":"Кредит!UGS9","v":0},{"$f":"Кредит!UGT9","v":0},{"$f":"Кредит!UGU9","v":0},{"$f":"Кредит!UGV9","v":0},{"$f":"Кредит!UGW9","v":0},{"$f":"Кредит!UGX9","v":0},{"$f":"Кредит!UGY9","v":0},{"$f":"Кредит!UGZ9","v":0},{"$f":"Кредит!UHA9","v":0},{"$f":"Кредит!UHB9","v":0},{"$f":"Кредит!UHC9","v":0},{"$f":"Кредит!UHD9","v":0},{"$f":"Кредит!UHE9","v":0},{"$f":"Кредит!UHF9","v":0},{"$f":"Кредит!UHG9","v":0},{"$f":"Кредит!UHH9","v":0},{"$f":"Кредит!UHI9","v":0},{"$f":"Кредит!UHJ9","v":0},{"$f":"Кредит!UHK9","v":0},{"$f":"Кредит!UHL9","v":0},{"$f":"Кредит!UHM9","v":0},{"$f":"Кредит!UHN9","v":0},{"$f":"Кредит!UHO9","v":0},{"$f":"Кредит!UHP9","v":0},{"$f":"Кредит!UHQ9","v":0},{"$f":"Кредит!UHR9","v":0},{"$f":"Кредит!UHS9","v":0},{"$f":"Кредит!UHT9","v":0},{"$f":"Кредит!UHU9","v":0},{"$f":"Кредит!UHV9","v":0},{"$f":"Кредит!UHW9","v":0},{"$f":"Кредит!UHX9","v":0},{"$f":"Кредит!UHY9","v":0},{"$f":"Кредит!UHZ9","v":0},{"$f":"Кредит!UIA9","v":0},{"$f":"Кредит!UIB9","v":0},{"$f":"Кредит!UIC9","v":0},{"$f":"Кредит!UID9","v":0},{"$f":"Кредит!UIE9","v":0},{"$f":"Кредит!UIF9","v":0},{"$f":"Кредит!UIG9","v":0},{"$f":"Кредит!UIH9","v":0},{"$f":"Кредит!UII9","v":0},{"$f":"Кредит!UIJ9","v":0},{"$f":"Кредит!UIK9","v":0},{"$f":"Кредит!UIL9","v":0},{"$f":"Кредит!UIM9","v":0},{"$f":"Кредит!UIN9","v":0},{"$f":"Кредит!UIO9","v":0},{"$f":"Кредит!UIP9","v":0},{"$f":"Кредит!UIQ9","v":0},{"$f":"Кредит!UIR9","v":0},{"$f":"Кредит!UIS9","v":0},{"$f":"Кредит!UIT9","v":0},{"$f":"Кредит!UIU9","v":0},{"$f":"Кредит!UIV9","v":0},{"$f":"Кредит!UIW9","v":0},{"$f":"Кредит!UIX9","v":0},{"$f":"Кредит!UIY9","v":0},{"$f":"Кредит!UIZ9","v":0},{"$f":"Кредит!UJA9","v":0},{"$f":"Кредит!UJB9","v":0},{"$f":"Кредит!UJC9","v":0},{"$f":"Кредит!UJD9","v":0},{"$f":"Кредит!UJE9","v":0},{"$f":"Кредит!UJF9","v":0},{"$f":"Кредит!UJG9","v":0},{"$f":"Кредит!UJH9","v":0},{"$f":"Кредит!UJI9","v":0},{"$f":"Кредит!UJJ9","v":0},{"$f":"Кредит!UJK9","v":0},{"$f":"Кредит!UJL9","v":0},{"$f":"Кредит!UJM9","v":0},{"$f":"Кредит!UJN9","v":0},{"$f":"Кредит!UJO9","v":0},{"$f":"Кредит!UJP9","v":0},{"$f":"Кредит!UJQ9","v":0},{"$f":"Кредит!UJR9","v":0},{"$f":"Кредит!UJS9","v":0},{"$f":"Кредит!UJT9","v":0},{"$f":"Кредит!UJU9","v":0},{"$f":"Кредит!UJV9","v":0},{"$f":"Кредит!UJW9","v":0},{"$f":"Кредит!UJX9","v":0},{"$f":"Кредит!UJY9","v":0},{"$f":"Кредит!UJZ9","v":0},{"$f":"Кредит!UKA9","v":0},{"$f":"Кредит!UKB9","v":0},{"$f":"Кредит!UKC9","v":0},{"$f":"Кредит!UKD9","v":0},{"$f":"Кредит!UKE9","v":0},{"$f":"Кредит!UKF9","v":0},{"$f":"Кредит!UKG9","v":0},{"$f":"Кредит!UKH9","v":0},{"$f":"Кредит!UKI9","v":0},{"$f":"Кредит!UKJ9","v":0},{"$f":"Кредит!UKK9","v":0},{"$f":"Кредит!UKL9","v":0},{"$f":"Кредит!UKM9","v":0},{"$f":"Кредит!UKN9","v":0},{"$f":"Кредит!UKO9","v":0},{"$f":"Кредит!UKP9","v":0},{"$f":"Кредит!UKQ9","v":0},{"$f":"Кредит!UKR9","v":0},{"$f":"Кредит!UKS9","v":0},{"$f":"Кредит!UKT9","v":0},{"$f":"Кредит!UKU9","v":0},{"$f":"Кредит!UKV9","v":0},{"$f":"Кредит!UKW9","v":0},{"$f":"Кредит!UKX9","v":0},{"$f":"Кредит!UKY9","v":0},{"$f":"Кредит!UKZ9","v":0},{"$f":"Кредит!ULA9","v":0},{"$f":"Кредит!ULB9","v":0},{"$f":"Кредит!ULC9","v":0},{"$f":"Кредит!ULD9","v":0},{"$f":"Кредит!ULE9","v":0},{"$f":"Кредит!ULF9","v":0},{"$f":"Кредит!ULG9","v":0},{"$f":"Кредит!ULH9","v":0},{"$f":"Кредит!ULI9","v":0},{"$f":"Кредит!ULJ9","v":0},{"$f":"Кредит!ULK9","v":0},{"$f":"Кредит!ULL9","v":0},{"$f":"Кредит!ULM9","v":0},{"$f":"Кредит!ULN9","v":0},{"$f":"Кредит!ULO9","v":0},{"$f":"Кредит!ULP9","v":0},{"$f":"Кредит!ULQ9","v":0},{"$f":"Кредит!ULR9","v":0},{"$f":"Кредит!ULS9","v":0},{"$f":"Кредит!ULT9","v":0},{"$f":"Кредит!ULU9","v":0},{"$f":"Кредит!ULV9","v":0},{"$f":"Кредит!ULW9","v":0},{"$f":"Кредит!ULX9","v":0},{"$f":"Кредит!ULY9","v":0},{"$f":"Кредит!ULZ9","v":0},{"$f":"Кредит!UMA9","v":0},{"$f":"Кредит!UMB9","v":0},{"$f":"Кредит!UMC9","v":0},{"$f":"Кредит!UMD9","v":0},{"$f":"Кредит!UME9","v":0},{"$f":"Кредит!UMF9","v":0},{"$f":"Кредит!UMG9","v":0},{"$f":"Кредит!UMH9","v":0},{"$f":"Кредит!UMI9","v":0},{"$f":"Кредит!UMJ9","v":0},{"$f":"Кредит!UMK9","v":0},{"$f":"Кредит!UML9","v":0},{"$f":"Кредит!UMM9","v":0},{"$f":"Кредит!UMN9","v":0},{"$f":"Кредит!UMO9","v":0},{"$f":"Кредит!UMP9","v":0},{"$f":"Кредит!UMQ9","v":0},{"$f":"Кредит!UMR9","v":0},{"$f":"Кредит!UMS9","v":0},{"$f":"Кредит!UMT9","v":0},{"$f":"Кредит!UMU9","v":0},{"$f":"Кредит!UMV9","v":0},{"$f":"Кредит!UMW9","v":0},{"$f":"Кредит!UMX9","v":0},{"$f":"Кредит!UMY9","v":0},{"$f":"Кредит!UMZ9","v":0},{"$f":"Кредит!UNA9","v":0},{"$f":"Кредит!UNB9","v":0},{"$f":"Кредит!UNC9","v":0},{"$f":"Кредит!UND9","v":0},{"$f":"Кредит!UNE9","v":0},{"$f":"Кредит!UNF9","v":0},{"$f":"Кредит!UNG9","v":0},{"$f":"Кредит!UNH9","v":0},{"$f":"Кредит!UNI9","v":0},{"$f":"Кредит!UNJ9","v":0},{"$f":"Кредит!UNK9","v":0},{"$f":"Кредит!UNL9","v":0},{"$f":"Кредит!UNM9","v":0},{"$f":"Кредит!UNN9","v":0},{"$f":"Кредит!UNO9","v":0},{"$f":"Кредит!UNP9","v":0},{"$f":"Кредит!UNQ9","v":0},{"$f":"Кредит!UNR9","v":0},{"$f":"Кредит!UNS9","v":0},{"$f":"Кредит!UNT9","v":0},{"$f":"Кредит!UNU9","v":0},{"$f":"Кредит!UNV9","v":0},{"$f":"Кредит!UNW9","v":0},{"$f":"Кредит!UNX9","v":0},{"$f":"Кредит!UNY9","v":0},{"$f":"Кредит!UNZ9","v":0},{"$f":"Кредит!UOA9","v":0},{"$f":"Кредит!UOB9","v":0},{"$f":"Кредит!UOC9","v":0},{"$f":"Кредит!UOD9","v":0},{"$f":"Кредит!UOE9","v":0},{"$f":"Кредит!UOF9","v":0},{"$f":"Кредит!UOG9","v":0},{"$f":"Кредит!UOH9","v":0},{"$f":"Кредит!UOI9","v":0},{"$f":"Кредит!UOJ9","v":0},{"$f":"Кредит!UOK9","v":0},{"$f":"Кредит!UOL9","v":0},{"$f":"Кредит!UOM9","v":0},{"$f":"Кредит!UON9","v":0},{"$f":"Кредит!UOO9","v":0},{"$f":"Кредит!UOP9","v":0},{"$f":"Кредит!UOQ9","v":0},{"$f":"Кредит!UOR9","v":0},{"$f":"Кредит!UOS9","v":0},{"$f":"Кредит!UOT9","v":0},{"$f":"Кредит!UOU9","v":0},{"$f":"Кредит!UOV9","v":0},{"$f":"Кредит!UOW9","v":0},{"$f":"Кредит!UOX9","v":0},{"$f":"Кредит!UOY9","v":0},{"$f":"Кредит!UOZ9","v":0},{"$f":"Кредит!UPA9","v":0},{"$f":"Кредит!UPB9","v":0},{"$f":"Кредит!UPC9","v":0},{"$f":"Кредит!UPD9","v":0},{"$f":"Кредит!UPE9","v":0},{"$f":"Кредит!UPF9","v":0},{"$f":"Кредит!UPG9","v":0},{"$f":"Кредит!UPH9","v":0},{"$f":"Кредит!UPI9","v":0},{"$f":"Кредит!UPJ9","v":0},{"$f":"Кредит!UPK9","v":0},{"$f":"Кредит!UPL9","v":0},{"$f":"Кредит!UPM9","v":0},{"$f":"Кредит!UPN9","v":0},{"$f":"Кредит!UPO9","v":0},{"$f":"Кредит!UPP9","v":0},{"$f":"Кредит!UPQ9","v":0},{"$f":"Кредит!UPR9","v":0},{"$f":"Кредит!UPS9","v":0},{"$f":"Кредит!UPT9","v":0},{"$f":"Кредит!UPU9","v":0},{"$f":"Кредит!UPV9","v":0},{"$f":"Кредит!UPW9","v":0},{"$f":"Кредит!UPX9","v":0},{"$f":"Кредит!UPY9","v":0},{"$f":"Кредит!UPZ9","v":0},{"$f":"Кредит!UQA9","v":0},{"$f":"Кредит!UQB9","v":0},{"$f":"Кредит!UQC9","v":0},{"$f":"Кредит!UQD9","v":0},{"$f":"Кредит!UQE9","v":0},{"$f":"Кредит!UQF9","v":0},{"$f":"Кредит!UQG9","v":0},{"$f":"Кредит!UQH9","v":0},{"$f":"Кредит!UQI9","v":0},{"$f":"Кредит!UQJ9","v":0},{"$f":"Кредит!UQK9","v":0},{"$f":"Кредит!UQL9","v":0},{"$f":"Кредит!UQM9","v":0},{"$f":"Кредит!UQN9","v":0},{"$f":"Кредит!UQO9","v":0},{"$f":"Кредит!UQP9","v":0},{"$f":"Кредит!UQQ9","v":0},{"$f":"Кредит!UQR9","v":0},{"$f":"Кредит!UQS9","v":0},{"$f":"Кредит!UQT9","v":0},{"$f":"Кредит!UQU9","v":0},{"$f":"Кредит!UQV9","v":0},{"$f":"Кредит!UQW9","v":0},{"$f":"Кредит!UQX9","v":0},{"$f":"Кредит!UQY9","v":0},{"$f":"Кредит!UQZ9","v":0},{"$f":"Кредит!URA9","v":0},{"$f":"Кредит!URB9","v":0},{"$f":"Кредит!URC9","v":0},{"$f":"Кредит!URD9","v":0},{"$f":"Кредит!URE9","v":0},{"$f":"Кредит!URF9","v":0},{"$f":"Кредит!URG9","v":0},{"$f":"Кредит!URH9","v":0},{"$f":"Кредит!URI9","v":0},{"$f":"Кредит!URJ9","v":0},{"$f":"Кредит!URK9","v":0},{"$f":"Кредит!URL9","v":0},{"$f":"Кредит!URM9","v":0},{"$f":"Кредит!URN9","v":0},{"$f":"Кредит!URO9","v":0},{"$f":"Кредит!URP9","v":0},{"$f":"Кредит!URQ9","v":0},{"$f":"Кредит!URR9","v":0},{"$f":"Кредит!URS9","v":0},{"$f":"Кредит!URT9","v":0},{"$f":"Кредит!URU9","v":0},{"$f":"Кредит!URV9","v":0},{"$f":"Кредит!URW9","v":0},{"$f":"Кредит!URX9","v":0},{"$f":"Кредит!URY9","v":0},{"$f":"Кредит!URZ9","v":0},{"$f":"Кредит!USA9","v":0},{"$f":"Кредит!USB9","v":0},{"$f":"Кредит!USC9","v":0},{"$f":"Кредит!USD9","v":0},{"$f":"Кредит!USE9","v":0},{"$f":"Кредит!USF9","v":0},{"$f":"Кредит!USG9","v":0},{"$f":"Кредит!USH9","v":0},{"$f":"Кредит!USI9","v":0},{"$f":"Кредит!USJ9","v":0},{"$f":"Кредит!USK9","v":0},{"$f":"Кредит!USL9","v":0},{"$f":"Кредит!USM9","v":0},{"$f":"Кредит!USN9","v":0},{"$f":"Кредит!USO9","v":0},{"$f":"Кредит!USP9","v":0},{"$f":"Кредит!USQ9","v":0},{"$f":"Кредит!USR9","v":0},{"$f":"Кредит!USS9","v":0},{"$f":"Кредит!UST9","v":0},{"$f":"Кредит!USU9","v":0},{"$f":"Кредит!USV9","v":0},{"$f":"Кредит!USW9","v":0},{"$f":"Кредит!USX9","v":0},{"$f":"Кредит!USY9","v":0},{"$f":"Кредит!USZ9","v":0},{"$f":"Кредит!UTA9","v":0},{"$f":"Кредит!UTB9","v":0},{"$f":"Кредит!UTC9","v":0},{"$f":"Кредит!UTD9","v":0},{"$f":"Кредит!UTE9","v":0},{"$f":"Кредит!UTF9","v":0},{"$f":"Кредит!UTG9","v":0},{"$f":"Кредит!UTH9","v":0},{"$f":"Кредит!UTI9","v":0},{"$f":"Кредит!UTJ9","v":0},{"$f":"Кредит!UTK9","v":0},{"$f":"Кредит!UTL9","v":0},{"$f":"Кредит!UTM9","v":0},{"$f":"Кредит!UTN9","v":0},{"$f":"Кредит!UTO9","v":0},{"$f":"Кредит!UTP9","v":0},{"$f":"Кредит!UTQ9","v":0},{"$f":"Кредит!UTR9","v":0},{"$f":"Кредит!UTS9","v":0},{"$f":"Кредит!UTT9","v":0},{"$f":"Кредит!UTU9","v":0},{"$f":"Кредит!UTV9","v":0},{"$f":"Кредит!UTW9","v":0},{"$f":"Кредит!UTX9","v":0},{"$f":"Кредит!UTY9","v":0},{"$f":"Кредит!UTZ9","v":0},{"$f":"Кредит!UUA9","v":0},{"$f":"Кредит!UUB9","v":0},{"$f":"Кредит!UUC9","v":0},{"$f":"Кредит!UUD9","v":0},{"$f":"Кредит!UUE9","v":0},{"$f":"Кредит!UUF9","v":0},{"$f":"Кредит!UUG9","v":0},{"$f":"Кредит!UUH9","v":0},{"$f":"Кредит!UUI9","v":0},{"$f":"Кредит!UUJ9","v":0},{"$f":"Кредит!UUK9","v":0},{"$f":"Кредит!UUL9","v":0},{"$f":"Кредит!UUM9","v":0},{"$f":"Кредит!UUN9","v":0},{"$f":"Кредит!UUO9","v":0},{"$f":"Кредит!UUP9","v":0},{"$f":"Кредит!UUQ9","v":0},{"$f":"Кредит!UUR9","v":0},{"$f":"Кредит!UUS9","v":0},{"$f":"Кредит!UUT9","v":0},{"$f":"Кредит!UUU9","v":0},{"$f":"Кредит!UUV9","v":0},{"$f":"Кредит!UUW9","v":0},{"$f":"Кредит!UUX9","v":0},{"$f":"Кредит!UUY9","v":0},{"$f":"Кредит!UUZ9","v":0},{"$f":"Кредит!UVA9","v":0},{"$f":"Кредит!UVB9","v":0},{"$f":"Кредит!UVC9","v":0},{"$f":"Кредит!UVD9","v":0},{"$f":"Кредит!UVE9","v":0},{"$f":"Кредит!UVF9","v":0},{"$f":"Кредит!UVG9","v":0},{"$f":"Кредит!UVH9","v":0},{"$f":"Кредит!UVI9","v":0},{"$f":"Кредит!UVJ9","v":0},{"$f":"Кредит!UVK9","v":0},{"$f":"Кредит!UVL9","v":0},{"$f":"Кредит!UVM9","v":0},{"$f":"Кредит!UVN9","v":0},{"$f":"Кредит!UVO9","v":0},{"$f":"Кредит!UVP9","v":0},{"$f":"Кредит!UVQ9","v":0},{"$f":"Кредит!UVR9","v":0},{"$f":"Кредит!UVS9","v":0},{"$f":"Кредит!UVT9","v":0},{"$f":"Кредит!UVU9","v":0},{"$f":"Кредит!UVV9","v":0},{"$f":"Кредит!UVW9","v":0},{"$f":"Кредит!UVX9","v":0},{"$f":"Кредит!UVY9","v":0},{"$f":"Кредит!UVZ9","v":0},{"$f":"Кредит!UWA9","v":0},{"$f":"Кредит!UWB9","v":0},{"$f":"Кредит!UWC9","v":0},{"$f":"Кредит!UWD9","v":0},{"$f":"Кредит!UWE9","v":0},{"$f":"Кредит!UWF9","v":0},{"$f":"Кредит!UWG9","v":0},{"$f":"Кредит!UWH9","v":0},{"$f":"Кредит!UWI9","v":0},{"$f":"Кредит!UWJ9","v":0},{"$f":"Кредит!UWK9","v":0},{"$f":"Кредит!UWL9","v":0},{"$f":"Кредит!UWM9","v":0},{"$f":"Кредит!UWN9","v":0},{"$f":"Кредит!UWO9","v":0},{"$f":"Кредит!UWP9","v":0},{"$f":"Кредит!UWQ9","v":0},{"$f":"Кредит!UWR9","v":0},{"$f":"Кредит!UWS9","v":0},{"$f":"Кредит!UWT9","v":0},{"$f":"Кредит!UWU9","v":0},{"$f":"Кредит!UWV9","v":0},{"$f":"Кредит!UWW9","v":0},{"$f":"Кредит!UWX9","v":0},{"$f":"Кредит!UWY9","v":0},{"$f":"Кредит!UWZ9","v":0},{"$f":"Кредит!UXA9","v":0},{"$f":"Кредит!UXB9","v":0},{"$f":"Кредит!UXC9","v":0},{"$f":"Кредит!UXD9","v":0},{"$f":"Кредит!UXE9","v":0},{"$f":"Кредит!UXF9","v":0},{"$f":"Кредит!UXG9","v":0},{"$f":"Кредит!UXH9","v":0},{"$f":"Кредит!UXI9","v":0},{"$f":"Кредит!UXJ9","v":0},{"$f":"Кредит!UXK9","v":0},{"$f":"Кредит!UXL9","v":0},{"$f":"Кредит!UXM9","v":0},{"$f":"Кредит!UXN9","v":0},{"$f":"Кредит!UXO9","v":0},{"$f":"Кредит!UXP9","v":0},{"$f":"Кредит!UXQ9","v":0},{"$f":"Кредит!UXR9","v":0},{"$f":"Кредит!UXS9","v":0},{"$f":"Кредит!UXT9","v":0},{"$f":"Кредит!UXU9","v":0},{"$f":"Кредит!UXV9","v":0},{"$f":"Кредит!UXW9","v":0},{"$f":"Кредит!UXX9","v":0},{"$f":"Кредит!UXY9","v":0},{"$f":"Кредит!UXZ9","v":0},{"$f":"Кредит!UYA9","v":0},{"$f":"Кредит!UYB9","v":0},{"$f":"Кредит!UYC9","v":0},{"$f":"Кредит!UYD9","v":0},{"$f":"Кредит!UYE9","v":0},{"$f":"Кредит!UYF9","v":0},{"$f":"Кредит!UYG9","v":0},{"$f":"Кредит!UYH9","v":0},{"$f":"Кредит!UYI9","v":0},{"$f":"Кредит!UYJ9","v":0},{"$f":"Кредит!UYK9","v":0},{"$f":"Кредит!UYL9","v":0},{"$f":"Кредит!UYM9","v":0},{"$f":"Кредит!UYN9","v":0},{"$f":"Кредит!UYO9","v":0},{"$f":"Кредит!UYP9","v":0},{"$f":"Кредит!UYQ9","v":0},{"$f":"Кредит!UYR9","v":0},{"$f":"Кредит!UYS9","v":0},{"$f":"Кредит!UYT9","v":0},{"$f":"Кредит!UYU9","v":0},{"$f":"Кредит!UYV9","v":0},{"$f":"Кредит!UYW9","v":0},{"$f":"Кредит!UYX9","v":0},{"$f":"Кредит!UYY9","v":0},{"$f":"Кредит!UYZ9","v":0},{"$f":"Кредит!UZA9","v":0},{"$f":"Кредит!UZB9","v":0},{"$f":"Кредит!UZC9","v":0},{"$f":"Кредит!UZD9","v":0},{"$f":"Кредит!UZE9","v":0},{"$f":"Кредит!UZF9","v":0},{"$f":"Кредит!UZG9","v":0},{"$f":"Кредит!UZH9","v":0},{"$f":"Кредит!UZI9","v":0},{"$f":"Кредит!UZJ9","v":0},{"$f":"Кредит!UZK9","v":0},{"$f":"Кредит!UZL9","v":0},{"$f":"Кредит!UZM9","v":0},{"$f":"Кредит!UZN9","v":0},{"$f":"Кредит!UZO9","v":0},{"$f":"Кредит!UZP9","v":0},{"$f":"Кредит!UZQ9","v":0},{"$f":"Кредит!UZR9","v":0},{"$f":"Кредит!UZS9","v":0},{"$f":"Кредит!UZT9","v":0},{"$f":"Кредит!UZU9","v":0},{"$f":"Кредит!UZV9","v":0},{"$f":"Кредит!UZW9","v":0},{"$f":"Кредит!UZX9","v":0},{"$f":"Кредит!UZY9","v":0},{"$f":"Кредит!UZZ9","v":0},{"$f":"Кредит!VAA9","v":0},{"$f":"Кредит!VAB9","v":0},{"$f":"Кредит!VAC9","v":0},{"$f":"Кредит!VAD9","v":0},{"$f":"Кредит!VAE9","v":0},{"$f":"Кредит!VAF9","v":0},{"$f":"Кредит!VAG9","v":0},{"$f":"Кредит!VAH9","v":0},{"$f":"Кредит!VAI9","v":0},{"$f":"Кредит!VAJ9","v":0},{"$f":"Кредит!VAK9","v":0},{"$f":"Кредит!VAL9","v":0},{"$f":"Кредит!VAM9","v":0},{"$f":"Кредит!VAN9","v":0},{"$f":"Кредит!VAO9","v":0},{"$f":"Кредит!VAP9","v":0},{"$f":"Кредит!VAQ9","v":0},{"$f":"Кредит!VAR9","v":0},{"$f":"Кредит!VAS9","v":0},{"$f":"Кредит!VAT9","v":0},{"$f":"Кредит!VAU9","v":0},{"$f":"Кредит!VAV9","v":0},{"$f":"Кредит!VAW9","v":0},{"$f":"Кредит!VAX9","v":0},{"$f":"Кредит!VAY9","v":0},{"$f":"Кредит!VAZ9","v":0},{"$f":"Кредит!VBA9","v":0},{"$f":"Кредит!VBB9","v":0},{"$f":"Кредит!VBC9","v":0},{"$f":"Кредит!VBD9","v":0},{"$f":"Кредит!VBE9","v":0},{"$f":"Кредит!VBF9","v":0},{"$f":"Кредит!VBG9","v":0},{"$f":"Кредит!VBH9","v":0},{"$f":"Кредит!VBI9","v":0},{"$f":"Кредит!VBJ9","v":0},{"$f":"Кредит!VBK9","v":0},{"$f":"Кредит!VBL9","v":0},{"$f":"Кредит!VBM9","v":0},{"$f":"Кредит!VBN9","v":0},{"$f":"Кредит!VBO9","v":0},{"$f":"Кредит!VBP9","v":0},{"$f":"Кредит!VBQ9","v":0},{"$f":"Кредит!VBR9","v":0},{"$f":"Кредит!VBS9","v":0},{"$f":"Кредит!VBT9","v":0},{"$f":"Кредит!VBU9","v":0},{"$f":"Кредит!VBV9","v":0},{"$f":"Кредит!VBW9","v":0},{"$f":"Кредит!VBX9","v":0},{"$f":"Кредит!VBY9","v":0},{"$f":"Кредит!VBZ9","v":0},{"$f":"Кредит!VCA9","v":0},{"$f":"Кредит!VCB9","v":0},{"$f":"Кредит!VCC9","v":0},{"$f":"Кредит!VCD9","v":0},{"$f":"Кредит!VCE9","v":0},{"$f":"Кредит!VCF9","v":0},{"$f":"Кредит!VCG9","v":0},{"$f":"Кредит!VCH9","v":0},{"$f":"Кредит!VCI9","v":0},{"$f":"Кредит!VCJ9","v":0},{"$f":"Кредит!VCK9","v":0},{"$f":"Кредит!VCL9","v":0},{"$f":"Кредит!VCM9","v":0},{"$f":"Кредит!VCN9","v":0},{"$f":"Кредит!VCO9","v":0},{"$f":"Кредит!VCP9","v":0},{"$f":"Кредит!VCQ9","v":0},{"$f":"Кредит!VCR9","v":0},{"$f":"Кредит!VCS9","v":0},{"$f":"Кредит!VCT9","v":0},{"$f":"Кредит!VCU9","v":0},{"$f":"Кредит!VCV9","v":0},{"$f":"Кредит!VCW9","v":0},{"$f":"Кредит!VCX9","v":0},{"$f":"Кредит!VCY9","v":0},{"$f":"Кредит!VCZ9","v":0},{"$f":"Кредит!VDA9","v":0},{"$f":"Кредит!VDB9","v":0},{"$f":"Кредит!VDC9","v":0},{"$f":"Кредит!VDD9","v":0},{"$f":"Кредит!VDE9","v":0},{"$f":"Кредит!VDF9","v":0},{"$f":"Кредит!VDG9","v":0},{"$f":"Кредит!VDH9","v":0},{"$f":"Кредит!VDI9","v":0},{"$f":"Кредит!VDJ9","v":0},{"$f":"Кредит!VDK9","v":0},{"$f":"Кредит!VDL9","v":0},{"$f":"Кредит!VDM9","v":0},{"$f":"Кредит!VDN9","v":0},{"$f":"Кредит!VDO9","v":0},{"$f":"Кредит!VDP9","v":0},{"$f":"Кредит!VDQ9","v":0},{"$f":"Кредит!VDR9","v":0},{"$f":"Кредит!VDS9","v":0},{"$f":"Кредит!VDT9","v":0},{"$f":"Кредит!VDU9","v":0},{"$f":"Кредит!VDV9","v":0},{"$f":"Кредит!VDW9","v":0},{"$f":"Кредит!VDX9","v":0},{"$f":"Кредит!VDY9","v":0},{"$f":"Кредит!VDZ9","v":0},{"$f":"Кредит!VEA9","v":0},{"$f":"Кредит!VEB9","v":0},{"$f":"Кредит!VEC9","v":0},{"$f":"Кредит!VED9","v":0},{"$f":"Кредит!VEE9","v":0},{"$f":"Кредит!VEF9","v":0},{"$f":"Кредит!VEG9","v":0},{"$f":"Кредит!VEH9","v":0},{"$f":"Кредит!VEI9","v":0},{"$f":"Кредит!VEJ9","v":0},{"$f":"Кредит!VEK9","v":0},{"$f":"Кредит!VEL9","v":0},{"$f":"Кредит!VEM9","v":0},{"$f":"Кредит!VEN9","v":0},{"$f":"Кредит!VEO9","v":0},{"$f":"Кредит!VEP9","v":0},{"$f":"Кредит!VEQ9","v":0},{"$f":"Кредит!VER9","v":0},{"$f":"Кредит!VES9","v":0},{"$f":"Кредит!VET9","v":0},{"$f":"Кредит!VEU9","v":0},{"$f":"Кредит!VEV9","v":0},{"$f":"Кредит!VEW9","v":0},{"$f":"Кредит!VEX9","v":0},{"$f":"Кредит!VEY9","v":0},{"$f":"Кредит!VEZ9","v":0},{"$f":"Кредит!VFA9","v":0},{"$f":"Кредит!VFB9","v":0},{"$f":"Кредит!VFC9","v":0},{"$f":"Кредит!VFD9","v":0},{"$f":"Кредит!VFE9","v":0},{"$f":"Кредит!VFF9","v":0},{"$f":"Кредит!VFG9","v":0},{"$f":"Кредит!VFH9","v":0},{"$f":"Кредит!VFI9","v":0},{"$f":"Кредит!VFJ9","v":0},{"$f":"Кредит!VFK9","v":0},{"$f":"Кредит!VFL9","v":0},{"$f":"Кредит!VFM9","v":0},{"$f":"Кредит!VFN9","v":0},{"$f":"Кредит!VFO9","v":0},{"$f":"Кредит!VFP9","v":0},{"$f":"Кредит!VFQ9","v":0},{"$f":"Кредит!VFR9","v":0},{"$f":"Кредит!VFS9","v":0},{"$f":"Кредит!VFT9","v":0},{"$f":"Кредит!VFU9","v":0},{"$f":"Кредит!VFV9","v":0},{"$f":"Кредит!VFW9","v":0},{"$f":"Кредит!VFX9","v":0},{"$f":"Кредит!VFY9","v":0},{"$f":"Кредит!VFZ9","v":0},{"$f":"Кредит!VGA9","v":0},{"$f":"Кредит!VGB9","v":0},{"$f":"Кредит!VGC9","v":0},{"$f":"Кредит!VGD9","v":0},{"$f":"Кредит!VGE9","v":0},{"$f":"Кредит!VGF9","v":0},{"$f":"Кредит!VGG9","v":0},{"$f":"Кредит!VGH9","v":0},{"$f":"Кредит!VGI9","v":0},{"$f":"Кредит!VGJ9","v":0},{"$f":"Кредит!VGK9","v":0},{"$f":"Кредит!VGL9","v":0},{"$f":"Кредит!VGM9","v":0},{"$f":"Кредит!VGN9","v":0},{"$f":"Кредит!VGO9","v":0},{"$f":"Кредит!VGP9","v":0},{"$f":"Кредит!VGQ9","v":0},{"$f":"Кредит!VGR9","v":0},{"$f":"Кредит!VGS9","v":0},{"$f":"Кредит!VGT9","v":0},{"$f":"Кредит!VGU9","v":0},{"$f":"Кредит!VGV9","v":0},{"$f":"Кредит!VGW9","v":0},{"$f":"Кредит!VGX9","v":0},{"$f":"Кредит!VGY9","v":0},{"$f":"Кредит!VGZ9","v":0},{"$f":"Кредит!VHA9","v":0},{"$f":"Кредит!VHB9","v":0},{"$f":"Кредит!VHC9","v":0},{"$f":"Кредит!VHD9","v":0},{"$f":"Кредит!VHE9","v":0},{"$f":"Кредит!VHF9","v":0},{"$f":"Кредит!VHG9","v":0},{"$f":"Кредит!VHH9","v":0},{"$f":"Кредит!VHI9","v":0},{"$f":"Кредит!VHJ9","v":0},{"$f":"Кредит!VHK9","v":0},{"$f":"Кредит!VHL9","v":0},{"$f":"Кредит!VHM9","v":0},{"$f":"Кредит!VHN9","v":0},{"$f":"Кредит!VHO9","v":0},{"$f":"Кредит!VHP9","v":0},{"$f":"Кредит!VHQ9","v":0},{"$f":"Кредит!VHR9","v":0},{"$f":"Кредит!VHS9","v":0},{"$f":"Кредит!VHT9","v":0},{"$f":"Кредит!VHU9","v":0},{"$f":"Кредит!VHV9","v":0},{"$f":"Кредит!VHW9","v":0},{"$f":"Кредит!VHX9","v":0},{"$f":"Кредит!VHY9","v":0},{"$f":"Кредит!VHZ9","v":0},{"$f":"Кредит!VIA9","v":0},{"$f":"Кредит!VIB9","v":0},{"$f":"Кредит!VIC9","v":0},{"$f":"Кредит!VID9","v":0},{"$f":"Кредит!VIE9","v":0},{"$f":"Кредит!VIF9","v":0},{"$f":"Кредит!VIG9","v":0},{"$f":"Кредит!VIH9","v":0},{"$f":"Кредит!VII9","v":0},{"$f":"Кредит!VIJ9","v":0},{"$f":"Кредит!VIK9","v":0},{"$f":"Кредит!VIL9","v":0},{"$f":"Кредит!VIM9","v":0},{"$f":"Кредит!VIN9","v":0},{"$f":"Кредит!VIO9","v":0},{"$f":"Кредит!VIP9","v":0},{"$f":"Кредит!VIQ9","v":0},{"$f":"Кредит!VIR9","v":0},{"$f":"Кредит!VIS9","v":0},{"$f":"Кредит!VIT9","v":0},{"$f":"Кредит!VIU9","v":0},{"$f":"Кредит!VIV9","v":0},{"$f":"Кредит!VIW9","v":0},{"$f":"Кредит!VIX9","v":0},{"$f":"Кредит!VIY9","v":0},{"$f":"Кредит!VIZ9","v":0},{"$f":"Кредит!VJA9","v":0},{"$f":"Кредит!VJB9","v":0},{"$f":"Кредит!VJC9","v":0},{"$f":"Кредит!VJD9","v":0},{"$f":"Кредит!VJE9","v":0},{"$f":"Кредит!VJF9","v":0},{"$f":"Кредит!VJG9","v":0},{"$f":"Кредит!VJH9","v":0},{"$f":"Кредит!VJI9","v":0},{"$f":"Кредит!VJJ9","v":0},{"$f":"Кредит!VJK9","v":0},{"$f":"Кредит!VJL9","v":0},{"$f":"Кредит!VJM9","v":0},{"$f":"Кредит!VJN9","v":0},{"$f":"Кредит!VJO9","v":0},{"$f":"Кредит!VJP9","v":0},{"$f":"Кредит!VJQ9","v":0},{"$f":"Кредит!VJR9","v":0},{"$f":"Кредит!VJS9","v":0},{"$f":"Кредит!VJT9","v":0},{"$f":"Кредит!VJU9","v":0},{"$f":"Кредит!VJV9","v":0},{"$f":"Кредит!VJW9","v":0},{"$f":"Кредит!VJX9","v":0},{"$f":"Кредит!VJY9","v":0},{"$f":"Кредит!VJZ9","v":0},{"$f":"Кредит!VKA9","v":0},{"$f":"Кредит!VKB9","v":0},{"$f":"Кредит!VKC9","v":0},{"$f":"Кредит!VKD9","v":0},{"$f":"Кредит!VKE9","v":0},{"$f":"Кредит!VKF9","v":0},{"$f":"Кредит!VKG9","v":0},{"$f":"Кредит!VKH9","v":0},{"$f":"Кредит!VKI9","v":0},{"$f":"Кредит!VKJ9","v":0},{"$f":"Кредит!VKK9","v":0},{"$f":"Кредит!VKL9","v":0},{"$f":"Кредит!VKM9","v":0},{"$f":"Кредит!VKN9","v":0},{"$f":"Кредит!VKO9","v":0},{"$f":"Кредит!VKP9","v":0},{"$f":"Кредит!VKQ9","v":0},{"$f":"Кредит!VKR9","v":0},{"$f":"Кредит!VKS9","v":0},{"$f":"Кредит!VKT9","v":0},{"$f":"Кредит!VKU9","v":0},{"$f":"Кредит!VKV9","v":0},{"$f":"Кредит!VKW9","v":0},{"$f":"Кредит!VKX9","v":0},{"$f":"Кредит!VKY9","v":0},{"$f":"Кредит!VKZ9","v":0},{"$f":"Кредит!VLA9","v":0},{"$f":"Кредит!VLB9","v":0},{"$f":"Кредит!VLC9","v":0},{"$f":"Кредит!VLD9","v":0},{"$f":"Кредит!VLE9","v":0},{"$f":"Кредит!VLF9","v":0},{"$f":"Кредит!VLG9","v":0},{"$f":"Кредит!VLH9","v":0},{"$f":"Кредит!VLI9","v":0},{"$f":"Кредит!VLJ9","v":0},{"$f":"Кредит!VLK9","v":0},{"$f":"Кредит!VLL9","v":0},{"$f":"Кредит!VLM9","v":0},{"$f":"Кредит!VLN9","v":0},{"$f":"Кредит!VLO9","v":0},{"$f":"Кредит!VLP9","v":0},{"$f":"Кредит!VLQ9","v":0},{"$f":"Кредит!VLR9","v":0},{"$f":"Кредит!VLS9","v":0},{"$f":"Кредит!VLT9","v":0},{"$f":"Кредит!VLU9","v":0},{"$f":"Кредит!VLV9","v":0},{"$f":"Кредит!VLW9","v":0},{"$f":"Кредит!VLX9","v":0},{"$f":"Кредит!VLY9","v":0},{"$f":"Кредит!VLZ9","v":0},{"$f":"Кредит!VMA9","v":0},{"$f":"Кредит!VMB9","v":0},{"$f":"Кредит!VMC9","v":0},{"$f":"Кредит!VMD9","v":0},{"$f":"Кредит!VME9","v":0},{"$f":"Кредит!VMF9","v":0},{"$f":"Кредит!VMG9","v":0},{"$f":"Кредит!VMH9","v":0},{"$f":"Кредит!VMI9","v":0},{"$f":"Кредит!VMJ9","v":0},{"$f":"Кредит!VMK9","v":0},{"$f":"Кредит!VML9","v":0},{"$f":"Кредит!VMM9","v":0},{"$f":"Кредит!VMN9","v":0},{"$f":"Кредит!VMO9","v":0},{"$f":"Кредит!VMP9","v":0},{"$f":"Кредит!VMQ9","v":0},{"$f":"Кредит!VMR9","v":0},{"$f":"Кредит!VMS9","v":0},{"$f":"Кредит!VMT9","v":0},{"$f":"Кредит!VMU9","v":0},{"$f":"Кредит!VMV9","v":0},{"$f":"Кредит!VMW9","v":0},{"$f":"Кредит!VMX9","v":0},{"$f":"Кредит!VMY9","v":0},{"$f":"Кредит!VMZ9","v":0},{"$f":"Кредит!VNA9","v":0},{"$f":"Кредит!VNB9","v":0},{"$f":"Кредит!VNC9","v":0},{"$f":"Кредит!VND9","v":0},{"$f":"Кредит!VNE9","v":0},{"$f":"Кредит!VNF9","v":0},{"$f":"Кредит!VNG9","v":0},{"$f":"Кредит!VNH9","v":0},{"$f":"Кредит!VNI9","v":0},{"$f":"Кредит!VNJ9","v":0},{"$f":"Кредит!VNK9","v":0},{"$f":"Кредит!VNL9","v":0},{"$f":"Кредит!VNM9","v":0},{"$f":"Кредит!VNN9","v":0},{"$f":"Кредит!VNO9","v":0},{"$f":"Кредит!VNP9","v":0},{"$f":"Кредит!VNQ9","v":0},{"$f":"Кредит!VNR9","v":0},{"$f":"Кредит!VNS9","v":0},{"$f":"Кредит!VNT9","v":0},{"$f":"Кредит!VNU9","v":0},{"$f":"Кредит!VNV9","v":0},{"$f":"Кредит!VNW9","v":0},{"$f":"Кредит!VNX9","v":0},{"$f":"Кредит!VNY9","v":0},{"$f":"Кредит!VNZ9","v":0},{"$f":"Кредит!VOA9","v":0},{"$f":"Кредит!VOB9","v":0},{"$f":"Кредит!VOC9","v":0},{"$f":"Кредит!VOD9","v":0},{"$f":"Кредит!VOE9","v":0},{"$f":"Кредит!VOF9","v":0},{"$f":"Кредит!VOG9","v":0},{"$f":"Кредит!VOH9","v":0},{"$f":"Кредит!VOI9","v":0},{"$f":"Кредит!VOJ9","v":0},{"$f":"Кредит!VOK9","v":0},{"$f":"Кредит!VOL9","v":0},{"$f":"Кредит!VOM9","v":0},{"$f":"Кредит!VON9","v":0},{"$f":"Кредит!VOO9","v":0},{"$f":"Кредит!VOP9","v":0},{"$f":"Кредит!VOQ9","v":0},{"$f":"Кредит!VOR9","v":0},{"$f":"Кредит!VOS9","v":0},{"$f":"Кредит!VOT9","v":0},{"$f":"Кредит!VOU9","v":0},{"$f":"Кредит!VOV9","v":0},{"$f":"Кредит!VOW9","v":0},{"$f":"Кредит!VOX9","v":0},{"$f":"Кредит!VOY9","v":0},{"$f":"Кредит!VOZ9","v":0},{"$f":"Кредит!VPA9","v":0},{"$f":"Кредит!VPB9","v":0},{"$f":"Кредит!VPC9","v":0},{"$f":"Кредит!VPD9","v":0},{"$f":"Кредит!VPE9","v":0},{"$f":"Кредит!VPF9","v":0},{"$f":"Кредит!VPG9","v":0},{"$f":"Кредит!VPH9","v":0},{"$f":"Кредит!VPI9","v":0},{"$f":"Кредит!VPJ9","v":0},{"$f":"Кредит!VPK9","v":0},{"$f":"Кредит!VPL9","v":0},{"$f":"Кредит!VPM9","v":0},{"$f":"Кредит!VPN9","v":0},{"$f":"Кредит!VPO9","v":0},{"$f":"Кредит!VPP9","v":0},{"$f":"Кредит!VPQ9","v":0},{"$f":"Кредит!VPR9","v":0},{"$f":"Кредит!VPS9","v":0},{"$f":"Кредит!VPT9","v":0},{"$f":"Кредит!VPU9","v":0},{"$f":"Кредит!VPV9","v":0},{"$f":"Кредит!VPW9","v":0},{"$f":"Кредит!VPX9","v":0},{"$f":"Кредит!VPY9","v":0},{"$f":"Кредит!VPZ9","v":0},{"$f":"Кредит!VQA9","v":0},{"$f":"Кредит!VQB9","v":0},{"$f":"Кредит!VQC9","v":0},{"$f":"Кредит!VQD9","v":0},{"$f":"Кредит!VQE9","v":0},{"$f":"Кредит!VQF9","v":0},{"$f":"Кредит!VQG9","v":0},{"$f":"Кредит!VQH9","v":0},{"$f":"Кредит!VQI9","v":0},{"$f":"Кредит!VQJ9","v":0},{"$f":"Кредит!VQK9","v":0},{"$f":"Кредит!VQL9","v":0},{"$f":"Кредит!VQM9","v":0},{"$f":"Кредит!VQN9","v":0},{"$f":"Кредит!VQO9","v":0},{"$f":"Кредит!VQP9","v":0},{"$f":"Кредит!VQQ9","v":0},{"$f":"Кредит!VQR9","v":0},{"$f":"Кредит!VQS9","v":0},{"$f":"Кредит!VQT9","v":0},{"$f":"Кредит!VQU9","v":0},{"$f":"Кредит!VQV9","v":0},{"$f":"Кредит!VQW9","v":0},{"$f":"Кредит!VQX9","v":0},{"$f":"Кредит!VQY9","v":0},{"$f":"Кредит!VQZ9","v":0},{"$f":"Кредит!VRA9","v":0},{"$f":"Кредит!VRB9","v":0},{"$f":"Кредит!VRC9","v":0},{"$f":"Кредит!VRD9","v":0},{"$f":"Кредит!VRE9","v":0},{"$f":"Кредит!VRF9","v":0},{"$f":"Кредит!VRG9","v":0},{"$f":"Кредит!VRH9","v":0},{"$f":"Кредит!VRI9","v":0},{"$f":"Кредит!VRJ9","v":0},{"$f":"Кредит!VRK9","v":0},{"$f":"Кредит!VRL9","v":0},{"$f":"Кредит!VRM9","v":0},{"$f":"Кредит!VRN9","v":0},{"$f":"Кредит!VRO9","v":0},{"$f":"Кредит!VRP9","v":0},{"$f":"Кредит!VRQ9","v":0},{"$f":"Кредит!VRR9","v":0},{"$f":"Кредит!VRS9","v":0},{"$f":"Кредит!VRT9","v":0},{"$f":"Кредит!VRU9","v":0},{"$f":"Кредит!VRV9","v":0},{"$f":"Кредит!VRW9","v":0},{"$f":"Кредит!VRX9","v":0},{"$f":"Кредит!VRY9","v":0},{"$f":"Кредит!VRZ9","v":0},{"$f":"Кредит!VSA9","v":0},{"$f":"Кредит!VSB9","v":0},{"$f":"Кредит!VSC9","v":0},{"$f":"Кредит!VSD9","v":0},{"$f":"Кредит!VSE9","v":0},{"$f":"Кредит!VSF9","v":0},{"$f":"Кредит!VSG9","v":0},{"$f":"Кредит!VSH9","v":0},{"$f":"Кредит!VSI9","v":0},{"$f":"Кредит!VSJ9","v":0},{"$f":"Кредит!VSK9","v":0},{"$f":"Кредит!VSL9","v":0},{"$f":"Кредит!VSM9","v":0},{"$f":"Кредит!VSN9","v":0},{"$f":"Кредит!VSO9","v":0},{"$f":"Кредит!VSP9","v":0},{"$f":"Кредит!VSQ9","v":0},{"$f":"Кредит!VSR9","v":0},{"$f":"Кредит!VSS9","v":0},{"$f":"Кредит!VST9","v":0},{"$f":"Кредит!VSU9","v":0},{"$f":"Кредит!VSV9","v":0},{"$f":"Кредит!VSW9","v":0},{"$f":"Кредит!VSX9","v":0},{"$f":"Кредит!VSY9","v":0},{"$f":"Кредит!VSZ9","v":0},{"$f":"Кредит!VTA9","v":0},{"$f":"Кредит!VTB9","v":0},{"$f":"Кредит!VTC9","v":0},{"$f":"Кредит!VTD9","v":0},{"$f":"Кредит!VTE9","v":0},{"$f":"Кредит!VTF9","v":0},{"$f":"Кредит!VTG9","v":0},{"$f":"Кредит!VTH9","v":0},{"$f":"Кредит!VTI9","v":0},{"$f":"Кредит!VTJ9","v":0},{"$f":"Кредит!VTK9","v":0},{"$f":"Кредит!VTL9","v":0},{"$f":"Кредит!VTM9","v":0},{"$f":"Кредит!VTN9","v":0},{"$f":"Кредит!VTO9","v":0},{"$f":"Кредит!VTP9","v":0},{"$f":"Кредит!VTQ9","v":0},{"$f":"Кредит!VTR9","v":0},{"$f":"Кредит!VTS9","v":0},{"$f":"Кредит!VTT9","v":0},{"$f":"Кредит!VTU9","v":0},{"$f":"Кредит!VTV9","v":0},{"$f":"Кредит!VTW9","v":0},{"$f":"Кредит!VTX9","v":0},{"$f":"Кредит!VTY9","v":0},{"$f":"Кредит!VTZ9","v":0},{"$f":"Кредит!VUA9","v":0},{"$f":"Кредит!VUB9","v":0},{"$f":"Кредит!VUC9","v":0},{"$f":"Кредит!VUD9","v":0},{"$f":"Кредит!VUE9","v":0},{"$f":"Кредит!VUF9","v":0},{"$f":"Кредит!VUG9","v":0},{"$f":"Кредит!VUH9","v":0},{"$f":"Кредит!VUI9","v":0},{"$f":"Кредит!VUJ9","v":0},{"$f":"Кредит!VUK9","v":0},{"$f":"Кредит!VUL9","v":0},{"$f":"Кредит!VUM9","v":0},{"$f":"Кредит!VUN9","v":0},{"$f":"Кредит!VUO9","v":0},{"$f":"Кредит!VUP9","v":0},{"$f":"Кредит!VUQ9","v":0},{"$f":"Кредит!VUR9","v":0},{"$f":"Кредит!VUS9","v":0},{"$f":"Кредит!VUT9","v":0},{"$f":"Кредит!VUU9","v":0},{"$f":"Кредит!VUV9","v":0},{"$f":"Кредит!VUW9","v":0},{"$f":"Кредит!VUX9","v":0},{"$f":"Кредит!VUY9","v":0},{"$f":"Кредит!VUZ9","v":0},{"$f":"Кредит!VVA9","v":0},{"$f":"Кредит!VVB9","v":0},{"$f":"Кредит!VVC9","v":0},{"$f":"Кредит!VVD9","v":0},{"$f":"Кредит!VVE9","v":0},{"$f":"Кредит!VVF9","v":0},{"$f":"Кредит!VVG9","v":0},{"$f":"Кредит!VVH9","v":0},{"$f":"Кредит!VVI9","v":0},{"$f":"Кредит!VVJ9","v":0},{"$f":"Кредит!VVK9","v":0},{"$f":"Кредит!VVL9","v":0},{"$f":"Кредит!VVM9","v":0},{"$f":"Кредит!VVN9","v":0},{"$f":"Кредит!VVO9","v":0},{"$f":"Кредит!VVP9","v":0},{"$f":"Кредит!VVQ9","v":0},{"$f":"Кредит!VVR9","v":0},{"$f":"Кредит!VVS9","v":0},{"$f":"Кредит!VVT9","v":0},{"$f":"Кредит!VVU9","v":0},{"$f":"Кредит!VVV9","v":0},{"$f":"Кредит!VVW9","v":0},{"$f":"Кредит!VVX9","v":0},{"$f":"Кредит!VVY9","v":0},{"$f":"Кредит!VVZ9","v":0},{"$f":"Кредит!VWA9","v":0},{"$f":"Кредит!VWB9","v":0},{"$f":"Кредит!VWC9","v":0},{"$f":"Кредит!VWD9","v":0},{"$f":"Кредит!VWE9","v":0},{"$f":"Кредит!VWF9","v":0},{"$f":"Кредит!VWG9","v":0},{"$f":"Кредит!VWH9","v":0},{"$f":"Кредит!VWI9","v":0},{"$f":"Кредит!VWJ9","v":0},{"$f":"Кредит!VWK9","v":0},{"$f":"Кредит!VWL9","v":0},{"$f":"Кредит!VWM9","v":0},{"$f":"Кредит!VWN9","v":0},{"$f":"Кредит!VWO9","v":0},{"$f":"Кредит!VWP9","v":0},{"$f":"Кредит!VWQ9","v":0},{"$f":"Кредит!VWR9","v":0},{"$f":"Кредит!VWS9","v":0},{"$f":"Кредит!VWT9","v":0},{"$f":"Кредит!VWU9","v":0},{"$f":"Кредит!VWV9","v":0},{"$f":"Кредит!VWW9","v":0},{"$f":"Кредит!VWX9","v":0},{"$f":"Кредит!VWY9","v":0},{"$f":"Кредит!VWZ9","v":0},{"$f":"Кредит!VXA9","v":0},{"$f":"Кредит!VXB9","v":0},{"$f":"Кредит!VXC9","v":0},{"$f":"Кредит!VXD9","v":0},{"$f":"Кредит!VXE9","v":0},{"$f":"Кредит!VXF9","v":0},{"$f":"Кредит!VXG9","v":0},{"$f":"Кредит!VXH9","v":0},{"$f":"Кредит!VXI9","v":0},{"$f":"Кредит!VXJ9","v":0},{"$f":"Кредит!VXK9","v":0},{"$f":"Кредит!VXL9","v":0},{"$f":"Кредит!VXM9","v":0},{"$f":"Кредит!VXN9","v":0},{"$f":"Кредит!VXO9","v":0},{"$f":"Кредит!VXP9","v":0},{"$f":"Кредит!VXQ9","v":0},{"$f":"Кредит!VXR9","v":0},{"$f":"Кредит!VXS9","v":0},{"$f":"Кредит!VXT9","v":0},{"$f":"Кредит!VXU9","v":0},{"$f":"Кредит!VXV9","v":0},{"$f":"Кредит!VXW9","v":0},{"$f":"Кредит!VXX9","v":0},{"$f":"Кредит!VXY9","v":0},{"$f":"Кредит!VXZ9","v":0},{"$f":"Кредит!VYA9","v":0},{"$f":"Кредит!VYB9","v":0},{"$f":"Кредит!VYC9","v":0},{"$f":"Кредит!VYD9","v":0},{"$f":"Кредит!VYE9","v":0},{"$f":"Кредит!VYF9","v":0},{"$f":"Кредит!VYG9","v":0},{"$f":"Кредит!VYH9","v":0},{"$f":"Кредит!VYI9","v":0},{"$f":"Кредит!VYJ9","v":0},{"$f":"Кредит!VYK9","v":0},{"$f":"Кредит!VYL9","v":0},{"$f":"Кредит!VYM9","v":0},{"$f":"Кредит!VYN9","v":0},{"$f":"Кредит!VYO9","v":0},{"$f":"Кредит!VYP9","v":0},{"$f":"Кредит!VYQ9","v":0},{"$f":"Кредит!VYR9","v":0},{"$f":"Кредит!VYS9","v":0},{"$f":"Кредит!VYT9","v":0},{"$f":"Кредит!VYU9","v":0},{"$f":"Кредит!VYV9","v":0},{"$f":"Кредит!VYW9","v":0},{"$f":"Кредит!VYX9","v":0},{"$f":"Кредит!VYY9","v":0},{"$f":"Кредит!VYZ9","v":0},{"$f":"Кредит!VZA9","v":0},{"$f":"Кредит!VZB9","v":0},{"$f":"Кредит!VZC9","v":0},{"$f":"Кредит!VZD9","v":0},{"$f":"Кредит!VZE9","v":0},{"$f":"Кредит!VZF9","v":0},{"$f":"Кредит!VZG9","v":0},{"$f":"Кредит!VZH9","v":0},{"$f":"Кредит!VZI9","v":0},{"$f":"Кредит!VZJ9","v":0},{"$f":"Кредит!VZK9","v":0},{"$f":"Кредит!VZL9","v":0},{"$f":"Кредит!VZM9","v":0},{"$f":"Кредит!VZN9","v":0},{"$f":"Кредит!VZO9","v":0},{"$f":"Кредит!VZP9","v":0},{"$f":"Кредит!VZQ9","v":0},{"$f":"Кредит!VZR9","v":0},{"$f":"Кредит!VZS9","v":0},{"$f":"Кредит!VZT9","v":0},{"$f":"Кредит!VZU9","v":0},{"$f":"Кредит!VZV9","v":0},{"$f":"Кредит!VZW9","v":0},{"$f":"Кредит!VZX9","v":0},{"$f":"Кредит!VZY9","v":0},{"$f":"Кредит!VZZ9","v":0},{"$f":"Кредит!WAA9","v":0},{"$f":"Кредит!WAB9","v":0},{"$f":"Кредит!WAC9","v":0},{"$f":"Кредит!WAD9","v":0},{"$f":"Кредит!WAE9","v":0},{"$f":"Кредит!WAF9","v":0},{"$f":"Кредит!WAG9","v":0},{"$f":"Кредит!WAH9","v":0},{"$f":"Кредит!WAI9","v":0},{"$f":"Кредит!WAJ9","v":0},{"$f":"Кредит!WAK9","v":0},{"$f":"Кредит!WAL9","v":0},{"$f":"Кредит!WAM9","v":0},{"$f":"Кредит!WAN9","v":0},{"$f":"Кредит!WAO9","v":0},{"$f":"Кредит!WAP9","v":0},{"$f":"Кредит!WAQ9","v":0},{"$f":"Кредит!WAR9","v":0},{"$f":"Кредит!WAS9","v":0},{"$f":"Кредит!WAT9","v":0},{"$f":"Кредит!WAU9","v":0},{"$f":"Кредит!WAV9","v":0},{"$f":"Кредит!WAW9","v":0},{"$f":"Кредит!WAX9","v":0},{"$f":"Кредит!WAY9","v":0},{"$f":"Кредит!WAZ9","v":0},{"$f":"Кредит!WBA9","v":0},{"$f":"Кредит!WBB9","v":0},{"$f":"Кредит!WBC9","v":0},{"$f":"Кредит!WBD9","v":0},{"$f":"Кредит!WBE9","v":0},{"$f":"Кредит!WBF9","v":0},{"$f":"Кредит!WBG9","v":0},{"$f":"Кредит!WBH9","v":0},{"$f":"Кредит!WBI9","v":0},{"$f":"Кредит!WBJ9","v":0},{"$f":"Кредит!WBK9","v":0},{"$f":"Кредит!WBL9","v":0},{"$f":"Кредит!WBM9","v":0},{"$f":"Кредит!WBN9","v":0},{"$f":"Кредит!WBO9","v":0},{"$f":"Кредит!WBP9","v":0},{"$f":"Кредит!WBQ9","v":0},{"$f":"Кредит!WBR9","v":0},{"$f":"Кредит!WBS9","v":0},{"$f":"Кредит!WBT9","v":0},{"$f":"Кредит!WBU9","v":0},{"$f":"Кредит!WBV9","v":0},{"$f":"Кредит!WBW9","v":0},{"$f":"Кредит!WBX9","v":0},{"$f":"Кредит!WBY9","v":0},{"$f":"Кредит!WBZ9","v":0},{"$f":"Кредит!WCA9","v":0},{"$f":"Кредит!WCB9","v":0},{"$f":"Кредит!WCC9","v":0},{"$f":"Кредит!WCD9","v":0},{"$f":"Кредит!WCE9","v":0},{"$f":"Кредит!WCF9","v":0},{"$f":"Кредит!WCG9","v":0},{"$f":"Кредит!WCH9","v":0},{"$f":"Кредит!WCI9","v":0},{"$f":"Кредит!WCJ9","v":0},{"$f":"Кредит!WCK9","v":0},{"$f":"Кредит!WCL9","v":0},{"$f":"Кредит!WCM9","v":0},{"$f":"Кредит!WCN9","v":0},{"$f":"Кредит!WCO9","v":0},{"$f":"Кредит!WCP9","v":0},{"$f":"Кредит!WCQ9","v":0},{"$f":"Кредит!WCR9","v":0},{"$f":"Кредит!WCS9","v":0},{"$f":"Кредит!WCT9","v":0},{"$f":"Кредит!WCU9","v":0},{"$f":"Кредит!WCV9","v":0},{"$f":"Кредит!WCW9","v":0},{"$f":"Кредит!WCX9","v":0},{"$f":"Кредит!WCY9","v":0},{"$f":"Кредит!WCZ9","v":0},{"$f":"Кредит!WDA9","v":0},{"$f":"Кредит!WDB9","v":0},{"$f":"Кредит!WDC9","v":0},{"$f":"Кредит!WDD9","v":0},{"$f":"Кредит!WDE9","v":0},{"$f":"Кредит!WDF9","v":0},{"$f":"Кредит!WDG9","v":0},{"$f":"Кредит!WDH9","v":0},{"$f":"Кредит!WDI9","v":0},{"$f":"Кредит!WDJ9","v":0},{"$f":"Кредит!WDK9","v":0},{"$f":"Кредит!WDL9","v":0},{"$f":"Кредит!WDM9","v":0},{"$f":"Кредит!WDN9","v":0},{"$f":"Кредит!WDO9","v":0},{"$f":"Кредит!WDP9","v":0},{"$f":"Кредит!WDQ9","v":0},{"$f":"Кредит!WDR9","v":0},{"$f":"Кредит!WDS9","v":0},{"$f":"Кредит!WDT9","v":0},{"$f":"Кредит!WDU9","v":0},{"$f":"Кредит!WDV9","v":0},{"$f":"Кредит!WDW9","v":0},{"$f":"Кредит!WDX9","v":0},{"$f":"Кредит!WDY9","v":0},{"$f":"Кредит!WDZ9","v":0},{"$f":"Кредит!WEA9","v":0},{"$f":"Кредит!WEB9","v":0},{"$f":"Кредит!WEC9","v":0},{"$f":"Кредит!WED9","v":0},{"$f":"Кредит!WEE9","v":0},{"$f":"Кредит!WEF9","v":0},{"$f":"Кредит!WEG9","v":0},{"$f":"Кредит!WEH9","v":0},{"$f":"Кредит!WEI9","v":0},{"$f":"Кредит!WEJ9","v":0},{"$f":"Кредит!WEK9","v":0},{"$f":"Кредит!WEL9","v":0},{"$f":"Кредит!WEM9","v":0},{"$f":"Кредит!WEN9","v":0},{"$f":"Кредит!WEO9","v":0},{"$f":"Кредит!WEP9","v":0},{"$f":"Кредит!WEQ9","v":0},{"$f":"Кредит!WER9","v":0},{"$f":"Кредит!WES9","v":0},{"$f":"Кредит!WET9","v":0},{"$f":"Кредит!WEU9","v":0},{"$f":"Кредит!WEV9","v":0},{"$f":"Кредит!WEW9","v":0},{"$f":"Кредит!WEX9","v":0},{"$f":"Кредит!WEY9","v":0},{"$f":"Кредит!WEZ9","v":0},{"$f":"Кредит!WFA9","v":0},{"$f":"Кредит!WFB9","v":0},{"$f":"Кредит!WFC9","v":0},{"$f":"Кредит!WFD9","v":0},{"$f":"Кредит!WFE9","v":0},{"$f":"Кредит!WFF9","v":0},{"$f":"Кредит!WFG9","v":0},{"$f":"Кредит!WFH9","v":0},{"$f":"Кредит!WFI9","v":0},{"$f":"Кредит!WFJ9","v":0},{"$f":"Кредит!WFK9","v":0},{"$f":"Кредит!WFL9","v":0},{"$f":"Кредит!WFM9","v":0},{"$f":"Кредит!WFN9","v":0},{"$f":"Кредит!WFO9","v":0},{"$f":"Кредит!WFP9","v":0},{"$f":"Кредит!WFQ9","v":0},{"$f":"Кредит!WFR9","v":0},{"$f":"Кредит!WFS9","v":0},{"$f":"Кредит!WFT9","v":0},{"$f":"Кредит!WFU9","v":0},{"$f":"Кредит!WFV9","v":0},{"$f":"Кредит!WFW9","v":0},{"$f":"Кредит!WFX9","v":0},{"$f":"Кредит!WFY9","v":0},{"$f":"Кредит!WFZ9","v":0},{"$f":"Кредит!WGA9","v":0},{"$f":"Кредит!WGB9","v":0},{"$f":"Кредит!WGC9","v":0},{"$f":"Кредит!WGD9","v":0},{"$f":"Кредит!WGE9","v":0},{"$f":"Кредит!WGF9","v":0},{"$f":"Кредит!WGG9","v":0},{"$f":"Кредит!WGH9","v":0},{"$f":"Кредит!WGI9","v":0},{"$f":"Кредит!WGJ9","v":0},{"$f":"Кредит!WGK9","v":0},{"$f":"Кредит!WGL9","v":0},{"$f":"Кредит!WGM9","v":0},{"$f":"Кредит!WGN9","v":0},{"$f":"Кредит!WGO9","v":0},{"$f":"Кредит!WGP9","v":0},{"$f":"Кредит!WGQ9","v":0},{"$f":"Кредит!WGR9","v":0},{"$f":"Кредит!WGS9","v":0},{"$f":"Кредит!WGT9","v":0},{"$f":"Кредит!WGU9","v":0},{"$f":"Кредит!WGV9","v":0},{"$f":"Кредит!WGW9","v":0},{"$f":"Кредит!WGX9","v":0},{"$f":"Кредит!WGY9","v":0},{"$f":"Кредит!WGZ9","v":0},{"$f":"Кредит!WHA9","v":0},{"$f":"Кредит!WHB9","v":0},{"$f":"Кредит!WHC9","v":0},{"$f":"Кредит!WHD9","v":0},{"$f":"Кредит!WHE9","v":0},{"$f":"Кредит!WHF9","v":0},{"$f":"Кредит!WHG9","v":0},{"$f":"Кредит!WHH9","v":0},{"$f":"Кредит!WHI9","v":0},{"$f":"Кредит!WHJ9","v":0},{"$f":"Кредит!WHK9","v":0},{"$f":"Кредит!WHL9","v":0},{"$f":"Кредит!WHM9","v":0},{"$f":"Кредит!WHN9","v":0},{"$f":"Кредит!WHO9","v":0},{"$f":"Кредит!WHP9","v":0},{"$f":"Кредит!WHQ9","v":0},{"$f":"Кредит!WHR9","v":0},{"$f":"Кредит!WHS9","v":0},{"$f":"Кредит!WHT9","v":0},{"$f":"Кредит!WHU9","v":0},{"$f":"Кредит!WHV9","v":0},{"$f":"Кредит!WHW9","v":0},{"$f":"Кредит!WHX9","v":0},{"$f":"Кредит!WHY9","v":0},{"$f":"Кредит!WHZ9","v":0},{"$f":"Кредит!WIA9","v":0},{"$f":"Кредит!WIB9","v":0},{"$f":"Кредит!WIC9","v":0},{"$f":"Кредит!WID9","v":0},{"$f":"Кредит!WIE9","v":0},{"$f":"Кредит!WIF9","v":0},{"$f":"Кредит!WIG9","v":0},{"$f":"Кредит!WIH9","v":0},{"$f":"Кредит!WII9","v":0},{"$f":"Кредит!WIJ9","v":0},{"$f":"Кредит!WIK9","v":0},{"$f":"Кредит!WIL9","v":0},{"$f":"Кредит!WIM9","v":0},{"$f":"Кредит!WIN9","v":0},{"$f":"Кредит!WIO9","v":0},{"$f":"Кредит!WIP9","v":0},{"$f":"Кредит!WIQ9","v":0},{"$f":"Кредит!WIR9","v":0},{"$f":"Кредит!WIS9","v":0},{"$f":"Кредит!WIT9","v":0},{"$f":"Кредит!WIU9","v":0},{"$f":"Кредит!WIV9","v":0},{"$f":"Кредит!WIW9","v":0},{"$f":"Кредит!WIX9","v":0},{"$f":"Кредит!WIY9","v":0},{"$f":"Кредит!WIZ9","v":0},{"$f":"Кредит!WJA9","v":0},{"$f":"Кредит!WJB9","v":0},{"$f":"Кредит!WJC9","v":0},{"$f":"Кредит!WJD9","v":0},{"$f":"Кредит!WJE9","v":0},{"$f":"Кредит!WJF9","v":0},{"$f":"Кредит!WJG9","v":0},{"$f":"Кредит!WJH9","v":0},{"$f":"Кредит!WJI9","v":0},{"$f":"Кредит!WJJ9","v":0},{"$f":"Кредит!WJK9","v":0},{"$f":"Кредит!WJL9","v":0},{"$f":"Кредит!WJM9","v":0},{"$f":"Кредит!WJN9","v":0},{"$f":"Кредит!WJO9","v":0},{"$f":"Кредит!WJP9","v":0},{"$f":"Кредит!WJQ9","v":0},{"$f":"Кредит!WJR9","v":0},{"$f":"Кредит!WJS9","v":0},{"$f":"Кредит!WJT9","v":0},{"$f":"Кредит!WJU9","v":0},{"$f":"Кредит!WJV9","v":0},{"$f":"Кредит!WJW9","v":0},{"$f":"Кредит!WJX9","v":0},{"$f":"Кредит!WJY9","v":0},{"$f":"Кредит!WJZ9","v":0},{"$f":"Кредит!WKA9","v":0},{"$f":"Кредит!WKB9","v":0},{"$f":"Кредит!WKC9","v":0},{"$f":"Кредит!WKD9","v":0},{"$f":"Кредит!WKE9","v":0},{"$f":"Кредит!WKF9","v":0},{"$f":"Кредит!WKG9","v":0},{"$f":"Кредит!WKH9","v":0},{"$f":"Кредит!WKI9","v":0},{"$f":"Кредит!WKJ9","v":0},{"$f":"Кредит!WKK9","v":0},{"$f":"Кредит!WKL9","v":0},{"$f":"Кредит!WKM9","v":0},{"$f":"Кредит!WKN9","v":0},{"$f":"Кредит!WKO9","v":0},{"$f":"Кредит!WKP9","v":0},{"$f":"Кредит!WKQ9","v":0},{"$f":"Кредит!WKR9","v":0},{"$f":"Кредит!WKS9","v":0},{"$f":"Кредит!WKT9","v":0},{"$f":"Кредит!WKU9","v":0},{"$f":"Кредит!WKV9","v":0},{"$f":"Кредит!WKW9","v":0},{"$f":"Кредит!WKX9","v":0},{"$f":"Кредит!WKY9","v":0},{"$f":"Кредит!WKZ9","v":0},{"$f":"Кредит!WLA9","v":0},{"$f":"Кредит!WLB9","v":0},{"$f":"Кредит!WLC9","v":0},{"$f":"Кредит!WLD9","v":0},{"$f":"Кредит!WLE9","v":0},{"$f":"Кредит!WLF9","v":0},{"$f":"Кредит!WLG9","v":0},{"$f":"Кредит!WLH9","v":0},{"$f":"Кредит!WLI9","v":0},{"$f":"Кредит!WLJ9","v":0},{"$f":"Кредит!WLK9","v":0},{"$f":"Кредит!WLL9","v":0},{"$f":"Кредит!WLM9","v":0},{"$f":"Кредит!WLN9","v":0},{"$f":"Кредит!WLO9","v":0},{"$f":"Кредит!WLP9","v":0},{"$f":"Кредит!WLQ9","v":0},{"$f":"Кредит!WLR9","v":0},{"$f":"Кредит!WLS9","v":0},{"$f":"Кредит!WLT9","v":0},{"$f":"Кредит!WLU9","v":0},{"$f":"Кредит!WLV9","v":0},{"$f":"Кредит!WLW9","v":0},{"$f":"Кредит!WLX9","v":0},{"$f":"Кредит!WLY9","v":0},{"$f":"Кредит!WLZ9","v":0},{"$f":"Кредит!WMA9","v":0},{"$f":"Кредит!WMB9","v":0},{"$f":"Кредит!WMC9","v":0},{"$f":"Кредит!WMD9","v":0},{"$f":"Кредит!WME9","v":0},{"$f":"Кредит!WMF9","v":0},{"$f":"Кредит!WMG9","v":0},{"$f":"Кредит!WMH9","v":0},{"$f":"Кредит!WMI9","v":0},{"$f":"Кредит!WMJ9","v":0},{"$f":"Кредит!WMK9","v":0},{"$f":"Кредит!WML9","v":0},{"$f":"Кредит!WMM9","v":0},{"$f":"Кредит!WMN9","v":0},{"$f":"Кредит!WMO9","v":0},{"$f":"Кредит!WMP9","v":0},{"$f":"Кредит!WMQ9","v":0},{"$f":"Кредит!WMR9","v":0},{"$f":"Кредит!WMS9","v":0},{"$f":"Кредит!WMT9","v":0},{"$f":"Кредит!WMU9","v":0},{"$f":"Кредит!WMV9","v":0},{"$f":"Кредит!WMW9","v":0},{"$f":"Кредит!WMX9","v":0},{"$f":"Кредит!WMY9","v":0},{"$f":"Кредит!WMZ9","v":0},{"$f":"Кредит!WNA9","v":0},{"$f":"Кредит!WNB9","v":0},{"$f":"Кредит!WNC9","v":0},{"$f":"Кредит!WND9","v":0},{"$f":"Кредит!WNE9","v":0},{"$f":"Кредит!WNF9","v":0},{"$f":"Кредит!WNG9","v":0},{"$f":"Кредит!WNH9","v":0},{"$f":"Кредит!WNI9","v":0},{"$f":"Кредит!WNJ9","v":0},{"$f":"Кредит!WNK9","v":0},{"$f":"Кредит!WNL9","v":0},{"$f":"Кредит!WNM9","v":0},{"$f":"Кредит!WNN9","v":0},{"$f":"Кредит!WNO9","v":0},{"$f":"Кредит!WNP9","v":0},{"$f":"Кредит!WNQ9","v":0},{"$f":"Кредит!WNR9","v":0},{"$f":"Кредит!WNS9","v":0},{"$f":"Кредит!WNT9","v":0},{"$f":"Кредит!WNU9","v":0},{"$f":"Кредит!WNV9","v":0},{"$f":"Кредит!WNW9","v":0},{"$f":"Кредит!WNX9","v":0},{"$f":"Кредит!WNY9","v":0},{"$f":"Кредит!WNZ9","v":0},{"$f":"Кредит!WOA9","v":0},{"$f":"Кредит!WOB9","v":0},{"$f":"Кредит!WOC9","v":0},{"$f":"Кредит!WOD9","v":0},{"$f":"Кредит!WOE9","v":0},{"$f":"Кредит!WOF9","v":0},{"$f":"Кредит!WOG9","v":0},{"$f":"Кредит!WOH9","v":0},{"$f":"Кредит!WOI9","v":0},{"$f":"Кредит!WOJ9","v":0},{"$f":"Кредит!WOK9","v":0},{"$f":"Кредит!WOL9","v":0},{"$f":"Кредит!WOM9","v":0},{"$f":"Кредит!WON9","v":0},{"$f":"Кредит!WOO9","v":0},{"$f":"Кредит!WOP9","v":0},{"$f":"Кредит!WOQ9","v":0},{"$f":"Кредит!WOR9","v":0},{"$f":"Кредит!WOS9","v":0},{"$f":"Кредит!WOT9","v":0},{"$f":"Кредит!WOU9","v":0},{"$f":"Кредит!WOV9","v":0},{"$f":"Кредит!WOW9","v":0},{"$f":"Кредит!WOX9","v":0},{"$f":"Кредит!WOY9","v":0},{"$f":"Кредит!WOZ9","v":0},{"$f":"Кредит!WPA9","v":0},{"$f":"Кредит!WPB9","v":0},{"$f":"Кредит!WPC9","v":0},{"$f":"Кредит!WPD9","v":0},{"$f":"Кредит!WPE9","v":0},{"$f":"Кредит!WPF9","v":0},{"$f":"Кредит!WPG9","v":0},{"$f":"Кредит!WPH9","v":0},{"$f":"Кредит!WPI9","v":0},{"$f":"Кредит!WPJ9","v":0},{"$f":"Кредит!WPK9","v":0},{"$f":"Кредит!WPL9","v":0},{"$f":"Кредит!WPM9","v":0},{"$f":"Кредит!WPN9","v":0},{"$f":"Кредит!WPO9","v":0},{"$f":"Кредит!WPP9","v":0},{"$f":"Кредит!WPQ9","v":0},{"$f":"Кредит!WPR9","v":0},{"$f":"Кредит!WPS9","v":0},{"$f":"Кредит!WPT9","v":0},{"$f":"Кредит!WPU9","v":0},{"$f":"Кредит!WPV9","v":0},{"$f":"Кредит!WPW9","v":0},{"$f":"Кредит!WPX9","v":0},{"$f":"Кредит!WPY9","v":0},{"$f":"Кредит!WPZ9","v":0},{"$f":"Кредит!WQA9","v":0},{"$f":"Кредит!WQB9","v":0},{"$f":"Кредит!WQC9","v":0},{"$f":"Кредит!WQD9","v":0},{"$f":"Кредит!WQE9","v":0},{"$f":"Кредит!WQF9","v":0},{"$f":"Кредит!WQG9","v":0},{"$f":"Кредит!WQH9","v":0},{"$f":"Кредит!WQI9","v":0},{"$f":"Кредит!WQJ9","v":0},{"$f":"Кредит!WQK9","v":0},{"$f":"Кредит!WQL9","v":0},{"$f":"Кредит!WQM9","v":0},{"$f":"Кредит!WQN9","v":0},{"$f":"Кредит!WQO9","v":0},{"$f":"Кредит!WQP9","v":0},{"$f":"Кредит!WQQ9","v":0},{"$f":"Кредит!WQR9","v":0},{"$f":"Кредит!WQS9","v":0},{"$f":"Кредит!WQT9","v":0},{"$f":"Кредит!WQU9","v":0},{"$f":"Кредит!WQV9","v":0},{"$f":"Кредит!WQW9","v":0},{"$f":"Кредит!WQX9","v":0},{"$f":"Кредит!WQY9","v":0},{"$f":"Кредит!WQZ9","v":0},{"$f":"Кредит!WRA9","v":0},{"$f":"Кредит!WRB9","v":0},{"$f":"Кредит!WRC9","v":0},{"$f":"Кредит!WRD9","v":0},{"$f":"Кредит!WRE9","v":0},{"$f":"Кредит!WRF9","v":0},{"$f":"Кредит!WRG9","v":0},{"$f":"Кредит!WRH9","v":0},{"$f":"Кредит!WRI9","v":0},{"$f":"Кредит!WRJ9","v":0},{"$f":"Кредит!WRK9","v":0},{"$f":"Кредит!WRL9","v":0},{"$f":"Кредит!WRM9","v":0},{"$f":"Кредит!WRN9","v":0},{"$f":"Кредит!WRO9","v":0},{"$f":"Кредит!WRP9","v":0},{"$f":"Кредит!WRQ9","v":0},{"$f":"Кредит!WRR9","v":0},{"$f":"Кредит!WRS9","v":0},{"$f":"Кредит!WRT9","v":0},{"$f":"Кредит!WRU9","v":0},{"$f":"Кредит!WRV9","v":0},{"$f":"Кредит!WRW9","v":0},{"$f":"Кредит!WRX9","v":0},{"$f":"Кредит!WRY9","v":0},{"$f":"Кредит!WRZ9","v":0},{"$f":"Кредит!WSA9","v":0},{"$f":"Кредит!WSB9","v":0},{"$f":"Кредит!WSC9","v":0},{"$f":"Кредит!WSD9","v":0},{"$f":"Кредит!WSE9","v":0},{"$f":"Кредит!WSF9","v":0},{"$f":"Кредит!WSG9","v":0},{"$f":"Кредит!WSH9","v":0},{"$f":"Кредит!WSI9","v":0},{"$f":"Кредит!WSJ9","v":0},{"$f":"Кредит!WSK9","v":0},{"$f":"Кредит!WSL9","v":0},{"$f":"Кредит!WSM9","v":0},{"$f":"Кредит!WSN9","v":0},{"$f":"Кредит!WSO9","v":0},{"$f":"Кредит!WSP9","v":0},{"$f":"Кредит!WSQ9","v":0},{"$f":"Кредит!WSR9","v":0},{"$f":"Кредит!WSS9","v":0},{"$f":"Кредит!WST9","v":0},{"$f":"Кредит!WSU9","v":0},{"$f":"Кредит!WSV9","v":0},{"$f":"Кредит!WSW9","v":0},{"$f":"Кредит!WSX9","v":0},{"$f":"Кредит!WSY9","v":0},{"$f":"Кредит!WSZ9","v":0},{"$f":"Кредит!WTA9","v":0},{"$f":"Кредит!WTB9","v":0},{"$f":"Кредит!WTC9","v":0},{"$f":"Кредит!WTD9","v":0},{"$f":"Кредит!WTE9","v":0},{"$f":"Кредит!WTF9","v":0},{"$f":"Кредит!WTG9","v":0},{"$f":"Кредит!WTH9","v":0},{"$f":"Кредит!WTI9","v":0},{"$f":"Кредит!WTJ9","v":0},{"$f":"Кредит!WTK9","v":0},{"$f":"Кредит!WTL9","v":0},{"$f":"Кредит!WTM9","v":0},{"$f":"Кредит!WTN9","v":0},{"$f":"Кредит!WTO9","v":0},{"$f":"Кредит!WTP9","v":0},{"$f":"Кредит!WTQ9","v":0},{"$f":"Кредит!WTR9","v":0},{"$f":"Кредит!WTS9","v":0},{"$f":"Кредит!WTT9","v":0},{"$f":"Кредит!WTU9","v":0},{"$f":"Кредит!WTV9","v":0},{"$f":"Кредит!WTW9","v":0},{"$f":"Кредит!WTX9","v":0},{"$f":"Кредит!WTY9","v":0},{"$f":"Кредит!WTZ9","v":0},{"$f":"Кредит!WUA9","v":0},{"$f":"Кредит!WUB9","v":0},{"$f":"Кредит!WUC9","v":0},{"$f":"Кредит!WUD9","v":0},{"$f":"Кредит!WUE9","v":0},{"$f":"Кредит!WUF9","v":0},{"$f":"Кредит!WUG9","v":0},{"$f":"Кредит!WUH9","v":0},{"$f":"Кредит!WUI9","v":0},{"$f":"Кредит!WUJ9","v":0},{"$f":"Кредит!WUK9","v":0},{"$f":"Кредит!WUL9","v":0},{"$f":"Кредит!WUM9","v":0},{"$f":"Кредит!WUN9","v":0},{"$f":"Кредит!WUO9","v":0},{"$f":"Кредит!WUP9","v":0},{"$f":"Кредит!WUQ9","v":0},{"$f":"Кредит!WUR9","v":0},{"$f":"Кредит!WUS9","v":0},{"$f":"Кредит!WUT9","v":0},{"$f":"Кредит!WUU9","v":0},{"$f":"Кредит!WUV9","v":0},{"$f":"Кредит!WUW9","v":0},{"$f":"Кредит!WUX9","v":0},{"$f":"Кредит!WUY9","v":0},{"$f":"Кредит!WUZ9","v":0},{"$f":"Кредит!WVA9","v":0},{"$f":"Кредит!WVB9","v":0},{"$f":"Кредит!WVC9","v":0},{"$f":"Кредит!WVD9","v":0},{"$f":"Кредит!WVE9","v":0},{"$f":"Кредит!WVF9","v":0},{"$f":"Кредит!WVG9","v":0},{"$f":"Кредит!WVH9","v":0},{"$f":"Кредит!WVI9","v":0},{"$f":"Кредит!WVJ9","v":0},{"$f":"Кредит!WVK9","v":0},{"$f":"Кредит!WVL9","v":0},{"$f":"Кредит!WVM9","v":0},{"$f":"Кредит!WVN9","v":0},{"$f":"Кредит!WVO9","v":0},{"$f":"Кредит!WVP9","v":0},{"$f":"Кредит!WVQ9","v":0},{"$f":"Кредит!WVR9","v":0},{"$f":"Кредит!WVS9","v":0},{"$f":"Кредит!WVT9","v":0},{"$f":"Кредит!WVU9","v":0},{"$f":"Кредит!WVV9","v":0},{"$f":"Кредит!WVW9","v":0},{"$f":"Кредит!WVX9","v":0},{"$f":"Кредит!WVY9","v":0},{"$f":"Кредит!WVZ9","v":0},{"$f":"Кредит!WWA9","v":0},{"$f":"Кредит!WWB9","v":0},{"$f":"Кредит!WWC9","v":0},{"$f":"Кредит!WWD9","v":0},{"$f":"Кредит!WWE9","v":0},{"$f":"Кредит!WWF9","v":0},{"$f":"Кредит!WWG9","v":0},{"$f":"Кредит!WWH9","v":0},{"$f":"Кредит!WWI9","v":0},{"$f":"Кредит!WWJ9","v":0},{"$f":"Кредит!WWK9","v":0},{"$f":"Кредит!WWL9","v":0},{"$f":"Кредит!WWM9","v":0},{"$f":"Кредит!WWN9","v":0},{"$f":"Кредит!WWO9","v":0},{"$f":"Кредит!WWP9","v":0},{"$f":"Кредит!WWQ9","v":0},{"$f":"Кредит!WWR9","v":0},{"$f":"Кредит!WWS9","v":0},{"$f":"Кредит!WWT9","v":0},{"$f":"Кредит!WWU9","v":0},{"$f":"Кредит!WWV9","v":0},{"$f":"Кредит!WWW9","v":0},{"$f":"Кредит!WWX9","v":0},{"$f":"Кредит!WWY9","v":0},{"$f":"Кредит!WWZ9","v":0},{"$f":"Кредит!WXA9","v":0},{"$f":"Кредит!WXB9","v":0},{"$f":"Кредит!WXC9","v":0},{"$f":"Кредит!WXD9","v":0},{"$f":"Кредит!WXE9","v":0},{"$f":"Кредит!WXF9","v":0},{"$f":"Кредит!WXG9","v":0},{"$f":"Кредит!WXH9","v":0},{"$f":"Кредит!WXI9","v":0},{"$f":"Кредит!WXJ9","v":0},{"$f":"Кредит!WXK9","v":0},{"$f":"Кредит!WXL9","v":0},{"$f":"Кредит!WXM9","v":0},{"$f":"Кредит!WXN9","v":0},{"$f":"Кредит!WXO9","v":0},{"$f":"Кредит!WXP9","v":0},{"$f":"Кредит!WXQ9","v":0},{"$f":"Кредит!WXR9","v":0},{"$f":"Кредит!WXS9","v":0},{"$f":"Кредит!WXT9","v":0},{"$f":"Кредит!WXU9","v":0},{"$f":"Кредит!WXV9","v":0},{"$f":"Кредит!WXW9","v":0},{"$f":"Кредит!WXX9","v":0},{"$f":"Кредит!WXY9","v":0},{"$f":"Кредит!WXZ9","v":0},{"$f":"Кредит!WYA9","v":0},{"$f":"Кредит!WYB9","v":0},{"$f":"Кредит!WYC9","v":0},{"$f":"Кредит!WYD9","v":0},{"$f":"Кредит!WYE9","v":0},{"$f":"Кредит!WYF9","v":0},{"$f":"Кредит!WYG9","v":0},{"$f":"Кредит!WYH9","v":0},{"$f":"Кредит!WYI9","v":0},{"$f":"Кредит!WYJ9","v":0},{"$f":"Кредит!WYK9","v":0},{"$f":"Кредит!WYL9","v":0},{"$f":"Кредит!WYM9","v":0},{"$f":"Кредит!WYN9","v":0},{"$f":"Кредит!WYO9","v":0},{"$f":"Кредит!WYP9","v":0},{"$f":"Кредит!WYQ9","v":0},{"$f":"Кредит!WYR9","v":0},{"$f":"Кредит!WYS9","v":0},{"$f":"Кредит!WYT9","v":0},{"$f":"Кредит!WYU9","v":0},{"$f":"Кредит!WYV9","v":0},{"$f":"Кредит!WYW9","v":0},{"$f":"Кредит!WYX9","v":0},{"$f":"Кредит!WYY9","v":0},{"$f":"Кредит!WYZ9","v":0},{"$f":"Кредит!WZA9","v":0},{"$f":"Кредит!WZB9","v":0},{"$f":"Кредит!WZC9","v":0},{"$f":"Кредит!WZD9","v":0},{"$f":"Кредит!WZE9","v":0},{"$f":"Кредит!WZF9","v":0},{"$f":"Кредит!WZG9","v":0},{"$f":"Кредит!WZH9","v":0},{"$f":"Кредит!WZI9","v":0},{"$f":"Кредит!WZJ9","v":0},{"$f":"Кредит!WZK9","v":0},{"$f":"Кредит!WZL9","v":0},{"$f":"Кредит!WZM9","v":0},{"$f":"Кредит!WZN9","v":0},{"$f":"Кредит!WZO9","v":0},{"$f":"Кредит!WZP9","v":0},{"$f":"Кредит!WZQ9","v":0},{"$f":"Кредит!WZR9","v":0},{"$f":"Кредит!WZS9","v":0},{"$f":"Кредит!WZT9","v":0},{"$f":"Кредит!WZU9","v":0},{"$f":"Кредит!WZV9","v":0},{"$f":"Кредит!WZW9","v":0},{"$f":"Кредит!WZX9","v":0},{"$f":"Кредит!WZY9","v":0},{"$f":"Кредит!WZZ9","v":0},{"$f":"Кредит!XAA9","v":0},{"$f":"Кредит!XAB9","v":0},{"$f":"Кредит!XAC9","v":0},{"$f":"Кредит!XAD9","v":0},{"$f":"Кредит!XAE9","v":0},{"$f":"Кредит!XAF9","v":0},{"$f":"Кредит!XAG9","v":0},{"$f":"Кредит!XAH9","v":0},{"$f":"Кредит!XAI9","v":0},{"$f":"Кредит!XAJ9","v":0},{"$f":"Кредит!XAK9","v":0},{"$f":"Кредит!XAL9","v":0},{"$f":"Кредит!XAM9","v":0},{"$f":"Кредит!XAN9","v":0},{"$f":"Кредит!XAO9","v":0},{"$f":"Кредит!XAP9","v":0},{"$f":"Кредит!XAQ9","v":0},{"$f":"Кредит!XAR9","v":0},{"$f":"Кредит!XAS9","v":0},{"$f":"Кредит!XAT9","v":0},{"$f":"Кредит!XAU9","v":0},{"$f":"Кредит!XAV9","v":0},{"$f":"Кредит!XAW9","v":0},{"$f":"Кредит!XAX9","v":0},{"$f":"Кредит!XAY9","v":0},{"$f":"Кредит!XAZ9","v":0},{"$f":"Кредит!XBA9","v":0},{"$f":"Кредит!XBB9","v":0},{"$f":"Кредит!XBC9","v":0},{"$f":"Кредит!XBD9","v":0},{"$f":"Кредит!XBE9","v":0},{"$f":"Кредит!XBF9","v":0},{"$f":"Кредит!XBG9","v":0},{"$f":"Кредит!XBH9","v":0},{"$f":"Кредит!XBI9","v":0},{"$f":"Кредит!XBJ9","v":0},{"$f":"Кредит!XBK9","v":0},{"$f":"Кредит!XBL9","v":0},{"$f":"Кредит!XBM9","v":0},{"$f":"Кредит!XBN9","v":0},{"$f":"Кредит!XBO9","v":0},{"$f":"Кредит!XBP9","v":0},{"$f":"Кредит!XBQ9","v":0},{"$f":"Кредит!XBR9","v":0},{"$f":"Кредит!XBS9","v":0},{"$f":"Кредит!XBT9","v":0},{"$f":"Кредит!XBU9","v":0},{"$f":"Кредит!XBV9","v":0},{"$f":"Кредит!XBW9","v":0},{"$f":"Кредит!XBX9","v":0},{"$f":"Кредит!XBY9","v":0},{"$f":"Кредит!XBZ9","v":0},{"$f":"Кредит!XCA9","v":0},{"$f":"Кредит!XCB9","v":0},{"$f":"Кредит!XCC9","v":0},{"$f":"Кредит!XCD9","v":0},{"$f":"Кредит!XCE9","v":0},{"$f":"Кредит!XCF9","v":0},{"$f":"Кредит!XCG9","v":0},{"$f":"Кредит!XCH9","v":0},{"$f":"Кредит!XCI9","v":0},{"$f":"Кредит!XCJ9","v":0},{"$f":"Кредит!XCK9","v":0},{"$f":"Кредит!XCL9","v":0},{"$f":"Кредит!XCM9","v":0},{"$f":"Кредит!XCN9","v":0},{"$f":"Кредит!XCO9","v":0},{"$f":"Кредит!XCP9","v":0},{"$f":"Кредит!XCQ9","v":0},{"$f":"Кредит!XCR9","v":0},{"$f":"Кредит!XCS9","v":0},{"$f":"Кредит!XCT9","v":0},{"$f":"Кредит!XCU9","v":0},{"$f":"Кредит!XCV9","v":0},{"$f":"Кредит!XCW9","v":0},{"$f":"Кредит!XCX9","v":0},{"$f":"Кредит!XCY9","v":0},{"$f":"Кредит!XCZ9","v":0},{"$f":"Кредит!XDA9","v":0},{"$f":"Кредит!XDB9","v":0},{"$f":"Кредит!XDC9","v":0},{"$f":"Кредит!XDD9","v":0},{"$f":"Кредит!XDE9","v":0},{"$f":"Кредит!XDF9","v":0},{"$f":"Кредит!XDG9","v":0},{"$f":"Кредит!XDH9","v":0},{"$f":"Кредит!XDI9","v":0},{"$f":"Кредит!XDJ9","v":0},{"$f":"Кредит!XDK9","v":0},{"$f":"Кредит!XDL9","v":0},{"$f":"Кредит!XDM9","v":0},{"$f":"Кредит!XDN9","v":0},{"$f":"Кредит!XDO9","v":0},{"$f":"Кредит!XDP9","v":0},{"$f":"Кредит!XDQ9","v":0},{"$f":"Кредит!XDR9","v":0},{"$f":"Кредит!XDS9","v":0},{"$f":"Кредит!XDT9","v":0},{"$f":"Кредит!XDU9","v":0},{"$f":"Кредит!XDV9","v":0},{"$f":"Кредит!XDW9","v":0},{"$f":"Кредит!XDX9","v":0},{"$f":"Кредит!XDY9","v":0},{"$f":"Кредит!XDZ9","v":0},{"$f":"Кредит!XEA9","v":0},{"$f":"Кредит!XEB9","v":0},{"$f":"Кредит!XEC9","v":0},{"$f":"Кредит!XED9","v":0},{"$f":"Кредит!XEE9","v":0},{"$f":"Кредит!XEF9","v":0},{"$f":"Кредит!XEG9","v":0},{"$f":"Кредит!XEH9","v":0},{"$f":"Кредит!XEI9","v":0},{"$f":"Кредит!XEJ9","v":0},{"$f":"Кредит!XEK9","v":0},{"$f":"Кредит!XEL9","v":0},{"$f":"Кредит!XEM9","v":0},{"$f":"Кредит!XEN9","v":0},{"$f":"Кредит!XEO9","v":0},{"$f":"Кредит!XEP9","v":0},{"$f":"Кредит!XEQ9","v":0},{"$f":"Кредит!XER9","v":0},{"$f":"Кредит!XES9","v":0},{"$f":"Кредит!XET9","v":0},{"$f":"Кредит!XEU9","v":0},{"$f":"Кредит!XEV9","v":0},{"$f":"Кредит!XEW9","v":0},{"$f":"Кредит!XEX9","v":0},{"$f":"Кредит!XEY9","v":0},{"$f":"Кредит!XEZ9","v":0},{"$f":"Кредит!XFA9","v":0},{"$f":"Кредит!XFB9","v":0}]
[null,null,"Цена + 5%","млн руб.",57150,52421.65,46814.95,40329.9,32966.499999999993,24724.749999999993,15604.649999999992,5606.1999999999916,0,0]
[null,null,"Цена - 5%","млн руб.",58200,54761.2,50683.6,45967.199999999997,40612,34618,27985.200000000001,20713.599999999999,13442,6170.3999999999978]
[null,null,"Объемы + 10%","млн руб.",57325,52811.574999999997,47459.724999999999,41269.449999999997,34240.75,26373.625,17668.074999999997,8124.1,0,0]
[null,null,"Объемы - 10%","млн руб.",57815,53903.364999999998,49265.095000000001,43900.19,37808.65,30990.475000000002,23445.665000000001,15174.220000000001,6902.7750000000015,0]
[null,null,"Себестоимость - 5%","млн руб.",57045,52187.695,46428.084999999999,39766.17,32201.949999999997,23735.424999999996,14366.594999999996,4095.4599999999973,0,0]
[null,null,"Себестоимость + 10%","млн руб.",59250,57100.75,54552.25,51604.5,48257.5,44511.25,40365.75,35821,31276.25,26731.5]
[null,null,"CAPEX - 5%","млн руб.",57360,52889.56,47588.68,41457.360000000001,34495.599999999999,26703.399999999998,18080.759999999998,8627.6799999999985,0,0]
[null,null,"CAPEX + 10%","млн руб.",57605,53435.455000000002,48491.365000000005,42772.73,36279.550000000003,29011.825000000004,20969.555000000004,12152.740000000003,3335.9250000000029,0]
[null,null,"Обменный курс + 10%","млн руб.",57745,53747.395000000004,49007.185000000005,43524.37,37298.950000000004,30330.925000000003,22620.295000000006,14167.060000000007,5713.825000000008,0]
[null,null,"Обменный курс - 10%","млн руб.",57430,53045.53,47846.59,41833.179999999993,35005.299999999996,27362.949999999997,18906.129999999997,9634.84,363.54999999999563,0]
[null,null,"Процентная ставка + 1%","млн руб.",57605,53435.455000000002,48491.365000000005,42772.73,36279.550000000003,29011.825000000004,20969.555000000004,12152.74,3335.9250000000002,0]
[null,null,"Процентная ставка + 2%","млн руб.",57815,53903.364999999998,49265.095000000001,43900.19,37808.65,30990.475000000002,23445.665000000001,15174.220000000001,6902.7749999999996,0]

{"sheet":"Inputs","index":9,"n_rows":485,"n_cols":31,"rows_kept":485,"cut":false,"hidden":false,"merged":[[333,7,333,27],[127,4,135,4],[137,4,144,4]]}
[null,null,"Исходные данные"]
[null,null,"Сценарии"]
[null,"Макро предпосылки"]
[null,null,null,null,null,2020,2021,2022,2023,2024,2025,2026,2027,2028,2029,2030,2031,2032,2033,2034,2035,2036,2037,2038,2039,2040,2041,2042,2043,2044,2045]
[null,null,"Инфляция в России(в среднем за год)*","%",null,"0,046","0,034","0,04","0,04","0,04","0,04","0,04","0,04","0,04","0,04","0,04","0,04","0,04","0,04","0,04","0,04","0,04","0,04","0,04","0,04","0,04","0,04","0,04","0,04","0,04","0,04"]
[null,null,"Темп роста ВВП в России*","%",null,"0,013","0,02","0,031","0,032","0,033","0,033","0,033","0,034","0,033","0,034","0,03","0,031","0,03","0,029","0,03","0,03","0,029","0,031","0,031","0,031","0,031","0,031","0,031","0,031","0,031","0,031"]
[null,null,"Курс USD/RUB*","руб.",null,"63,9","63,8",64,"64,7","66,3",68,"68,8","69,6","70,4","71,1","71,8","72,6",73,"73,5","73,9","74,3","74,7","75,2","75,2","75,2","75,2","75,2","75,2","75,2","75,2","75,2"]
[null,null,"Баррель нефти марки Urals (мировые)*"," долл./барр.",null,"63,4","59,7","57,9","56,4","55,1","53,5",53,"52,5",52,52,52,"51,7","52,8","53,8","54,9",56,"57,1","58,3","58,3","58,3","58,3","58,3","58,3","58,3","58,3","58,3"]
[null,null,"Стоимость природного газа*","долл./тыс. куб. М",null,"211,5","210,1","211,2","205,3","201,5","198,4","191,8","190,4","188,9","188,5","188,8","188,5","190,4","194,3","198,3","202,3","206,5","210,6","210,6","210,6","210,6","210,6","210,6","210,6","210,6","210,6"]
[null,null,"Макро предпосылки для анализа чувствительности",null,null,2020,2021,2022,2023,2024,2025,2026,2027,2028,2029,2030,2031,2032,2033,2034,2035,2036,2037,2038,2039,2040,2041,2042,2043,2044,2045]
[null,null,"Инфляция в России(в среднем за год)*","%",null,{"$f":"F5*$D$333","v":4.5999999999999999E-2},3.4000000000000002E-2,0.04,0.04,0.04,0.04,0.04,0.04,0.04,0.04,0.04,0.04,0.04,0.04,0.04,0.04,0.04,0.04,0.04,0.04,0.04,0.04,0.04,0.04,0.04,0.04]
[null,null,"Темп роста ВВП в России*","%",null,{"$f":"F6*$D$334","v":1.2999999999999999E-2},0.02,3.1E-2,3.2000000000000001E-2,3.3000000000000002E-2,3.3000000000000002E-2,3.3000000000000002E-2,3.4000000000000002E-2,3.3000000000000002E-2,3.4000000000000002E-2,0.03,3.1E-2,0.03,2.9000000000000001E-2,0.03,0.03,2.9000000000000001E-2,3.1E-2,3.1E-2,3.1E-2,3.1E-2,3.1E-2,3.1E-2,3.1E-2,3.1E-2,3.1E-2]
[null,null,"Курс USD/RUB*","руб.",null,72.599999999999994,74.2,76,75.8,77.5,78.64,78,79.902857142857101,79.400000000000006,78.897142857142896,82,83,83.2,83.4,83.6,83.8,84,84.2,84.4,84.6,84.8,85,85.2,85.4,85.6,85.8]
[null,null,"Баррель нефти марки Urals (мировые)*"," долл./барр.",null,{"$f":"F8*$D$336","v":63.4},59.7,57.9,56.4,55.1,53.5,53,52.5,52,52,52,51.7,52.8,53.8,54.9,56,57.1,58.3,58.3,58.3,58.3,58.3,58.3,58.3,58.3,58.3]
[null,null,"Стоимость природного газа*","долл./тыс. куб. М",null,{"$f":"F9*$D$337","v":211.5},210.1,211.2,205.3,201.5,198.4,191.8,190.4,188.9,188.5,188.8,188.5,190.4,194.3,198.3,202.3,206.5,210.6,210.6,210.6,210.6,210.6,210.6,210.6,210.6,210.6]
[]
[null,null,"*- прогноз социально-экономического развития Российской Федерации на период до 2036 года "]
[]
[null,"Предпосылки по расчету выручки"]
[]
[null,null,"Изменение цен на реализуемую продукцию (в руб.)",null,null,2020,2021,2022,2023,2024,2025,2026,2027,2028,2029,2030,2031,2032,2033,2034,2035,2036,2037,2038,2039,2040,2041,2042,2043,2044,2045]
[null,null,"Аммиак (переработка)","%",null,"-","-","-","-","-","-","-","-","-","-","-","-","-","-","-","-","-","-","-","-","-","-","-","-","-","-"]
[null,null,"Азотная кислота (переработка)","%",null,"-","-","-","-","-","-","-","-","-","-","-","-","-","-","-","-","-","-","-","-","-","-","-","-","-","-"]
[null,null,"Аммиачная селитра (переработка)","%",null,"-","-","-","-","-","-","-","-","-","-","-","-","-","-","-","-","-","-","-","-","-","-","-","-","-","-"]
[null,null,"Карбамид (переработка)","%",null,"-","-","-","-","-","-","-","-","-","-","-","-","-","-","-","-","-","-","-","-","-","-","-","-","-","-"]
[null,null,"UF 85 (переработка)","%",null,"-","-","-","-","-","-","-","-","-","-","-","-","-","-","-","-","-","-","-","-","-","-","-","-","-","-"]
[null,null,"FILLER MILLING (переработка)","%",null,"-","-","-","-","-","-","-","-","-","-","-","-","-","-","-","-","-","-","-","-","-","-","-","-","-","-"]
[null,null,"Аммиак (экспорт)",null,null,3.8158939929350308E-2,3.8848415871130158E-2,3.798833716041173E-2,3.5848586809120772E-2,3.6237793060050622E-2,3.4635267800818353E-2,3.2622404440818119E-2,3.1259619113803441E-2,3.0612268257534082E-2,2.9223092118023399E-2,2.7990835604975499E-2,2.6758579091927599E-2,2.5526322578879799E-2,2.4294066065831999E-2,2.3061809552784099E-2,2.1829553039736199E-2,2.0597296526688399E-2,1.9365040013640498E-2,1.9365040013640498E-2,1.9365040013640498E-2,1.9365040013640498E-2,1.9365040013640498E-2,1.9365040013640498E-2,1.9365040013640498E-2,1.9365040013640498E-2,1.9365040013640498E-2]
[null,null,"Известковая аммиачная селитра (экспорт)","%",null,1.7062233259053698E-2,1.9484446352575589E-2,2.1642998061887936E-2,2.6613474822604104E-2,3.0002403076365026E-2,3.3391331330125902E-2,3.67802595838869E-2,4.01691878376478E-2,4.3558116091408701E-2,4.6947044345169602E-2,5.0335972598930502E-2,5.37249008526915E-2,5.71138291064524E-2,6.0502757360213301E-2,6.3891685613974195E-2,6.7280613867735206E-2,7.0669542121496107E-2,7.4058470375256993E-2,7.4058470375256993E-2,7.4058470375256993E-2,7.4058470375256993E-2,7.4058470375256993E-2,7.4058470375256993E-2,7.4058470375256993E-2,7.4058470375256993E-2,7.4058470375256993E-2]
[null,null,"Карбамид (экспорт)","%",null,3.8158939929350308E-2,3.8848415871130158E-2,3.798833716041173E-2,3.5848586809120772E-2,3.6237793060050622E-2,3.4635267800818353E-2,3.2622404440818119E-2,3.1259619113803441E-2,3.0612268257534082E-2,2.9223092118023399E-2,2.7990835604975499E-2,2.6758579091927599E-2,2.5526322578879799E-2,2.4294066065831999E-2,2.3061809552784099E-2,2.1829553039736199E-2,2.0597296526688399E-2,1.9365040013640498E-2,1.9365040013640498E-2,1.9365040013640498E-2,1.9365040013640498E-2,1.9365040013640498E-2,1.9365040013640498E-2,1.9365040013640498E-2,1.9365040013640498E-2,1.9365040013640498E-2]
[null,null,"КАС(экспорт)","%",null,1.7062233259053698E-2,1.9484446352575589E-2,2.1642998061887936E-2,2.6613474822604104E-2,3.0002403076365026E-2,3.3391331330125902E-2,3.67802595838869E-2,4.01691878376478E-2,4.3558116091408701E-2,4.6947044345169602E-2,5.0335972598930502E-2,5.37249008526915E-2,5.71138291064524E-2,6.0502757360213301E-2,6.3891685613974195E-2,6.7280613867735206E-2,7.0669542121496107E-2,7.4058470375256993E-2,7.4058470375256993E-2,7.4058470375256993E-2,7.4058470375256993E-2,7.4058470375256993E-2,7.4058470375256993E-2,7.4058470375256993E-2,7.4058470375256993E-2,7.4058470375256993E-2]
[null,null,"Среднегодовые цены на продукцию"]
[null,null,"Аммиак (переработка)","руб. /тонну",null,{"$f":"0","v":0},0,0,0,0,0,0,0,0,0,0,0,0,0,0,0,0,0,0,0,0,0,0,0,0,0]
[null,null,"Азотная кислота (переработка)","руб. /тонну",null,0,0,0,0,0,0,0,0,0,0,0,0,0,0,0,0,0,0,0,0,0,0,0,0,0,0]
[null,null,"Аммиачная селитра (переработка)","руб. /тонну",null,0,0,0,0,0,0,0,0,0,0,0,0,0,0,0,0,0,0,0,0,0,0,0,0,0,0]
[null,null,"Карбамид (переработка)","руб. /тонну",null,0,0,0,0,0,0,0,0,0,0,0,0,0,0,0,0,0,0,0,0,0,0,0,0,0,0]
[null,null,"UF 85 (переработка)","руб. /тонну",null,0,0,0,0,0,0,0,0,0,0,0,0,0,0,0,0,0,0,0,0,0,0,0,0,0,0]
[null,null,"FILLER MILLING (переработка)","руб. /тонну",null,0,0,0,0,0,0,0,0,0,0,0,0,0,0,0,0,0,0,0,0,0,0,0,0,0,0]
[null,null,"Аммиак (экспорт)",null,null,{"$f":"200*F13/1000","v":14.519999999999998},{"$f":"F39+F39*F28","v":15.074067807774163},{"$f":"G39+G39*G28","v":15.659671462840189},16.25455634219184,16.837259216268649,17.447404331446222,18.05169985289502,18.640589706340418,19.223287440617305,19.81175587254117,20.39071663942423,20.961469836745991,21.522368985255614,22.071755918634928,22.607968615111162,23.129349281688175,23.634252638607371,24.121054348391436,24.588159531019233,25.064310224199197,25.549681594605111,26.044452201020412,26.548804060026519,27.062922712963235,27.586997294185828,28.12122060064393]
[null,null,"Известковая аммиачная селитра (экспорт)","руб. /тонну",null,null,{"$f":"F40+F40*F29","v":0},{"$f":"G40+G40*G29","v":0},0,0,0,0,0,0,0,0,0,0,0,0,0,0,0,0,0,0,0,0,0,0,0]
[null,null,"Карбамид (экспорт)","руб. /тонну",null,{"$f":"251*F13/1000","v":18.2226},{"$f":"F41+F41*F30","v":18.917955098756579},{"$f":"G41+G41*G30","v":19.652887685864442},{"$f":"H41+H41*H30","v":20.399468209450763},{"$f":"I41+I41*I30","v":21.13076031641716},21.896492435965015,22.654883315383259,23.393940081457234,24.125225737974727,24.863753620039176,25.59034938247742,26.306644645116233,27.01057307649581,27.700053677886846,28.373000611964521,29.027333348518674,29.660987061452264,30.271923207231264,30.858140211429149,31.455709331370002,32.064850401229428,32.685787512280633,33.318749095333295,33.963968004768873,34.621681604203225,35.292131853808144]
[null,null,"КАС(экспорт)","руб. /тонну",null,null,{"$f":"F42*F31+F42","v":0},{"$f":"G42*G31+G42","v":0},0,0,0,0,0,0,0,0,0,0,0,0,0,0,0,0,0,0,0,0,0,0,{"$f":"AD42*AD31+AD42","v":0}]
[null,null,"Среднегодовые цены на продукцию для анализа чувствительности"]
[null,null,{"$f":"C22","v":"Аммиак (переработка)"},"руб. /тонну",null,{"$f":"F33*$D$339","v":0},0,0,0,0,0,0,0,0,0,0,0,0,0,0,0,0,0,0,0,0,0,0,0,0,0]
[null,null,{"$f":"C23","v":"Азотная кислота (переработка)"},"руб. /тонну",null,{"$f":"F34*$D$340","v":0},0,0,0,0,0,0,0,0,0,0,0,0,0,0,0,0,0,0,0,0,0,0,0,0,0]
[null,null,{"$f":"C24","v":"Аммиачная селитра (переработка)"},"руб. /тонну",null,{"$f":"F35*$D$341","v":0},0,0,0,0,0,0,0,0,0,0,0,0,0,0,0,0,0,0,0,0,0,0,0,0,0]
[null,null,{"$f":"C25","v":"Карбамид (переработка)"},"руб. /тонну",null,{"$f":"F36*$D$342","v":0},0,0,0,0,0,0,0,0,0,0,0,0,0,0,0,0,0,0,0,0,0,0,0,0,0]
[null,null,"UF 85 (переработка)","руб. /тонну",null,{"$f":"F37*$D$343","v":0},{"$f":"G37*$D$343","v":0},0,0,0,0,0,0,0,0,0,0,0,0,0,0,0,0,0,0,0,0,0,0,0,0]
[null,null,"FILLER MILLING (переработка)","руб. /тонну",null,{"$f":"F38*$D$344","v":0},{"$f":"G38*$D$344","v":0},0,0,0,0,0,0,0,0,0,0,0,0,0,0,0,0,0,0,0,0,0,0,0,0]
[null,null,"Аммиак (экспорт)","руб. /тонну",null,{"$f":"F39*$D$347","v":14.519999999999998},{"$f":"G39*$D$347","v":15.074067807774163},15.659671462840189,16.25455634219184,16.837259216268649,17.447404331446222,18.05169985289502,18.640589706340418,19.223287440617305,19.81175587254117,20.39071663942423,20.961469836745991,21.522368985255614,22.071755918634928,22.607968615111162,23.129349281688175,23.634252638607371,24.121054348391436,24.588159531019233,25.064310224199197,25.549681594605111,26.044452201020412,26.548804060026519,27.062922712963235,27.586997294185828,28.12122060064393]
[null,null,"Известковая аммиачная селитра (экспорт)","руб. /тонну",null,{"$f":"F40*$D$346","v":0},{"$f":"G40*$D$346","v":0},0,0,0,0,0,0,0,0,0,0,0,0,0,0,0,0,0,0,0,0,0,0,0,0]
[null,null,{"$f":"C30","v":"Карбамид (экспорт)"},"руб. /тонну",null,{"$f":"F41*$D$347","v":18.2226},18.917955098756579,19.652887685864442,20.399468209450763,21.13076031641716,21.896492435965015,22.654883315383259,23.393940081457234,24.125225737974727,24.863753620039176,25.59034938247742,26.306644645116233,27.01057307649581,27.700053677886846,28.373000611964521,29.027333348518674,29.660987061452264,30.271923207231264,30.858140211429149,31.455709331370002,32.064850401229428,32.685787512280633,33.318749095333295,33.963968004768873,34.621681604203225,35.292131853808144]
[null,null,{"$f":"C31","v":"КАС(экспорт)"},"руб. /тонну",null,{"$f":"F42*$D$348","v":0},0,0,0,0,0,0,0,0,0,0,0,0,0,0,0,0,0,0,0,0,0,0,0,0,0]
[]
[null,null,"Изменение объемов реализуемой продукции"]
[null,null,{"$f":"C44","v":"Аммиак (переработка)"},"%",null,0,0,0,0,0,0,0,0,0,0,0,0,0,0,0,0,0,0,0,0,0,0,0,0,0,0]
[null,null,{"$f":"C45","v":"Азотная кислота (переработка)"},"%",null,0,0,0,0,0,0,0,0,0,0,0,0,0,0,0,0,0,0,0,0,0,0,0,0,0,0]
[null,null,{"$f":"C46","v":"Аммиачная селитра (переработка)"},"%",null,0,0,0,0,0,0,0,0,0,0,0,0,0,0,0,0,0,0,0,0,0,0,0,0,0,0]
[null,null,{"$f":"C47","v":"Карбамид (переработка)"},"%",null,0,0,0,0,0,0,0,0,0,0,0,0,0,0,0,0,0,0,0,0,0,0,0,0,0,0]
[null,null,"UF 85 (переработка)","%",null,0,0,0,0,0,0,0,0,0,0,0,0,0,0,0,0,0,0,0,0,0,0,0,0,0,0]
[null,null,"FILLER MILLING (переработка)","%",null,0,0,0,0,0,0,0,0,0,0,0,0,0,0,0,0,0,0,0,0,0,0,0,0,0,0]
[null,null,"Аммиак (экспорт)","%",null,0,0,0,0,0,1,1,1,1,1,1,1,1,1,1,1,1,1,1,1,1,1,1,1,1,1]
[null,null,"Известковая аммиачная селитра (экспорт)","%",null,0,0,0,0,0,1,1,1,1,1,1,1,1,1,1,1,1,1,1,1,1,1,1,1,1,1]
[null,null,{"$f":"C52","v":"Карбамид (экспорт)"},"%",null,0,0,0,0,0,1,1,1,1,1,1,1,1,1,1,1,1,1,1,1,1,1,1,1,1,1]
[null,null,{"$f":"C53","v":"КАС(экспорт)"},"%",null,0,0,0,0,0,1,1,1,1,1,1,1,1,1,1,1,1,1,1,1,1,1,1,1,1,1]
[]
[null,null,"Объемы реализуемой продукции ( в год)"]
[null,null,"Аммиак (переработка)","тонн",null,{"$f":"F104*F56","v":0},0,0,0,0,0,0,0,0,0,0,0,0,0,0,0,0,0,0,0,0,0,0,0,0,0]
[null,null,"Азотная кислота (переработка)","тонн",null,{"$f":"F105*F57","v":0},0,0,0,0,0,0,0,0,0,0,0,0,0,0,0,0,0,0,0,0,0,0,0,0,0]
[null,null,"Аммиачная селитра (переработка)","тонн",null,{"$f":"F106*F58","v":0},0,0,0,0,0,0,0,0,0,0,0,0,0,0,0,0,0,0,0,0,0,0,0,0,0]
[null,null,"Карбамид (переработка)","тонн",null,{"$f":"F107*F59","v":0},0,0,0,0,0,0,0,0,0,0,0,0,0,0,0,0,0,0,0,0,0,0,0,0,0]
[null,null,"UF 85 (переработка)","тонн",null,{"$f":"F108*F60","v":0},0,0,0,0,0,{"$f":"L108*L60","v":0},0,0,0,0,0,0,0,0,0,0,0,0,0,0,0,0,0,0,0]
[null,null,"FILLER MILLING (переработка)","тонн",null,{"$f":"F109*F61","v":0},0,0,0,0,{"$f":"K109*K61","v":0},0,0,0,0,0,{"$f":"Q109*Q61","v":0},0,0,0,0,0,0,0,0,0,0,0,0,0,0]
[null,null,"Аммиак (экспорт)","тонн",null,0,0,0,0,0,180091.5,180091.5,180091.5,180091.5,180091.5,180091.5,180091.5,180091.5,180091.5,180091.5,180091.5,180091.5,180091.5,180091.5,180091.5,180091.5,180091.5,180091.5,180091.5,180091.5,180091.5]
[null,null,"Известковая аммиачная селитра (экспорт)","тонн",null,0,0,0,0,0,{"$f":"K111*K63","v":0},0,{"$f":"M111*M63","v":0},0,0,0,0,0,0,0,0,0,0,0,0,0,0,0,0,0,0]
[null,null,"Карбамид (экспорт)","тонн",null,{"$f":"F112*F64","v":0},0,0,0,0,1180375,1180375,{"$f":"M112*M64","v":1180375},1180375,1180375,1180375,1180375,1180375,1180375,1180375,1180375,1180375,1180375,1180375,1180375,1180375,1180375,1180375,1180375,1180375,1180375]
[null,null,"КАС(экспорт)","тонн",null,0,0,0,0,0,0,0,{"$f":"M113*M65","v":0},0,0,0,0,0,0,0,0,0,0,0,0,0,0,0,0,0,0]
[]
[null,null,"Объемы реализуемой продукции ( в год) для анализа чувствительности"]
[null,null,{"$f":"C56","v":"Аммиак (переработка)"},"тонн",null,{"$f":"F68*$D$350","v":0},0,0,0,0,0,0,0,0,0,0,0,0,0,0,0,0,0,0,0,0,0,0,0,0,0]
[null,null,{"$f":"C57","v":"Азотная кислота (переработка)"},"тонн",null,{"$f":"F69*$D$351","v":0},0,0,0,0,0,0,0,0,0,0,0,0,0,0,0,0,0,0,0,0,0,0,0,0,0]
[null,null,{"$f":"C58","v":"Аммиачная селитра (переработка)"},"тонн",null,{"$f":"F70*$D$352","v":0},0,0,0,0,0,0,0,0,0,0,0,0,0,0,0,0,0,0,0,0,0,0,0,0,0]
[null,null,{"$f":"C59","v":"Карбамид (переработка)"},"тонн",null,{"$f":"F71*$D$353","v":0},0,0,0,0,0,0,0,0,0,0,0,0,0,0,0,0,0,0,0,0,0,0,0,0,0]
[null,null,"UF 85 (переработка)","тонн",null,{"$f":"F72*$D$354","v":0},0,0,0,0,0,{"$f":"L72*$D$354","v":0},0,0,0,0,0,0,0,0,0,0,0,0,0,0,0,0,0,0,0]
[null,null,"FILLER MILLING (переработка)","тонн",null,{"$f":"F73*$D$355","v":0},0,0,0,0,0,{"$f":"L73*$D$355","v":0},0,0,0,0,0,0,0,0,0,0,0,0,0,0,0,0,0,0,0]
[null,null,"Аммиак (экспорт)","тонн",null,{"$f":"F74*$D$356","v":0},0,0,0,0,180091.5,{"$f":"L74*$D$356","v":180091.5},180091.5,180091.5,180091.5,180091.5,180091.5,180091.5,180091.5,180091.5,180091.5,180091.5,180091.5,180091.5,180091.5,180091.5,180091.5,180091.5,180091.5,180091.5,180091.5]
[null,null,"Известковая аммиачная селитра (экспорт)","тонн",null,{"$f":"F75*$D$357","v":0},0,0,0,0,0,{"$f":"L75*$D$357","v":0},0,0,0,0,0,0,0,0,0,0,0,0,0,0,0,0,0,0,0]
[null,null,{"$f":"C64","v":"Карбамид (экспорт)"},"тонн",null,{"$f":"F76*$D$358","v":0},0,0,0,0,1180375,1180375,1180375,1180375,1180375,1180375,1180375,1180375,1180375,1180375,1180375,1180375,1180375,1180375,1180375,1180375,1180375,1180375,1180375,1180375,1180375]
[null,null,{"$f":"C65","v":"КАС(экспорт)"},"тонн",null,{"$f":"F77*$D$359","v":0},0,0,0,0,0,0,0,0,0,0,0,0,0,0,0,0,0,0,0,0,0,0,0,0,0]
[]
[null,null,"Объемы производимой продукции"]
[null,null,"Аммиак (переработка)","тонн",null,{"$f":"F116*F128","v":0},0,0,0,0,843125,{"$f":"L116*L128","v":843125},843125,843125,843125,843125,843125,843125,843125,843125,843125,843125,843125,843125,843125,843125,843125,843125,843125,843125,843125]
[null,null,"Азотная кислота (переработка)","тонн",null,0,0,0,0,0,0,{"$f":"L117*L129","v":0},0,0,0,0,0,0,0,0,0,0,0,0,0,0,0,0,0,0,0]
[null,null,"Аммиачная селитра (переработка)","тонн",null,0,0,0,0,0,0,{"$f":"L118*L130","v":0},0,0,0,0,0,0,0,0,0,0,0,0,0,0,0,0,0,0,0]
[null,null,"Карбамид (переработка)","тонн",null,0,0,0,0,0,1180375,{"$f":"L119*L131","v":1180375},1180375,1180375,1180375,1180375,1180375,1180375,1180375,1180375,1180375,1180375,1180375,1180375,1180375,1180375,1180375,1180375,1180375,1180375,1180375]
[null,null,"UF 85 (переработка)","тонн",null,0,0,0,0,0,0,{"$f":"L120*L132","v":0},0,0,0,0,{"$f":"Q120*Q132","v":0},0,0,0,0,0,0,0,0,0,0,0,0,0,0]
[null,null,"FILLER MILLING (переработка)","тонн",null,0,0,0,0,0,0,0,0,0,0,0,{"$f":"Q121*Q133","v":0},0,0,0,0,0,0,0,0,0,0,0,0,0,0]
[null,null,"Аммиак (экспорт)","тонн",null,{"$f":"F122*F134","v":0},0,0,0,0,180091.5,{"$f":"L122*L134","v":180091.5},180091.5,180091.5,180091.5,180091.5,180091.5,180091.5,180091.5,180091.5,180091.5,180091.5,180091.5,180091.5,180091.5,180091.5,180091.5,180091.5,180091.5,180091.5,180091.5]
[null,null,"Известковая аммиачная селитра (экспорт)","тонн",null,{"$f":"F123*F135","v":0},{"$f":"G123*G135","v":0},{"$f":"H123*H135","v":0},{"$f":"I123*I135","v":0},{"$f":"J123*J135","v":0},{"$f":"K123*K135","v":0},0,0,0,0,0,{"$f":"Q123*Q135","v":0},0,0,0,0,0,0,0,0,0,0,0,0,0,0]
[null,null,"Карбамид (экспорт)","тонн",null,{"$f":"F124*F136","v":0},0,0,0,0,1180375,{"$f":"L124*L136","v":1180375},1180375,1180375,1180375,1180375,1180375,1180375,1180375,1180375,1180375,1180375,1180375,1180375,1180375,1180375,1180375,1180375,1180375,1180375,1180375]
[null,null,"КАС(экспорт)","тонн",null,0,0,0,0,0,0,{"$f":"L125*L137","v":0},0,0,0,0,0,0,0,0,0,0,0,0,0,0,0,0,0,0,0]
[]
[null,null,"Объемы производимой продукции для анализа чувствительности"]
[null,null,{"$f":"C80","v":"Аммиак (переработка)"},"тонн",null,{"$f":"F92*$D$361","v":0},0,0,0,0,843125,843125,843125,843125,843125,843125,843125,843125,843125,843125,843125,843125,843125,843125,843125,843125,843125,843125,843125,843125,843125]
[null,null,{"$f":"C81","v":"Азотная кислота (переработка)"},"тонн",null,{"$f":"F93*$D$362","v":0},0,0,0,0,0,0,0,0,0,0,0,0,0,0,0,0,0,0,0,0,0,0,0,0,0]
[null,null,{"$f":"C82","v":"Аммиачная селитра (переработка)"},"тонн",null,{"$f":"F94*$D$363","v":0},0,0,0,0,0,0,0,0,0,0,0,0,0,0,0,0,0,0,0,0,0,0,0,0,0]
[null,null,{"$f":"C83","v":"Карбамид (переработка)"},"тонн",null,{"$f":"F95*$D$364","v":0},0,0,0,0,1180375,1180375,1180375,1180375,1180375,1180375,1180375,1180375,1180375,1180375,1180375,1180375,1180375,1180375,1180375,1180375,1180375,1180375,1180375,1180375,1180375]
[null,null,"UF 85 (переработка)","тонн",null,{"$f":"F96*$D$365","v":0},0,0,0,0,0,{"$f":"L96*$D$365","v":0},0,0,0,0,0,0,0,0,0,0,0,0,0,0,0,0,0,0,0]
[null,null,"FILLER MILLING (переработка)","тонн",null,{"$f":"F97*$D$366","v":0},0,0,0,0,0,{"$f":"L97*$D$366","v":0},0,0,0,0,0,0,0,0,0,0,0,0,0,0,0,0,0,0,0]
[null,null,"Аммиак (экспорт)","тонн",null,{"$f":"F98*$D$367","v":0},0,0,0,0,{"$f":"K98*$D$367","v":180091.5},180091.5,180091.5,180091.5,180091.5,180091.5,180091.5,180091.5,180091.5,180091.5,180091.5,180091.5,180091.5,180091.5,180091.5,180091.5,180091.5,180091.5,180091.5,180091.5,180091.5]
[null,null,"Известковая аммиачная селитра (экспорт)","тонн",null,{"$f":"F99*$D$368","v":0},0,0,0,0,0,{"$f":"L99*$D$368","v":0},0,0,0,0,0,0,0,0,0,0,0,0,0,0,0,0,0,0,0]
[null,null,{"$f":"C88","v":"Карбамид (экспорт)"},"тонн",null,{"$f":"F100*$D$369","v":0},0,0,0,0,1180375,1180375,1180375,1180375,1180375,1180375,1180375,1180375,1180375,1180375,1180375,1180375,1180375,1180375,1180375,1180375,1180375,1180375,1180375,1180375,1180375]
[null,null,{"$f":"C89","v":"КАС(экспорт)"},"тонн",null,{"$f":"F101*$D$370","v":0},0,0,0,0,0,0,0,0,0,0,0,0,0,0,0,0,0,0,0,0,0,0,0,0,0]
[null,null,null,null,null,{"$f":"E119/1.78","v":1966.2921348314605},{"$f":"1/1.78","v":0.5617977528089888},{"$f":"E116-F114","v":533.70786516853946}]
[null,null,"Максимальная производственная мощность",null,"Тонн в сутки"]
[null,null,{"$f":"C104","v":"Аммиак (переработка)"},"тонн",2500,{"$f":"IF(F128=0,0,$E$116*$E$126)","v":0},{"$f":"IF(G128=0,0,$E$116*$E$126)","v":0},0,0,0,{"$f":"IF(K128=0,0,$E$116*$E$126)","v":887500},887500,887500,887500,887500,887500,887500,887500,887500,887500,887500,887500,887500,887500,887500,887500,887500,887500,887500,887500,887500]
[null,null,{"$f":"C105","v":"Азотная кислота (переработка)"},"тонн",0,{"$f":"IF(F129=0,0,$E$117*$E$126)","v":0},{"$f":"IF(G129=0,0,$E$117*$E$126)","v":0},0,0,0,0,0,0,0,0,0,0,0,0,0,0,0,0,0,0,0,0,0,0,0,0]
[null,null,{"$f":"C106","v":"Аммиачная селитра (переработка)"},"тонн",0,{"$f":"IF(F130=0,0,$E$118*$E$126)","v":0},{"$f":"IF(G130=0,0,$E$118*$E$126)","v":0},0,0,0,0,0,0,0,0,0,0,0,0,0,0,0,0,0,0,0,0,0,0,0,0]
[null,null,{"$f":"C107","v":"Карбамид (переработка)"},"тонн",3500,{"$f":"IF(F131=0,0,$E$119*$E$126)","v":0},{"$f":"IF(G131=0,0,$E$119*$E$126)","v":0},0,0,0,{"$f":"IF(K131=0,0,$E$119*$E$126)","v":1242500},1242500,1242500,1242500,1242500,1242500,1242500,1242500,1242500,1242500,1242500,1242500,1242500,1242500,1242500,1242500,1242500,1242500,1242500,1242500,1242500]
[null,null,"UF 85 (переработка)","тонн",0,null,null,null,null,null,{"$f":"IF(K132=0,0,$E$120*$E$126)","v":0},{"$f":"IF(L132=0,0,$E$120*$E$126)","v":0},0,0,0,0,0,0,0,0,0,0,0,0,0,0,0,0,0,0,0]
[null,null,"FILLER MILLING (переработка)","тонн",0,{"$f":"IF(F133=0,0,$E$121*$E$126)","v":0},0,0,0,0,0,{"$f":"IF(L133=0,0,$E$121*$E$126)","v":0},0,0,0,0,0,0,0,0,0,0,0,0,0,0,0,0,0,0,0]
[null,null,"Аммиак (экспорт)","тонн",534,{"$f":"IF(F134=0,0,$E$122*$E$126)","v":0},0,0,0,0,189570,{"$f":"IF(L134=0,0,$E$122*$E$126)","v":189570},189570,189570,189570,189570,189570,189570,189570,189570,189570,189570,189570,189570,189570,189570,189570,189570,189570,189570,189570]
[null,null,"Известковая аммиачная селитра (экспорт)","тонн",0,null,null,null,null,null,{"$f":"IF(K135=0,0,$E$123*$E$126)","v":0},{"$f":"IF(L135=0,0,$E$123*$E$126)","v":0},0,0,0,0,0,0,0,0,0,0,0,0,0,0,0,0,0,0,0]
[null,null,{"$f":"C112","v":"Карбамид (экспорт)"},"тонн",3500,{"$f":"IF(F136=0,0,$E$124*$E$126)","v":0},{"$f":"IF(G136=0,0,$E$124*$E$126)","v":0},0,0,0,{"$f":"IF(K136=0,0,$E$124*$E$126)","v":1242500},1242500,1242500,1242500,1242500,1242500,1242500,1242500,1242500,1242500,1242500,1242500,1242500,1242500,1242500,1242500,1242500,1242500,1242500,1242500,1242500]
[null,null,{"$f":"C113","v":"КАС(экспорт)"},"тонн",0,{"$f":"IF(F137=0,0,$E$125*$E$126)","v":0},{"$f":"IF(G137=0,0,$E$125*$E$126)","v":0},0,0,0,0,0,0,0,0,0,0,0,0,0,0,0,0,0,0,0,0,0,0,0,0]
[null,null,"Кол-во суток в  год когда производство работает","суток",355]
[null,null,"Загрузка производственных мощностей"]
[null,null,{"$f":"C116","v":"Аммиак (переработка)"},"%",null,0,0,0,0,0,0.95,0.95,0.95,0.95,0.95,0.95,0.95,0.95,0.95,0.95,0.95,0.95,0.95,0.95,0.95,0.95,0.95,0.95,0.95,0.95,0.95]
[null,null,{"$f":"C117","v":"Азотная кислота (переработка)"},"%",null,0,0,0,0,0,0,0,0,0,0,0,0,0,0,0,0,0,0,0,0,0,0,0,0,0,0]
[null,null,{"$f":"C118","v":"Аммиачная селитра (переработка)"},"%",null,0,0,0,0,0,0,0,0,0,0,0,0,0,0,0,0,0,0,0,0,0,0,0,0,0,0]
[null,null,{"$f":"C119","v":"Карбамид (переработка)"},"%",null,0,0,0,0,0,0.95,0.95,0.95,0.95,0.95,0.95,0.95,0.95,0.95,0.95,0.95,0.95,0.95,0.95,0.95,0.95,0.95,0.95,0.95,0.95,0.95]
[null,null,"UF 85 (переработка)","%",null,0,0,0,0,0,0,0,0,0,0,0,0,0,0,0,0,0,0,0,0,0,0,0,0,0,0]
[null,null,"FILLER MILLING (переработка)","%",null,0,0,0,0,0,0,0,0,0,0,0,0,0,0,0,0,0,0,0,0,0,0,0,0,0,0]
[null,null,"Аммиак (экспорт)","%",null,0,0,0,0,0,0.95,0.95,0.95,0.95,0.95,0.95,0.95,0.95,0.95,0.95,0.95,0.95,0.95,0.95,0.95,0.95,0.95,0.95,0.95,0.95,0.95]
[null,null,"Известковая аммиачная селитра (экспорт)","%",null,0,0,0,0,0,0,0,0,0,0,0,0,0,0,0,0,0,0,0,0,0,0,0,0,0,0]
[null,null,{"$f":"C124","v":"Карбамид (экспорт)"},"%",null,0,0,0,0,0,0.95,0.95,0.95,0.95,0.95,0.95,0.95,0.95,0.95,0.95,0.95,0.95,0.95,0.95,0.95,0.95,0.95,0.95,0.95,0.95,0.95]
[null,null,{"$f":"C125","v":"КАС(экспорт)"},"%",null,0,0,0,0,0,0,0,0,0,0,0,0,0,0,0,0,0,0,0,0,0,0,0,0,0,0]
[null,null,null,null,"*Если завод еще не запущен то 0%"]
[null,null,"…"]
[]
[]
[null,"Предпосылки по расчету себестоимости"]
[]
[null,null,"Изменение цен на расходы ",null,null,2020,2021,2022,2023,2024,2025,2026,2027,2028,2029,2030,2031,2032,2033,2034,2035,2036,2037,2038,2039,2040,2041,2042,2043,2044,2045]
[null,null,"Материалы и комплектующие"]
[null,null,"Природный газ (долгосрочный контракт)","%",null,{"$f":"F11","v":4.5999999999999999E-2},3.4000000000000002E-2,0.04,0.04,0.04,0.04,0.04,0.04,0.04,0.04,0.04,0.04,0.04,0.04,0.04,0.04,0.04,0.04,0.04,0.04,0.04,0.04,0.04,0.04,0.04,0.04]
[null,null,"Электроэнергия  (долгосрочный контракт)","%",null,{"$f":"F11","v":4.5999999999999999E-2},3.4000000000000002E-2,0.04,0.04,0.04,0.04,0.04,0.04,0.04,0.04,0.04,0.04,0.04,0.04,0.04,0.04,0.04,0.04,0.04,0.04,0.04,0.04,0.04,0.04,0.04,0.04]
[null,null,"Вода осветленная  (долгосрочный контракт)","%",null,{"$f":"F11","v":4.5999999999999999E-2},3.4000000000000002E-2,0.04,0.04,0.04,0.04,0.04,0.04,0.04,0.04,0.04,0.04,0.04,0.04,0.04,0.04,0.04,0.04,0.04,0.04,0.04,0.04,0.04,0.04,0.04,0.04]
[null,null,"КФК","%",null,{"$f":"F11","v":4.5999999999999999E-2},3.4000000000000002E-2,0.04,0.04,0.04,0.04,0.04,0.04,0.04,0.04,0.04,0.04,0.04,0.04,0.04,0.04,0.04,0.04,0.04,0.04,0.04,0.04,0.04,0.04,0.04,0.04]
[null,null,"Платина","%",null,{"$f":"F11","v":4.5999999999999999E-2},3.4000000000000002E-2,0.04,0.04,0.04,0.04,0.04,0.04,0.04,0.04,0.04,0.04,0.04,0.04,0.04,0.04,0.04,0.04,0.04,0.04,0.04,0.04,0.04,0.04,0.04,0.04]
[null,null,"Воздух КИП (побочный продукт производства)","%",null,0,0,0,0,0,0,0,0,0,0,0,0,0,0,0,0,0,0,0,0,0,0,0,0,0,0]
[null,null,"Охлаждающая вода (побочный продукт производства)","%",null,0,0,0,0,0,0,0,0,0,0,0,0,0,0,0,0,0,0,0,0,0,0,0,0,0,0]
[null,null,"Диоксид углерода (побочный продукт производства)","%",null,0,0,0,0,0,0,0,0,0,0,0,0,0,0,0,0,0,0,0,0,0,0,0,0,0,0]
[null,null,"Пар водяной ВД (побочный продукт производства)","%",null,0,0,0,0,0,0,0,0,0,0,0,0,0,0,0,0,0,0,0,0,0,0,0,0,0,0]
[null,null,"Конденсат технологический(побочный продукт производства)","%",null,0,0,0,0,0,0,0,0,0,0,0,0,0,0,0,0,0,0,0,0,0,0,0,0,0,0]
[null,null,"Конденсат паровой (побочный продукт производства)","%",null,0,0,0,0,0,0,0,0,0,0,0,0,0,0,0,0,0,0,0,0,0,0,0,0,0,0]
[null,null,"Прочие расходы (Химикаты, катализаторы)","%",null,{"$f":"F11","v":4.5999999999999999E-2},3.4000000000000002E-2,0.04,0.04,0.04,0.04,0.04,0.04,0.04,0.04,0.04,0.04,0.04,0.04,0.04,0.04,0.04,0.04,0.04,0.04,0.04,0.04,0.04,0.04,0.04,0.04]
[null,null,"Прочие переменые расходы"]
[null,null,"Доставка, перевалка, хранение (Карбамид (экспорт))","тыс.  руб. на тонну",null,{"$f":"F11","v":4.5999999999999999E-2},3.4000000000000002E-2,0.04,0.04,0.04,0.04,0.04,0.04,0.04,0.04,0.04,0.04,0.04,0.04,0.04,0.04,0.04,0.04,0.04,0.04,0.04,0.04,0.04,0.04,0.04,0.04]
[null,null,"Доставка, перевалка, хранение (КАС (экспорт))","тыс.  руб. на тонну",null,{"$f":"F11","v":4.5999999999999999E-2},3.4000000000000002E-2,0.04,0.04,0.04,0.04,0.04,0.04,0.04,0.04,0.04,0.04,0.04,0.04,0.04,0.04,0.04,0.04,0.04,0.04,0.04,0.04,0.04,0.04,0.04,0.04]
[null,null,"Доставка, перевалка, хранение (Известковая аммиачная селитра (экспорт))","тыс.  руб. на тонну",null,{"$f":"F11","v":4.5999999999999999E-2},{"$f":"G11","v":3.4000000000000002E-2},0.04,0.04,0.04,0.04,0.04,0.04,0.04,0.04,0.04,0.04,0.04,0.04,0.04,0.04,0.04,0.04,0.04,0.04,0.04,0.04,0.04,0.04,0.04,0.04]
[null,null,"Доставка, перевалка, хранение (Аммиак экспорт)","тыс.  руб. на тонну",null,{"$f":"F11","v":4.5999999999999999E-2},{"$f":"G11","v":3.4000000000000002E-2},0.04,0.04,0.04,0.04,0.04,0.04,0.04,0.04,0.04,0.04,0.04,0.04,0.04,0.04,0.04,0.04,0.04,0.04,0.04,0.04,0.04,0.04,0.04,0.04]
[null,null,"Лизинговые платежи"]
[null,null,null,"%",null,0,0,0,0,0,0,0,0,0,0,0,0,0,0,0,0,0,0,0,0,0,0,0,0,0,0]
[null,null,"Прочие производственные расходы","%"]
[null,null,null,"%",null,0,0,0,0,0,0,0,0,0,0,0,0,0,0,0,0,0,0,0,0,0,0,0,0,0,0]
[null,null,"Расходы на коммунальные услуги/содержание объекта"]
[null,null,null,"%",null,{"$f":"F11","v":4.5999999999999999E-2},3.4000000000000002E-2,0.04,0.04,0.04,0.04,0.04,0.04,0.04,0.04,0.04,0.04,0.04,0.04,0.04,0.04,0.04,0.04,0.04,0.04,0.04,0.04,0.04,0.04,0.04,0.04]
[null,null,"Цена удельных расходов (тыс. руб.)"]
[null,null,"Природный газ ","тыс куб. М",null,{"$f":"5000/1000","v":5},{"$f":"F170+F170*G146","v":5.17},{"$f":"G170+G170*H146","v":5.3768000000000002},{"$f":"H170+H170*I146","v":5.5918720000000004},5.8155468800000003,6.0481687552000007,6.2900955054080008,6.5416993256243208,6.8033672986492935,7.0755019905952654,7.3585220702190757,{"$f":"P170+P170*Q146","v":7.6528629530278387},7.9589774711489518,8.27733656999491,8.6084300327947059,8.9527672341064939,9.3108779234707537,9.6833130404095833,10.070645562025966,10.473471384507004,10.892410239887283,11.328106649482775,11.781230915462086,12.252480152080569,12.742579358163791,{"$f":"AD170+AD170*AE146","v":13.252282532490343}]
[null,null,"Электроэнергия (подстанция + собственная электрогенерация)","тыс кв/ч",null,4.5250000000000004,4.5250000000000004,4.5250000000000004,4.5250000000000004,4.5250000000000004,4.5250000000000004,4.5250000000000004,4.5250000000000004,4.5250000000000004,4.5250000000000004,4.5250000000000004,4.5250000000000004,4.5250000000000004,4.5250000000000004,4.5250000000000004,4.5250000000000004,4.5250000000000004,4.5250000000000004,4.5250000000000004,4.5250000000000004,4.5250000000000004,4.5250000000000004,4.5250000000000004,4.5250000000000004,4.5250000000000004,4.5250000000000004]
[null,null,"Вода осветленная (водозабор)","тыс.нм3",null,2.2999999999999998,2.2999999999999998,2.2999999999999998,2.2999999999999998,2.2999999999999998,2.2999999999999998,2.2999999999999998,2.2999999999999998,2.2999999999999998,2.2999999999999998,2.2999999999999998,2.2999999999999998,2.2999999999999998,2.2999999999999998,2.2999999999999998,2.2999999999999998,2.2999999999999998,2.2999999999999998,2.2999999999999998,2.2999999999999998,2.2999999999999998,2.2999999999999998,2.2999999999999998,2.2999999999999998,2.2999999999999998,2.2999999999999998]
[null,null,"КФК","кг",null,0.02,0.02,0.02,0.02,0.02,0.02,{"$f":"K173+K173*K149","v":2.0799999999999999E-2},{"$f":"L173+L173*L149","v":2.1631999999999998E-2},2.2497279999999998E-2,2.3397171199999997E-2,2.4333058047999997E-2,2.5306380369919997E-2,2.6318635584716796E-2,2.7371381008105468E-2,2.8466236248429685E-2,2.9604885698366872E-2,3.0789081126301548E-2,3.2020644371353608E-2,3.3301470146207754E-2,3.4633528952056063E-2,3.6018870110138303E-2,3.7459624914543833E-2,3.8958009911125586E-2,4.0516330307570611E-2,4.2136983519873439E-2,4.3822462860668376E-2]
[null,null,"Платина","кг",null,1890,{"$f":"F174+F174*F150","v":1976.94},{"$f":"G174+G174*G150","v":2044.1559600000001},{"$f":"H174+H174*H150","v":2125.9221984000001},{"$f":"I174+I174*I150","v":2210.9590863359999},{"$f":"J174+J174*J150","v":2299.3974497894401},{"$f":"K174+K174*K150","v":2391.3733477810179},{"$f":"L174+L174*L150","v":2487.0282816922586},2586.5094129599488,2689.9697894783467,2797.5685810574805,2909.4713242997796,3025.8501772717709,3146.8841843626419,3272.7595517371474,3403.6699338066333,3539.8167311588986,3681.4094004052545,3828.6657764214647,3981.8124074783232,4141.084903777456,4306.7282999285544,4478.9974319256962,4658.1573292027242,4844.4836223708335,5038.2629672656667]
[null,null,"Прочие расходы (Химикаты, катализаторы)","тонны",null,1,1,1,1,1,1,{"$f":"K175+K175*K157","v":1.04},{"$f":"L175+L175*L157","v":1.0816000000000001},1.1248640000000001,1.16985856,1.2166529023999999,1.2653190184959999,1.3159317792358398,1.3685690504052734,1.4233118124214843,1.4802442849183437,1.5394540563150774,1.6010322185676804,1.6650735073103877,1.7316764476028033,1.8009435055069154,1.8729812457271919,1.9479004955562795,2.0258165153785308,2.1068491759936721,2.191123143033419]
[null,null,"Доставка, перевалка, хранение (Карбамид (экспорт))","тыс.  руб. на тонну",null,2.5,{"$f":"F176+F176*G159","v":2.585},2.6884000000000001,2.7959360000000002,2.9077734400000002,{"$f":"J176+J176*K159","v":3.0240843776000004},3.1450477527040004,{"$f":"L176+L176*M159","v":3.2708496628121604},3.4016836493246467,3.5377509952976327,3.6792610351095378,3.8264314765139193,3.9794887355744759,4.138668284997455,4.3042150163973529,4.4763836170532469,4.6554389617353769,4.8416565202047916,5.035322781012983,5.236735692253502,5.4462051199436416,5.6640533247413876,5.8906154577310428,6.1262400760402844,6.3712896790818956,6.6261412662451713]
[null,null,"Доставка, перевалка, хранение (КАС (экспорт))","тыс.  руб. на тонну",null,1.7,{"$f":"F177+F177*G160","v":1.7578},1.828112,1.9012364799999999,1.9772859392,2.0563773767679998,{"$f":"K177+K177*L160","v":2.13863247183872},{"$f":"L177+L177*M160","v":2.2241777707122687},2.3131448815407594,2.4056706768023899,2.5018975038744853,2.6019734040294646,2.7060523401906433,2.8142944337982692,2.9268662111502,3.0439408595962081,3.1656984939800563,3.2923264337392584,3.4240194910888286,3.5609802707323817,3.703419481561677,3.851556260824144,4.0056185112571097,4.1658432517073942,4.3324769817756899,4.505776061046717]
[null,null,"Доставка, перевалка, хранение (Известковая аммиачная селитра (экспорт))","тыс.  руб. на тонну",null,2.5,2.585,{"$f":"G178+G178*H161","v":2.6884000000000001},2.7959360000000002,2.9077734400000002,3.0240843776000004,{"$f":"K178+K178*L161","v":3.1450477527040004},3.2708496628121604,3.4016836493246467,3.5377509952976327,3.6792610351095378,3.8264314765139193,3.9794887355744759,4.138668284997455,4.3042150163973529,4.4763836170532469,4.6554389617353769,4.8416565202047916,5.035322781012983,5.236735692253502,5.4462051199436416,5.6640533247413876,5.8906154577310428,6.1262400760402844,6.3712896790818956,6.6261412662451713]
[null,null,"Доставка, перевалка, хранение (Аммиак экспорт)","тыс.  руб. на тонну",null,1.7,{"$f":"F179+F179*G162","v":1.7578},1.828112,1.9012364799999999,1.9772859392,2.0563773767679998,{"$f":"K179+K179*L162","v":2.13863247183872},{"$f":"L179+L179*M162","v":2.2241777707122687},2.3131448815407594,2.4056706768023899,2.5018975038744853,2.6019734040294646,2.7060523401906433,2.8142944337982692,2.9268662111502,3.0439408595962081,3.1656984939800563,3.2923264337392584,3.4240194910888286,3.5609802707323817,3.703419481561677,3.851556260824144,4.0056185112571097,4.1658432517073942,4.3324769817756899,4.505776061046717]
[null,null,"Расходы на перснонал","тыс.  руб. на тонну",null,{"$f":"IFERROR('Фонд оплаты труда'!C12/(Inputs!F104+Inputs!F105+Inputs!F106+Inputs!F107+Inputs!F112+Inputs!F113),0)","v":0},{"$f":"IFERROR('Фонд оплаты труда'!D12/(Inputs!G104+Inputs!G105+Inputs!G106+Inputs!G107+Inputs!G112+Inputs!G113),0)","v":0},{"$f":"IFERROR('Фонд оплаты труда'!E12/(Inputs!H104+Inputs!H105+Inputs!H106+Inputs!H107+Inputs!H112+Inputs!H113),0)","v":0},{"$f":"IFERROR('Фонд оплаты труда'!F12/(Inputs!I104+Inputs!I105+Inputs!I106+Inputs!I107+Inputs!I112+Inputs!I113),0)","v":0},{"$f":"IFERROR('Фонд оплаты труда'!G12/(Inputs!J104+Inputs!J105+Inputs!J106+Inputs!J107+Inputs!J112+Inputs!J113),0)","v":0},{"$f":"IFERROR('Фонд оплаты труда'!H12/(Inputs!K104+Inputs!K105+Inputs!K106+Inputs!K107+Inputs!K112+Inputs!K113),0)","v":6.5306460736418159E-2},{"$f":"IFERROR('Фонд оплаты труда'!I12/(Inputs!L104+Inputs!L105+Inputs!L106+Inputs!L107+Inputs!L112+Inputs!L113),0)","v":6.7918719165874886E-2},{"$f":"IFERROR('Фонд оплаты труда'!J12/(Inputs!M104+Inputs!M105+Inputs!M106+Inputs!M107+Inputs!M112+Inputs!M113),0)","v":7.0635467932509882E-2},{"$f":"IFERROR('Фонд оплаты труда'!K12/(Inputs!N104+Inputs!N105+Inputs!N106+Inputs!N107+Inputs!N112+Inputs!N113),0)","v":7.3460886649810278E-2},{"$f":"IFERROR('Фонд оплаты труда'!L12/(Inputs!O104+Inputs!O105+Inputs!O106+Inputs!O107+Inputs!O112+Inputs!O113),0)","v":7.6399322115802693E-2},{"$f":"IFERROR('Фонд оплаты труда'!M12/(Inputs!P104+Inputs!P105+Inputs!P106+Inputs!P107+Inputs!P112+Inputs!P113),0)","v":7.9455295000434786E-2},{"$f":"IFERROR('Фонд оплаты труда'!N12/(Inputs!Q104+Inputs!Q105+Inputs!Q106+Inputs!Q107+Inputs!Q112+Inputs!Q113),0)","v":8.2633506800452186E-2},{"$f":"IFERROR('Фонд оплаты труда'!O12/(Inputs!R104+Inputs!R105+Inputs!R106+Inputs!R107+Inputs!R112+Inputs!R113),0)","v":8.5938847072470292E-2},{"$f":"IFERROR('Фонд оплаты труда'!P12/(Inputs!S104+Inputs!S105+Inputs!S106+Inputs!S107+Inputs!S112+Inputs!S113),0)","v":8.9376400955369098E-2},{"$f":"IFERROR('Фонд оплаты труда'!Q12/(Inputs!T104+Inputs!T105+Inputs!T106+Inputs!T107+Inputs!T112+Inputs!T113),0)","v":9.2951456993583856E-2},{"$f":"IFERROR('Фонд оплаты труда'!R12/(Inputs!U104+Inputs!U105+Inputs!U106+Inputs!U107+Inputs!U112+Inputs!U113),0)","v":9.6669515273327192E-2},{"$f":"IFERROR('Фонд оплаты труда'!S12/(Inputs!V104+Inputs!V105+Inputs!V106+Inputs!V107+Inputs!V112+Inputs!V113),0)","v":0.1005362958842603},{"$f":"IFERROR('Фонд оплаты труда'!T12/(Inputs!W104+Inputs!W105+Inputs!W106+Inputs!W107+Inputs!W112+Inputs!W113),0)","v":0.10455774771963071},{"$f":"IFERROR('Фонд оплаты труда'!U12/(Inputs!X104+Inputs!X105+Inputs!X106+Inputs!X107+Inputs!X112+Inputs!X113),0)","v":0.10874005762841595},{"$f":"IFERROR('Фонд оплаты труда'!V12/(Inputs!Y104+Inputs!Y105+Inputs!Y106+Inputs!Y107+Inputs!Y112+Inputs!Y113),0)","v":0.11308965993355256},{"$f":"IFERROR('Фонд оплаты труда'!W12/(Inputs!Z104+Inputs!Z105+Inputs!Z106+Inputs!Z107+Inputs!Z112+Inputs!Z113),0)","v":0.11761324633089468},{"$f":"IFERROR('Фонд оплаты труда'!X12/(Inputs!AA104+Inputs!AA105+Inputs!AA106+Inputs!AA107+Inputs!AA112+Inputs!AA113),0)","v":0.12231777618413046},{"$f":"IFERROR('Фонд оплаты труда'!Y12/(Inputs!AB104+Inputs!AB105+Inputs!AB106+Inputs!AB107+Inputs!AB112+Inputs!AB113),0)","v":0.12721048723149567},{"$f":"IFERROR('Фонд оплаты труда'!Z12/(Inputs!AC104+Inputs!AC105+Inputs!AC106+Inputs!AC107+Inputs!AC112+Inputs!AC113),0)","v":0.1322989067207555},{"$f":"IFERROR('Фонд оплаты труда'!AA12/(Inputs!AD104+Inputs!AD105+Inputs!AD106+Inputs!AD107+Inputs!AD112+Inputs!AD113),0)","v":0.13759086298958573},{"$f":"IFERROR('Фонд оплаты труда'!AB12/(Inputs!AE104+Inputs!AE105+Inputs!AE106+Inputs!AE107+Inputs!AE112+Inputs!AE113),0)","v":0.14309449750916914}]
[null,null,"Метанол","тыс.  руб. на тонну",null,13,13,13,13,13,13,13,13,13,13,13,13,13,13,13,13,13,13,13,13,13,13,13,13,13,13]
[null,null,"Наполнитель","тыс.  руб. на тонну",null,2.5,2.5,2.5,2.5,2.5,2.5,2.5,2.5,2.5,2.5,2.5,2.5,2.5,2.5,2.5,2.5,2.5,2.5,2.5,2.5,2.5,2.5,2.5,2.5,2.5,2.5]
[null,null,"Цена удельных расходов (тыс. руб.) анализ"]
[null,null,"Природный газ ","тыс куб. М",null,{"$f":"F170*$D$372","v":5},5.17,5.3768000000000002,5.5918720000000004,5.8155468800000003,6.0481687552000007,6.2900955054080008,6.5416993256243208,6.8033672986492935,7.0755019905952654,7.3585220702190757,7.6528629530278387,7.9589774711489518,8.27733656999491,8.6084300327947059,8.9527672341064939,9.3108779234707537,9.6833130404095833,10.070645562025966,10.473471384507004,10.892410239887283,11.328106649482775,11.781230915462086,12.252480152080569,12.742579358163791,13.252282532490343]
[null,null,"Электроэнергия (подстанция + собственная электрогенерация)","тыс кв/ч",null,{"$f":"F171*$D$373","v":4.5250000000000004},4.5250000000000004,4.5250000000000004,4.5250000000000004,4.5250000000000004,4.5250000000000004,4.5250000000000004,4.5250000000000004,4.5250000000000004,4.5250000000000004,4.5250000000000004,4.5250000000000004,4.5250000000000004,4.5250000000000004,4.5250000000000004,4.5250000000000004,4.5250000000000004,4.5250000000000004,4.5250000000000004,4.5250000000000004,4.5250000000000004,4.5250000000000004,4.5250000000000004,4.5250000000000004,4.5250000000000004,4.5250000000000004]
[null,null,"Вода осветленная (водозабор)","тыс.нм3",null,{"$f":"F172*$D$374","v":2.2999999999999998},2.2999999999999998,2.2999999999999998,2.2999999999999998,2.2999999999999998,2.2999999999999998,2.2999999999999998,2.2999999999999998,2.2999999999999998,2.2999999999999998,2.2999999999999998,2.2999999999999998,2.2999999999999998,2.2999999999999998,2.2999999999999998,2.2999999999999998,2.2999999999999998,2.2999999999999998,2.2999999999999998,2.2999999999999998,2.2999999999999998,2.2999999999999998,2.2999999999999998,2.2999999999999998,2.2999999999999998,2.2999999999999998]
[null,null,"Аммиак","тонны",null,0,0,0,0,0,{"$f":"K225","v":6.1948637560809194},{"$f":"L225","v":6.4167705697472313},6.6478830729971339,6.8874542630872755,7.135631970097621,7.3943294170535161,7.6634179572650787,7.9398747452595879,8.2280121660787948,8.5267817058342459,8.8373813790723599,9.1602843911324463,9.4967258849798544,9.8427596230347447,10.20263294401027,10.558663723511057,10.947896440672929,11.35269680643724,11.773687526748088,12.211516215787334,12.666856392304114]
[null,null,"КФК","кг",null,{"$f":"F173*$D$375","v":0.02},0.02,0.02,0.02,0.02,0.02,2.0799999999999999E-2,2.1631999999999998E-2,2.2497279999999998E-2,2.3397171199999997E-2,2.4333058047999997E-2,2.5306380369919997E-2,2.6318635584716796E-2,2.7371381008105468E-2,2.8466236248429685E-2,2.9604885698366872E-2,3.0789081126301548E-2,3.2020644371353608E-2,3.3301470146207754E-2,3.4633528952056063E-2,3.6018870110138303E-2,3.7459624914543833E-2,3.8958009911125586E-2,4.0516330307570611E-2,4.2136983519873439E-2,4.3822462860668376E-2]
[null,null,"Платина","тонны",null,{"$f":"F174*$D$376","v":1890},1976.94,2044.1559600000001,2125.9221984000001,2210.9590863359999,2299.3974497894401,2391.3733477810179,2487.0282816922586,2586.5094129599488,2689.9697894783467,2797.5685810574805,2909.4713242997796,3025.8501772717709,3146.8841843626419,3272.7595517371474,3403.6699338066333,3539.8167311588986,3681.4094004052545,3828.6657764214647,3981.8124074783232,4141.084903777456,4306.7282999285544,4478.9974319256962,4658.1573292027242,4844.4836223708335,5038.2629672656667]
[null,null,"Воздух КИП","кг",null,0,0,0,0,0,0,0,0,0,0,0,0,0,0,0,0,0,0,0,0,0,0,0,0,0,0]
[null,null,"Охлаждающая вода ","тыс.нм3",null,0,0,0,0,0,0,0,0,0,0,0,0,0,0,0,0,0,0,0,0,0,0,0,0,0,0]
[null,null,"Диоксид углерода","тыс.нм3",null,0,0,0,0,0,0,0,0,0,0,0,0,0,0,0,0,0,0,0,0,0,0,0,0,0,0]
[null,null,"Пар водяной ВД","тыс.нм3",null,0,0,0,0,0,0,0,0,0,0,0,0,0,0,0,0,0,0,0,0,0,0,0,0,0,0]
[null,null,"Пар водяной СД,НД","тыс.нм3",null,0,0,0,0,0,0,0,0,0,0,0,0,0,0,0,0,0,0,0,0,0,0,0,0,0,0]
[null,null,"Конденсат технологический","тыс.нм3",null,0,0,0,0,0,0,0,0,0,0,0,0,0,0,0,0,0,0,0,0,0,0,0,0,0,0]
[null,null,"Конденсат паровой","тыс.нм3",null,0,0,0,0,0,0,0,0,0,0,0,0,0,0,0,0,0,0,0,0,0,0,0,0,0,0]
[null,null,"Жидкая аммиачная селитра","тонны",null,{"$f":"F249","v":0},0,0,0,0,4.0286120747268885,{"$f":"L249","v":4.150310057625255},4.2776001502535586,4.4082543146507902,4.5419882802495231,4.6823744459248395,4.8284710189449154,4.9729472409397788,5.1245707109071663,5.2802951177055313,5.4419832679761839,5.6098737114580164,5.7858479717718536,5.9603634729610135,6.141855710500872,6.2905143740109519,6.4868026011893782,6.6909387079261986,6.9032366094037485,7.1240227774116569,7.3536367426111386]
[null,null,"Жидкий карбамид","тонны",null,{"$f":"F265","v":0},0,0,0,0,4.0385463511995683,{"$f":"L265","v":4.1673877027934836},4.3018834223473004,4.4405645344828386,4.5833088684650285,4.7326637759375112,4.8880585366825908,5.0445082412426885,5.2081619231686647,5.377003817968963,5.5524160034377914,5.7346612912018902,5.9251423796600289,6.1173672800259471,6.3172784911721314,6.4974651898072473,6.7136796302389659,6.9385401249602205,7.1723925161425903,7.4155964796445204,7.6685260783587958]
[null,null,"Прочие расходы (Химикаты, катализаторы)","тонны",null,{"$f":"F175*$D$377","v":1},1,1,1,1,1,1.04,1.0816000000000001,1.1248640000000001,1.16985856,1.2166529023999999,1.2653190184959999,1.3159317792358398,1.3685690504052734,1.4233118124214843,1.4802442849183437,1.5394540563150774,1.6010322185676804,1.6650735073103877,1.7316764476028033,1.8009435055069154,1.8729812457271919,1.9479004955562795,2.0258165153785308,2.1068491759936721,2.191123143033419]
[null,null,"Амортизация"]
[null,null,"Амортизация на тонну продукции","тыс. $ на тонну",null,{"$f":"Амортизация!C14","v":0},{"$f":"Амортизация!D14","v":0},{"$f":"Амортизация!E14","v":0},{"$f":"Амортизация!F14","v":0},{"$f":"Амортизация!G14","v":0},{"$f":"Амортизация!H14","v":1.4860188249434076E-2},{"$f":"Амортизация!I14","v":1.4860188249434076E-2},{"$f":"Амортизация!J14","v":1.4860188249434076E-2},{"$f":"Амортизация!K14","v":1.4860188249434076E-2},{"$f":"Амортизация!L14","v":1.4860188249434076E-2},{"$f":"Амортизация!M14","v":1.4860188249434076E-2},{"$f":"Амортизация!N14","v":1.4860188249434076E-2},{"$f":"Амортизация!O14","v":1.4860188249434076E-2},{"$f":"Амортизация!P14","v":1.4860188249434076E-2},{"$f":"Амортизация!Q14","v":1.4860188249434076E-2},{"$f":"Амортизация!R14","v":1.4860188249434076E-2},{"$f":"Амортизация!S14","v":1.4860188249434076E-2},{"$f":"Амортизация!T14","v":1.4860188249434076E-2},{"$f":"Амортизация!U14","v":1.4860188249434076E-2},{"$f":"Амортизация!V14","v":1.4860188249434076E-2},{"$f":"Амортизация!W14","v":1.4405224899288489E-2},{"$f":"Амортизация!X14","v":1.4405224899288489E-2},{"$f":"Амортизация!Y14","v":1.4405224899288489E-2},{"$f":"Амортизация!Z14","v":1.4405224899288489E-2},{"$f":"Амортизация!AA14","v":1.4405224899288489E-2},{"$f":"Амортизация!AB14","v":1.4405224899288489E-2}]
[null,null,"Прочие переменые расходы"]
[null,null,"Доставка, перевалка, хранение (Карбамид (экспорт))","тыс.  руб. на тонну",null,{"$f":"IF(F136=0,0,F176*$D$378)","v":0},0,0,0,0,{"$f":"IF(K136=0,0,K176*$D$378)","v":3.0240843776000004},3.1450477527040004,3.2708496628121604,3.4016836493246467,3.5377509952976327,3.6792610351095378,3.8264314765139193,3.9794887355744759,4.138668284997455,4.3042150163973529,4.4763836170532469,4.6554389617353769,4.8416565202047916,5.035322781012983,5.236735692253502,5.4462051199436416,5.6640533247413876,5.8906154577310428,6.1262400760402844,6.3712896790818956,6.6261412662451713]
[null,null,"Доставка, перевалка, хранение (КАС (экспорт))","тыс.  руб. на тонну",null,{"$f":"IF(F137=0,0,F177*$D$379)","v":0},{"$f":"IF(G137=0,0,G177*$D$379)","v":0},{"$f":"IF(H137=0,0,H177*$D$379)","v":0},{"$f":"IF(I137=0,0,I177*$D$379)","v":0},{"$f":"IF(J137=0,0,J177*$D$379)","v":0},{"$f":"IF(K137=0,0,K177*$D$378)","v":0},{"$f":"IF(L137=0,0,L177*$D$379)","v":0},0,0,0,0,0,0,0,0,0,0,0,0,0,0,0,0,0,0,0]
[null,null,"Доставка, перевалка, хранение (Известковая аммиачная селитра (экспорт))","тыс.  руб. на тонну",null,{"$f":"IF(F135=0,0,F178*$D$378)","v":0},{"$f":"IF(G135=0,0,G178*$D$378)","v":0},{"$f":"IF(H135=0,0,H178*$D$378)","v":0},{"$f":"IF(I135=0,0,I178*$D$378)","v":0},{"$f":"IF(J135=0,0,J178*$D$378)","v":0},{"$f":"IF(K138=0,0,K178*$D$378)","v":0},{"$f":"IF(L135=0,0,L178*$D$378)","v":0},0,0,0,0,0,0,0,0,0,0,0,0,0,0,0,0,0,0,0]
[null,null,"Доставка, перевалка, хранение (Аммиак экспорт)","тыс.  руб. на тонну",null,{"$f":"IF(F134=0,0,F179*$D$381)","v":0},0,0,0,0,2.0563773767679998,{"$f":"IF(L134=0,0,L179*$D$381)","v":2.13863247183872},2.2241777707122687,2.3131448815407594,2.4056706768023899,2.5018975038744853,2.6019734040294646,2.7060523401906433,2.8142944337982692,2.9268662111502,3.0439408595962081,3.1656984939800563,3.2923264337392584,3.4240194910888286,3.5609802707323817,3.703419481561677,3.851556260824144,4.0056185112571097,4.1658432517073942,4.3324769817756899,4.505776061046717]
[]
[null,null,"Оплата производственного персонала","тыс.  руб. на тонну",null,{"$f":"F180*$D$382","v":0},0,0,0,0,6.5306460736418159E-2,6.7918719165874886E-2,7.0635467932509882E-2,7.3460886649810278E-2,7.6399322115802693E-2,7.9455295000434786E-2,8.2633506800452186E-2,8.5938847072470292E-2,8.9376400955369098E-2,9.2951456993583856E-2,9.6669515273327192E-2,0.1005362958842603,0.10455774771963071,0.10874005762841595,0.11308965993355256,0.11761324633089468,0.12231777618413046,0.12721048723149567,0.1322989067207555,0.13759086298958573,0.14309449750916914]
[]
[null,null,"Лизинговые платежи","тыс.  руб. на тонну"]
[]
[null,null,"Проичие производственные расходы","тыс.  руб. на тонну"]
[]
[null,null,"Расходы на перснонал","тыс.  руб. на тонну",null,{"$f":"IFERROR(('Фонд оплаты труда'!C22+'Фонд оплаты труда'!C32+'Фонд оплаты труда'!C42)/(SUM(F104:F113)),0)","v":0},{"$f":"IFERROR(('Фонд оплаты труда'!D22+'Фонд оплаты труда'!D32+'Фонд оплаты труда'!D42)/(SUM(G104:G113)),0)","v":0},{"$f":"IFERROR(('Фонд оплаты труда'!E22+'Фонд оплаты труда'!E32+'Фонд оплаты труда'!E42)/(SUM(H104:H113)),0)","v":0},{"$f":"IFERROR(('Фонд оплаты труда'!F22+'Фонд оплаты труда'!F32+'Фонд оплаты труда'!F42)/(SUM(I104:I113)),0)","v":0},{"$f":"IFERROR(('Фонд оплаты труда'!G22+'Фонд оплаты труда'!G32+'Фонд оплаты труда'!G42)/(SUM(J104:J113)),0)","v":0},{"$f":"IFERROR(('Фонд оплаты труда'!H22+'Фонд оплаты труда'!H32+'Фонд оплаты труда'!H42)/(SUM(K104:K113)),0)","v":0.12587007207199249},{"$f":"IFERROR(('Фонд оплаты труда'!I22+'Фонд оплаты труда'!I32+'Фонд оплаты труда'!I42)/(SUM(L104:L113)),0)","v":0.13090487495487219},{"$f":"IFERROR(('Фонд оплаты труда'!J22+'Фонд оплаты труда'!J32+'Фонд оплаты труда'!J42)/(SUM(M104:M113)),0)","v":0.13614106995306707},{"$f":"IFERROR(('Фонд оплаты труда'!K22+'Фонд оплаты труда'!K32+'Фонд оплаты труда'!K42)/(SUM(N104:N113)),0)","v":0.14158671275118975},{"$f":"IFERROR(('Фонд оплаты труда'!L22+'Фонд оплаты труда'!L32+'Фонд оплаты труда'!L42)/(SUM(O104:O113)),0)","v":0.14725018126123737},{"$f":"IFERROR(('Фонд оплаты труда'!M22+'Фонд оплаты труда'!M32+'Фонд оплаты труда'!M42)/(SUM(P104:P113)),0)","v":0.15314018851168684},{"$f":"IFERROR(('Фонд оплаты труда'!N22+'Фонд оплаты труда'!N32+'Фонд оплаты труда'!N42)/(SUM(Q104:Q113)),0)","v":0.1592657960521543},{"$f":"IFERROR(('Фонд оплаты труда'!O22+'Фонд оплаты труда'!O32+'Фонд оплаты труда'!O42)/(SUM(R104:R113)),0)","v":0.16563642789424049},{"$f":"IFERROR(('Фонд оплаты труда'!P22+'Фонд оплаты труда'!P32+'Фонд оплаты труда'!P42)/(SUM(S104:S113)),0)","v":0.17226188501001014},{"$f":"IFERROR(('Фонд оплаты труда'!Q22+'Фонд оплаты труда'!Q32+'Фонд оплаты труда'!Q42)/(SUM(T104:T113)),0)","v":0.17915236041041049},{"$f":"IFERROR(('Фонд оплаты труда'!R22+'Фонд оплаты труда'!R32+'Фонд оплаты труда'!R42)/(SUM(U104:U113)),0)","v":0.18631845482682699},{"$f":"IFERROR(('Фонд оплаты труда'!S22+'Фонд оплаты труда'!S32+'Фонд оплаты труда'!S42)/(SUM(V104:V113)),0)","v":0.19377119301990003},{"$f":"IFERROR(('Фонд оплаты труда'!T22+'Фонд оплаты труда'!T32+'Фонд оплаты труда'!T42)/(SUM(W104:W113)),0)","v":0.20152204074069607},{"$f":"IFERROR(('Фонд оплаты труда'!U22+'Фонд оплаты труда'!U32+'Фонд оплаты труда'!U42)/(SUM(X104:X113)),0)","v":0.20958292237032386},{"$f":"IFERROR(('Фонд оплаты труда'!V22+'Фонд оплаты труда'!V32+'Фонд оплаты труда'!V42)/(SUM(Y104:Y113)),0)","v":0.21796623926513686},{"$f":"IFERROR(('Фонд оплаты труда'!W22+'Фонд оплаты труда'!W32+'Фонд оплаты труда'!W42)/(SUM(Z104:Z113)),0)","v":0.22668488883574234},{"$f":"IFERROR(('Фонд оплаты труда'!X22+'Фонд оплаты труда'!X32+'Фонд оплаты труда'!X42)/(SUM(AA104:AA113)),0)","v":0.23575228438917198},{"$f":"IFERROR(('Фонд оплаты труда'!Y22+'Фонд оплаты труда'!Y32+'Фонд оплаты труда'!Y42)/(SUM(AB104:AB113)),0)","v":0.24518237576473886},{"$f":"IFERROR(('Фонд оплаты труда'!Z22+'Фонд оплаты труда'!Z32+'Фонд оплаты труда'!Z42)/(SUM(AC104:AC113)),0)","v":0.25498967079532842},{"$f":"IFERROR(('Фонд оплаты труда'!AA22+'Фонд оплаты труда'!AA32+'Фонд оплаты труда'!AA42)/(SUM(AD104:AD113)),0)","v":0.26518925762714152},{"$f":"IFERROR(('Фонд оплаты труда'!AB22+'Фонд оплаты труда'!AB32+'Фонд оплаты труда'!AB42)/(SUM(AE104:AE113)),0)","v":0.27579682793222726}]
[]
[null,null,"Расходы на коммунальные услуги/содержание объекта","тыс.  руб. на тонну",null,{"$f":"F201*F7","v":0},{"$f":"G201*G7","v":0},{"$f":"H201*H7","v":0},{"$f":"I201*I7","v":0},{"$f":"J201*J7","v":0},{"$f":"K201*K7/2","v":0.50524640048075853},{"$f":"L201*L7/2","v":0.51119047578053223},0.51713455108030582,0.52307862638007951,0.52827969226738136,0.53348075815468332,0.53942483345445691,0.54239687110434376,0.54611191816670224,0.54908395581658909,0.55205599346647594,0.55502803111636279,0.55874307817872126,0.55874307817872126,0.55874307817872126,0.54163645621324719,0.54163645621324719,0.54163645621324719,0.54163645621324719,0.54163645621324719,0.54163645621324719]
[]
[null,null,"Удельные расходы в расчете на тонну аммиака (переработка)"]
[null,null,"Природный газ","тыс куб. М",null,{"$f":"IF(F128=0,0,0.86)","v":0},0,0,0,0,{"$f":"IF(K128=0,0,0.86)","v":0.86},{"$f":"IF(L128=0,0,0.86)","v":0.86},0.86,0.86,0.86,0.86,0.86,0.86,0.86,0.86,0.86,0.86,0.86,0.86,0.86,0.86,0.86,0.86,0.86,0.86,0.86]
[null,null,"Электроэнергия","тыс кв/ч",null,{"$f":"IF(F128=0,0,0.054)","v":0},0,0,0,0,5.3999999999999999E-2,{"$f":"IF(L128=0,0,0.054)","v":5.3999999999999999E-2},5.3999999999999999E-2,5.3999999999999999E-2,5.3999999999999999E-2,5.3999999999999999E-2,5.3999999999999999E-2,5.3999999999999999E-2,5.3999999999999999E-2,5.3999999999999999E-2,5.3999999999999999E-2,5.3999999999999999E-2,5.3999999999999999E-2,5.3999999999999999E-2,5.3999999999999999E-2,5.3999999999999999E-2,5.3999999999999999E-2,5.3999999999999999E-2,5.3999999999999999E-2,5.3999999999999999E-2,5.3999999999999999E-2]
[null,null,"Вода осветленная","тыс.нм3",null,{"$f":"IF(F128=0,0,0.011)","v":0},{"$f":"IF(G128=0,0,0.011)","v":0},0,0,0,1.0999999999999999E-2,1.0999999999999999E-2,1.0999999999999999E-2,1.0999999999999999E-2,1.0999999999999999E-2,1.0999999999999999E-2,1.0999999999999999E-2,1.0999999999999999E-2,1.0999999999999999E-2,1.0999999999999999E-2,1.0999999999999999E-2,1.0999999999999999E-2,1.0999999999999999E-2,1.0999999999999999E-2,1.0999999999999999E-2,1.0999999999999999E-2,1.0999999999999999E-2,1.0999999999999999E-2,1.0999999999999999E-2,1.0999999999999999E-2,1.0999999999999999E-2]
[null,null,"Прочие расходы (Химикаты, катализаторы)","тонны",null,{"$f":"IF(F128=0,0,0.01)","v":0},{"$f":"IF(G128=0,0,0.01)","v":0},0,0,0,0.01,0.01,0.01,0.01,0.01,0.01,0.01,0.01,0.01,0.01,0.01,0.01,0.01,0.01,0.01,0.01,0.01,0.01,0.01,0.01,0.01]
[null,null,{"$f":"C201","v":"Амортизация на тонну продукции"},"тыс. $",null,{"$f":"F201","v":0},{"$f":"G201","v":0},0,0,0,1.4860188249434076E-2,1.4860188249434076E-2,1.4860188249434076E-2,1.4860188249434076E-2,1.4860188249434076E-2,1.4860188249434076E-2,1.4860188249434076E-2,1.4860188249434076E-2,1.4860188249434076E-2,1.4860188249434076E-2,1.4860188249434076E-2,1.4860188249434076E-2,1.4860188249434076E-2,1.4860188249434076E-2,1.4860188249434076E-2,1.4405224899288489E-2,1.4405224899288489E-2,1.4405224899288489E-2,1.4405224899288489E-2,1.4405224899288489E-2,1.4405224899288489E-2]
[]
[null,null,"Себестоимость тонны аммиака",null,null,{"$f":"F219*F170+F220*F171+F221*F172+F222*F175+F223*F201*F13+F208+F214+F216","v":0},{"$f":"G219*G170+G220*G171+G221*G172+G222*G175+G223*G201*G13+G208+G214+G216","v":0},{"$f":"H219*H170+H220*H171+H221*H172+H222*H175+H223*H201*H13+H208+H214+H216","v":0},{"$f":"I219*I170+I220*I171+I221*I172+I222*I175+I223*I201*I13+I208+I214+I216","v":0},{"$f":"J219*J170+J220*J171+J221*J172+J222*J175+J223*J201*J13+J208+J214+J216","v":0},{"$f":"K219*K184+K220*K185+K221*K186+K222*K199+K223*K201*K13+K208+K214+K216","v":6.1948637560809194},{"$f":"L219*L170+L220*L171+L221*L172+L222*L175+L223*L201*L13+L208+L214+L216","v":6.4167705697472313},6.6478830729971339,6.8874542630872755,7.135631970097621,7.3943294170535161,7.6634179572650787,7.9398747452595879,8.2280121660787948,8.5267817058342459,8.8373813790723599,9.1602843911324463,9.4967258849798544,9.8427596230347447,10.20263294401027,10.558663723511057,10.947896440672929,11.35269680643724,11.773687526748088,12.211516215787334,12.666856392304114]
[]
[]
[]
[]
[null,null,"Удельные расходы в расчете на тонну азотной кислоты  (переработка)"]
[null,null,"Аммиак","тонны",null,{"$f":"IF(F128=0,0,0.28)","v":0},{"$f":"IF(G128=0,0,0.28)","v":0},0,0,0,0.28000000000000003,0.28000000000000003,0.28000000000000003,0.28000000000000003,0.28000000000000003,0.28000000000000003,0.28000000000000003,0.28000000000000003,0.28000000000000003,0.28000000000000003,0.28000000000000003,0.28000000000000003,0.28000000000000003,0.28000000000000003,0.28000000000000003,0.28000000000000003,0.28000000000000003,0.28000000000000003,0.28000000000000003,0.28000000000000003,0.28000000000000003]
[null,null,"Платина","кг",null,{"$f":"IF(F128=0,0,0.00003)","v":0},{"$f":"IF(G128=0,0,0.00003)","v":0},0,0,0,3.0000000000000001E-5,3.0000000000000001E-5,3.0000000000000001E-5,3.0000000000000001E-5,3.0000000000000001E-5,3.0000000000000001E-5,3.0000000000000001E-5,3.0000000000000001E-5,3.0000000000000001E-5,3.0000000000000001E-5,3.0000000000000001E-5,3.0000000000000001E-5,3.0000000000000001E-5,3.0000000000000001E-5,3.0000000000000001E-5,3.0000000000000001E-5,3.0000000000000001E-5,3.0000000000000001E-5,3.0000000000000001E-5,3.0000000000000001E-5,3.0000000000000001E-5]
[null,null,"Воздух КИП","тыс.нм3",null,{"$f":"IF(F128=0,0,0.0065)","v":0},{"$f":"IF(G128=0,0,0.0065)","v":0},0,0,0,6.4999999999999997E-3,6.4999999999999997E-3,6.4999999999999997E-3,6.4999999999999997E-3,6.4999999999999997E-3,6.4999999999999997E-3,6.4999999999999997E-3,6.4999999999999997E-3,6.4999999999999997E-3,6.4999999999999997E-3,6.4999999999999997E-3,6.4999999999999997E-3,6.4999999999999997E-3,6.4999999999999997E-3,6.4999999999999997E-3,6.4999999999999997E-3,6.4999999999999997E-3,6.4999999999999997E-3,6.4999999999999997E-3,6.4999999999999997E-3,6.4999999999999997E-3]
[null,null,"Электроэнергия","тыс кв/ч",null,{"$f":"IF(F128=0,0,0.011)","v":0},0,0,0,0,1.0999999999999999E-2,{"$f":"IF(L128=0,0,0.011)","v":1.0999999999999999E-2},1.0999999999999999E-2,1.0999999999999999E-2,1.0999999999999999E-2,1.0999999999999999E-2,1.0999999999999999E-2,1.0999999999999999E-2,1.0999999999999999E-2,1.0999999999999999E-2,1.0999999999999999E-2,1.0999999999999999E-2,1.0999999999999999E-2,1.0999999999999999E-2,1.0999999999999999E-2,1.0999999999999999E-2,1.0999999999999999E-2,1.0999999999999999E-2,1.0999999999999999E-2,1.0999999999999999E-2,1.0999999999999999E-2]
[null,null,"Охлаждающая вода ","тыс.нм3",null,{"$f":"IF(F128=0,0,0.03)","v":0},{"$f":"IF(G128=0,0,0.03)","v":0},0,0,0,0.03,0.03,0.03,0.03,0.03,0.03,0.03,0.03,0.03,0.03,0.03,0.03,0.03,0.03,0.03,0.03,0.03,0.03,0.03,0.03,0.03]
[null,null,{"$f":"C223","v":"Амортизация на тонну продукции"},"тыс. $",null,{"$f":"F201","v":0},{"$f":"G201","v":0},{"$f":"H201","v":0},{"$f":"I201","v":0},{"$f":"J201","v":0},{"$f":"K201","v":1.4860188249434076E-2},1.4860188249434076E-2,1.4860188249434076E-2,1.4860188249434076E-2,1.4860188249434076E-2,1.4860188249434076E-2,1.4860188249434076E-2,1.4860188249434076E-2,1.4860188249434076E-2,1.4860188249434076E-2,1.4860188249434076E-2,1.4860188249434076E-2,1.4860188249434076E-2,{"$f":"X201","v":1.4860188249434076E-2},1.4860188249434076E-2,1.4405224899288489E-2,1.4405224899288489E-2,1.4405224899288489E-2,1.4405224899288489E-2,1.4405224899288489E-2,1.4405224899288489E-2]
[]
[null,null,"Себестоимость тонны азотной кислоты",null,null,{"$f":"F231*F187+F232*F189+F233*F190+F234*F185+F235*F191+F236*F201*F13+F208+F214+F216","v":0},0,0,0,0,2.5671074018052593,2.6454503950590071,2.7273487618501848,2.8115172223021192,2.8978027178973775,2.9882982018478206,3.0824687952393943,3.1760602362699695,3.2741919574120617,3.3751054236922875,3.4799009990460519,3.5887339678362991,3.7027168778484505,3.8163113723616808,3.9344473854054458,4.0339648718493457,4.1617327620467481,4.2946092429444818,4.432798658170559,4.5765135250981146,4.7259748617952066]
[]
[]
[]
[null,null,"Удельные расходы в расчете на тонну аммиачной селитры  (переработка)"]
[null,null,"Аммиак","тонны",null,0,0,0,0,0,0.2,0.2,0.2,0.2,0.2,0.2,0.2,0.2,0.2,0.2,0.2,0.2,0.2,0.2,0.2,0.2,0.2,0.2,0.2,0.2,0.2]
[null,null,"Платина","кг",null,0,0,0,0,0,3.0000000000000001E-5,3.0000000000000001E-5,3.0000000000000001E-5,3.0000000000000001E-5,3.0000000000000001E-5,3.0000000000000001E-5,3.0000000000000001E-5,3.0000000000000001E-5,3.0000000000000001E-5,3.0000000000000001E-5,3.0000000000000001E-5,3.0000000000000001E-5,3.0000000000000001E-5,3.0000000000000001E-5,3.0000000000000001E-5,3.0000000000000001E-5,3.0000000000000001E-5,3.0000000000000001E-5,3.0000000000000001E-5,3.0000000000000001E-5,3.0000000000000001E-5]
[null,null,"Воздух КИП","тыс.нм3",null,0,0,0,0,0,4.4999999999999997E-3,4.4999999999999997E-3,4.4999999999999997E-3,4.4999999999999997E-3,4.4999999999999997E-3,4.4999999999999997E-3,4.4999999999999997E-3,4.4999999999999997E-3,4.4999999999999997E-3,4.4999999999999997E-3,4.4999999999999997E-3,4.4999999999999997E-3,4.4999999999999997E-3,4.4999999999999997E-3,4.4999999999999997E-3,4.4999999999999997E-3,4.4999999999999997E-3,4.4999999999999997E-3,4.4999999999999997E-3,4.4999999999999997E-3,4.4999999999999997E-3]
[null,null,"Электроэнергия","тыс кв/ч",null,0,0,0,0,0,1E-3,1E-3,1E-3,1E-3,1E-3,1E-3,1E-3,1E-3,1E-3,1E-3,1E-3,1E-3,1E-3,1E-3,1E-3,1E-3,1E-3,1E-3,1E-3,1E-3,1E-3]
[null,null,{"$f":"C201","v":"Амортизация на тонну продукции"},"тыс. $",null,{"$f":"F201","v":0},{"$f":"G201","v":0},{"$f":"H201","v":0},{"$f":"I201","v":0},{"$f":"J201","v":0},1.4860188249434076E-2,1.4860188249434076E-2,1.4860188249434076E-2,1.4860188249434076E-2,1.4860188249434076E-2,1.4860188249434076E-2,1.4860188249434076E-2,1.4860188249434076E-2,1.4860188249434076E-2,1.4860188249434076E-2,1.4860188249434076E-2,1.4860188249434076E-2,1.4860188249434076E-2,{"$f":"X201","v":1.4860188249434076E-2},1.4860188249434076E-2,1.4405224899288489E-2,1.4405224899288489E-2,1.4405224899288489E-2,1.4405224899288489E-2,1.4405224899288489E-2,1.4405224899288489E-2]
[null,null,"Азотная кислота","тонны",null,null,null,null,null,null,0.78,0.78,0.78,0.78,0.78,0.78,0.78,0.78,0.78,0.78,0.78,0.78,0.78,0.78,0.78,0.78,0.78,0.78,0.78,0.78,0.78]
[null,null,"Себестоимость тонны аммиачной селитры ",null,null,{"$f":"F243*F225+F244*F189+F245*F190+F246*F185+F247*F201*F13+F208+F214+F216","v":0},{"$f":"G243*G225+G244*G189+G245*G190+G246*G185+G247*G201*G13+G208+G214+G216","v":0},{"$f":"H243*H225+H244*H189+H245*H190+H246*H185+H247*H201*H13+H208+H214+H216","v":0},{"$f":"I243*I225+I244*I189+I245*I190+I246*I185+I247*I201*I13+I208+I214+I216","v":0},{"$f":"J243*J225+J244*J189+J245*J190+J246*J185+J247*J201*J13+J208+J214+J216","v":0},{"$f":"K243*K225+K244*K189+K245*K190+K246*K185+K247*K201*K13+K208+K214+K216+K248*K238","v":4.0286120747268885},{"$f":"L243*L225+L244*L189+L245*L190+L246*L185+L247*L201*L13+L208+L214+L216+L248*L238","v":4.150310057625255},{"$f":"M243*M225+M244*M189+M245*M190+M246*M185+M247*M201*M13+M208+M214+M216+M248*M238","v":4.2776001502535586},4.4082543146507902,4.5419882802495231,4.6823744459248395,4.8284710189449154,4.9729472409397788,5.1245707109071663,5.2802951177055313,5.4419832679761839,5.6098737114580164,5.7858479717718536,5.9603634729610135,6.141855710500872,6.2905143740109519,6.4868026011893782,6.6909387079261986,6.9032366094037485,7.1240227774116569,7.3536367426111386]
[]
[]
[]
[]
[null,null,"Удельные расходы в расчете на тонну карбамида (переработка)"]
[null,null,"Аммиак","тонны",null,0,0,0,0,0,0.52,0.52,0.52,0.52,0.52,0.52,0.52,0.52,0.52,0.52,0.52,0.52,0.52,0.52,0.52,0.52,0.52,0.52,0.52,0.52,0.52]
[null,null,"Диоксид углерода","тыс.нм3",null,0,0,0,0,0,0.74,0.74,0.74,0.74,0.74,0.74,0.74,0.74,0.74,0.74,0.74,0.74,0.74,0.74,0.74,0.74,0.74,0.74,0.74,0.74,0.74]
[null,null,"Электроэнергия","тыс кв/ч",null,0,0,0,0,0,2.2857142857142857E-2,2.2857142857142857E-2,2.2857142857142857E-2,2.2857142857142857E-2,2.2857142857142857E-2,2.2857142857142857E-2,2.2857142857142857E-2,2.2857142857142857E-2,2.2857142857142857E-2,2.2857142857142857E-2,2.2857142857142857E-2,2.2857142857142857E-2,2.2857142857142857E-2,2.2857142857142857E-2,2.2857142857142857E-2,2.2857142857142857E-2,2.2857142857142857E-2,2.2857142857142857E-2,2.2857142857142857E-2,2.2857142857142857E-2,2.2857142857142857E-2]
[null,null,"Вода осветленная","тыс.нм3",null,0,0,0,0,0,0,0,0,0,0,0,0,0,0,0,0,0,0,0,0,0,0,0,0,0,0]
[null,null,"Пар водяной ВД","тыс.нм3",null,0,0,0,0,0,0.65,0.65,0.65,0.65,0.65,0.65,0.65,0.65,0.65,0.65,0.65,0.65,0.65,0.65,0.65,0.65,0.65,0.65,0.65,0.65,0.65]
[null,null,"Пар водяной СД,НД","тыс.нм3",null,0,0,0,0,0,0.85,0.85,0.85,0.85,0.85,0.85,0.85,0.85,0.85,0.85,0.85,0.85,0.85,0.85,0.85,0.85,0.85,0.85,0.85,0.85,0.85]
[null,null,"Воздух КИП","тыс.нм3",null,0,0,0,0,0,7.0000000000000001E-3,7.0000000000000001E-3,7.0000000000000001E-3,7.0000000000000001E-3,7.0000000000000001E-3,7.0000000000000001E-3,7.0000000000000001E-3,7.0000000000000001E-3,7.0000000000000001E-3,7.0000000000000001E-3,7.0000000000000001E-3,7.0000000000000001E-3,7.0000000000000001E-3,7.0000000000000001E-3,7.0000000000000001E-3,7.0000000000000001E-3,7.0000000000000001E-3,7.0000000000000001E-3,7.0000000000000001E-3,7.0000000000000001E-3,7.0000000000000001E-3]
[null,null,"Конденсат технологический","тыс.нм3",null,0,0,0,0,0,0.5,0.5,0.5,0.5,0.5,0.5,0.5,0.5,0.5,0.5,0.5,0.5,0.5,0.5,0.5,0.5,0.5,0.5,0.5,0.5,0.5]
[null,null,"Конденсат паровой","тыс.нм3",null,0,0,0,0,0,0.7,0.7,0.7,0.7,0.7,0.7,0.7,0.7,0.7,0.7,0.7,0.7,0.7,0.7,0.7,0.7,0.7,0.7,0.7,0.7,0.7]
[null,null,{"$f":"C201","v":"Амортизация на тонну продукции"},"тыс. $",null,0,0,0,0,0,{"$f":"K201","v":1.4860188249434076E-2},1.4860188249434076E-2,1.4860188249434076E-2,1.4860188249434076E-2,1.4860188249434076E-2,1.4860188249434076E-2,1.4860188249434076E-2,1.4860188249434076E-2,1.4860188249434076E-2,1.4860188249434076E-2,1.4860188249434076E-2,1.4860188249434076E-2,1.4860188249434076E-2,{"$f":"X201","v":1.4860188249434076E-2},1.4860188249434076E-2,1.4405224899288489E-2,1.4405224899288489E-2,1.4405224899288489E-2,1.4405224899288489E-2,1.4405224899288489E-2,1.4405224899288489E-2]
[null,null,"Себестоимость тонны карбамида (переработка)",null,null,{"$f":"F255*F225+F256*F192+F257*F185+F258*F186+F259*F193+F260*F194+F261*F190+F262*F195+F263*F196+F264*F201*F13+F208+F214+F216","v":0},0,0,0,0,4.0385463511995683,4.1673877027934836,4.3018834223473004,4.4405645344828386,4.5833088684650285,4.7326637759375112,4.8880585366825908,5.0445082412426885,5.2081619231686647,5.377003817968963,5.5524160034377914,5.7346612912018902,5.9251423796600289,6.1173672800259471,6.3172784911721314,6.4974651898072473,6.7136796302389659,6.9385401249602205,7.1723925161425903,7.4155964796445204,7.6685260783587958]
[]
[]
[null,null,"Удельные расходы в расчете на тонну UF 85 (переработка)"]
[null,null,"Карбамид","тонны",null,null,null,null,null,null,0.5,0.5,0.5,0.5,0.5,0.5,0.5,0.5,0.5,0.5,0.5,0.5,0.5,0.5,0.5,0.5,0.5,0.5,0.5,0.5,0.5]
[null,null,"Метанол","тонны",null,null,null,null,null,null,0.69,0.69,0.69,0.69,0.69,0.69,0.69,0.69,0.69,0.69,0.69,0.69,0.69,0.69,0.69,0.69,0.69,0.69,0.69,0.69,0.69]
[null,null,"Себестоимость тонны UF 85 (переработка)",null,null,null,null,null,null,null,{"$f":"K269*K265+K270*K181","v":10.989273175599783},{"$f":"L269*L265+L270*L181","v":11.053693851396741},11.12094171117365,11.190282267241418,11.261654434232513,11.336331887968754,11.414029268341295,11.492254120621343,11.574080961584331,11.65850190898448,11.746208001718895,11.837330645600943,11.932571189830014,12.028683640012972,12.128639245586065,12.218732594903623,12.326839815119481,12.439270062480109,12.556196258071294,12.677798239822259,12.804263039179396]
[]
[null,null,"Удельные расходы в расчете на тонну FILLER MILLING (переработка)"]
[null,null,"Электроэнергия","тыс кв/ч",null,null,null,null,null,null,0.41,0.41,0.41,0.41,0.41,0.41,0.41,0.41,0.41,0.41,0.41,0.41,0.41,0.41,0.41,0.41,0.41,0.41,0.41,0.41,0.41]
[null,null,"Наполнитель","тонн",null,null,null,null,null,null,0.98,0.98,0.98,0.98,0.98,0.98,0.98,0.98,0.98,0.98,0.98,0.98,0.98,0.98,0.98,0.98,0.98,0.98,0.98,0.98,0.98]
[null,null,"Себестоимость тонны FILLER MILLING (переработка)",null,null,null,null,null,null,null,{"$f":"K274*K171+K275*K182","v":4.30525},{"$f":"L274*L171+L275*L182","v":4.30525},4.30525,4.30525,4.30525,4.30525,4.30525,4.30525,4.30525,4.30525,4.30525,4.30525,4.30525,4.30525,4.30525,4.30525,4.30525,4.30525,4.30525,4.30525,4.30525]
[]
[null,null,"Удельные расходы в расчете на тонну известковая аммиачная селитра (экспорт)"]
[null,null,"Аммиачная селитра","тонны",null,null,null,null,null,null,0.77,0.77,0.77,0.77,0.77,0.77,0.77,0.77,0.77,0.77,0.77,0.77,0.77,0.77,0.77,0.77,0.77,0.77,0.77,0.77,0.77]
[null,null,"Наполнитель","тонны",null,null,null,null,null,null,0.22,0.22,0.22,0.22,0.22,0.22,0.22,0.22,0.22,0.22,0.22,0.22,0.22,0.22,0.22,0.22,0.22,0.22,0.22,0.22,0.22]
[null,null,"Электричество","тыс кв/ч",null,null,null,null,null,null,3.5000000000000003E-2,3.5000000000000003E-2,3.5000000000000003E-2,3.5000000000000003E-2,3.5000000000000003E-2,3.5000000000000003E-2,3.5000000000000003E-2,3.5000000000000003E-2,3.5000000000000003E-2,3.5000000000000003E-2,3.5000000000000003E-2,3.5000000000000003E-2,3.5000000000000003E-2,3.5000000000000003E-2,3.5000000000000003E-2,3.5000000000000003E-2,3.5000000000000003E-2,3.5000000000000003E-2,3.5000000000000003E-2,3.5000000000000003E-2,3.5000000000000003E-2]
[null,null,"Себестоимость тонны аммиачная селитра (экспорт)",null,null,null,null,null,null,null,{"$f":"K279*K249+K280*K276+K281*K171","v":4.2075612975397041},{"$f":"L279*L249+L280*L276+L281*L171","v":4.3012687443714466},4.3992821156952404,4.4998858222811089,4.602860975792133,4.7109583233621271,4.8234526845875854,4.9346993755236301,5.051449447398519,5.1713572406332604,5.2958571163416623,5.4251327578226727,5.5606329382643276,5.6950098741799815,5.8347588970856714,5.949226067988433,6.1003680029158209,6.257552805103173,6.4210221892408876,6.5910275386069754,6.7678302918105766]
[]
[]
[]
[null,null,"Удельные расходы в расчете на тонну карбамида (экспорт)"]
[null,null,"Аммиак","тонны",null,0,0,0,0,0,0.52,0.52,0.52,0.52,0.52,0.52,0.52,0.52,0.52,0.52,0.52,0.52,0.52,0.52,0.52,0.52,0.52,0.52,0.52,0.52,0.52]
[null,null,"КФК","кг",null,0,0,0,0,0,4.5,4.5,4.5,4.5,4.5,4.5,4.5,4.5,4.5,4.5,4.5,4.5,4.5,4.5,4.5,4.5,4.5,4.5,4.5,4.5,4.5]
[null,null,"Диоксид углерода","тыс.нм3",null,0,0,0,0,0,0.74,0.74,0.74,0.74,0.74,0.74,0.74,0.74,0.74,0.74,0.74,0.74,0.74,0.74,0.74,0.74,0.74,0.74,0.74,0.74,0.74]
[null,null,"Электроэнергия","тыс кв/ч",null,0,0,0,0,0,2.2857142857142857E-2,2.2857142857142857E-2,2.2857142857142857E-2,2.2857142857142857E-2,2.2857142857142857E-2,2.2857142857142857E-2,2.2857142857142857E-2,2.2857142857142857E-2,2.2857142857142857E-2,2.2857142857142857E-2,2.2857142857142857E-2,2.2857142857142857E-2,2.2857142857142857E-2,2.2857142857142857E-2,2.2857142857142857E-2,2.2857142857142857E-2,2.2857142857142857E-2,2.2857142857142857E-2,2.2857142857142857E-2,2.2857142857142857E-2,2.2857142857142857E-2]
[null,null,"Вода осветленная","тыс.нм3",null,0,0,0,0,0,0,0,0,0,0,0,0,0,0,0,0,0,0,0,0,0,0,0,0,0,0]
[null,null,"Пар водяной ВД","тыс.нм3",null,0,0,0,0,0,0.65,0.65,0.65,0.65,0.65,0.65,0.65,0.65,0.65,0.65,0.65,0.65,0.65,0.65,0.65,0.65,0.65,0.65,0.65,0.65,0.65]
[null,null,"Пар водяной СД, НД","тыс.нм3",null,0,0,0,0,0,0.85,0.85,0.85,0.85,0.85,0.85,0.85,0.85,0.85,0.85,0.85,0.85,0.85,0.85,0.85,0.85,0.85,0.85,0.85,0.85,0.85]
[null,null,"Воздух КИП","тыс.нм3",null,0,0,0,0,0,7.0000000000000001E-3,7.0000000000000001E-3,7.0000000000000001E-3,7.0000000000000001E-3,7.0000000000000001E-3,7.0000000000000001E-3,7.0000000000000001E-3,7.0000000000000001E-3,7.0000000000000001E-3,7.0000000000000001E-3,7.0000000000000001E-3,7.0000000000000001E-3,7.0000000000000001E-3,7.0000000000000001E-3,7.0000000000000001E-3,7.0000000000000001E-3,7.0000000000000001E-3,7.0000000000000001E-3,7.0000000000000001E-3,7.0000000000000001E-3,7.0000000000000001E-3]
[null,null,"Конденсат технологический","тыс.нм3",null,0,0,0,0,0,0.5,0.5,0.5,0.5,0.5,0.5,0.5,0.5,0.5,0.5,0.5,0.5,0.5,0.5,0.5,0.5,0.5,0.5,0.5,0.5,0.5]
[null,null,"Конденсат паровой","тыс.нм3",null,0,0,0,0,0,0.7,0.7,0.7,0.7,0.7,0.7,0.7,0.7,0.7,0.7,0.7,0.7,0.7,0.7,0.7,0.7,0.7,0.7,0.7,0.7,0.7]
[null,null,{"$f":"C201","v":"Амортизация на тонну продукции"},"тыс. $",null,0,0,0,0,0,{"$f":"K201","v":1.4860188249434076E-2},1.4860188249434076E-2,1.4860188249434076E-2,1.4860188249434076E-2,1.4860188249434076E-2,1.4860188249434076E-2,1.4860188249434076E-2,1.4860188249434076E-2,1.4860188249434076E-2,1.4860188249434076E-2,1.4860188249434076E-2,1.4860188249434076E-2,1.4860188249434076E-2,1.4860188249434076E-2,1.4860188249434076E-2,1.4405224899288489E-2,1.4405224899288489E-2,1.4405224899288489E-2,1.4405224899288489E-2,1.4405224899288489E-2,1.4405224899288489E-2]
[null,null,"Себестоимость тонны карбамида (экспорт)",null,null,{"$f":"F287*F225+F288*F188+F289*F192+F290*F185+F291*F186+F292*F193+F293*F194+F294*F190+F295*F195+F296*F196+F297*F201*F13+F203+F214+F208+F216","v":0},0,0,0,0,{"$f":"K287*K225+K288*K188+K289*K192+K290*K185+K291*K186+K292*K193+K293*K194+K294*K190+K295*K195+K296*K196+K297*K201*K13+K203+K214+K208+K216","v":7.1526307287995694},7.4060354554974834,7.6700770851594609,7.9434859438074854,8.2263471341626619,8.5214235722630498,8.82836872486115,9.1424308369483906,9.4700014227025964,9.8093168974842513,10.162021606133688,10.528651118005625,10.910891799535912,11.302546676696867,11.709865063709884,12.10575522524651,12.546301267095801,13.004466627291327,13.480956078566942,13.976502584565846,14.491868427476975]
[null,null,"Удельные расходы в расчете на тонну КАС (экспорт)"]
[null,null,"Жидкая аммиачная селитра","тонны",null,0,0,0,0,0,0.45,0.45,0.45,0.45,0.45,0.45,0.45,0.45,0.45,0.45,0.45,0.45,0.45,0.45,0.45,0.45,0.45,0.45,0.45,0.45,0.45]
[null,null,"Жидкий карбамид","тонны",null,0,0,0,0,0,0.35,0.35,0.35,0.35,0.35,0.35,0.35,0.35,0.35,0.35,0.35,0.35,0.35,0.35,0.35,0.35,0.35,0.35,0.35,0.35,0.35]
[null,null,"Электроэнергия","тыс кв/ч",null,0,0,0,0,0,0,0,0,0,0,0,0,0,0,0,0,0,0,0,0,0,0,0,0,0,0]
[null,null,"Вода осветленная","тыс.нм3",null,0,0,0,0,0,2E-3,2E-3,2E-3,2E-3,2E-3,2E-3,2E-3,2E-3,2E-3,2E-3,2E-3,2E-3,2E-3,2E-3,2E-3,2E-3,2E-3,2E-3,2E-3,2E-3,2E-3]
[null,null,{"$f":"C201","v":"Амортизация на тонну продукции"},"тыс. $",null,{"$f":"F201","v":0},0,0,0,0,1.4860188249434076E-2,1.4860188249434076E-2,1.4860188249434076E-2,1.4860188249434076E-2,1.4860188249434076E-2,1.4860188249434076E-2,1.4860188249434076E-2,1.4860188249434076E-2,1.4860188249434076E-2,1.4860188249434076E-2,1.4860188249434076E-2,1.4860188249434076E-2,1.4860188249434076E-2,1.4860188249434076E-2,1.4860188249434076E-2,1.4405224899288489E-2,1.4405224899288489E-2,1.4405224899288489E-2,1.4405224899288489E-2,1.4405224899288489E-2,1.4405224899288489E-2]
[null,null,"Себестоимость тонны КАС (экспорт)",null,null,{"$f":"F300*F249+F301*F265+F302*F185+F303*F186+F304*F201*F13+F204+F208+F214+F216","v":0},0,0,0,0,3.9447552831558674,4.0580636570054356,4.1767349183958764,4.2981717749107329,4.4220045026607382,4.5522847298854181,4.6878850738402971,4.8203489451369723,4.959680518396377,5.1023328987632093,5.2503871866841028,5.4040594584612167,5.5654477682202774,5.7235458154608461,5.8879633304938581,6.0129757668903911,6.1907939507793293,6.3757206764871501,6.5680402856866067,6.7680484937173633,6.9760528445326759]
[]
[]
[]
[]
[null,null,"…"]
[]
[null,null,"…"]
[]
[null,"Капитальные затраты"]
[]
[null,null,"Затраты на расширение",null,null,2020,2021,2022,2023,2024,2025,2026,2027,2028,2029,2030,2031,2032,2033,2034,2035,2036,2037,2038,2039,2040,2041,2042,2043,2044,2045]
[null,null,"ПИР","млн руб.",null,{"$f":"'Капитальные затраты'!D18+'Капитальные затраты'!D19+'Капитальные затраты'!D20+'Капитальные затраты'!D21","v":586027.19999999995},{"$f":"'Капитальные затраты'!E18+'Капитальные затраты'!E19+'Капитальные затраты'!E20+'Капитальные затраты'!E21","v":1018617.6000000001},0,0,0,0,0,0,0]
[null,null,"СМР","млн руб.",null,{"$f":"'Капитальные затраты'!D14","v":0},{"$f":"'Капитальные затраты'!E14","v":1210944},{"$f":"'Капитальные затраты'!F14","v":6201600},{"$f":"'Капитальные затраты'!G14","v":8350128},{"$f":"'Капитальные затраты'!H14","v":9169800},{"$f":"'Капитальные затраты'!I14","v":0},{"$f":"'Капитальные затраты'!J14","v":0},{"$f":"'Капитальные затраты'!K14","v":0},{"$f":"'Капитальные затраты'!L14","v":0},{"$f":"'Капитальные затраты'!M14","v":0},{"$f":"'Капитальные затраты'!N14","v":0},{"$f":"'Капитальные затраты'!O14","v":0},{"$f":"'Капитальные затраты'!P14","v":0},{"$f":"'Капитальные затраты'!Q14","v":0},{"$f":"'Капитальные затраты'!W14","v":0},{"$f":"'Капитальные затраты'!X14","v":0},{"$f":"'Капитальные затраты'!Y14","v":0},{"$f":"'Капитальные затраты'!AC14","v":0}]
[null,null,"Материалы","млн руб."]
[null,null,"Оборудование","млн руб.",null,{"$f":"'Капитальные затраты'!D15","v":0},{"$f":"'Капитальные затраты'!E15","v":7550592},{"$f":"'Капитальные затраты'!F15","v":19553280},{"$f":"'Капитальные затраты'!G15","v":17573472},{"$f":"'Капитальные затраты'!H15","v":22282800},{"$f":"'Капитальные затраты'!I15","v":0},{"$f":"'Капитальные затраты'!J15","v":0},{"$f":"'Капитальные затраты'!K15","v":0},{"$f":"'Капитальные затраты'!L15","v":0},{"$f":"'Капитальные затраты'!M15","v":0},{"$f":"'Капитальные затраты'!N15","v":0},{"$f":"'Капитальные затраты'!O15","v":0},{"$f":"'Капитальные затраты'!P15","v":0},{"$f":"'Капитальные затраты'!Q15","v":0},{"$f":"'Капитальные затраты'!W15","v":0},{"$f":"'Капитальные затраты'!X15","v":0},{"$f":"'Капитальные затраты'!Y15","v":0},{"$f":"'Капитальные затраты'!AC15","v":0}]
[null,null,"Всего","млн руб.",null,{"$f":"SUM(F317:F320)","v":586027.19999999995},9780153.5999999996,25754880,25923600,31452600,0,0,0,0]
[]
[]
[null,null,"Затраты, финансируемые кредитом Внешэкономбанка"]
[null,null,"ПИР","млн руб.",null,{"$f":"F317*50%","v":293013.59999999998},{"$f":"G317*50%","v":509308.80000000005},0,0,0,0,0,0,0]
[null,null,"СМР","млн руб.",null,0,0,0,0,0,0,0,0,0]
[null,null,"Материалы","млн руб.",null,0,0,0,0,0,0,0,0,0]
[null,null,"Оборудование","млн руб.",null,0,0,0,0,0,0,0,0,0]
[null,null,"Всего","млн руб.",null,{"$f":"SUM(F325:F328)","v":293013.59999999998},{"$f":"SUM(G325:G328)","v":509308.80000000005},0,0,0,0,0,0,0]
[]
[]
[null,null,"Анализ чувствительности"]
[null,null,"Инфляция в России(в среднем за год)*",1]
[null,null,"Темп роста ВВП в России*",1,null,null,"Изменение курса","Изменение объема продаж"]
[null,null,"Курс USD/RUB*",1,null,null,null,-0.5,-0.45,-0.4,-0.35,-0.3,-0.25,-0.2,-0.15,-0.1,-0.05,0,0.05,0.1,0.15,0.2,0.25,0.3,0.35,0.4,0.45,0.5]
[null,null,"Баррель нефти марки Urals (мировые)*",1,null,null,-0.5,-156980760.58499053,-144802914.16758794,-132625067.75018534,-120447221.3327827,-108269374.91538015,-96091528.49797751,-83913682.080574915,-71735835.663172305,-59557989.24576968,-47380142.82836704,-35375380.819682181,-24227594.752769969,-13184146.490176821,-2248961.0914745107,8575114.6093689706,19273202.780861236,29830994.143437039,40126165.830723822,49993560.622030541,59766089.672214523,69538618.72239846]
[null,null,"Стоимость природного газа*",1,null,null,-0.45,-153595343.4765186,-140115679.31664824,-126636015.15677805,-113156350.99690774,-99676686.837037474,-86197022.677167162,-72717358.517296895,-59237694.357426606,-45758030.197556302,-33110465.025145575,-20844772.337484125,-8703603.358075425,3308827.0553592071,15185298.238377776,26906108.735861264,38415913.145261206,49403591.70900929,60217574.953167394,71031558.197325468,81845541.441483587,92659524.685641676]
[null,null,"Среднегодовые цены на продукцию для анализа чувствительности",null,null,null,-0.4,-150209926.36804658,-135428444.46570861,-120646962.56337069,-105865480.66103272,-91083998.758694783,-76302516.8563568,-61521034.954018854,-46788292.34477292,-33250862.792059943,-19850160.369047515,-6591902.8772353195,6519707.762786027,19466727.781940207,32232838.701620977,44616233.623950943,56503243.458223701,68358680.896355957,80214118.334488243,92069555.77262044,103924993.2107527,115780430.64888492]
[null,null,"Аммиак (переработка)",1,null,null,-0.35,-146824509.25957465,-130741209.61476901,-114657909.9699634,-98574610.325157732,-82491310.680352092,-66408011.035546452,-50482559.545473941,-35768127.616842128,-21208069.761762325,-6809026.0408728346,7424109.89619096,21471819.979896054,35305190.878551804,48623095.187383428,61519986.819489822,74416878.45159626,87313770.083702594,100210661.71580902,113107553.34791535,126004444.98002174,138901336.61212808]
[null,null,"Азотная кислота (переработка)",1,null,null,-0.3,-143439092.15110263,-126053974.76382932,-108668857.37655599,-91283739.989282712,-73898622.602009386,-56568134.655588314,-40654542.539293848,-24911079.446455263,-9345278.1015801989,6037286.9757664166,21212126.169257998,36147452.12848305,50515475.966727242,64453821.792807736,78392167.618888289,92330513.44496879,106268859.27104929,120207205.09712985,134145550.92321031,148083896.74929085,162022242.57537138]
[null,null,"Аммиачная селитра (переработка)",1,null,null,-0.25,-140053675.0426307,-121366739.91288972,-102679804.78314874,-83992869.653407782,-65305934.523666777,-47910107.559415348,-30959189.423126545,-14200659.059357669,2359239.0015122294,18697929.252465304,34793583.990069948,50321094.604090184,65304748.378177315,80284548.398231909,95264348.418286562,110244148.43834125,125223948.45839587,140203748.4784506,155183548.49850518,170163348.51855981,185143148.53861451]
[null,null,"Карбамид (переработка)",1,null,null,-0.2,-136668257.93415874,-116679505.06195004,-96690752.189741373,-76701999.317532763,-57555329.651433006,-39361480.488530397,-21375668.28734722,-3610034.0265713856,13918946.327078607,31191430.231913619,48007162.453135647,64072766.575598553,80094020.789627403,96115275.003656119,112136529.21768498,128157783.43171379,144179037.64574257,160200291.85977143,176221546.07380015,192242800.28782898,208264054.50185773]
[null,null,"UF 85 (переработка)",1]
[null,null,"FILLER MILLING (переработка)",1]
[null,null,null,1]
[null,null,"Известковая аммиачная селитра (экспорт)",1]
[null,null,"Карбамид (экспорт)",1,null,null,-0.15,-133282840.82568678,-111992270.21101046,-90701699.596334115,-69604828.90753606,-50140473.868088759,-30907149.087308586,-11905329.395731341,6855815.700257685,25347212.695356738,43460844.177063033,60757876.385071561,77820584.793074474,94883293.201077446,111946001.60908031,129008710.01708332,146071418.42508626,163134126.8330892,180196835.24109215,197259543.64909506,214322252.05709803,231384960.465101]
[null,null,"КАС(экспорт)",1,null,null,-0.1,-129897423.71721478,-107305035.36007074,-84712647.002926752,-63326358.736539289,-42808223.967720717,-22538977.577133957,-2519468.7540277354,17223073.368928418,36642864.706154436,55360077.806596346,73464240.408573434,91568403.010550499,109672565.61252764,127776728.21450464,145880890.81648177,163985053.41845882,182089216.02043593,200193378.62241304,218297541.22439003,236401703.82636714,254505866.42834425]
[null,null,"Объемы реализуемой продукции ( в год) для анализа чувствительности",null,null,null,-0.05,-126512006.60874294,-102617800.50913119,-78947255.958782837,-57109809.621702164,-35544691.787369117,-14242596.944355685,6781878.5215809718,27487825.086595513,47707314.745534159,67024987.636123866,86170604.432075083,105316221.2280263,124461838.02397756,143607454.81992871,162753071.61587989,181898688.41183111,201044305.20778236,220189922.00373361,239335538.79968476,258481155.59563604,277626772.3915872]
[null,null,"Аммиак (переработка)",1,null,null,0,-123126589.50027093,-97930565.658191547,-73858313.79154925,-50954248.827622116,-28341044.034203023,-6011353.5891432837,16004483.661882963,37648438.354474328,58502826.475726165,78689897.465651557,98876968.455576897,119064039.44550224,139251110.4354277,159438181.42535293,179625252.41527838,199812323.40520364,219999394.39512905,240186465.38505447,260373536.37497973,59766089.672214523,300747678.35483044]
[null,null,"Азотная кислота (переработка)",1,null,null,0.05,-119741172.39179891,-93243330.807251886,-68816107.071453497,-44846946.363500848,-21190701.324391786,2154860.7094718963,25154313.085365668,47635937.214024112,69126282.111279756,90354807.295179248,111583332.47907874,132811857.66297826,154040382.84687781,175268908.03077722,196497433.2146768,217725958.39857626,238954483.58247575,260183008.76637524,281411533.95027465,302640059.13417423,323868584.31807375]
[null,null,"Аммиачная селитра (переработка)",1,null,null,0.1,-116355755.28332697,-89155227.041748419,-63816213.329664379,-38786830.294582166,-14085688.531917788,10263177.205942553,34238632.071396545,57453358.553628311,79749737.746833265,102019717.12470689,124289696.50258058,146559675.88045415,168829655.25832793,191099634.63620144,213369614.0140751,235639593.39194867,257909572.76982239,280179552.14769602,302449531.52556956,324719510.90344334,346989490.28131688]
[null,null,"Карбамид (переработка)",1,null,null,0.15,-112970338.17485498,-85272325.006407782,-58853088.278775036,-32770667.093493395,-7025850.2312904894,18320834.773602623,43206691.542205438,67061759.810539059,90373193.382386833,113684626.9542346,136996060.5260824,160307494.09793013,183618927.66977799,206930361.24162567,230241794.81347352,253553228.38532126,276864661.95716906,300176095.52901685,323487529.10086459,346798962.67271239,370110396.24456018]
[null,null,"UF 85 (переработка)",1]
[null,null,"FILLER MILLING (переработка)",1]
[null,null,null,1]
[null,null,"Известковая аммиачная селитра (экспорт)",1]
[null,null,"Карбамид (экспорт)",1,null,null,0.2,-109584921.06638303,-81420750.303531498,-53919974.715803057,-26787671.303350769,-19577.033269144595,26336392.069119833,52054196.98369883,76643761.252118438,100996649.01794034,125349536.78376228,149702424.54958418,174055312.31540608,198408200.08122811,222761087.84704995,247113975.61287189,271466863.37869382,295819751.14451569,320172638.91033769,344525526.67615956,368878414.44198149,393231302.20780343]
[null,null,"КАС(экспорт)",1,null,null,0.25,-106537121.85295422,-77594708.904727772,-49026036.615902156,-20828247.808638714,6951584.7811198086,34300958.594619334,60785351.034449548,86225762.693697885,111620104.65349388,137014446.61328995,162408788.57308602,187803130.53288212,213197472.49267823,238591814.45247415,263986156.41227031,289380498.37206638,314774840.33186239,340169182.29165858,365563524.25145459,390957866.21125066,416352208.17104661]
[null,null,"Объемы производимой продукции для анализа чувствительности",null,null,null,0.3,-103827725.17612183,-73792171.043278307,-44157676.843993738,-14914022.034926303,13896398.832517251,42180894.018403187,69371967.981507003,95807764.135277197,122243560.28904736,148679356.44281757,175115152.59658775,201550948.75035799,227986744.90412831,254422541.0578984,280858337.21166855,307294133.36543882,333729929.51920903,360165725.67297924,386601521.82674932,413037317.98051953,439473114.1342898]
[null,null,"Аммиак (переработка)",1,null,null,0.35,-101139086.85854301,-70022392.759147212,-39306540.100610361,-9023635.7261588201,20796793.541040085,49995684.603401527,77912515.229112223,105389765.57685654,132867015.92460093,160344266.2723453,187821516.62008959,215298766.96783394,242776017.31557834,270253267.66332257,297730518.01106691,325207768.35881126,352685018.70655566,380162269.05429995,407639519.4020443,435116769.74978864,462594020.09753293]
[null,null,"Азотная кислота (переработка)",1,null,null,0.4,-98476795.214840174,-66262310.751329131,-34491634.504791424,-3156245.1817163378,27674804.65626369,57716489.513588004,86453062.476717561,114971767.018436,143490471.56015453,172009176.10187295,200527880.64359149,229046585.18530995,257565289.72702855,286083994.26874691,314602698.8104654,343121403.35218388,371640107.89390242,400158812.4356209,428677516.97733927,457196221.51905787,485714926.06077623]
[null,null,"Аммиачная селитра (переработка)",1,null,null,0.45,-95821440.463293403,-62534550.620446116,-29682372.480155513,2677668.8257432505,34524624.438166767,65365130.36127656,94993609.724322736,124553768.4600154,154113927.19570798,183674085.9314006,213234244.66709322,242794403.40278584,272354562.13847858,301914720.87417102,331474879.60986364,361035038.34555632,390595197.08124888,420155355.81694156,449715514.55263412,479275673.2883268,508835832.02401948]
[null,null,"Карбамид (переработка)",1,null,null,0.5,-93197584.579694211,-58810500.990855537,-24907255.753252938,8499420.418532066,41318408.892989725,72932544.042261139,103534156.97192794,134135769.90159468,164737382.83126146,195338995.76092821,225940608.69059497,256542221.62026173,287143834.54992855,317745447.47959518,348347060.40926194,378948673.3389287,409550286.26859552,440151899.19826233,470753512.12792897,501355125.05759573,531956737.98726249]
[null,null,"UF 85 (переработка)",1]
[null,null,"FILLER MILLING (переработка)",1]
[null,null,null,1]
[null,null,"Известковая аммиачная селитра (экспорт)",1]
[null,null,"Карбамид (экспорт)",1]
[null,null,"КАС(экспорт)",1]
[null,null,"Цена удельных расходов (тыс. руб.) анализ"]
[null,null,"Природный газ ",1]
[null,null,"Электроэнергия (подстанция + собственная электрогенерация)",1]
[null,null,"Вода осветленная (водозабор)",1]
[null,null,"КФК",1]
[null,null,"Платина",1]
[null,null,"Прочие расходы (Химикаты, катализаторы)",1]
[null,null,"Доставка, перевалка, хранение (Карбамид (экспорт))",1]
[null,null,"Доставка, перевалка, хранение (КАС (экспорт))",1]
[null,null,"Известковая аммиачная селитра (экспорт)",1]
[null,null,"Аммиак (экспорт)",1]
[null,null,"Расходы на перснонал",1]
[]
[]
[]
[null,null,null,null,2019,2020,2021,2022,2023,2024,2025,2026,2027,2028,2029,2030,2031,2032,2033,2034,2035,2036,2037,2038,2039,2040,2041,2042,2043,2044]
[null,null,"NPV project",{"$f":"'Дисконтированные потоки'!$E$45","v":173247438.74000129}]
[null,null,"NPV eq",{"$f":"'Дисконтированные потоки'!$E$48","v":114701169.46812618}]
[null,null,"IRR project",{"$f":"'Дисконтированные потоки'!E51","v":0.19198467334795116}]
[null,null,"IRR eq",{"$f":"'Дисконтированные потоки'!E58","v":0.4803598855497917}]
[null,null,"Дисконтируемый срок окупаемости (5 лет инвест. фаза)",{"$f":"'Дисконтированные потоки'!E70","v":10.461332492411936}]
[null,null,"Дисконтируемый срок окупаемости для акционерного капитала (5 лет инвест. фаза)",{"$f":"'Дисконтированные потоки'!E77","v":5.4743098883947843}]
[null,null,"CFADS  (ср. знач)",{"$f":"AVERAGE(E393:AD393)","v":18398369.125060953},{"$f":"'Дисконтированные потоки'!I38","v":8072},{"$f":"'Дисконтированные потоки'!J38","v":131808},{"$f":"'Дисконтированные потоки'!K38","v":338880},{"$f":"'Дисконтированные потоки'!L38","v":342000},{"$f":"'Дисконтированные потоки'!M38","v":405840},{"$f":"'Дисконтированные потоки'!N38","v":35201915.103545219},{"$f":"'Дисконтированные потоки'!O38","v":19954051.052461445},{"$f":"'Дисконтированные потоки'!P38","v":20377234.250986792},{"$f":"'Дисконтированные потоки'!Q38","v":20669774.136666074},{"$f":"'Дисконтированные потоки'!R38","v":20963675.939078037},{"$f":"'Дисконтированные потоки'!S38","v":21374984.977734108},{"$f":"'Дисконтированные потоки'!T38","v":21671962.354448743},{"$f":"'Дисконтированные потоки'!U38","v":21919692.393347189},{"$f":"'Дисконтированные потоки'!V38","v":22137152.408565745},{"$f":"'Дисконтированные потоки'!W38","v":22325283.30577511},{"$f":"'Дисконтированные потоки'!X38","v":22479553.518277835},{"$f":"'Дисконтированные потоки'!Y38","v":22597247.279838175},{"$f":"'Дисконтированные потоки'!Z38","v":22673835.992710058},{"$f":"'Дисконтированные потоки'!AA38","v":22717544.787067097},{"$f":"'Дисконтированные потоки'!AB38","v":22756884.201734036},{"$f":"'Дисконтированные потоки'!AC38","v":22807248.398508839},{"$f":"'Дисконтированные потоки'!AD38","v":22836609.457465466},{"$f":"'Дисконтированные потоки'!AE38","v":22860381.73830767},{"$f":"'Дисконтированные потоки'!AF38","v":22878115.847178984},{"$f":"'Дисконтированные потоки'!AG38","v":22889339.325558871},{"$f":"'Дисконтированные потоки'!AH38","v":23038510.782329276}]
[null,null,"DSCR (ср. знач)",{"$f":"AVERAGE(E394:AD394)","v":20.61696035812853},{"$f":"'Дисконтированные потоки'!I39","v":0},{"$f":"'Дисконтированные потоки'!J39","v":0},{"$f":"'Дисконтированные потоки'!K39","v":0},{"$f":"'Дисконтированные потоки'!L39","v":0},{"$f":"'Дисконтированные потоки'!M39","v":0},{"$f":"'Дисконтированные потоки'!N39","v":8.8508327212792519},{"$f":"'Дисконтированные потоки'!O39","v":5.3322558214779239},{"$f":"'Дисконтированные потоки'!P39","v":5.6201399851894198},{"$f":"'Дисконтированные потоки'!Q39","v":6.0855013051271794},{"$f":"'Дисконтированные потоки'!R39","v":6.6131820582790146},{"$f":"'Дисконтированные потоки'!S39","v":6.9365052280633392},{"$f":"'Дисконтированные потоки'!T39","v":7.4644162533886993},{"$f":"'Дисконтированные потоки'!U39","v":8.1361354028253157},{"$f":"'Дисконтированные потоки'!V39","v":8.9125347781035611},{"$f":"'Дисконтированные потоки'!W39","v":9.824155019516871},{"$f":"'Дисконтированные потоки'!X39","v":10.911790828757821},{"$f":"'Дисконтированные потоки'!Y39","v":12.236534557674981},{"$f":"'Дисконтированные потоки'!Z39","v":13.891146942771831},{"$f":"'Дисконтированные потоки'!AA39","v":16.034871172507867},{"$f":"'Дисконтированные потоки'!AB39","v":18.960481754736186},{"$f":"'Дисконтированные потоки'!AC39","v":23.209804886710192},{"$f":"'Дисконтированные потоки'!AD39","v":29.889099698076084},{"$f":"'Дисконтированные потоки'!AE39","v":41.992342191102175},{"$f":"'Дисконтированные потоки'!AF39","v":70.676098393225757},{"$f":"'Дисконтированные потоки'!AG39","v":224.46314031252834},{"$f":"'Дисконтированные потоки'!AH39","v":0}]
[null,null,null,{"$f":"MIN(J394:AC394)","v":5.3322558214779239}]
[null,null,"Измененние инфляции",null,0.5,0.55000000000000004,0.6,0.65,0.7,0.75,0.8,0.85,0.9,0.95,1,1.05,1.1000000000000001,1.1499999999999999,1.2,1.25,1.3,1.35,1.4,1.45,1.5]
[null,null,"NPV project",null,129242680.40725026,126605845.53306305,123887582.23862736,121085265.8707618,118196188.5743489,115217556.76079056,112146488.50350164,108980010.85846868,105715057.10784933,102348463.92453876,98876968.455576897,95297205.322215825,91605703.534414053,87798883.317467242,83873052.848428369,79824404.899911761,75649013.388816595,71342829.82744199,66901679.67440749,62321258.582723483,57597128.542295575]
[null,null,"NPV eq",null,78615139.687622905,77018942.824526042,75376509.301948473,73686432.661633641,71947264.402655423,70157512.77852945,68315641.561845198,66420068.775600314,64469165.390397623,62461253.986647114,60394607.380894504,58267447.215377852,56077942.509892538,53824208.175023913,51504303.485785425,49116230.514676414,46657932.5231537,44127292.310484558,41522130.518928662,38840203.894168705,36079203.499887913]
[null,null,"IRR project",null,0.15302892618041927,0.15202792032758816,0.15098615261854384,0.14990098605074251,0.1487695335940114,0.14758862537152254,0.14635477021961227,0.14506411041989103,0.1437123680827497,0.14229478125509845,0.14080602727686564,0.13924013018491926,0.13759034797912492,0.1358490342191567,0.13400746655325213,0.13205563215313071,0.12998195627407227,0.12777295469826416,0.12541278272501094,0.12288264111668476,0.12015998041294253]
[null,null,"IRR eq",null,0.26456316447522232,0.26307836846140231,0.26154280743960484,0.2599531298242474,0.2583056431341107,0.25659626561377286,0.2548204688552253,0.25297320931560652,0.25104884602627792,0.24904104098226021,0.24694263760663088,0.24474551117999907,0.24244038302821064,0.24001658729571709,0.23746177486661219,0.23476153275189887,0.23189888793687369,0.22885365044604442,0.22560152810195513,0.22211290959627633,0.2183511529236396]
[null,null,"Дисконтируемый срок окупаемости (5 лет инвест. фаза)",null,17.263318605321345,17.303151906262638,18.027785825302356,18.067630052267567,18.109523069421105,18.153646735824207,18.200205189882709,18.249428363605617,19.009818806187766,19.06042649552159,19.114343867736149,19.171943748748248,19.233657305225396,20.028868978957597,20.094643814343904,20.165989432291845,20.24371614698752,21.075127756640619,21.161903467730578,22.028471516237818,22.128894265545053]
[null,null,"Дисконтируемый срок окупаемости для акционерного капитала (5 лет инвест. фаза)",null,8.190462144102483,8.1972502411885753,8.2041401685242636,8.2111345084843332,8.2182359306792652,8.2254471956709985,8.2327711588802188,8.2402107746968642,8.2477691008062592,8.2554493027441822,8.2632546586951605,8.2711885645492309,8.2792545392335946,8.2874562303367565,9.0018114929662136,9.0140117539091342,9.0264933264680263,9.0392672286528235,9.0523450583897223,9.0657390321720257,9.079462026844233]
[null,null,"CFADS  (ср. знач)",null,13672172.244083751,13507348.582034983,13338224.229008503,13164681.319510672,12986598.760709234,12803852.146279158,12616313.668040184,12423852.025332171,12226332.332073407,12023616.021445554,11815560.748147758,11602020.288161097,11382844.435963176,11157878.899131358,10926965.190271718,10689940.516209336,10446637.664374124,10196884.886314921,9940505.7782730591,9677319.1587449647,9407138.9429619275]
[null,null,"DSCR (ср. знач)",null,14.055856033447292,13.852206251013254,13.642623659131555,13.426939341090909,13.204979781375309,12.976566747397074,12.741517168383391,12.499643011352804,12.250751154116747,11.9946432552399,11.731115620891826,11.459959068520881,11.180958787280073,10.893894195133056,10.598538792567057,10.294660012837824,9.9820190686706294,9.6603707953392064,9.3294634900434801,8.9890387475050417,8.6388312916977092]
[null,null,"Изменение курса доллара",null,0.5,0.55000000000000004,0.6,0.65,0.7,0.75,0.8,0.85,0.9,0.95,1,1.05,1.1000000000000001,1.1499999999999999,1.2,1.25,1.3,1.35,1.4,1.45,1.5]
[null,null,"NPV project",null,-35375380.819682181,-20844772.337484125,-6591902.8772353195,7424109.89619096,21212126.169257998,34793583.990069948,48007162.453135647,60757876.385071561,73464240.408573434,86170604.432075083,98876968.455576897,111583332.47907874,124289696.50258058,136996060.5260824,149702424.54958418,162408788.57308602,175115152.59658775,187821516.62008959,200527880.64359149,213234244.66709322,225940608.69059497]
[null,null,"NPV eq",null,-26063194.402893763,-16547893.96831038,-7338453.4568179967,1722926.5082543157,10637656.78031129,19414675.842269424,27924064.292668447,36068475.380090527,44177186.047025248,52285896.713959828,60394607.380894504,68503318.047829196,76612028.71476388,84720739.381698564,92829450.048633233,100938160.71556798,109046871.38250259,117155582.04943725,125264292.71637201,133373003.38330662,141481714.05024129]
[null,null,"IRR project",null,52429.80000000001,3.4197452510582163E-2,6.2128823869101291E-2,8.1624508240827634E-2,9.6349770301963275E-2,0.10798557618384226,0.11724520359240426,0.12454677054840647,0.13073985182019146,0.13610520625225997,0.14080602727686778,0.14496353411500509,0.14867009033752468,0.15199756804558215,0.15500289143549895,0.15773183135289287,0.1602216744049543,0.16250314474095193,0.16460181597934381,0.16653916703224794,0.16833338404071774]
[null,null,"IRR eq",null,28147531225.507607,104858.6,5.5581931677890252E-2,0.10132739555504053,0.13660592000455912,0.16545970761606288,0.18885415716012141,0.20689731484202539,0.22216845735355745,0.23539080145715691,0.24694263760663801,0.25711497628411983,0.2661360330796288,0.27418732146879327,0.28141487312131114,0.2879373499849528,0.29385204641251728,0.29923940222598933,0.30416643859030473,0.30868940134826139,0.31285581375484683]
[null,null,"Дисконтируемый срок окупаемости (5 лет инвест. фаза)",null,26,26,26,26,26,26,25.114171622421264,23.099973053254992,21.190807504220729,20.12460903379829,19.114343867736149,18.157329109984939,17.252895662401915,17.057610080529845,16.222114535434891,16.06840130763014,15.295139629997555,15.169622841142051,15.059110297771101,14.350365719519505,14.256294488526136]
[null,null,"Дисконтируемый срок окупаемости для акционерного капитала (5 лет инвест. фаза)",null,26,26,26,26,26,23.3945603809318,19.08720482052389,15.141364846630458,12.050433038862643,9.2133692145071056,8.2632546586951605,8.0903399484167231,7.3006693587758438,7.2090447447860555,7.1326976928802308,7.0681011641662153,7.0127362293643385,6.3901645890749137,6.3596024226733157,6.3326670781996848,6.3087491223233654]
[null,null,"CFADS  (ср. знач)",null,-55165.282137855706,1259890.5181301648,2526312.8825652068,3759696.8808038328,4966735.9277416021,6153459.0623050788,7311785.8888995564,8439807.8844076283,9565058.8389876764,10690309.793567713,11815560.748147758,12940811.702727804,14066062.657307845,15191313.611887893,16316564.566467941,17441815.521047991,18567066.475628026,19692317.430208072,20817568.384788122,21942819.339368168,23068070.2939482]
[null,null,"DSCR (ср. знач)",null,0.28044635357409553,2.6467458577762821,4.4330378087028413,5.8928316391533269,7.118453289034842,8.1662602979524319,9.0686789937015426,9.8525581819605996,10.548320196379576,11.170844104017599,11.731115620891826,12.238027945682793,12.6988573318564,13.119614597493179,13.505308757660218,13.860147385013896,14.187690733340364,14.490971611420431,14.772589569637642,15.034785599701934,15.2795018944286]
[null,null,"Изменение цены Карбамид (экспорт) ",null,0.5,0.55000000000000004,0.6,0.65,0.7,0.75,0.8,0.85,0.9,0.95,1,1.05,1.1000000000000001,1.1499999999999999,1.2,1.25,1.3,1.35,1.4,1.45,1.5]
[null,null,"NPV project",null,-15594482.920833342,-3483979.1089235395,8541260.0135080293,20472776.165772386,32301250.564164132,44017797.183591038,55459451.591712132,66481470.06135419,77279969.526095077,88078468.990835994,98876968.455576897,109675467.9203178,120473967.3850587,131272466.84979959,142070966.31454045,152869465.77928138,163667965.24402231,174466464.70876324,185264964.17350405,196063463.63824499,206861963.10298592]
[null,null,"NPV eq",null,-16631036.959200922,-8454200.799407104,-331780.49908531457,7729875.2150294762,15723469.464972921,23641525.022490859,31360781.101506922,38754927.860677011,45968154.367416173,53181380.874155328,60394607.380894504,67607833.887633681,74821060.394372851,82034286.90111199,89247513.40785116,96460739.914590359,103673966.42132953,110887192.9280687,118100419.43480785,125313645.94154701,132526872.44828621]
[null,null,"IRR project",null,5.9140397190454844E-2,6.9456861858389063E-2,7.916632583566445E-2,8.8366333891543677E-2,9.7129017949948881E-2,0.10550819989596795,0.11341357468606149,0.12071877426285495,0.1275966035123404,0.13428525956710979,0.14080602727686459,0.14717687569874591,0.15341307199119258,0.15952765930780513,0.16553183364869692,0.17143524458079454,0.17724623785313684,0.18297205313280843,0.18861898668809673,0.19419252640443249,0.19969746474303141]
[null,null,"IRR eq",null,4.8292422416510584E-2,7.102918044658893E-2,9.270807667334352E-2,0.11380670925633783,0.13462402715872013,0.15532133330258618,0.17551093788519082,0.19439697488476945,0.21222296809759639,0.22975637559484491,0.24694263760663657,0.26372757285162984,0.28006601406291864,0.29592611154856063,0.31129011918254923,0.32615293858022898,0.34051961671883391,0.35440264266795729,0.36781951447606254,0.38079076640342868,0.39333847890947216]
[null,null,"Дисконтируемый срок окупаемости (5 лет инвест. фаза)",null,26,26,26,26,26,26,26,24.151026397743763,22.171629605185171,21.003672809108359,19.114343867736149,18.009913118210722,16.277871193755992,15.280916852803275,14.337791287948439,14.028867310598589,13.163397161905687,12.355217004107116,12.118375483290801,11.383557421673865,11.185129110817314]
[null,null,"Дисконтируемый срок окупаемости для акционерного капитала (5 лет инвест. фаза)",null,26,26,26,26,26,25.505082188576125,22.036571293652596,18.112276641811171,14.153089850059121,10.125091041935015,8.2632546586951605,7.3139096115026421,7.1202490782329013,6.3735122160858797,6.2725277023744388,6.1867002766969152,6.1128556919041168,6.0486482126420889,5.7141952151817943,5.6951136184218925,5.6770251182088263]
[null,null,"CFADS  (ср. знач)",null,3722324.3334583445,4588977.5634583021,5445411.8671297431,6291501.0669273334,7127112.0438162293,7952228.6949538039,8755905.7783000153,9531232.6851263084,10292675.372800127,11054118.060473939,11815560.748147758,12577003.435821576,13338446.123495391,14099888.811169205,14861331.498843022,15622774.18651684,16384216.874190656,17145659.561864473,17907102.249538288,18668544.937212102,19429987.62488592]
[null,null,"DSCR (ср. знач)",null,4.288766095870157,5.0617236714330991,5.827384579190257,6.5865836598587322,7.3399808285336592,8.0881659859206607,8.8275856887841808,9.5569066875665687,10.28164299867499,11.006379309783407,11.731115620891826,12.455851932000247,13.180588243108664,13.90532455421708,14.630060865325502,15.35479717643392,16.079533487542339,16.804269798650758,17.52900610975918,18.253742420867599,18.978478731976018]
[null,null,"Изменение цены Карбамид (кас) ",null,0.5,0.55000000000000004,0.6,0.65,0.7,0.75,0.8,0.85,0.9,0.95,1,1.05,1.1000000000000001,1.1499999999999999,1.2,1.25,1.3,1.35,1.4,1.45,1.5]
[null,null,"NPV project",null,-3708080.485976316,7028932.6032271758,17679585.721050225,28209551.735930171,38578394.624559827,48724046.381867401,58754630.796609275,68785215.211351156,78815799.626093075,88846384.040834978,98876968.455576897,108907552.8703188,118938137.28506073,128968721.69980256,138999306.11454451,149029890.52928638,159060474.94402835,169091059.35877025,179121643.77351213,189152228.18825406,199182812.60299593]
[null,null,"NPV eq",null,-4994460.8975169901,1899373.1617564838,8735551.2522865478,15486160.112993967,22117791.323199209,28574345.916649062,34938398.209498145,41302450.502347216,47666502.795196339,54030555.088045418,60394607.380894504,66758659.673743606,73122711.966592714,79486764.259441793,85850816.552290887,92214868.84513998,98578921.137989074,104942973.43083817,111307025.72368725,117671078.01653636,124035130.30938545]
[null,null,"IRR project",null,6.710208466943833E-2,7.7776905976742097E-2,8.7330574493048332E-2,9.5976722385953339E-2,0.10384474304922332,0.11098358849178329,0.11757908007760463,0.12381190409741231,0.12973418600513317,0.13538760709116152,0.14080602727686911,0.14601733072218484,0.1510447556092267,0.15590787225255828,0.16062331574420699,0.16520534366995085,0.16966626683877625,0.17401678628924283,0.17826626008354987,0.18242291678672937,0.18649402796084272]
[null,null,"IRR eq",null,7.3083546283763373E-2,0.10072599426970909,0.12426847981167975,0.14499964945100605,0.16351664190838636,0.17991355334986836,0.19479082742669013,0.20880435072656672,0.22210082339201348,0.23478696724505663,0.24694263760663346,0.25862914672202281,0.26989472250958385,0.280778180048189,0.29131144013935467,0.30152128448545695,0.31143059517139771,0.3210592403995583,0.33042471469423701,0.33954260708551742,0.34842694782034456]
[null,null,"Дисконтируемый срок окупаемости (5 лет инвест. фаза)",null,26,26,26,26,26,26,24.15800519925585,23.040516178121369,21.174967585417615,20.128573720413588,19.114343867736149,18.133494477282664,17.187935466176604,16.280651803888283,16.046325194958225,15.187229299167823,14.37252288812517,14.171233436611979,13.408165298684832,13.228166357143753,13.063617195723721]
[null,null,"Дисконтируемый срок окупаемости для акционерного капитала (5 лет инвест. фаза)",null,26,26,26,26,23.082546409963282,19.326109155473478,16.302726459044848,14.074613014491018,11.141293451212521,9.2049793928358223,8.2632546586951605,8.0758064459145942,7.2638589067209791,7.145222144779086,7.0399092002713211,6.3627216129013116,6.2992080974653843,6.2419082787362035,6.1899528273248121,6.1426273533270015,6.0993393604187061]
[null,null,"CFADS  (ср. знач)",null,5188622.4673527433,5887723.6894611483,6578399.5522543956,7259140.7043593824,7927912.6252979133,8581903.7941243183,9228635.1849290058,9875366.5757336933,10522097.966538381,11168829.35734307,11815560.748147758,12462292.138952447,13109023.529757138,13755754.920561822,14402486.31136651,15049217.702171199,15695949.092975887,16342680.48378058,16989411.874585263,17636143.265389953,18282874.656194638]
[null,null,"DSCR (ср. знач)",null,4.7335761402386725,5.4483452058805728,6.1587036813167328,6.8647448962002802,7.5661289543550607,8.2623236077722346,8.9560820103961518,9.6498404130200708,10.34359881564399,11.037357218267907,11.731115620891826,12.424874023515745,13.118632426139662,13.812390828763581,14.5061492313875,15.199907634011415,15.893666036635336,16.587424439259255,17.281182841883172,17.974941244507097,18.66869964713101]
[null,null,"Изменение объема производств Карбамид (экспорт) ",null,0.5,0.55000000000000004,0.6,0.65,0.7,0.75,0.8,0.85,0.9,0.95,1,1.05,1.1000000000000001,1.1499999999999999,1.2,1.25,1.3,1.35,1.4,1.45,1.5]
[null,null,"NPV project",null,-3601154.6532068104,7330439.7539215907,18162557.627075396,28888391.808554292,39501439.841664761,49953709.248161823,60038918.234515056,69806381.619647592,79512752.284915298,89202704.663007736,98876968.455576897,108536230.75395975,118181139.1046679,127812304.31398527,137430303.01721507,147035680.03529882,156628950.53905892,166210602.03913909,175781096.21780479,185340870.6170724,194890340.1961444]
[null,null,"NPV eq",null,-8531545.2015578747,-1148189.7936197817,6170068.2505140826,13417951.508044306,20590018.473264974,27649383.717640139,34428389.861470073,40963621.237370595,47451384.293888725,53928217.755133405,60394607.380894504,66851010.565426812,73297858.378135905,79735557.430588663,86164491.586851865,92585023.532285005,98997496.214268938,105402234.1669023,111799544.73042417,118189719.17499578,124573033.73747975]
[null,null,"IRR project",null,6.9439275444065404E-2,7.8279317998623824E-2,8.6678922867855918E-2,9.4694134050650358E-2,0.10236788857063409,0.10969768481954663,0.11651380128666815,0.12286864098053829,0.12900220539555457,0.13497609624723611,0.14080602727686911,0.14650549746737995,0.15208616730720539,0.15755815871812373,0.16293029663310143,0.16821030545020862,0.1734049702131949,0.17852026994155537,0.18356148876410375,0.18853330920588252,0.19343989100606918]
[null,null,"IRR eq",null,7.0738430182774995E-2,9.0541230102969814E-2,0.10982155756210883,0.12880422119139934,0.14761552371212794,0.16618211204035049,0.18369723835034452,0.20008204864840876,0.21602228679530475,0.23165525155049255,0.24694263760662466,0.26184982217449371,0.27634996832554437,0.2904257265685537,0.30406914072842695,0.31728046872999865,0.33006652571512057,0.34243896777008437,0.35441275099007641,0.36600486415724659,0.37723334919997709]
[null,null,"Дисконтируемый срок окупаемости (5 лет инвест. фаза)",null,26,26,26,26,26,26,26,24.044188945468569,22.095809510662711,20.211450128491364,19.114343867736149,18.046733901542567,17.013781923537714,16.022339033813932,15.076759465910088,14.180700355539647,13.337241571637454,13.092955305722191,12.318215206428572,12.112425907538928,11.404332696475338]
[null,null,"Дисконтируемый срок окупаемости для акционерного капитала (5 лет инвест. фаза)",null,26,26,26,26,26,24.024110409965228,20.238475440271277,17.076941871581887,13.198520632085801,10.049564248394587,8.2632546586951605,8.0096718185321887,7.1786214051494301,7.0374615503324316,6.3552786480884578,6.2803099343456781,6.2153073409125508,6.158391600560023,6.1081286921813476,6.0634053135029511,6.0233439359790468]
[null,null,"CFADS  (ср. знач)",null,4529397.943326856,5313083.2337623304,6086731.6000940586,6850193.396217078,7603435.293127697,8343538.4952333821,9058203.1323548462,9751332.9581908341,10440584.272759221,11128642.527788736,11815560.748147758,12501388.862362016,13186173.925373007,13869960.322338304,14552789.955329778,15234702.414580813,15915735.135754285,16595923.544544596,17275301.189788159,17953899.866133876,18631749.727216486]
[null,null,"DSCR (ср. знач)",null,5.0206927844191549,5.7201623012599692,6.4128627940617937,7.0992739725604199,7.7798693363769944,8.4540001385641865,9.1180203494480505,9.7736324686652711,10.427234275771058,11.079712006868682,11.731115620891826,12.3814921594642,13.030885956777919,13.679338831609943,14.326890263225241,14.973577552722444,15.619435971208405,16.264498896039285,16.908797936234485,17.552363048054232,18.195222641629197]
[null,null,null,null,0.5,0.55000000000000004,0.6,0.65,0.7,0.75,0.8,0.85,0.9,0.95,1,1.05,1.1000000000000001,1.1499999999999999,1.2,1.25,1.3,1.35,1.4,1.45,1.5]
[null,null,null,null,55139438.849910058,64628795.994911231,72832077.968477562,79933606.052542076,85934448.732130349,90835606.109226555,94638015.287264615,97342555.254736841,98950051.321448937,99461279.154511556,98876968.455576897,97197806.315981776,94424440.282237887,90557481.160629183,85597505.586458787,79545058.380668253,72394477.08217676,64043275.01912488,54398993.991624653,43299549.757108614,30771173.361292686]
[null,null,null,null,31116057.009613983,37481605.050220117,42965061.736954622,47712614.396186501,51724974.314590186,55002807.256493181,57546737.048312448,59357348.829555444,60435192.006019242,60780782.936535612,60394607.380894504,59277122.733350679,57428760.063309729,54849925.982338533,51541004.354503863,47502357.865165211,42729053.613668092,37133473.675419807,30648691.890163966,23158775.311682399,14692518.329481844]
[null,null,null,null,0.11325265147084579,0.11955219342748949,0.12482053568997363,0.12928769588865457,0.13299941372456786,0.13599017419473655,0.13828573179362086,0.13990481334546168,0.14086025106558592,0.14115969949549334,0.14080602727686903,0.13979743149250859,0.13812728782351405,0.13578371889273017,0.13274882789727516,0.1289974995371603,0.12448889076933967,0.11906853811609745,0.11261146637270013,0.10492178877805969,9.5935053225455841E-2]
[null,null,null,null,0.17542736068406342,0.19176977631850345,0.20544253581535835,0.21711906609717518,0.2268475252362821,0.23467986838635557,0.24066741693428859,0.24485616728537077,0.24728316753631197,0.24797420355145447,0.24694263760663784,0.24418918965905825,0.23970253132544328,0.23346065921628303,0.22543304596201211,0.21558343330156146,0.20384247547985657,0.18970595367439916,0.1730379141782114,0.1535981442629635,0.13167183375023137]
[null,null,null,null,26,25.05937717339242,23.144118619607355,22.096152500612085,21.100708653754761,20.16311273396008,20.019671215532441,19.182134415933483,19.118478630205615,19.096213843153269,19.114343867736149,19.173659538685534,20.007575122402784,20.146299767811279,21.080635073704912,22.073407051754533,23.120077397822257,25.043285075918284,26,26,26]
[null,null,null,null,22.170490980273467,19.058056150187582,16.085713266108929,13.167710257826542,11.073437174963804,9.2211383893870948,9.0785334353636902,8.281781524009979,8.2424577592593824,8.2366530279257884,8.2632546586951605,9.0219703132366096,9.1309847570928344,9.2899685501147395,11.13321409913263,13.182642954590447,16.046206868078372,19.012260050759782,22.145688165983746,25.580049116396022,26]
[null,null,null,null,8683409.9434151333,9356485.9021839462,9939999.9939137716,10445778.133901669,10873897.965219561,11224432.161782769,11497448.819622196,11693011.811759064,11811181.11057209,11852013.081078859,11815560.748147758,11701874.040304508,11511000.012490608,11242983.04986364,10897865.054495461,10475685.616619466,9976135.0939279515,9393463.5123303439,8720860.5395085197,7945761.461853235,7067848.6993992338]
[null,null,null,null,8.7817240027306447,9.4126326541298511,9.9655129227903405,10.444419909579905,10.849426768194153,11.18060197049218,11.438009675145107,11.621710061991735,11.731759635766213,11.768211502421677,11.731115620891826,11.62051903280036,11.436466072339396,11.178998558285894,10.848155969904834,10.443975608294828,9.966388470443329,9.4136898013006043,8.7833466587739988,8.0703886526985649,7.2737686032153723]
[]
[]
[]
[]
[]
[]
[]
[]
[]
[]
[]
[]
[]
[]
[]
[]
[]
[]
[]
[]
[]
[]
[]
[]
[]
[]
[]
[]
[]
[null,null,"Вода осветленная (водозабор)"]
[null,null,"КФК"]
[null,null,"Платина"]
[null,null,"Прочие расходы (Химикаты, катализаторы)"]
[null,null,"Доставка, перевалка, хранение (Карбамид (экспорт))"]
[null,null,"Доставка, перевалка, хранение (КАС (экспорт))"]
[null,null,"Расходы на перснонал"]

{"sheet":"Капитальные затраты","index":10,"n_rows":32,"n_cols":29,"rows_kept":32,"cut":false,"hidden":false,"merged":[]}
[null,"Капитальные затраты на реализацию проекта",null,null,null,null,null,null,null,null,{"$f":"SUM(D5:H12)","v":1226600},null,{"$f":"I8/4","v":0},null,835,{"$f":"O1*1.12","v":935.2}]
[null,null,null,null,null,null,null,null,null,null,{"$f":"K1+M1","v":1226600}]
[null,null,null,null,null,null,null,null,null,null,{"$f":"SUM(D5:I12)","v":1226600},{"$f":"K3*15%","v":183990}]
[null,null,null,2020,2021,2022,2023,2024,2025,2026,2027,2028,2029,2030,2031,2032,2033,2034,2035,2036,2037,2038,2039,2040,2041,2042,2043,2044,2045]
[null,"Здания и сооружения","тыс. $",null,{"$f":"C23*13600","v":16320},{"$f":"C23*68000","v":81600},{"$f":"C23*91800","v":110160},{"$f":"C23*98600","v":118320}]
[null,"Оборудование и другие активы","тыс. $",null,{"$f":"C23*84800","v":101760},{"$f":"C23*214400","v":257280},{"$f":"C23*193200","v":231840},{"$f":"C23*239600","v":287520}]
[null,"Нематеральные активы","тыс. $"]
[null,"Первоначальный оборотный капитал","тыс. $"]
[null,"Проектная документация","тыс. $",{"$f":"C23*2800","v":3360},{"$f":"C23*3200","v":3840}]
[null,"FEED Аммиак\n\n","тыс. $",{"$f":"C23*2760","v":3312},{"$f":"C23*5640","v":6768}]
[null,"FEED Карбамид","тыс. $",1400,{"$f":"C23*2600","v":3120}]
[null,"FEED Аммиачная селитра + Азотная кислота + КАС","тыс. $",0,0]
[]
[null,"Здания и сооружения","тыс. руб.",{"$f":"D5*Inputs!$F$13","v":0},{"$f":"E5*Inputs!G$13","v":1210944},{"$f":"F5*Inputs!H$13","v":6201600},{"$f":"G5*Inputs!I$13","v":8350128},{"$f":"H5*Inputs!J$13","v":9169800},{"$f":"I5*Inputs!$F13","v":0},{"$f":"J5*Inputs!$F13","v":0},{"$f":"K5*Inputs!$F13","v":0},{"$f":"L5*Inputs!$F13","v":0},{"$f":"M5*Inputs!$F13","v":0},{"$f":"N5*Inputs!$F13","v":0},{"$f":"O5*Inputs!$F13","v":0},{"$f":"P5*Inputs!$F13","v":0},{"$f":"Q5*Inputs!$F13","v":0},null,null,null,null,null,{"$f":"W5*Inputs!$F13","v":0},{"$f":"X5*Inputs!$F13","v":0},{"$f":"Y5*Inputs!$F13","v":0},null,null,null,{"$f":"AC5*Inputs!$F13","v":0}]
[null,"Оборудование и другие активы","тыс. руб.",{"$f":"D6*Inputs!F$13","v":0},{"$f":"E6*Inputs!G$13","v":7550592},{"$f":"F6*Inputs!H$13","v":19553280},{"$f":"G6*Inputs!I$13","v":17573472},{"$f":"H6*Inputs!J$13","v":22282800},{"$f":"I6*Inputs!$F13","v":0},{"$f":"J6*Inputs!$F13","v":0},{"$f":"K6*Inputs!$F13","v":0},{"$f":"L6*Inputs!$F13","v":0},{"$f":"M6*Inputs!$F13","v":0},{"$f":"N6*Inputs!$F13","v":0},{"$f":"O6*Inputs!$F13","v":0},{"$f":"P6*Inputs!$F13","v":0},{"$f":"Q6*Inputs!$F13","v":0},null,null,null,null,null,{"$f":"W6*Inputs!$F13","v":0},{"$f":"X6*Inputs!$F13","v":0},{"$f":"Y6*Inputs!$F13","v":0},null,null,null,{"$f":"AC6*Inputs!$F13","v":0}]
[null,"Нематеральные активы","тыс. руб.",{"$f":"D7*Inputs!F$13","v":0},{"$f":"E7*Inputs!G$13","v":0},{"$f":"F7*Inputs!H$13","v":0},{"$f":"G7*Inputs!I$13","v":0},{"$f":"H7*Inputs!J$13","v":0},{"$f":"I7*Inputs!K$13","v":0},{"$f":"J7*Inputs!$F13","v":0},{"$f":"K7*Inputs!$F13","v":0},{"$f":"L7*Inputs!$F13","v":0},{"$f":"M7*Inputs!$F13","v":0},{"$f":"N7*Inputs!$F13","v":0},{"$f":"O7*Inputs!$F13","v":0},{"$f":"P7*Inputs!$F13","v":0},{"$f":"Q7*Inputs!$F13","v":0},null,null,null,null,null,{"$f":"W7*Inputs!$F13","v":0},{"$f":"X7*Inputs!$F13","v":0},{"$f":"Y7*Inputs!$F13","v":0},null,null,null,{"$f":"AC7*Inputs!$F13","v":0}]
[null,"Первоначальный оборотный капитал",null,null,null,null,null,null,{"$f":"I8*Inputs!K$13","v":0}]
[null,"Проектная документация","тыс. руб.",{"$f":"D9*Inputs!F$13","v":243935.99999999997},{"$f":"E9*Inputs!G$13","v":284928},{"$f":"F9*Inputs!H$13","v":0},{"$f":"G9*Inputs!I$13","v":0},{"$f":"H9*Inputs!J$13","v":0},{"$f":"I9*Inputs!$F13","v":0},{"$f":"J9*Inputs!$F13","v":0},{"$f":"K9*Inputs!$F13","v":0},{"$f":"L9*Inputs!$F13","v":0},{"$f":"M9*Inputs!$F13","v":0},{"$f":"N9*Inputs!$F13","v":0},{"$f":"O9*Inputs!$F13","v":0},{"$f":"P9*Inputs!$F13","v":0},{"$f":"Q9*Inputs!$F13","v":0},null,null,null,null,null,{"$f":"W9*Inputs!$F13","v":0},{"$f":"X9*Inputs!$F13","v":0},{"$f":"Y9*Inputs!$F13","v":0},null,null,null,{"$f":"AC9*Inputs!$F13","v":0}]
[null,"FEED Аммиак\n\n","тыс. руб.",{"$f":"D10*Inputs!F$13","v":240451.19999999998},{"$f":"E10*Inputs!G$13","v":502185.60000000003},{"$f":"F10*Inputs!H$13","v":0},{"$f":"G10*Inputs!I$13","v":0},{"$f":"H10*Inputs!J$13","v":0},{"$f":"I10*Inputs!$F13","v":0},{"$f":"J10*Inputs!$F13","v":0},{"$f":"K10*Inputs!$F13","v":0},{"$f":"L10*Inputs!$F13","v":0},{"$f":"M10*Inputs!$F13","v":0},{"$f":"N10*Inputs!$F13","v":0},{"$f":"O10*Inputs!$F13","v":0},{"$f":"P10*Inputs!$F13","v":0},{"$f":"Q10*Inputs!$F13","v":0},null,null,null,null,null,{"$f":"W10*Inputs!$F13","v":0},{"$f":"X10*Inputs!$F13","v":0},{"$f":"Y10*Inputs!$F13","v":0},null,null,null,{"$f":"AC10*Inputs!$F13","v":0}]
[null,"FEED Карбамид","тыс. руб.",{"$f":"D11*Inputs!F$13","v":101639.99999999999},{"$f":"E11*Inputs!G$13","v":231504},{"$f":"F11*Inputs!H$13","v":0},{"$f":"G11*Inputs!I$13","v":0},{"$f":"H11*Inputs!J$13","v":0},{"$f":"I11*Inputs!$F13","v":0},{"$f":"J11*Inputs!$F13","v":0},{"$f":"K11*Inputs!$F13","v":0},{"$f":"L11*Inputs!$F13","v":0},{"$f":"M11*Inputs!$F13","v":0},{"$f":"N11*Inputs!$F13","v":0},{"$f":"O11*Inputs!$F13","v":0},{"$f":"P11*Inputs!$F13","v":0},{"$f":"Q11*Inputs!$F13","v":0},null,null,null,null,null,{"$f":"W11*Inputs!$F13","v":0},{"$f":"X11*Inputs!$F13","v":0},{"$f":"Y11*Inputs!$F13","v":0},null,null,null,{"$f":"AC11*Inputs!$F13","v":0}]
[null,"FEED Аммиачная селитра + Азотная кислота + КАС","тыс. руб.",{"$f":"D12*Inputs!F$13","v":0},{"$f":"E12*Inputs!G$13","v":0},{"$f":"F12*Inputs!H$13","v":0},{"$f":"G12*Inputs!I$13","v":0},{"$f":"H12*Inputs!J$13","v":0},{"$f":"I12*Inputs!$F13","v":0},{"$f":"J12*Inputs!$F13","v":0},{"$f":"K12*Inputs!$F13","v":0},{"$f":"L12*Inputs!$F13","v":0},{"$f":"M12*Inputs!$F13","v":0},{"$f":"N12*Inputs!$F13","v":0},{"$f":"O12*Inputs!$F13","v":0},{"$f":"P12*Inputs!$F13","v":0},{"$f":"Q12*Inputs!$F13","v":0},null,null,null,null,null,{"$f":"W12*Inputs!$F13","v":0},{"$f":"X12*Inputs!$F13","v":0},{"$f":"Y12*Inputs!$F13","v":0},null,null,null,{"$f":"AC12*Inputs!$F13","v":0}]
[]
[null,"Для анализа чувствительности",1.2]
[]
[]
[null,"ПИР","в валюте (руб)",null,{"$f":"SUM('Капитальные затраты'!D18:E21)","v":1604644.8}]
[null,"СМР","в валюте (руб)",null,{"$f":"E14+F14+G14+H14","v":24932472}]
[null,"Российское оборудование","в валюте  (руб)",null,{"$f":"SUM('Капитальные затраты'!D15:H15)*35%","v":23436050.399999999}]
[null,"Импортное оборудование (импорт пересчитан в руб.)","в валюте  (руб)",null,{"$f":"SUM('Капитальные затраты'!D15:H15)*65%","v":43524093.600000001}]
[null,"НИОКР","в валюте  (руб)"]
[null,"Оборотный капитал","в валюте (руб)",null,{"$f":"'Рассчет себестоимости'!I42","v":14078266.048646752}]
[null,"Иное","в валюте  (руб)"]

{"sheet":"Кредит","index":11,"n_rows":80,"n_cols":28,"rows_kept":80,"cut":false,"hidden":false,"merged":[]}
["Кредит Отсрочка выплаты  на инвестиционном этапе."]
[]
[null,null,2020,2021,2022,2023,2024,2025,2026,2027,2028,2029,2030,2031,2032,2033,2034,2035,2036,2037,2038,2039,2040,2041,2042,2043,2044,2045]
["Затраты всего по годам (тыс. $)",null,{"$f":"SUM('Капитальные затраты'!D5:D12)","v":8072},{"$f":"SUM('Капитальные затраты'!E5:E12)","v":131808},{"$f":"SUM('Капитальные затраты'!F5:F12)","v":338880},{"$f":"SUM('Капитальные затраты'!G5:G12)","v":342000},{"$f":"SUM('Капитальные затраты'!H5:H12)","v":405840}]
["Поступление от собственных средтсв (тыс. $)",null,{"$f":"C4","v":8072},{"$f":"D4/2","v":65904},{"$f":"E4/3","v":112960},0,0]
["Поступление от кредита (тыс. $)",null,0,{"$f":"D4-D5","v":65904},{"$f":"E4-E5","v":225920},{"$f":"F4-F5","v":342000},{"$f":"G4-G5","v":405840}]
["Сумма собственных средтсв ИТОГО(тыс. $)",{"$f":"C5+D5+E5","v":186936},{"$f":"C5","v":8072},{"$f":"D5","v":65904},{"$f":"E5","v":112960},{"$f":"F5","v":0},{"$f":"G5","v":0}]
["Сумма кредита ИТОГО (тыс. $)",null,{"$f":"C6","v":0},{"$f":"C8+D6","v":65904},{"$f":"D8+E6","v":291824},{"$f":"E8+F6","v":633824},{"$f":"F8+G6","v":1039664},{"$f":"IF(G9<=0,0,G8+H6)","v":1039664},{"$f":"IF(H9<=0,0,H8+I6)","v":1039664},1039664,1039664,1039664,1039664,1039664,1039664,1039664,1039664,1039664,1039664,1039664,1039664,1039664,1039664,1039664,1039664,1039664,1039664,1039664]
["Остаток платежа по кредиту (тыс. $)",null,0,{"$f":"D8-D12","v":65904},{"$f":"E8-E12","v":291824},{"$f":"F8-F12","v":633824},{"$f":"G8-G12","v":1039664},{"$f":"H8-H12","v":987680.8},{"$f":"IF((H9-I12)<0,0,H9-I12)","v":935697.60000000009},{"$f":"IF((I9-J12)<0,0,I9-J12)","v":883714.40000000014},831731.20000000019,779748.00000000023,727764.80000000028,675781.60000000033,623798.40000000037,571815.20000000042,519832.00000000041,{"$f":"IF((Q9-R12)<0,0,Q9-R12)","v":467848.8000000004},415865.60000000038,363882.40000000037,311899.20000000036,259916.00000000035,207932.80000000034,155949.60000000033,103966.40000000033,51983.200000000332,3.3469405025243759E-10,0]
["Процент по кредиту",0.05]
["Срок кредита (лет)",20]
["Выплата тела кредита (тыс. $)",null,{"$f":"IF(Inputs!F128=0,0,C8/$B$11)","v":0},{"$f":"IF(Inputs!G128=0,0,D8/$B$11)","v":0},{"$f":"IF(Inputs!H128=0,0,E8/$B$11)","v":0},{"$f":"IF(Inputs!I128=0,0,F8/$B$11)","v":0},{"$f":"IF(Inputs!J128=0,0,G8/$B$11)","v":0},{"$f":"IF(Inputs!K128=0,0,H8/$B$11)","v":51983.199999999997},{"$f":"IF(Inputs!L128=0,0,I8/$B$11)","v":51983.199999999997},{"$f":"IF(Inputs!M128=0,0,J8/$B$11)","v":51983.199999999997},{"$f":"IF(Inputs!N128=0,0,K8/$B$11)","v":51983.199999999997},{"$f":"IF(Inputs!O128=0,0,L8/$B$11)","v":51983.199999999997},{"$f":"IF(Inputs!P128=0,0,M8/$B$11)","v":51983.199999999997},{"$f":"IF(Inputs!Q128=0,0,N8/$B$11)","v":51983.199999999997},{"$f":"IF(Inputs!R128=0,0,O8/$B$11)","v":51983.199999999997},{"$f":"IF(Inputs!S128=0,0,P8/$B$11)","v":51983.199999999997},{"$f":"IF(Inputs!T128=0,0,Q8/$B$11)","v":51983.199999999997},{"$f":"IF(Inputs!U128=0,0,R8/$B$11)","v":51983.199999999997},{"$f":"IF(Inputs!V128=0,0,S8/$B$11)","v":51983.199999999997},{"$f":"IF(Inputs!W128=0,0,T8/$B$11)","v":51983.199999999997},{"$f":"IF(Inputs!X128=0,0,U8/$B$11)","v":51983.199999999997},{"$f":"IF(Inputs!Y128=0,0,V8/$B$11)","v":51983.199999999997},{"$f":"IF(Inputs!Z128=0,0,W8/$B$11)","v":51983.199999999997},{"$f":"IF(Inputs!AA128=0,0,X8/$B$11)","v":51983.199999999997},{"$f":"IF(Inputs!AB128=0,0,Y8/$B$11)","v":51983.199999999997},{"$f":"IF(Inputs!AC128=0,0,Z8/$B$11)","v":51983.199999999997},{"$f":"IF(Inputs!AD128=0,0,AA8/$B$11)","v":51983.199999999997},{"$f":"IF(Inputs!AE128=0,0,AB8/$B$11)","v":51983.199999999997}]
["Выплата процентов по кредиту (тыс. $)",null,{"$f":"IF(Inputs!F128=0,0,IF(SUM(C40:C51)<0,0,SUM(C40:C51)))","v":0},{"$f":"IF(Inputs!G128=0,0,IF(SUM(D40:D51)<0,0,SUM(D40:D51)))","v":0},{"$f":"IF(Inputs!H128=0,0,IF(SUM(E40:E51)<0,0,SUM(E40:E51)))","v":0},{"$f":"IF(Inputs!I128=0,0,IF(SUM(F40:F51)<0,0,SUM(F40:F51)))","v":0},{"$f":"IF(Inputs!J128=0,0,IF(SUM(G40:G51)<0,0,SUM(G40:G51)))","v":0},{"$f":"IF(Inputs!K128=0,0,IF(SUM(H40:H51)<0,0,SUM(H40:H51)))","v":50575.321666666649},{"$f":"IF(Inputs!L128=0,0,IF(SUM(I40:I51)<0,0,SUM(I40:I51)))","v":47976.16166666666},{"$f":"IF(Inputs!M128=0,0,IF(SUM(J40:J51)<0,0,SUM(J40:J51)))","v":45377.001666666656},{"$f":"IF(Inputs!N128=0,0,IF(SUM(K40:K51)<0,0,SUM(K40:K51)))","v":42777.841666666623},{"$f":"IF(Inputs!O128=0,0,IF(SUM(L40:L51)<0,0,SUM(L40:L51)))","v":40178.681666666635},{"$f":"IF(Inputs!P128=0,0,IF(SUM(M40:M51)<0,0,SUM(M40:M51)))","v":37579.521666666617},{"$f":"IF(Inputs!Q128=0,0,IF(SUM(N40:N51)<0,0,SUM(N40:N51)))","v":34980.361666666606},{"$f":"IF(Inputs!R128=0,0,IF(SUM(O40:O51)<0,0,SUM(O40:O51)))","v":32381.201666666591},{"$f":"IF(Inputs!S128=0,0,IF(SUM(P40:P51)<0,0,SUM(P40:P51)))","v":29782.041666666581},{"$f":"IF(Inputs!T128=0,0,IF(SUM(Q40:Q51)<0,0,SUM(Q40:Q51)))","v":27182.881666666584},{"$f":"IF(Inputs!U128=0,0,IF(SUM(R40:R51)<0,0,SUM(R40:R51)))","v":24583.721666666574},{"$f":"IF(Inputs!V128=0,0,IF(SUM(S40:S51)<0,0,SUM(S40:S51)))","v":21984.561666666563},{"$f":"IF(Inputs!W128=0,0,IF(SUM(T40:T51)<0,0,SUM(T40:T51)))","v":19385.401666666545},{"$f":"IF(Inputs!X128=0,0,IF(SUM(U40:U51)<0,0,SUM(U40:U51)))","v":16786.241666666541},{"$f":"IF(Inputs!Y128=0,0,IF(SUM(V40:V51)<0,0,SUM(V40:V51)))","v":14187.081666666529},{"$f":"IF(Inputs!Z128=0,0,IF(SUM(W40:W51)<0,0,SUM(W40:W51)))","v":11587.921666666532},{"$f":"IF(Inputs!AA128=0,0,IF(SUM(X40:X51)<0,0,SUM(X40:X51)))","v":8988.7616666665417},{"$f":"IF(Inputs!AB128=0,0,IF(SUM(Y40:Y51)<0,0,SUM(Y40:Y51)))","v":6389.6016666665482},{"$f":"IF(Inputs!AC128=0,0,IF(SUM(Z40:Z51)<0,0,SUM(Z40:Z51)))","v":3790.4416666665475},{"$f":"IF(Inputs!AD128=0,0,IF(SUM(AA40:AA51)<0,0,SUM(AA40:AA51)))","v":1191.2816666665472},{"$f":"IF(Inputs!AE128=0,0,IF(SUM(AB40:AB51)<0,0,SUM(AB40:AB51)))","v":0}]
[]
[]
["Незавершенное строительство (тыс. $)",null,{"$f":"C4","v":8072},{"$f":"D4+C16","v":139880},{"$f":"E4+D16","v":478760},{"$f":"F4+E16","v":820760},{"$f":"G4+F16","v":1226600}]
["Долгосрочные кредиты (тыс. $)",null,{"$f":"C9","v":0},{"$f":"D9","v":65904},{"$f":"E9","v":291824},{"$f":"F9","v":633824},{"$f":"G9","v":1039664},{"$f":"H9","v":987680.8},935697.60000000009,883714.40000000014,831731.20000000019,779748.00000000023,727764.80000000028,675781.60000000033,623798.40000000037,571815.20000000042,519832.00000000041,467848.8000000004,415865.60000000038,{"$f":"T9","v":363882.40000000037},{"$f":"U9","v":311899.20000000036},259916.00000000035,207932.80000000034,155949.60000000033,103966.40000000033,51983.200000000332,3.3469405025243759E-10,0]
["Уставный капитал (тыс. $)",null,{"$f":"C5","v":8072},{"$f":"C18+D5","v":73976},{"$f":"D18+E5","v":186936},{"$f":"E18+F5","v":186936},{"$f":"F18+G5","v":186936},{"$f":"G18+H5","v":186936},{"$f":"H18+I5","v":186936},186936,186936,186936,186936,186936,186936,186936,186936,186936,186936,{"$f":"S18+T5","v":186936},{"$f":"T18+U5","v":186936},186936,186936,186936,186936,186936,186936,186936]
[]
["Незавершенное строительство (тыс. руб.)",null,{"$f":"C16*Inputs!F$13","v":586027.19999999995},{"$f":"D16*Inputs!G$13","v":10379096},{"$f":"E16*Inputs!H$13","v":36385760},{"$f":"F16*Inputs!I$13","v":62213608},{"$f":"G16*Inputs!J$13","v":95061500}]
["Долгосрочные кредиты (тыс. руб.)",null,{"$f":"C17*Inputs!$F$13","v":0},{"$f":"D17*Inputs!G$13","v":4890076.8},{"$f":"E17*Inputs!H$13","v":22178624},{"$f":"F17*Inputs!I$13","v":48043859.199999996},{"$f":"G17*Inputs!J$13","v":80573960},{"$f":"H9*Inputs!K13","v":77671218.112000003},{"$f":"I9*Inputs!L13","v":72984412.800000012},{"$f":"J9*Inputs!M13","v":70611305.458285689},{"$f":"K9*Inputs!N13","v":66039457.280000016},{"$f":"L9*Inputs!O13","v":61519889.348571479},{"$f":"M9*Inputs!P13","v":59676713.600000024},{"$f":"N9*Inputs!Q13","v":56089872.800000027},{"$f":"O9*Inputs!R13","v":51900026.880000032},{"$f":"P9*Inputs!S13","v":47689387.680000037},{"$f":"Q9*Inputs!T13","v":43457955.200000033},{"$f":"R9*Inputs!U13","v":39205729.440000035},{"$f":"S9*Inputs!V13","v":34932710.400000036},{"$f":"T9*Inputs!W13","v":30638898.080000032},{"$f":"U9*Inputs!X13","v":26324292.480000034},{"$f":"V9*Inputs!Y13","v":21988893.600000028},{"$f":"W9*Inputs!Z13","v":17632701.440000027},{"$f":"X9*Inputs!AA13","v":13255716.000000028},{"$f":"Y9*Inputs!AB13","v":8857937.2800000291},{"$f":"Z9*Inputs!AC13","v":4439365.2800000282},{"$f":"AA9*Inputs!AD13","v":2.8649810701608657E-8},{"$f":"AB9*Inputs!AE13","v":0}]
["Уставный капитал (тыс. руб.)",null,{"$f":"C18*Inputs!$F$13","v":586027.19999999995},{"$f":"D18*Inputs!G$13","v":5489019.2000000002},{"$f":"E18*Inputs!H$13","v":14207136},{"$f":"F18*Inputs!I$13","v":14169748.799999999},{"$f":"G18*Inputs!J$13","v":14487540},{"$f":"G22+H5","v":14487540},{"$f":"H22+I5","v":14487540},{"$f":"I22+J5","v":14487540},14487540,14487540,14487540,14487540,14487540,14487540,14487540,14487540,14487540,14487540,{"$f":"T22+U5","v":14487540},14487540,14487540,14487540,14487540,14487540,14487540,14487540]
[]
["Курсовая разница",null,{"$f":"IF(Inputs!F128=0,0,(Амортизация!C15+Амортизация!C16+Амортизация!C17)*Inputs!F13-(C21+C22))","v":0},{"$f":"IF(Inputs!G128=0,0,(Амортизация!D15+Амортизация!D16+Амортизация!D17)*Inputs!G13-(D21+D22))","v":0},{"$f":"IF(Inputs!H128=0,0,(Амортизация!E15+Амортизация!E16+Амортизация!E17)*Inputs!H13-(E21+E22))","v":0},{"$f":"IF(Inputs!I128=0,0,(Амортизация!F15+Амортизация!F16+Амортизация!F17)*Inputs!I13-(F21+F22))","v":0},{"$f":"IF(Inputs!J128=0,0,(Амортизация!G15+Амортизация!G16+Амортизация!G17)*Inputs!J13-(G21+G22))","v":0},{"$f":"IF(Inputs!K128=0,0,(Амортизация!H15+Амортизация!H16+Амортизация!H17)*Inputs!K13-(H21+H22))","v":568077.51466667652},{"$f":"IF(Inputs!L128=0,0,(Амортизация!I15+Амортизация!I16+Амортизация!I17)*Inputs!L13-(I21+I22))","v":797631.19999998808},{"$f":"IF(Inputs!M128=0,0,(Амортизация!J15+Амортизация!J16+Амортизация!J17)*Inputs!M13-(J21+J22))","v":1531193.0331428349},{"$f":"IF(Inputs!N128=0,0,(Амортизация!K15+Амортизация!K16+Амортизация!K17)*Inputs!N13-(K21+K22))","v":1788782.4533333182},{"$f":"IF(Inputs!O128=0,0,(Амортизация!L15+Амортизация!L16+Амортизация!L17)*Inputs!O13-(L21+L22))","v":2041832.2133333236},{"$f":"IF(Inputs!P128=0,0,(Амортизация!M15+Амортизация!M16+Амортизация!M17)*Inputs!P13-(M21+M22))","v":3062034.3999999762},{"$f":"IF(Inputs!Q128=0,0,(Амортизация!N15+Амортизация!N16+Амортизация!N17)*Inputs!Q13-(N21+N22))","v":3650704.5333333015},{"$f":"IF(Inputs!R128=0,0,(Амортизация!O15+Амортизация!O16+Амортизация!O17)*Inputs!R13-(O21+O22))","v":4069964.8533333018},{"$f":"IF(Inputs!S128=0,0,(Амортизация!P15+Амортизация!P16+Амортизация!P17)*Inputs!S13-(P21+P22))","v":4491030.719999969},{"$f":"IF(Inputs!T128=0,0,(Амортизация!Q15+Амортизация!Q16+Амортизация!Q17)*Inputs!T13-(Q21+Q22))","v":4913902.1333332956},{"$f":"IF(Inputs!U128=0,0,(Амортизация!R15+Амортизация!R16+Амортизация!R17)*Inputs!U13-(R21+R22))","v":5338579.0933332965},{"$f":"IF(Inputs!V128=0,0,(Амортизация!S15+Амортизация!S16+Амортизация!S17)*Inputs!V13-(S21+S22))","v":5765061.5999999642},{"$f":"IF(Inputs!W128=0,0,(Амортизация!T15+Амортизация!T16+Амортизация!T17)*Inputs!W13-(T21+T22))","v":6193349.6533333063},{"$f":"IF(Inputs!X128=0,0,(Амортизация!U15+Амортизация!U16+Амортизация!U17)*Inputs!X13-(U21+U22))","v":6623443.2533333078},{"$f":"IF(Inputs!Y128=0,0,(Амортизация!V15+Амортизация!V16+Амортизация!V17)*Inputs!Y13-(V21+V22))","v":7055342.3999999762},{"$f":"IF(Inputs!Z128=0,0,(Амортизация!W15+Амортизация!W16+Амортизация!W17)*Inputs!Z13-(W21+W22))","v":7612289.7599999681},{"$f":"IF(Inputs!AA128=0,0,(Амортизация!X15+Амортизация!X16+Амортизация!X17)*Inputs!AA13-(X21+X22))","v":8171623.9999999702},{"$f":"IF(Inputs!AB128=0,0,(Амортизация!Y15+Амортизация!Y16+Амортизация!Y17)*Inputs!AB13-(Y21+Y22))","v":8733345.1199999712},{"$f":"IF(Inputs!AC128=0,0,(Амортизация!Z15+Амортизация!Z16+Амортизация!Z17)*Inputs!AC13-(Z21+Z22))","v":9297453.119999975},{"$f":"IF(Inputs!AD128=0,0,(Амортизация!AA15+Амортизация!AA16+Амортизация!AA17)*Inputs!AD13-(AA21+AA22))","v":9863947.9999999721},{"$f":"IF(Inputs!AE128=0,0,(Амортизация!AB15+Амортизация!AB16+Амортизация!AB17)*Inputs!AE13-(AB21+AB22))","v":5972671.1999999993}]
[]
[]
[]
["Поступление от кредита",{"$f":"C6*Inputs!F13","v":0},{"$f":"D6*Inputs!G13","v":4890076.8},{"$f":"E6*Inputs!H13","v":17169920},{"$f":"F6*Inputs!I13","v":25923600},{"$f":"G6*Inputs!J13","v":31452600}]
["Поступление в уставной капитал",{"$f":"C5*Inputs!F13","v":586027.19999999995},{"$f":"D5*Inputs!G13","v":4890076.8},{"$f":"E5*Inputs!H13","v":8584960},{"$f":"F5*Inputs!I13","v":0},{"$f":"G5*Inputs!J13","v":0}]
["Зартаты итого",{"$f":"C4*Inputs!F13","v":586027.19999999995},{"$f":"D4*Inputs!G13","v":9780153.5999999996},{"$f":"E4*Inputs!H13","v":25754880},{"$f":"F4*Inputs!I13","v":25923600},{"$f":"G4*Inputs!J13","v":31452600}]
[]
["Заемный капитал",null,{"$f":"C9*Inputs!F13","v":0},{"$f":"D9*Inputs!G13","v":4890076.8},{"$f":"E9*Inputs!H13","v":22178624},{"$f":"F9*Inputs!I13","v":48043859.199999996},{"$f":"G9*Inputs!J13","v":80573960},{"$f":"H9*Inputs!K13","v":77671218.112000003},{"$f":"I9*Inputs!L13","v":72984412.800000012},{"$f":"J9*Inputs!M13","v":70611305.458285689},{"$f":"K9*Inputs!N13","v":66039457.280000016},{"$f":"L9*Inputs!O13","v":61519889.348571479},{"$f":"M9*Inputs!P13","v":59676713.600000024},{"$f":"N9*Inputs!Q13","v":56089872.800000027},{"$f":"O9*Inputs!R13","v":51900026.880000032},{"$f":"P9*Inputs!S13","v":47689387.680000037},{"$f":"Q9*Inputs!T13","v":43457955.200000033},{"$f":"R9*Inputs!U13","v":39205729.440000035},{"$f":"S9*Inputs!V13","v":34932710.400000036},{"$f":"T9*Inputs!W13","v":30638898.080000032},{"$f":"U9*Inputs!X13","v":26324292.480000034},{"$f":"V9*Inputs!Y13","v":21988893.600000028},{"$f":"W9*Inputs!Z13","v":17632701.440000027},{"$f":"X9*Inputs!AA13","v":13255716.000000028},{"$f":"Y9*Inputs!AB13","v":8857937.2800000291},{"$f":"Z9*Inputs!AC13","v":4439365.2800000282},{"$f":"AA9*Inputs!AD13","v":2.8649810701608657E-8},{"$f":"AB9*Inputs!AE13","v":0}]
["Собсвтенный капитал",null,{"$f":"C18*Inputs!F13","v":586027.19999999995},{"$f":"D18*Inputs!G13","v":5489019.2000000002},{"$f":"E18*Inputs!H13","v":14207136},{"$f":"F18*Inputs!I13","v":14169748.799999999},{"$f":"G18*Inputs!J13","v":14487540},{"$f":"H18*Inputs!K13","v":14700647.040000001},{"$f":"I18*Inputs!L13","v":14581008},{"$f":"J18*Inputs!M13","v":14936720.502857136},{"$f":"K18*Inputs!N13","v":14842718.4},{"$f":"L18*Inputs!O13","v":14748716.297142865},{"$f":"M18*Inputs!P13","v":15328752},{"$f":"N18*Inputs!Q13","v":15515688},{"$f":"O18*Inputs!R13","v":15553075.200000001},{"$f":"P18*Inputs!S13","v":15590462.4},{"$f":"Q18*Inputs!T13","v":15627849.6},{"$f":"R18*Inputs!U13","v":15665236.799999999},{"$f":"S18*Inputs!V13","v":15702624},{"$f":"T18*Inputs!W13","v":15740011.200000001},{"$f":"U18*Inputs!X13","v":15777398.4},{"$f":"V18*Inputs!Y13","v":15814785.6},{"$f":"W18*Inputs!Z13","v":15852172.799999999},{"$f":"X18*Inputs!AA13","v":15889560},{"$f":"Y18*Inputs!AB13","v":15926947.200000001},{"$f":"Z18*Inputs!AC13","v":15964334.4},{"$f":"AA18*Inputs!AD13","v":16001721.6},{"$f":"AB18*Inputs!AE13","v":16039108.799999999}]
["Зартаты итого",null,{"$f":"C16*Inputs!F13","v":586027.19999999995},{"$f":"D16*Inputs!G13","v":10379096},{"$f":"E16*Inputs!H13","v":36385760},{"$f":"F16*Inputs!I13","v":62213608},{"$f":"$G$16*Inputs!J13","v":95061500},{"$f":"$G$16*Inputs!K13","v":96459824},{"$f":"$G$16*Inputs!L13","v":95674800},{"$f":"$G$16*Inputs!M13","v":98008844.571428522},{"$f":"$G$16*Inputs!N13","v":97392040},{"$f":"$G$16*Inputs!O13","v":96775235.428571478},{"$f":"$G$16*Inputs!P13","v":100581200},{"$f":"$G$16*Inputs!Q13","v":101807800},{"$f":"$G$16*Inputs!R13","v":102053120},{"$f":"$G$16*Inputs!S13","v":102298440},{"$f":"$G$16*Inputs!T13","v":102543760},{"$f":"$G$16*Inputs!U13","v":102789080},{"$f":"$G$16*Inputs!V13","v":103034400},{"$f":"$G$16*Inputs!W13","v":103279720},{"$f":"$G$16*Inputs!X13","v":103525040},{"$f":"$G$16*Inputs!Y13","v":103770360},{"$f":"$G$16*Inputs!Z13","v":104015680},{"$f":"$G$16*Inputs!AA13","v":104261000},{"$f":"$G$16*Inputs!AB13","v":104506320},{"$f":"$G$16*Inputs!AC13","v":104751640},{"$f":"$G$16*Inputs!AD13","v":104996960},{"$f":"$G$16*Inputs!AE13","v":105242280}]
["Доля заемных средств",null,{"$f":"C32/C34","v":0},0.47114669716900198,0.60954131506391507,0.77224036259076945,0.84759823903473019,0.80521832708299368,0.76283841513125727,0.72045850317952076,0.67807859122778424,0.63569867927604784,0.59331876732431132,0.55093885537257481,0.50855894342083841,0.46617903146910195,0.42379911951736537,0.38141920756562891,0.3390392956138924,0.29665938366215588,0.25427947171041937,0.2118995597586828,0.16951964780694628,0.1271397358552098,8.4759823903473294E-2,4.2379911951736779E-2,2.7286324005579452E-16,0]
["Доля собственных средств",null,{"$f":"100%-C35","v":1},0.52885330283099807,0.39045868493608493,0.22775963740923055,0.15240176096526981,0.19478167291700632,0.23716158486874273,0.27954149682047924,0.32192140877221576,0.36430132072395216,0.40668123267568868,0.44906114462742519,0.49144105657916159,0.53382096853089811,0.57620088048263463,0.61858079243437114,0.66096070438610766,0.70334061633784417,0.74572052828958069,0.7881004402413172,0.83048035219305372,0.87286026414479023,0.91524017609652675,0.95762008804826326,0.99999999999999978,1]
[]
[]
["Выплата процентов по кредиту (тыс. $)"]
["январь ",null,{"$f":"IF(($C$80*$B$10/12)<0,0,$C$80*$B$10/12)","v":0},{"$f":"IF(($D$80*$B$10/12)<0,0,$D$80*$B$10/12)","v":267.16291666666672},{"$f":"IF(($E$80*$B$10/12)<0,0,$E$80*$B$10/12)","v":1183.0018055555549},{"$f":"IF(($F$80*$B$10/12)<0,0,$F$80*$B$10/12)","v":2569.4080555555552},{"$f":"IF(($G$80*$B$10/12)<0,0,$G$80*$B$10/12)","v":4214.6101388888883},{"$f":"IF((H80*$B$10/12)<0,0,H80*$B$10/12)","v":4214.6101388888883},{"$f":"I$80*$B$10/12","v":3998.0134722222224},{"$f":"J$80*$B$10/12","v":3781.4168055555542},{"$f":"K$80*$B$10/12","v":3564.8201388888865},3348.2234722222188,3131.6268055555515,2915.0301388888838,2698.4334722222166,2481.8368055555488,2265.2401388888816,2048.6434722222143,1832.0468055555468,1615.4501388888791,1398.8534722222114,1182.2568055555441,965.6601388888779,749.06347222221177,532.46680555554565,315.87013888887896,99.273472222212263,-117.32319444445444]
["февраль",null,{"$f":"IF(($C$80*$B$10/12)<0,0,$C$80*$B$10/12)","v":0},{"$f":"IF(($D$80*$B$10/12)<0,0,$D$80*$B$10/12)","v":267.16291666666672},{"$f":"IF(($E$80*$B$10/12)<0,0,$E$80*$B$10/12)","v":1183.0018055555549},{"$f":"IF(($F$80*$B$10/12)<0,0,$F$80*$B$10/12)","v":2569.4080555555552},{"$f":"IF(($G$80*$B$10/12)<0,0,$G$80*$B$10/12)","v":4214.6101388888883},{"$f":"$H$80*$B$10/12","v":4214.6101388888883},{"$f":"I$80*$B$10/12","v":3998.0134722222224},3781.4168055555542,3564.8201388888865,3348.2234722222188,3131.6268055555515,2915.0301388888838,2698.4334722222166,2481.8368055555488,2265.2401388888816,2048.6434722222143,1832.0468055555468,1615.4501388888791,1398.8534722222114,1182.2568055555441,965.6601388888779,749.06347222221177,532.46680555554565,315.87013888887896,99.273472222212263,-117.32319444445444]
["март",null,0,267.16291666666672,1183.0018055555549,2569.4080555555552,{"$f":"IF(($G$80*$B$10/12)<0,0,$G$80*$B$10/12)","v":4214.6101388888883},{"$f":"$H$80*$B$10/12","v":4214.6101388888883},3998.0134722222224,3781.4168055555542,3564.8201388888865,3348.2234722222188,3131.6268055555515,2915.0301388888838,2698.4334722222166,2481.8368055555488,2265.2401388888816,2048.6434722222143,1832.0468055555468,1615.4501388888791,1398.8534722222114,1182.2568055555441,965.6601388888779,749.06347222221177,532.46680555554565,315.87013888887896,99.273472222212263,-117.32319444445444]
["апрель",null,0,267.16291666666672,1183.0018055555549,2569.4080555555552,4214.6101388888883,4214.6101388888883,3998.0134722222224,3781.4168055555542,3564.8201388888865,3348.2234722222188,3131.6268055555515,2915.0301388888838,2698.4334722222166,2481.8368055555488,2265.2401388888816,2048.6434722222143,1832.0468055555468,1615.4501388888791,1398.8534722222114,1182.2568055555441,965.6601388888779,749.06347222221177,532.46680555554565,315.87013888887896,99.273472222212263,-117.32319444445444]
["май",null,0,267.16291666666672,1183.0018055555549,2569.4080555555552,4214.6101388888883,4214.6101388888883,3998.0134722222224,3781.4168055555542,3564.8201388888865,3348.2234722222188,3131.6268055555515,2915.0301388888838,2698.4334722222166,2481.8368055555488,2265.2401388888816,2048.6434722222143,1832.0468055555468,1615.4501388888791,1398.8534722222114,1182.2568055555441,965.6601388888779,749.06347222221177,532.46680555554565,315.87013888887896,99.273472222212263,-117.32319444445444]
["июнь",null,0,267.16291666666672,1183.0018055555549,2569.4080555555552,4214.6101388888883,4214.6101388888883,3998.0134722222224,3781.4168055555542,3564.8201388888865,3348.2234722222188,3131.6268055555515,2915.0301388888838,2698.4334722222166,2481.8368055555488,2265.2401388888816,2048.6434722222143,1832.0468055555468,1615.4501388888791,1398.8534722222114,1182.2568055555441,965.6601388888779,749.06347222221177,532.46680555554565,315.87013888887896,99.273472222212263,-117.32319444445444]
["июль",null,0,267.16291666666672,1183.0018055555549,2569.4080555555552,4214.6101388888883,4214.6101388888883,3998.0134722222224,3781.4168055555542,3564.8201388888865,3348.2234722222188,3131.6268055555515,2915.0301388888838,2698.4334722222166,2481.8368055555488,2265.2401388888816,2048.6434722222143,1832.0468055555468,1615.4501388888791,1398.8534722222114,1182.2568055555441,965.6601388888779,749.06347222221177,532.46680555554565,315.87013888887896,99.273472222212263,-117.32319444445444]
["август",null,0,267.16291666666672,1183.0018055555549,2569.4080555555552,4214.6101388888883,4214.6101388888883,3998.0134722222224,3781.4168055555542,3564.8201388888865,3348.2234722222188,3131.6268055555515,2915.0301388888838,2698.4334722222166,2481.8368055555488,2265.2401388888816,2048.6434722222143,1832.0468055555468,1615.4501388888791,1398.8534722222114,1182.2568055555441,965.6601388888779,749.06347222221177,532.46680555554565,315.87013888887896,99.273472222212263,-117.32319444445444]
["сентябрь",null,0,267.16291666666672,1183.0018055555549,2569.4080555555552,4214.6101388888883,4214.6101388888883,3998.0134722222224,3781.4168055555542,3564.8201388888865,3348.2234722222188,3131.6268055555515,2915.0301388888838,2698.4334722222166,2481.8368055555488,2265.2401388888816,2048.6434722222143,1832.0468055555468,1615.4501388888791,1398.8534722222114,1182.2568055555441,965.6601388888779,749.06347222221177,532.46680555554565,315.87013888887896,99.273472222212263,-117.32319444445444]
["октябрь",null,0,267.16291666666672,1183.0018055555549,2569.4080555555552,4214.6101388888883,4214.6101388888883,3998.0134722222224,3781.4168055555542,3564.8201388888865,3348.2234722222188,3131.6268055555515,2915.0301388888838,2698.4334722222166,2481.8368055555488,2265.2401388888816,2048.6434722222143,1832.0468055555468,1615.4501388888791,1398.8534722222114,1182.2568055555441,965.6601388888779,749.06347222221177,532.46680555554565,315.87013888887896,99.273472222212263,-117.32319444445444]
["ноябрь",null,0,267.16291666666672,1183.0018055555549,2569.4080555555552,4214.6101388888883,4214.6101388888883,3998.0134722222224,3781.4168055555542,3564.8201388888865,3348.2234722222188,3131.6268055555515,2915.0301388888838,2698.4334722222166,2481.8368055555488,2265.2401388888816,2048.6434722222143,1832.0468055555468,1615.4501388888791,1398.8534722222114,1182.2568055555441,965.6601388888779,749.06347222221177,532.46680555554565,315.87013888887896,99.273472222212263,-117.32319444445444]
["декабрь",null,0,267.16291666666672,1183.0018055555549,2569.4080555555552,4214.6101388888883,4214.6101388888883,3998.0134722222224,3781.4168055555542,3564.8201388888865,3348.2234722222188,3131.6268055555515,2915.0301388888838,2698.4334722222166,2481.8368055555488,2265.2401388888816,2048.6434722222143,1832.0468055555468,1615.4501388888791,1398.8534722222114,1182.2568055555441,965.6601388888779,749.06347222221177,532.46680555554565,315.87013888887896,99.273472222212263,-117.32319444445444]
[]
["Выплата тела кредита (тыс. $)"]
["январь ",null,{"$f":"$C$8/$B$11/12","v":0},{"$f":"$D$8/$B$11/12","v":274.59999999999997},{"$f":"$E$8/$B$11/12","v":1215.9333333333334},{"$f":"$F$8/$B$11/12","v":2640.9333333333334},{"$f":"$G$8/$B$11/12","v":4331.9333333333334},{"$f":"H8/$B$11/12","v":4331.9333333333334},{"$f":"I$8/($B$11*12)","v":4331.9333333333334},{"$f":"J$8/($B$11*12)","v":4331.9333333333334},4331.9333333333334,4331.9333333333334,4331.9333333333334,4331.9333333333334,4331.9333333333334,4331.9333333333334,4331.9333333333334,4331.9333333333334,4331.9333333333334,4331.9333333333334,4331.9333333333334,4331.9333333333334,4331.9333333333334,4331.9333333333334,4331.9333333333334,4331.9333333333334,4331.9333333333334,{"$f":"AB$8/($B$11*12)","v":4331.9333333333334}]
["февраль",null,{"$f":"$C$8/$B$11/12","v":0},{"$f":"$D$8/$B$11/12","v":274.59999999999997},{"$f":"$E$8/$B$11/12","v":1215.9333333333334},{"$f":"$F$8/$B$11/12","v":2640.9333333333334},{"$f":"$G$8/$B$11/12","v":4331.9333333333334},{"$f":"H$8/($B$11*12)","v":4331.9333333333334},4331.9333333333334,4331.9333333333334,4331.9333333333334,4331.9333333333334,4331.9333333333334,4331.9333333333334,4331.9333333333334,4331.9333333333334,4331.9333333333334,4331.9333333333334,4331.9333333333334,4331.9333333333334,4331.9333333333334,4331.9333333333334,4331.9333333333334,4331.9333333333334,4331.9333333333334,4331.9333333333334,4331.9333333333334,4331.9333333333334]
["март",null,0,274.59999999999997,1215.9333333333334,2640.9333333333334,4331.9333333333334,{"$f":"H$8/($B$11*12)","v":4331.9333333333334},4331.9333333333334,4331.9333333333334,4331.9333333333334,4331.9333333333334,4331.9333333333334,4331.9333333333334,4331.9333333333334,4331.9333333333334,4331.9333333333334,4331.9333333333334,4331.9333333333334,4331.9333333333334,4331.9333333333334,4331.9333333333334,4331.9333333333334,4331.9333333333334,4331.9333333333334,4331.9333333333334,4331.9333333333334,4331.9333333333334]
["апрель",null,0,274.59999999999997,1215.9333333333334,2640.9333333333334,4331.9333333333334,{"$f":"H$8/($B$11*12)","v":4331.9333333333334},4331.9333333333334,4331.9333333333334,4331.9333333333334,4331.9333333333334,4331.9333333333334,4331.9333333333334,4331.9333333333334,4331.9333333333334,4331.9333333333334,4331.9333333333334,4331.9333333333334,4331.9333333333334,4331.9333333333334,4331.9333333333334,4331.9333333333334,4331.9333333333334,4331.9333333333334,4331.9333333333334,4331.9333333333334,4331.9333333333334]
["май",null,0,274.59999999999997,1215.9333333333334,2640.9333333333334,4331.9333333333334,4331.9333333333334,{"$f":"I$8/($B$11*12)","v":4331.9333333333334},4331.9333333333334,4331.9333333333334,4331.9333333333334,4331.9333333333334,4331.9333333333334,4331.9333333333334,4331.9333333333334,4331.9333333333334,4331.9333333333334,4331.9333333333334,4331.9333333333334,4331.9333333333334,4331.9333333333334,4331.9333333333334,4331.9333333333334,4331.9333333333334,4331.9333333333334,4331.9333333333334,4331.9333333333334]
["июнь",null,0,274.59999999999997,1215.9333333333334,2640.9333333333334,4331.9333333333334,4331.9333333333334,4331.9333333333334,4331.9333333333334,4331.9333333333334,4331.9333333333334,4331.9333333333334,4331.9333333333334,4331.9333333333334,4331.9333333333334,4331.9333333333334,4331.9333333333334,4331.9333333333334,4331.9333333333334,4331.9333333333334,4331.9333333333334,4331.9333333333334,4331.9333333333334,4331.9333333333334,4331.9333333333334,4331.9333333333334,4331.9333333333334]
["июль",null,0,274.59999999999997,1215.9333333333334,2640.9333333333334,4331.9333333333334,4331.9333333333334,4331.9333333333334,4331.9333333333334,4331.9333333333334,4331.9333333333334,4331.9333333333334,4331.9333333333334,4331.9333333333334,4331.9333333333334,4331.9333333333334,4331.9333333333334,4331.9333333333334,4331.9333333333334,4331.9333333333334,4331.9333333333334,4331.9333333333334,4331.9333333333334,4331.9333333333334,4331.9333333333334,4331.9333333333334,4331.9333333333334]
["август",null,0,274.59999999999997,1215.9333333333334,2640.9333333333334,4331.9333333333334,4331.9333333333334,4331.9333333333334,4331.9333333333334,4331.9333333333334,4331.9333333333334,4331.9333333333334,4331.9333333333334,4331.9333333333334,4331.9333333333334,4331.9333333333334,4331.9333333333334,4331.9333333333334,4331.9333333333334,4331.9333333333334,4331.9333333333334,4331.9333333333334,4331.9333333333334,4331.9333333333334,4331.9333333333334,4331.9333333333334,4331.9333333333334]
["сентябрь",null,0,274.59999999999997,1215.9333333333334,2640.9333333333334,4331.9333333333334,4331.9333333333334,4331.9333333333334,4331.9333333333334,4331.9333333333334,4331.9333333333334,4331.9333333333334,4331.9333333333334,4331.9333333333334,4331.9333333333334,4331.9333333333334,4331.9333333333334,4331.9333333333334,4331.9333333333334,4331.9333333333334,4331.9333333333334,4331.9333333333334,4331.9333333333334,4331.9333333333334,4331.9333333333334,4331.9333333333334,4331.9333333333334]
["октябрь",null,0,274.59999999999997,1215.9333333333334,2640.9333333333334,4331.9333333333334,4331.9333333333334,4331.9333333333334,4331.9333333333334,4331.9333333333334,4331.9333333333334,4331.9333333333334,4331.9333333333334,4331.9333333333334,4331.9333333333334,4331.9333333333334,4331.9333333333334,4331.9333333333334,4331.9333333333334,4331.9333333333334,4331.9333333333334,4331.9333333333334,4331.9333333333334,4331.9333333333334,4331.9333333333334,4331.9333333333334,4331.9333333333334]
["ноябрь",null,0,274.59999999999997,1215.9333333333334,2640.9333333333334,4331.9333333333334,4331.9333333333334,4331.9333333333334,4331.9333333333334,4331.9333333333334,4331.9333333333334,4331.9333333333334,4331.9333333333334,4331.9333333333334,4331.9333333333334,4331.9333333333334,4331.9333333333334,4331.9333333333334,4331.9333333333334,4331.9333333333334,4331.9333333333334,4331.9333333333334,4331.9333333333334,4331.9333333333334,4331.9333333333334,4331.9333333333334,4331.9333333333334]
["декабрь",null,0,274.59999999999997,1215.9333333333334,2640.9333333333334,4331.9333333333334,4331.9333333333334,4331.9333333333334,4331.9333333333334,4331.9333333333334,4331.9333333333334,4331.9333333333334,4331.9333333333334,4331.9333333333334,4331.9333333333334,4331.9333333333334,4331.9333333333334,4331.9333333333334,4331.9333333333334,4331.9333333333334,4331.9333333333334,4331.9333333333334,4331.9333333333334,4331.9333333333334,4331.9333333333334,4331.9333333333334,4331.9333333333334]
[]
["Остаток платежа по кредиту (тыс. $)"]
["январь ",null,{"$f":"C8-C54","v":0},65629.399999999994,290608.06666666665,631183.06666666665,1035332.0666666667,1035332.0666666667,{"$f":"H79-I54","v":983348.86666666646},{"$f":"I79-J54","v":931365.66666666628},{"$f":"J79-K54","v":879382.46666666609},827399.26666666591,775416.06666666572,723432.86666666553,671449.66666666535,619466.46666666516,567483.26666666497,515500.06666666479,463516.8666666646,411533.66666666442,359550.46666666423,307567.26666666404,255584.06666666392,203600.86666666408,151617.66666666424,99634.466666664288,47651.266666664276,-4331.9333333357326]
["февраль",null,{"$f":"C68-C55","v":0},65354.799999999996,289392.1333333333,628542.1333333333,1031000.1333333333,1031000.1333333333,979016.93333333312,927033.73333333293,875050.53333333274,{"$f":"L68-L55","v":823067.33333333256},771084.13333333237,719100.93333333218,667117.733333332,615134.53333333181,563151.33333333163,511168.13333333144,459184.93333333125,407201.73333333107,355218.53333333088,303235.33333333069,251252.1333333306,199268.93333333076,147285.73333333092,95302.533333330954,43319.333333330942,-8663.866666669066]
["март",null,{"$f":"C69-C56","v":0},{"$f":"D69-D56","v":65080.2},{"$f":"E69-E56","v":288176.19999999995},{"$f":"F69-F56","v":625901.19999999995},{"$f":"G69-G56","v":1026668.2},{"$f":"H69-H56","v":1026668.2},{"$f":"I69-I56","v":974684.99999999977},{"$f":"J69-J56","v":922701.79999999958},870718.59999999939,{"$f":"L69-L56","v":818735.39999999921},766752.19999999902,{"$f":"N69-N56","v":714768.99999999884},662785.79999999865,{"$f":"P69-P56","v":610802.59999999846},558819.39999999828,{"$f":"R69-R56","v":506836.19999999809},454852.9999999979,{"$f":"T69-T56","v":402869.79999999772},350886.59999999753,{"$f":"V69-V56","v":298903.39999999735},246920.19999999728,{"$f":"X69-X56","v":194936.99999999744},142953.7999999976,{"$f":"Z69-Z56","v":90970.599999997619},38987.399999997608,{"$f":"AB69-AB56","v":-12995.8000000024}]
["апрель",null,0,64805.599999999999,286960.2666666666,623260.2666666666,1022336.2666666666,1022336.2666666666,970353.06666666642,918369.86666666623,866386.66666666605,814403.46666666586,762420.26666666567,710437.06666666549,658453.8666666653,606470.66666666511,554487.46666666493,502504.26666666474,450521.06666666456,398537.86666666437,346554.66666666418,294571.466666664,242588.26666666396,190605.06666666412,138621.86666666428,86638.666666664285,34655.466666664273,-17327.733333335735]
["май",null,0,64531,285744.33333333326,620619.33333333326,1018004.3333333333,1018004.3333333333,966021.13333333307,914037.93333333288,862054.7333333327,810071.53333333251,758088.33333333232,706105.13333333214,654121.93333333195,602138.73333333177,550155.53333333158,498172.33333333139,446189.13333333121,394205.93333333102,342222.73333333083,290239.53333333065,238256.33333333064,186273.1333333308,134289.93333333096,82306.733333330951,30323.533333330939,-21659.666666669069]
["июнь",null,0,64256.4,284528.39999999991,617978.39999999991,1013672.3999999999,1013672.3999999999,961689.19999999972,909705.99999999953,857722.79999999935,805739.59999999916,753756.39999999898,701773.19999999879,649789.9999999986,597806.79999999842,545823.59999999823,493840.39999999804,441857.19999999786,389873.99999999767,337890.79999999749,285907.5999999973,233924.39999999732,181941.19999999748,129957.99999999763,77974.799999997616,25991.599999997605,-25991.600000002403]
["июль",null,0,63981.8,283312.46666666656,615337.46666666656,1009340.4666666666,1009340.4666666666,957357.26666666637,905374.06666666619,853390.866666666,801407.66666666581,749424.46666666563,697441.26666666544,645458.06666666525,593474.86666666507,541491.66666666488,489508.4666666647,437525.26666666451,385542.06666666432,333558.86666666414,281575.66666666395,229592.466666664,177609.26666666416,125626.06666666429,73642.866666664282,21659.66666666427,-30323.533333335738]
["август",null,0,63707.200000000004,282096.53333333321,612696.53333333321,1005008.5333333332,1005008.5333333332,953025.33333333302,901042.13333333284,849058.93333333265,797075.73333333246,745092.53333333228,693109.33333333209,641126.13333333191,589142.93333333172,537159.73333333153,485176.53333333135,433193.33333333116,381210.13333333097,329226.93333333079,277243.7333333306,225260.53333333068,173277.33333333084,121294.13333333096,69310.933333330948,17327.733333330936,-34655.466666669068]
["сентябрь",null,0,63432.600000000006,280880.59999999986,610055.59999999986,1000676.5999999999,1000676.5999999999,948693.39999999967,896710.19999999949,844726.9999999993,792743.79999999912,740760.59999999893,688777.39999999874,636794.19999999856,584810.99999999837,532827.79999999818,480844.599999998,428861.39999999781,376878.19999999763,324894.99999999744,272911.79999999725,220928.59999999736,168945.39999999752,116962.19999999763,64978.999999997613,12995.799999997602,-38987.400000002403]
["октябрь",null,0,63158.000000000007,279664.66666666651,607414.66666666651,996344.66666666651,996344.66666666651,944361.46666666633,892378.26666666614,840395.06666666595,788411.86666666577,736428.66666666558,684445.46666666539,632462.26666666521,580479.06666666502,528495.86666666484,476512.66666666465,424529.46666666446,372546.26666666428,320563.06666666409,268579.8666666639,216596.66666666404,164613.4666666642,112630.26666666429,60647.066666664279,8663.8666666642675,-43319.333333335737]
["ноябрь",null,0,62883.400000000009,278448.73333333316,604773.73333333316,992012.73333333316,992012.73333333316,940029.53333333298,888046.33333333279,836063.1333333326,784079.93333333242,732096.73333333223,680113.53333333205,628130.33333333186,576147.13333333167,524163.93333333149,472180.7333333313,420197.53333333111,368214.33333333093,316231.13333333074,264247.93333333055,212264.73333333072,160281.53333333088,108298.33333333096,56315.133333330945,4331.9333333309341,-47651.266666669071]
["декабрь",null,0,62608.80000000001,277232.79999999981,602132.79999999981,{"$f":"G78-G65","v":987680.79999999981},987680.79999999981,935697.59999999963,883714.39999999944,831731.19999999925,779747.99999999907,727764.79999999888,675781.5999999987,623798.39999999851,571815.19999999832,519831.99999999814,467848.79999999795,415865.59999999776,363882.39999999758,311899.19999999739,259915.99999999724,207932.7999999974,155949.59999999756,103966.39999999762,51983.199999997611,-2.3992470232769847E-9,-51983.200000002405]
["Среднее значение за год",null,{"$f":"AVERAGE(C68:C79)","v":0},64119.100000000006,283920.43333333317,616657.93333333323,1011506.4333333332,1011506.4333333332,{"$f":"AVERAGE(I68:I79)","v":959523.23333333328},907540.03333333286,855556.83333333267,803573.63333333249,751590.4333333323,699607.23333333211,647624.03333333193,595640.83333333174,543657.63333333156,491674.43333333143,439691.23333333124,387708.03333333094,335724.83333333075,283741.63333333057,231758.43333333067,179775.23333333083,127792.03333333094,75808.833333330942,23825.633333330941,-28157.566666669067]

{"sheet":"Фонд оплаты труда","index":12,"n_rows":49,"n_cols":28,"rows_kept":49,"cut":false,"hidden":false,"merged":[]}
["Кол-во рабочих мест - 850. Средняя зп - 45 тыс. руб.",850,null,"Основной производственный персонал",0.33,"Вспомогательный производственный персонал",0.37,"Административный персонал",0.12,"Коммерческий персонал",0.18,null,{"$f":"E1+G1+I1+K1","v":1},null,"Если в таблице Inputs в загрузке производственной мощности аммиака 0% то считаеться что завод не запущен)"]
[]
[null,null,2019,2020,2021,2022,2023,2024,2025,2026,2027,2028,2029,2030,2031,2032,2033,2034,2035,2036,2037,2038,2039,2040,2041,2042,2043,2044]
["Основной производственный персонал"]
["Колличество","чел.",{"$f":"IF(Inputs!F128=0,0,ROUNDDOWN($B$1*$E$1,0))","v":0},{"$f":"IF(Inputs!G128=0,0,ROUNDDOWN($B$1*$E$1,0))","v":0},{"$f":"IF(Inputs!H128=0,0,ROUNDDOWN($B$1*$E$1,0))","v":0},{"$f":"IF(Inputs!I128=0,0,ROUNDDOWN($B$1*$E$1,0))","v":0},{"$f":"IF(Inputs!J128=0,0,ROUNDDOWN($B$1*$E$1,0))","v":0},{"$f":"IF(Inputs!K128=0,0,ROUNDDOWN($B$1*$E$1,0))","v":280},{"$f":"IF(Inputs!L128=0,0,ROUNDDOWN($B$1*$E$1,0))","v":280},{"$f":"IF(Inputs!M128=0,0,ROUNDDOWN($B$1*$E$1,0))","v":280},{"$f":"IF(Inputs!N128=0,0,ROUNDDOWN($B$1*$E$1,0))","v":280},{"$f":"IF(Inputs!O128=0,0,ROUNDDOWN($B$1*$E$1,0))","v":280},{"$f":"IF(Inputs!P128=0,0,ROUNDDOWN($B$1*$E$1,0))","v":280},{"$f":"IF(Inputs!Q128=0,0,ROUNDDOWN($B$1*$E$1,0))","v":280},{"$f":"IF(Inputs!R128=0,0,ROUNDDOWN($B$1*$E$1,0))","v":280},{"$f":"IF(Inputs!S128=0,0,ROUNDDOWN($B$1*$E$1,0))","v":280},{"$f":"IF(Inputs!T128=0,0,ROUNDDOWN($B$1*$E$1,0))","v":280},{"$f":"IF(Inputs!U128=0,0,ROUNDDOWN($B$1*$E$1,0))","v":280},{"$f":"IF(Inputs!V128=0,0,ROUNDDOWN($B$1*$E$1,0))","v":280},{"$f":"IF(Inputs!W128=0,0,ROUNDDOWN($B$1*$E$1,0))","v":280},{"$f":"IF(Inputs!X128=0,0,ROUNDDOWN($B$1*$E$1,0))","v":280},{"$f":"IF(Inputs!Y128=0,0,ROUNDDOWN($B$1*$E$1,0))","v":280},{"$f":"IF(Inputs!Z128=0,0,ROUNDDOWN($B$1*$E$1,0))","v":280},{"$f":"IF(Inputs!AA128=0,0,ROUNDDOWN($B$1*$E$1,0))","v":280},{"$f":"IF(Inputs!AB128=0,0,ROUNDDOWN($B$1*$E$1,0))","v":280},{"$f":"IF(Inputs!AC128=0,0,ROUNDDOWN($B$1*$E$1,0))","v":280},{"$f":"IF(Inputs!AD128=0,0,ROUNDDOWN($B$1*$E$1,0))","v":280},{"$f":"IF(Inputs!AE128=0,0,ROUNDDOWN($B$1*$E$1,0))","v":280}]
["Месячный оклад","тыс. руб.",36,{"$f":"C6+C6*Inputs!G11","v":37.224000000000004},{"$f":"D6+D6*Inputs!H11","v":38.712960000000002},{"$f":"E6+E6*Inputs!I11","v":40.261478400000001},{"$f":"F6+F6*Inputs!J11","v":41.871937536000004},{"$f":"G6+G6*Inputs!K11","v":43.546815037440005},{"$f":"H6+H6*Inputs!L11","v":45.288687638937603},{"$f":"I6+I6*Inputs!M11","v":47.100235144495109},{"$f":"J6+J6*Inputs!N11","v":48.984244550274916},{"$f":"K6+K6*Inputs!O11","v":50.943614332285911},{"$f":"L6+L6*Inputs!P11","v":52.981358905577345},{"$f":"M6+M6*Inputs!Q11","v":55.10061326180044},{"$f":"N6+N6*Inputs!R11","v":57.304637792272459},{"$f":"O6+O6*Inputs!S11","v":59.596823303963355},{"$f":"P6+P6*Inputs!T11","v":61.980696236121886},{"$f":"Q6+Q6*Inputs!U11","v":64.459924085566769},{"$f":"R6+R6*Inputs!V11","v":67.038321048989445},{"$f":"S6+S6*Inputs!W11","v":69.719853890949025},{"$f":"T6+T6*Inputs!X11","v":72.508648046586984},{"$f":"U6+U6*Inputs!Y11","v":75.40899396845046},{"$f":"V6+V6*Inputs!Z11","v":78.42535372718848},{"$f":"W6+W6*Inputs!AA11","v":81.562367876276014},{"$f":"X6+X6*Inputs!AB11","v":84.824862591327047},{"$f":"Y6+Y6*Inputs!AC11","v":88.217857094980133},{"$f":"Z6+Z6*Inputs!AD11","v":91.746571378779336},{"$f":"AA6+AA6*Inputs!AE11","v":95.416434233930516}]
["Сумма расхода на зарплату в год ","тыс. руб.",{"$f":"C5*C6*12","v":0},0,0,0,0,146317.29852579843,{"$f":"I5*I6*12","v":152169.99046683035},158256.79008550357,164587.06168892371,171170.54415648064,178017.36592273987,185138.06055964949,192543.58298203547,200245.32630131688,208255.13935336954,216585.34492750431,225248.75872460456,234258.70907358875,{"$f":"U5*U6*12","v":243629.05743653228},253374.21973399352,263509.18852335331,274049.55606428743,285011.53830685886,296411.99983913323,308268.47983269859,320599.21902600653]
["НДФЛ",0.13,{"$f":"C$7*$B$8","v":0},0,0,0,0,19021.248808353797,{"$f":"I$7*$B$8","v":19782.098760687946},20573.382711115464,21396.318019560083,22252.170740342484,23142.257569956186,24067.947872754434,25030.665787664613,26031.892419171196,27073.168115938042,28156.094840575563,29282.338634198593,30453.632179566539,31671.777466749198,32938.648565419157,34256.194508035929,35626.442288357364,37051.499979891654,38533.559979087324,40074.902378250816,41677.898473380847]
["ПФР",0.22,{"$f":"C$7*$B$9","v":0},0,0,0,0,32189.805675675652,{"$f":"I$7*$B$9","v":33477.39790270268},34816.493818810784,36209.15357156322,37657.51971442574,39163.820503002775,40730.373323122891,42359.588256047806,44053.971786289716,45816.130657741298,47648.775884050949,49554.726919413006,51536.915996189528,53598.392636037104,55742.328341478576,57972.021475137728,60290.902334143233,62702.538427508945,65210.639964609312,67819.065563193697,70531.828185721432]
["ОМС",5.0999999999999997E-2,{"$f":"C$7*$B$10","v":0},0,0,0,0,7462.1822248157196,{"$f":"I$7*$B$10","v":7760.6695138083469},8071.0962943606819,8393.9401461351081,8729.6977519805114,9078.8856620597326,9442.0410885421225,9819.7227320838083,10212.51164136716,10621.012107021847,11045.852591302719,11487.686694954831,11947.194162753025,12425.081929263146,12922.085206433669,13438.968614691017,13976.527359278658,14535.588453649802,15117.011991795795,15721.692471467628,16350.560170326331]
["ФСС",2.9000000000000001E-2,{"$f":"C$7*$B$11","v":0},0,0,0,0,4243.2016572481543,{"$f":"I$7*$B$11","v":4412.92972353808},4589.4469124796042,4773.0247889787879,4963.9457805379388,5162.5036117594564,5369.0037562298357,5583.7639064790292,5807.11446273819,6039.3990412477169,6280.975002897625,6532.2140030135324,6793.5025631340741,7065.2426656594362,7347.8523722858126,7641.7664671772463,7947.4371258643359,8265.3346108989081,8595.9479953348637,8939.7859151482589,9297.3773517541904]
["Сумма расхода на зарплату с учетом НДФЛ и отчисления в фонды в год ","тыс. руб.",{"$f":"C7+C8+C9+C10+C11","v":0},0,0,0,0,209233.73689189175,{"$f":"I7+I8+I9+I10+I11","v":217603.08636756742},226307.20982227012,235359.49821516091,244773.87814376733,254564.83326951801,264747.42660029873,275337.32366431074,286350.81661088316,297804.8492753185,309717.04324633116,322105.72497618449,334989.95397523185,{"$f":"U7+U8+U9+U10+U11","v":348389.55213424115},362325.13421961071,376818.13958839519,391890.86517193099,407566.49977880815,423869.1597699605,440823.926160759,458456.88320718927]
[]
["Вспомогательный производственный персонал"]
["Колличество","чел.",{"$f":"IF(Inputs!F128=0,0,ROUND($B$1*$G$1,0))","v":0},{"$f":"IF(Inputs!G128=0,0,ROUND($B$1*$G$1,0))","v":0},{"$f":"IF(Inputs!H128=0,0,ROUND($B$1*$G$1,0))","v":0},{"$f":"IF(Inputs!I128=0,0,ROUND($B$1*$G$1,0))","v":0},{"$f":"IF(Inputs!J128=0,0,ROUND($B$1*$G$1,0))","v":0},{"$f":"IF(Inputs!K128=0,0,ROUND($B$1*$G$1,0))","v":315},{"$f":"IF(Inputs!L128=0,0,ROUND($B$1*$G$1,0))","v":315},{"$f":"IF(Inputs!M128=0,0,ROUND($B$1*$G$1,0))","v":315},{"$f":"IF(Inputs!N128=0,0,ROUND($B$1*$G$1,0))","v":315},{"$f":"IF(Inputs!O128=0,0,ROUND($B$1*$G$1,0))","v":315},{"$f":"IF(Inputs!P128=0,0,ROUND($B$1*$G$1,0))","v":315},{"$f":"IF(Inputs!Q128=0,0,ROUND($B$1*$G$1,0))","v":315},{"$f":"IF(Inputs!R128=0,0,ROUND($B$1*$G$1,0))","v":315},{"$f":"IF(Inputs!S128=0,0,ROUND($B$1*$G$1,0))","v":315},{"$f":"IF(Inputs!T128=0,0,ROUND($B$1*$G$1,0))","v":315},{"$f":"IF(Inputs!U128=0,0,ROUND($B$1*$G$1,0))","v":315},{"$f":"IF(Inputs!V128=0,0,ROUND($B$1*$G$1,0))","v":315},{"$f":"IF(Inputs!W128=0,0,ROUND($B$1*$G$1,0))","v":315},{"$f":"IF(Inputs!X128=0,0,ROUND($B$1*$G$1,0))","v":315},{"$f":"IF(Inputs!Y128=0,0,ROUND($B$1*$G$1,0))","v":315},{"$f":"IF(Inputs!Z128=0,0,ROUND($B$1*$G$1,0))","v":315},{"$f":"IF(Inputs!AA128=0,0,ROUND($B$1*$G$1,0))","v":315},{"$f":"IF(Inputs!AB128=0,0,ROUND($B$1*$G$1,0))","v":315},{"$f":"IF(Inputs!AC128=0,0,ROUND($B$1*$G$1,0))","v":315},{"$f":"IF(Inputs!AD128=0,0,ROUND($B$1*$G$1,0))","v":315},{"$f":"IF(Inputs!AE128=0,0,ROUND($B$1*$G$1,0))","v":315}]
["Месячный оклад","тыс. руб.",36,{"$f":"C16+C16*Inputs!G11","v":37.224000000000004},{"$f":"D16+D16*Inputs!H11","v":38.712960000000002},{"$f":"E16+E16*Inputs!I11","v":40.261478400000001},{"$f":"F16+F16*Inputs!J11","v":41.871937536000004},{"$f":"G16+G16*Inputs!K11","v":43.546815037440005},{"$f":"H16+H16*Inputs!L11","v":45.288687638937603},{"$f":"I16+I16*Inputs!M11","v":47.100235144495109},{"$f":"J16+J16*Inputs!N11","v":48.984244550274916},{"$f":"K16+K16*Inputs!O11","v":50.943614332285911},{"$f":"L16+L16*Inputs!P11","v":52.981358905577345},{"$f":"M16+M16*Inputs!Q11","v":55.10061326180044},{"$f":"N16+N16*Inputs!R11","v":57.304637792272459},{"$f":"O16+O16*Inputs!S11","v":59.596823303963355},{"$f":"P16+P16*Inputs!T11","v":61.980696236121886},{"$f":"Q16+Q16*Inputs!U11","v":64.459924085566769},{"$f":"R16+R16*Inputs!V11","v":67.038321048989445},{"$f":"S16+S16*Inputs!W11","v":69.719853890949025},{"$f":"T16+T16*Inputs!X11","v":72.508648046586984},{"$f":"U16+U16*Inputs!Y11","v":75.40899396845046},{"$f":"V16+V16*Inputs!Z11","v":78.42535372718848},{"$f":"W16+W16*Inputs!AA11","v":81.562367876276014},{"$f":"X16+X16*Inputs!AB11","v":84.824862591327047},{"$f":"Y16+Y16*Inputs!AC11","v":88.217857094980133},{"$f":"Z16+Z16*Inputs!AD11","v":91.746571378779336},{"$f":"AA16+AA16*Inputs!AE11","v":95.416434233930516}]
["Сумма расхода на зарплату в год ","тыс. руб.",{"$f":"C15*C16*12","v":0},0,0,0,0,164606.96084152322,171191.23927518414,{"$f":"J15*J16*12","v":178038.88884619152},185160.44440003918,192566.86217604074,200269.53666308237,208280.31812960567,216611.53085478989,225275.9920889815,234287.03177254077,243658.51304344239,253404.85356518009,263541.04770778731,{"$f":"U15*U16*12","v":274082.68961609877},285045.99720074277,296447.83708877244,308305.75057232333,320637.98059521627,333463.49981902487,346802.03981178586,360674.12140425737]
["НДФЛ",0.13,{"$f":"C$17*$B18","v":0},0,0,0,0,{"$f":"H$17*$B18","v":21398.904909398021},22254.86110577394,23145.055550004898,24070.857772005096,25033.692082885296,26035.039766200709,27076.44135684874,28159.499011122687,29285.878971567596,30457.314130430299,31675.606695647512,32942.630963473413,34260.336202012353,35630.749650092839,37055.979636096563,38538.218821540417,{"$f":"X$17*$B18","v":40079.747574402034},41682.937477378116,43350.254976473232,45084.265175532164,46887.635782553458]
["ПФР",0.22,0,0,0,0,0,36213.531385135109,37662.072640540508,39168.555546162133,40735.297768008619,42364.709678728963,44059.298065878123,45821.669988513248,47654.536788053774,49560.71825957593,51543.146989958972,53604.87286955733,55749.067784339619,57979.03049571321,60298.191715541732,62710.119384163409,65218.524159529938,67827.26512591113,70540.355730947587,73361.969960185466,76296.448758592887,79348.306708936623]
["ОМС",5.0999999999999997E-2,0,0,0,0,0,8394.9550029176844,8730.75320303439,9079.9833311557668,9443.1826644019984,9820.9099709780767,10213.7463698172,10622.296224609889,11047.188073594283,11489.075596538056,11948.638620399579,12426.584165215561,12923.647531824185,13440.593433097152,13978.217170421036,14537.34585723788,15118.839691527393,15723.59327918849,16352.537010356029,17006.638490770267,17686.904030401078,18394.380191617125]
["ФСС",2.9000000000000001E-2,0,0,0,0,0,4773.6018644041733,4964.54593898034,5163.1277765395544,5369.6528876011362,5584.4390031051817,5807.8165632293894,6040.1292257585646,6281.7343947889067,6533.0037705804634,6794.3239214036821,7066.0968782598293,7348.7407533902233,7642.6903835258327,7948.3979988668643,8266.3339188215414,8596.9872755744018,8940.8667665973771,9298.5014372612732,9670.4414947517216,10057.259154541791,10459.549520723464]
["Сумма расхода на зарплату с учетом НДФЛ и отчисления в фонды в год ","тыс. руб.",{"$f":"C17+C18+C19+C20+C21","v":0},0,0,0,0,235387.9540033782,{"$f":"I17+I18+I19+I20+I21","v":244803.47216351333},254595.61105005388,264779.43549205601,275370.61291173828,286385.43742820772,297840.85492533608,309754.48912234954,322144.6686872436,335030.4554347333,348431.67365212267,362368.94059820753,376863.69822213595,{"$f":"U17+U18+U19+U20+U21","v":391938.24615102122},407615.77599706216,423920.40703694464,440877.22331842233,458512.31225115928,476852.80474120553,495926.91693085374,515763.99360808806]
[]
["Административный персонал"]
["Колличество","чел.",{"$f":"IF(Inputs!F128=0,0,ROUND($B$1*$I$1,0))","v":0},{"$f":"IF(Inputs!G128=0,0,ROUND($B$1*$I$1,0))","v":0},{"$f":"IF(Inputs!H128=0,0,ROUND($B$1*$I$1,0))","v":0},{"$f":"IF(Inputs!I128=0,0,ROUND($B$1*$I$1,0))","v":0},{"$f":"IF(Inputs!J128=0,0,ROUND($B$1*$I$1,0))","v":0},{"$f":"IF(Inputs!K128=0,0,ROUND($B$1*$I$1,0))","v":102},{"$f":"IF(Inputs!L128=0,0,ROUND($B$1*$I$1,0))","v":102},{"$f":"IF(Inputs!M128=0,0,ROUND($B$1*$I$1,0))","v":102},{"$f":"IF(Inputs!N128=0,0,ROUND($B$1*$I$1,0))","v":102},{"$f":"IF(Inputs!O128=0,0,ROUND($B$1*$I$1,0))","v":102},{"$f":"IF(Inputs!P128=0,0,ROUND($B$1*$I$1,0))","v":102},{"$f":"IF(Inputs!Q128=0,0,ROUND($B$1*$I$1,0))","v":102},{"$f":"IF(Inputs!R128=0,0,ROUND($B$1*$I$1,0))","v":102},{"$f":"IF(Inputs!S128=0,0,ROUND($B$1*$I$1,0))","v":102},{"$f":"IF(Inputs!T128=0,0,ROUND($B$1*$I$1,0))","v":102},{"$f":"IF(Inputs!U128=0,0,ROUND($B$1*$I$1,0))","v":102},{"$f":"IF(Inputs!V128=0,0,ROUND($B$1*$I$1,0))","v":102},{"$f":"IF(Inputs!W128=0,0,ROUND($B$1*$I$1,0))","v":102},{"$f":"IF(Inputs!X128=0,0,ROUND($B$1*$I$1,0))","v":102},{"$f":"IF(Inputs!Y128=0,0,ROUND($B$1*$I$1,0))","v":102},{"$f":"IF(Inputs!Z128=0,0,ROUND($B$1*$I$1,0))","v":102},{"$f":"IF(Inputs!AA128=0,0,ROUND($B$1*$I$1,0))","v":102},{"$f":"IF(Inputs!AB128=0,0,ROUND($B$1*$I$1,0))","v":102},{"$f":"IF(Inputs!AC128=0,0,ROUND($B$1*$I$1,0))","v":102},{"$f":"IF(Inputs!AD128=0,0,ROUND($B$1*$I$1,0))","v":102},{"$f":"IF(Inputs!AE128=0,0,ROUND($B$1*$I$1,0))","v":102}]
["Месячный оклад","тыс. руб.",36,{"$f":"C26+C26*Inputs!G11","v":37.224000000000004},{"$f":"D26+D26*Inputs!H11","v":38.712960000000002},{"$f":"E26+E26*Inputs!I11","v":40.261478400000001},{"$f":"F26+F26*Inputs!J11","v":41.871937536000004},{"$f":"G26+G26*Inputs!K11","v":43.546815037440005},{"$f":"H26+H26*Inputs!L11","v":45.288687638937603},{"$f":"I26+I26*Inputs!M11","v":47.100235144495109},{"$f":"J26+J26*Inputs!N11","v":48.984244550274916},{"$f":"K26+K26*Inputs!O11","v":50.943614332285911},{"$f":"L26+L26*Inputs!P11","v":52.981358905577345},{"$f":"M26+M26*Inputs!Q11","v":55.10061326180044},{"$f":"N26+N26*Inputs!R11","v":57.304637792272459},{"$f":"O26+O26*Inputs!S11","v":59.596823303963355},{"$f":"P26+P26*Inputs!T11","v":61.980696236121886},{"$f":"Q26+Q26*Inputs!U11","v":64.459924085566769},{"$f":"R26+R26*Inputs!V11","v":67.038321048989445},{"$f":"S26+S26*Inputs!W11","v":69.719853890949025},{"$f":"T26+T26*Inputs!X11","v":72.508648046586984},{"$f":"U26+U26*Inputs!Y11","v":75.40899396845046},{"$f":"V26+V26*Inputs!Z11","v":78.42535372718848},{"$f":"W26+W26*Inputs!AA11","v":81.562367876276014},{"$f":"X26+X26*Inputs!AB11","v":84.824862591327047},{"$f":"Y26+Y26*Inputs!AC11","v":88.217857094980133},{"$f":"Z26+Z26*Inputs!AD11","v":91.746571378779336},{"$f":"AA26+AA26*Inputs!AE11","v":95.416434233930516}]
["Сумма расхода на зарплату в год ","тыс. руб.",{"$f":"C25*C26*12","v":0},0,0,0,0,53301.301605826571,{"$f":"I25*I26*12","v":55433.353670059631},57650.68781686201,59956.715329536499,62354.983942717954,64849.183300426674,67443.150632443751,70140.876657741494,72946.511724051146,75864.372193013201,78898.94708073372,82054.904963963083,85337.101162521605,{"$f":"U25*U26*12","v":88750.58520902248},92300.608617383361,95992.6329620787,99832.338280561846,103825.6318117843,107978.65708425568,112297.80336762592,116789.71550233095]
["НДФЛ",0.13,{"$f":"C$27*$B28","v":0},0,0,0,0,{"$f":"H$27*$B28","v":6929.1692087574547},7206.3359771077521,7494.5894161920614,7794.3729928397452,8106.1479125533342,8430.393829055467,8767.6095822176885,9118.3139655063951,9483.0465241266502,9862.3683850917168,10256.863120495384,10667.137645315201,11093.823151127808,11537.576077172922,11999.079120259838,12479.042285070231,{"$f":"X$27*$B28","v":12978.20397647304},13497.33213553196,14037.225420953238,14598.71443779137,15182.663015303024]
["ПФР",0.22,0,0,0,0,0,11726.286353281846,12195.33780741312,12683.151319709643,13190.47737249803,13718.096467397951,14266.820326093868,14837.493139137625,15430.992864703128,16048.232579291252,16690.161882462904,17357.768357761419,18052.079092071879,18774.162255754753,19525.128745984945,20306.13389582434,21118.379251657316,21963.114421723607,22841.638998592545,23755.304558536249,24705.516740877702,25693.737410512807]
["ОМС",5.0999999999999997E-2,0,0,0,0,0,2718.366381897155,2827.1010371730408,2940.1850786599625,3057.7924818063611,3180.1041810786155,3307.3083483217601,3439.600682254631,3577.1847095448161,3720.2720979266082,3869.0829818436732,4023.8463011174194,4184.8001531621167,4352.1921592886019,4526.2798456601458,4707.3310394865512,4895.6242810660133,5091.4492523086537,5295.1072224009995,5506.9115112970394,5727.1879717489219,5956.2754906188775]
["ФСС",2.9000000000000001E-2,0,0,0,0,0,1545.7377465689706,1607.5672564317294,1671.8699466889984,1738.7447445565585,1808.2945343388208,1880.6263157123735,1955.8513683408689,2034.0854230745035,2115.4488399974834,2200.0667935973829,2288.0694653412779,2379.5922439549295,2474.7759337131265,2573.7669710616519,2676.7176499041175,2783.7863559002826,2895.1378101362939,3010.9433225417451,3131.3810554434149,3256.6362976611517,3386.9017495675976]
["Сумма расхода на зарплату с учетом НДФЛ и отчисления в фонды в год ","тыс. руб.",{"$f":"C27+C28+C29+C30+C31","v":0},0,0,0,0,76220.86129633199,{"$f":"I27+I28+I29+I30+I31","v":79269.695748185273},82440.483578112675,85738.102921237209,89167.627038086677,92734.332119610161,96443.705404394568,100301.45362057035,104313.51176539314,108486.05223600888,112825.49432544922,117338.51409846722,122032.05466240591,{"$f":"U27+U28+U29+U30+U31","v":126913.33684890214},131989.87032285822,137269.46513577254,142760.24374120348,148470.65349085158,154409.47963048561,160585.85881570505,167009.29316833324]
[]
["Коммерческий персонал"]
["Колличество","чел.",{"$f":"IF(Inputs!F128=0,0,ROUND($B$1*$K$1,0))","v":0},{"$f":"IF(Inputs!G128=0,0,ROUND($B$1*$K$1,0))","v":0},{"$f":"IF(Inputs!H128=0,0,ROUND($B$1*$K$1,0))","v":0},{"$f":"IF(Inputs!I128=0,0,ROUND($B$1*$K$1,0))","v":0},{"$f":"IF(Inputs!J128=0,0,ROUND($B$1*$K$1,0))","v":0},{"$f":"IF(Inputs!K128=0,0,ROUND($B$1*$K$1,0))","v":153},{"$f":"IF(Inputs!L128=0,0,ROUND($B$1*$K$1,0))","v":153},{"$f":"IF(Inputs!M128=0,0,ROUND($B$1*$K$1,0))","v":153},{"$f":"IF(Inputs!N128=0,0,ROUND($B$1*$K$1,0))","v":153},{"$f":"IF(Inputs!O128=0,0,ROUND($B$1*$K$1,0))","v":153},{"$f":"IF(Inputs!P128=0,0,ROUND($B$1*$K$1,0))","v":153},{"$f":"IF(Inputs!Q128=0,0,ROUND($B$1*$K$1,0))","v":153},{"$f":"IF(Inputs!R128=0,0,ROUND($B$1*$K$1,0))","v":153},{"$f":"IF(Inputs!S128=0,0,ROUND($B$1*$K$1,0))","v":153},{"$f":"IF(Inputs!T128=0,0,ROUND($B$1*$K$1,0))","v":153},{"$f":"IF(Inputs!U128=0,0,ROUND($B$1*$K$1,0))","v":153},{"$f":"IF(Inputs!V128=0,0,ROUND($B$1*$K$1,0))","v":153},{"$f":"IF(Inputs!W128=0,0,ROUND($B$1*$K$1,0))","v":153},{"$f":"IF(Inputs!X128=0,0,ROUND($B$1*$K$1,0))","v":153},{"$f":"IF(Inputs!Y128=0,0,ROUND($B$1*$K$1,0))","v":153},{"$f":"IF(Inputs!Z128=0,0,ROUND($B$1*$K$1,0))","v":153},{"$f":"IF(Inputs!AA128=0,0,ROUND($B$1*$K$1,0))","v":153},{"$f":"IF(Inputs!AB128=0,0,ROUND($B$1*$K$1,0))","v":153},{"$f":"IF(Inputs!AC128=0,0,ROUND($B$1*$K$1,0))","v":153},{"$f":"IF(Inputs!AD128=0,0,ROUND($B$1*$K$1,0))","v":153},{"$f":"IF(Inputs!AE128=0,0,ROUND($B$1*$K$1,0))","v":153}]
["Месячный оклад","тыс. руб.",36,{"$f":"C36+C36*Inputs!G11","v":37.224000000000004},{"$f":"D36+D36*Inputs!H11","v":38.712960000000002},{"$f":"E36+E36*Inputs!I11","v":40.261478400000001},{"$f":"F36+F36*Inputs!J11","v":41.871937536000004},{"$f":"G36+G36*Inputs!K11","v":43.546815037440005},{"$f":"H36+H36*Inputs!L11","v":45.288687638937603},{"$f":"I36+I36*Inputs!M11","v":47.100235144495109},{"$f":"J36+J36*Inputs!N11","v":48.984244550274916},{"$f":"K36+K36*Inputs!O11","v":50.943614332285911},{"$f":"L36+L36*Inputs!P11","v":52.981358905577345},{"$f":"M36+M36*Inputs!Q11","v":55.10061326180044},{"$f":"N36+N36*Inputs!R11","v":57.304637792272459},{"$f":"O36+O36*Inputs!S11","v":59.596823303963355},{"$f":"P36+P36*Inputs!T11","v":61.980696236121886},{"$f":"Q36+Q36*Inputs!U11","v":64.459924085566769},{"$f":"R36+R36*Inputs!V11","v":67.038321048989445},{"$f":"S36+S36*Inputs!W11","v":69.719853890949025},{"$f":"T36+T36*Inputs!X11","v":72.508648046586984},{"$f":"U36+U36*Inputs!Y11","v":75.40899396845046},{"$f":"V36+V36*Inputs!Z11","v":78.42535372718848},{"$f":"W36+W36*Inputs!AA11","v":81.562367876276014},{"$f":"X36+X36*Inputs!AB11","v":84.824862591327047},{"$f":"Y36+Y36*Inputs!AC11","v":88.217857094980133},{"$f":"Z36+Z36*Inputs!AD11","v":91.746571378779336},{"$f":"AA36+AA36*Inputs!AE11","v":95.416434233930516}]
["Сумма расхода на зарплату в год ","тыс. руб.",{"$f":"C35*C36*12","v":0},0,0,0,0,79951.952408739846,{"$f":"I35*I36*12","v":83150.030505089439},86476.031725293011,89935.072994304748,93532.475914076931,97273.774950640014,101164.72594866561,105211.31498661224,109419.76758607672,113796.55828951977,118348.42062110058,123082.35744594462,128005.65174378241,{"$f":"U35*U36*12","v":133125.87781353371},138450.91292607505,143988.94944311806,149748.50742084277,155738.44771767646,161967.98562638351,168446.70505143885,175184.57325349643]
["НДФЛ",0.13,{"$f":"C$37*$B38","v":0},0,0,0,0,{"$f":"H$37*$B38","v":10393.75381313618},{"$f":"I$37*$B38","v":10809.503965661628},11241.884124288092,11691.559489259618,12159.221868830002,12645.590743583201,13151.41437332653,13677.470948259592,14224.569786189973,14793.552577637571,15385.294680743076,16000.706467972801,16640.734726691713,17306.364115759381,17998.618680389758,18718.56342760535,19467.305964709562,{"$f":"Y$37*$B38","v":20245.998203297942},21055.838131429857,21898.071656687051,22773.994522954537]
["ПФР",0.22,0,0,0,0,0,{"$f":"H$37*$B39","v":17589.429529922767},18293.006711119677,19024.726979564464,19785.716058747046,20577.144701096924,21400.230489140802,22256.239708706435,23146.489297054693,24072.348868936879,25035.242823694349,26036.652536642127,27078.118638107819,28161.243383632129,29287.693118977415,30459.200843736511,31677.568877485974,32944.671632585407,34262.458497888823,35632.95683780437,37058.27511131655,38540.606115769217]
["ОМС",5.0999999999999997E-2,0,0,0,0,0,{"$f":"H$37*$B40","v":4077.5495728457317},{"$f":"I$37*$B40","v":4240.6515557595612},4410.2776179899429,4586.6887227095422,4770.1562716179233,4960.9625224826405,5159.4010233819463,5365.7770643172244,5580.4081468899121,5803.6244727655085,6035.7694516761294,6277.2002297431754,6528.2882389329025,6789.4197684902183,7060.9965592298267,7343.4364215990208,7637.1738784629806,7942.6608336014988,8260.3672669455591,8590.7819576233815,8934.4132359283176]
["ФСС",2.9000000000000001E-2,0,0,0,0,0,{"$f":"H$37*$B41","v":2318.6066198534559},2411.3508846475938,2507.8049200334976,2608.1171168348378,2712.441801508231,2820.9394735685605,2933.7770525113028,3051.1281346117553,3173.1732599962252,3300.1001903960737,3432.1041980119171,3569.3883659323942,3712.1639005696902,3860.6504565924774,4015.0764748561764,4175.6795338504244,4342.7067152044401,4516.4149838126177,4697.0715831651223,4884.9544464917271,5080.352624351397]
["Сумма расхода на зарплату с учетом НДФЛ и отчисления в фонды в год ","тыс. руб.",{"$f":"C37+C38+C39+C40+C41","v":0},0,0,0,0,114331.29194449798,{"$f":"I37+I38+I39+I40+I41","v":118904.54362227788},123660.725367169,128607.15438185578,133751.44055713,139101.49817941521,144665.55810659184,150452.18043085551,156470.26764808971,162729.07835401327,169238.24148817384,176007.77114770081,183048.08199360885,{"$f":"U37+U38+U39+U40+U41","v":190370.00527335319},197984.80548428732,205904.19770365881,214140.36561180514,222705.98023627733,231614.21944572843,240878.78822355755,250513.93975249989]
[]
["ИТОГО сумма расходов на персонал","тыс. руб.",{"$f":"C12+C22+C32+C42","v":0},0,0,{"$f":"F12+F22+F32+F42","v":0},0,{"$f":"H12+H22+H32+H42","v":635173.84413609991},660580.79790154391,687004.02981760574,{"$f":"K12+K22+K32+K42","v":714484.19101030985},743063.55865072226,772786.10099675111,803697.54503662116,835845.44683808612,869279.26471160958,904050.43530007394,940212.45271207695,977820.9508205601,1016933.7888533825,{"$f":"U12+U22+U32+U42","v":1057611.1404075178},1099915.5860238182,1143912.2094647712,1189668.6978433619,1237255.4457570962,1286745.6635873802,1338215.4901308753,1391744.1097361103]
[]
[]
[]
[]
[null,null,null,null,null,"+"]

{"sheet":"Амортизация","index":13,"n_rows":47,"n_cols":28,"rows_kept":47,"cut":false,"hidden":false,"merged":[]}
[null,null,{"$f":"IF(Inputs!F128=0,0,1)","v":0},{"$f":"IF(Inputs!G128=0,0,1)+C1","v":0},{"$f":"IF(Inputs!H128=0,0,1)+D1","v":0},{"$f":"IF(Inputs!I128=0,0,1)+E1","v":0},{"$f":"IF(Inputs!J128=0,0,1)+F1","v":0},{"$f":"IF(Inputs!K128=0,0,1)+G1","v":1},{"$f":"IF(Inputs!L128=0,0,1)+H1","v":2},{"$f":"IF(Inputs!M128=0,0,1)+I1","v":3},{"$f":"IF(Inputs!N128=0,0,1)+J1","v":4},{"$f":"IF(Inputs!O128=0,0,1)+K1","v":5},{"$f":"IF(Inputs!P128=0,0,1)+L1","v":6},{"$f":"IF(Inputs!Q128=0,0,1)+M1","v":7},{"$f":"IF(Inputs!R128=0,0,1)+N1","v":8},{"$f":"IF(Inputs!S128=0,0,1)+O1","v":9},{"$f":"IF(Inputs!T128=0,0,1)+P1","v":10},{"$f":"IF(Inputs!U128=0,0,1)+Q1","v":11},{"$f":"IF(Inputs!V128=0,0,1)+R1","v":12},{"$f":"IF(Inputs!W128=0,0,1)+S1","v":13},{"$f":"IF(Inputs!X128=0,0,1)+T1","v":14},{"$f":"IF(Inputs!Y128=0,0,1)+U1","v":15},{"$f":"IF(Inputs!Z128=0,0,1)+V1","v":16},{"$f":"IF(Inputs!AA128=0,0,1)+W1","v":17},{"$f":"IF(Inputs!AB128=0,0,1)+X1","v":18},{"$f":"IF(Inputs!AC128=0,0,1)+Y1","v":19},{"$f":"IF(Inputs!AD128=0,0,1)+Z1","v":20},{"$f":"IF(Inputs!AE128=0,0,1)+AA1","v":21}]
[null,null,2020,2021,2022,2023,2024,2025,2026,2027,2028,2029,2030,2031,2032,2033,2034,2035,2036,2037,2038,2039,2040,2041,2042,2043,2044,2045]
["Срок полезного  использования (лет) зданий и сооружений ",30]
["Срок полезного  использования (лет) оборудования",25]
[" Срок полезного  использования (лет) НМА",15]
["Постановка на учет в 2024 году."]
["Стоимость зданий и сооружений (тыс. $)",{"$f":"'Капитальные затраты'!E5+'Капитальные затраты'!F5+'Капитальные затраты'!G5+'Капитальные затраты'!H5","v":326400}]
["Стоимость оборудования (тыс. $)",{"$f":"'Капитальные затраты'!E6+'Капитальные затраты'!F6+'Капитальные затраты'!G6+'Капитальные затраты'!H6","v":878400}]
["Стоимость НМА (тыс. $)",{"$f":"'Капитальные затраты'!D9+'Капитальные затраты'!E9+'Капитальные затраты'!D10+'Капитальные затраты'!E10+'Капитальные затраты'!D11+'Капитальные затраты'!E11+'Капитальные затраты'!D12+'Капитальные затраты'!E12","v":21800}]
["Амортизация зданий и сооружений (тыс. $)",null,{"$f":"IF(C1>$B$3,0,IF(Inputs!F116=0,0,$B$7/$B$3))","v":0},{"$f":"IF(D1>$B$3,0,IF(Inputs!G116=0,0,$B$7/$B$3))","v":0},{"$f":"IF(E1>$B$3,0,IF(Inputs!H116=0,0,$B$7/$B$3))","v":0},{"$f":"IF(F1>$B$3,0,IF(Inputs!I116=0,0,$B$7/$B$3))","v":0},{"$f":"IF(G1>$B$3,0,IF(Inputs!J116=0,0,$B$7/$B$3))","v":0},{"$f":"IF(H1>$B$3,0,IF(Inputs!K116=0,0,$B$7/$B$3))","v":10880},{"$f":"IF(I1>$B$3,0,IF(Inputs!L116=0,0,$B$7/$B$3))","v":10880},{"$f":"IF(J1>$B$3,0,IF(Inputs!M116=0,0,$B$7/$B$3))","v":10880},{"$f":"IF(K1>$B$3,0,IF(Inputs!N116=0,0,$B$7/$B$3))","v":10880},{"$f":"IF(L1>$B$3,0,IF(Inputs!O116=0,0,$B$7/$B$3))","v":10880},{"$f":"IF(M1>$B$3,0,IF(Inputs!P116=0,0,$B$7/$B$3))","v":10880},{"$f":"IF(N1>$B$3,0,IF(Inputs!Q116=0,0,$B$7/$B$3))","v":10880},{"$f":"IF(O1>$B$3,0,IF(Inputs!R116=0,0,$B$7/$B$3))","v":10880},{"$f":"IF(P1>$B$3,0,IF(Inputs!S116=0,0,$B$7/$B$3))","v":10880},{"$f":"IF(Q1>$B$3,0,IF(Inputs!T116=0,0,$B$7/$B$3))","v":10880},{"$f":"IF(R1>$B$3,0,IF(Inputs!U116=0,0,$B$7/$B$3))","v":10880},{"$f":"IF(S1>$B$3,0,IF(Inputs!V116=0,0,$B$7/$B$3))","v":10880},{"$f":"IF(T1>$B$3,0,IF(Inputs!W116=0,0,$B$7/$B$3))","v":10880},{"$f":"IF(U1>$B$3,0,IF(Inputs!X116=0,0,$B$7/$B$3))","v":10880},{"$f":"IF(V1>$B$3,0,IF(Inputs!Y116=0,0,$B$7/$B$3))","v":10880},{"$f":"IF(W1>$B$3,0,IF(Inputs!Z116=0,0,$B$7/$B$3))","v":10880},{"$f":"IF(X1>$B$3,0,IF(Inputs!AA116=0,0,$B$7/$B$3))","v":10880},{"$f":"IF(Y1>$B$3,0,IF(Inputs!AB116=0,0,$B$7/$B$3))","v":10880},{"$f":"IF(Z1>$B$3,0,IF(Inputs!AC116=0,0,$B$7/$B$3))","v":10880},{"$f":"IF(AA1>$B$3,0,IF(Inputs!AD116=0,0,$B$7/$B$3))","v":10880},{"$f":"IF(AB1>=$B$3,0,IF(Inputs!AE116=0,0,$B$7/$B$3))","v":10880}]
["Амортизация оборудования (тыс. $)",null,{"$f":"IF(C1>$B$4,0,IF(Inputs!F116=0,0,$B$8/$B$4))","v":0},{"$f":"IF(D1>$B$4,0,IF(Inputs!G116=0,0,$B$8/$B$4))","v":0},{"$f":"IF(E1>$B$4,0,IF(Inputs!H116=0,0,$B$8/$B$4))","v":0},{"$f":"IF(F1>$B$4,0,IF(Inputs!I116=0,0,$B$8/$B$4))","v":0},{"$f":"IF(G1>$B$4,0,IF(Inputs!J116=0,0,$B$8/$B$4))","v":0},{"$f":"IF(H1>$B$4,0,IF(Inputs!K116=0,0,$B$8/$B$4))","v":35136},{"$f":"IF(I1>$B$4,0,IF(Inputs!L116=0,0,$B$8/$B$4))","v":35136},{"$f":"IF(J1>$B$4,0,IF(Inputs!M116=0,0,$B$8/$B$4))","v":35136},{"$f":"IF(K1>$B$4,0,IF(Inputs!N116=0,0,$B$8/$B$4))","v":35136},{"$f":"IF(L1>$B$4,0,IF(Inputs!O116=0,0,$B$8/$B$4))","v":35136},{"$f":"IF(M1>$B$4,0,IF(Inputs!P116=0,0,$B$8/$B$4))","v":35136},{"$f":"IF(N1>$B$4,0,IF(Inputs!Q116=0,0,$B$8/$B$4))","v":35136},{"$f":"IF(O1>$B$4,0,IF(Inputs!R116=0,0,$B$8/$B$4))","v":35136},{"$f":"IF(P1>$B$4,0,IF(Inputs!S116=0,0,$B$8/$B$4))","v":35136},{"$f":"IF(Q1>$B$4,0,IF(Inputs!T116=0,0,$B$8/$B$4))","v":35136},{"$f":"IF(R1>$B$4,0,IF(Inputs!U116=0,0,$B$8/$B$4))","v":35136},{"$f":"IF(S1>$B$4,0,IF(Inputs!V116=0,0,$B$8/$B$4))","v":35136},{"$f":"IF(T1>$B$4,0,IF(Inputs!W116=0,0,$B$8/$B$4))","v":35136},{"$f":"IF(U1>$B$4,0,IF(Inputs!X116=0,0,$B$8/$B$4))","v":35136},{"$f":"IF(V1>$B$4,0,IF(Inputs!Y116=0,0,$B$8/$B$4))","v":35136},{"$f":"IF(W1>$B$4,0,IF(Inputs!Z116=0,0,$B$8/$B$4))","v":35136},{"$f":"IF(X1>$B$4,0,IF(Inputs!AA116=0,0,$B$8/$B$4))","v":35136},{"$f":"IF(Y1>$B$4,0,IF(Inputs!AB116=0,0,$B$8/$B$4))","v":35136},{"$f":"IF(Z1>$B$4,0,IF(Inputs!AC116=0,0,$B$8/$B$4))","v":35136},{"$f":"IF(AA1>$B$4,0,IF(Inputs!AD116=0,0,$B$8/$B$4))","v":35136},{"$f":"IF(AB1>$B$4,0,IF(Inputs!AE116=0,0,$B$8/$B$4))","v":35136}]
["Амортизация НМА (тыс. $) ",null,{"$f":"IF(C1>$B$5,0,IF(Inputs!F116=0,0,$B$9/$B$5))","v":0},{"$f":"IF(D1>$B$5,0,IF(Inputs!G116=0,0,$B$9/$B$5))","v":0},{"$f":"IF(E1>$B$5,0,IF(Inputs!H116=0,0,$B$9/$B$5))","v":0},{"$f":"IF(F1>$B$5,0,IF(Inputs!I116=0,0,$B$9/$B$5))","v":0},{"$f":"IF(G1>$B$5,0,IF(Inputs!J116=0,0,$B$9/$B$5))","v":0},{"$f":"IF(H1>$B$5,0,IF(Inputs!K116=0,0,$B$9/$B$5))","v":1453.3333333333333},{"$f":"IF(I1>$B$5,0,IF(Inputs!L116=0,0,$B$9/$B$5))","v":1453.3333333333333},{"$f":"IF(J1>$B$5,0,IF(Inputs!M116=0,0,$B$9/$B$5))","v":1453.3333333333333},{"$f":"IF(K1>$B$5,0,IF(Inputs!N116=0,0,$B$9/$B$5))","v":1453.3333333333333},{"$f":"IF(L1>$B$5,0,IF(Inputs!O116=0,0,$B$9/$B$5))","v":1453.3333333333333},{"$f":"IF(M1>$B$5,0,IF(Inputs!P116=0,0,$B$9/$B$5))","v":1453.3333333333333},{"$f":"IF(N1>$B$5,0,IF(Inputs!Q116=0,0,$B$9/$B$5))","v":1453.3333333333333},{"$f":"IF(O1>$B$5,0,IF(Inputs!R116=0,0,$B$9/$B$5))","v":1453.3333333333333},{"$f":"IF(P1>$B$5,0,IF(Inputs!S116=0,0,$B$9/$B$5))","v":1453.3333333333333},{"$f":"IF(Q1>$B$5,0,IF(Inputs!T116=0,0,$B$9/$B$5))","v":1453.3333333333333},{"$f":"IF(R1>$B$5,0,IF(Inputs!U116=0,0,$B$9/$B$5))","v":1453.3333333333333},{"$f":"IF(S1>$B$5,0,IF(Inputs!V116=0,0,$B$9/$B$5))","v":1453.3333333333333},{"$f":"IF(T1>$B$5,0,IF(Inputs!W116=0,0,$B$9/$B$5))","v":1453.3333333333333},{"$f":"IF(U1>$B$5,0,IF(Inputs!X116=0,0,$B$9/$B$5))","v":1453.3333333333333},{"$f":"IF(V1>$B$5,0,IF(Inputs!Y116=0,0,$B$9/$B$5))","v":1453.3333333333333},{"$f":"IF(W1>$B$5,0,IF(Inputs!Z116=0,0,$B$9/$B$5))","v":0},{"$f":"IF(X1>$B$5,0,IF(Inputs!AA116=0,0,$B$9/$B$5))","v":0},{"$f":"IF(Y1>$B$5,0,IF(Inputs!AB116=0,0,$B$9/$B$5))","v":0},{"$f":"IF(Z1>$B$5,0,IF(Inputs!AC116=0,0,$B$9/$B$5))","v":0},{"$f":"IF(AA1>$B$5,0,IF(Inputs!AD116=0,0,$B$9/$B$5))","v":0},{"$f":"IF(AB1>$B$5,0,IF(Inputs!AE116=0,0,$B$9/$B$5))","v":0}]
["Амортизация итого в год (тыс. $)",null,{"$f":"SUM(C10:C12)","v":0},0,0,0,0,{"$f":"SUM(H10:H12)","v":47469.333333333336},47469.333333333336,47469.333333333336,47469.333333333336,47469.333333333336,47469.333333333336,47469.333333333336,47469.333333333336,47469.333333333336,47469.333333333336,47469.333333333336,47469.333333333336,47469.333333333336,47469.333333333336,47469.333333333336,46016,46016,46016,46016,46016,46016]
["Амортизация на тонну продукции (тыс. $)",null,{"$f":"IFERROR(C13/(Inputs!F104+Inputs!F105+Inputs!F106+Inputs!F107+Inputs!F113),0)","v":0},{"$f":"IFERROR(D13/(Inputs!G104+Inputs!G105+Inputs!G106+Inputs!G107+Inputs!G113),0)","v":0},{"$f":"IFERROR(E13/(Inputs!H104+Inputs!H105+Inputs!H106+Inputs!H107+Inputs!H113),0)","v":0},{"$f":"IFERROR(F13/(Inputs!I104+Inputs!I105+Inputs!I106+Inputs!I107+Inputs!I113),0)","v":0},{"$f":"IFERROR(G13/(Inputs!J104+Inputs!J105+Inputs!J106+Inputs!J107+Inputs!J113),0)","v":0},{"$f":"IFERROR(H13/(SUM(Inputs!K104:K113)-Inputs!K122),)","v":1.4860188249434076E-2},{"$f":"IFERROR(I13/(SUM(Inputs!L104:L113)-Inputs!L122),)","v":1.4860188249434076E-2},{"$f":"IFERROR(J13/(SUM(Inputs!M104:M113)-Inputs!M122),)","v":1.4860188249434076E-2},{"$f":"IFERROR(K13/(SUM(Inputs!N104:N113)-Inputs!N122),)","v":1.4860188249434076E-2},{"$f":"IFERROR(L13/(SUM(Inputs!O104:O113)-Inputs!O122),)","v":1.4860188249434076E-2},{"$f":"IFERROR(M13/(SUM(Inputs!P104:P113)-Inputs!P122),)","v":1.4860188249434076E-2},{"$f":"IFERROR(N13/(SUM(Inputs!Q104:Q113)-Inputs!Q122),)","v":1.4860188249434076E-2},{"$f":"IFERROR(O13/(SUM(Inputs!R104:R113)-Inputs!R122),)","v":1.4860188249434076E-2},{"$f":"IFERROR(P13/(SUM(Inputs!S104:S113)-Inputs!S122),)","v":1.4860188249434076E-2},{"$f":"IFERROR(Q13/(SUM(Inputs!T104:T113)-Inputs!T122),)","v":1.4860188249434076E-2},{"$f":"IFERROR(R13/(SUM(Inputs!U104:U113)-Inputs!U122),)","v":1.4860188249434076E-2},{"$f":"IFERROR(S13/(SUM(Inputs!V104:V113)-Inputs!V122),)","v":1.4860188249434076E-2},{"$f":"IFERROR(T13/(SUM(Inputs!W104:W113)-Inputs!W122),)","v":1.4860188249434076E-2},{"$f":"IFERROR(U13/(SUM(Inputs!X104:X113)-Inputs!X122),)","v":1.4860188249434076E-2},{"$f":"IFERROR(V13/(SUM(Inputs!Y104:Y113)-Inputs!Y122),)","v":1.4860188249434076E-2},{"$f":"IFERROR(W13/(SUM(Inputs!Z104:Z113)-Inputs!Z122),)","v":1.4405224899288489E-2},{"$f":"IFERROR(X13/(SUM(Inputs!AA104:AA113)-Inputs!AA122),)","v":1.4405224899288489E-2},{"$f":"IFERROR(Y13/(SUM(Inputs!AB104:AB113)-Inputs!AB122),)","v":1.4405224899288489E-2},{"$f":"IFERROR(Z13/(SUM(Inputs!AC104:AC113)-Inputs!AC122),)","v":1.4405224899288489E-2},{"$f":"IFERROR(AA13/(SUM(Inputs!AD104:AD113)-Inputs!AD122),)","v":1.4405224899288489E-2},{"$f":"IFERROR(AB13/(SUM(Inputs!AE104:AE113)-Inputs!AE122),)","v":1.4405224899288489E-2}]
["Остаточная стоимость зданий и сооружений (тыс. $)",null,{"$f":"IF(IF((IF(B15=0,IF(Inputs!F116=0,0,$B$7-C10),B15-C10))>=$B$7,0,((IF(B15=0,IF(Inputs!F116=0,0,$B$7-C10),B15-C10))))>($B$7-C10*C1),0,IF((IF(B15=0,IF(Inputs!F116=0,0,$B$7-C10),B15-C10))>=$B$7,0,((IF(B15=0,IF(Inputs!F116=0,0,$B$7-C10),B15-C10)))))","v":0},{"$f":"IF(IF((IF(C15=0,IF(Inputs!G116=0,0,$B$7-D10),C15-D10))>=$B$7,0,((IF(C15=0,IF(Inputs!G116=0,0,$B$7-D10),C15-D10))))>($B$7-D10*D1),0,IF((IF(C15=0,IF(Inputs!G116=0,0,$B$7-D10),C15-D10))>=$B$7,0,((IF(C15=0,IF(Inputs!G116=0,0,$B$7-D10),C15-D10)))))","v":0},{"$f":"IF(IF((IF(D15=0,IF(Inputs!H116=0,0,$B$7-E10),D15-E10))>=$B$7,0,((IF(D15=0,IF(Inputs!H116=0,0,$B$7-E10),D15-E10))))>($B$7-E10*E1),0,IF((IF(D15=0,IF(Inputs!H116=0,0,$B$7-E10),D15-E10))>=$B$7,0,((IF(D15=0,IF(Inputs!H116=0,0,$B$7-E10),D15-E10)))))","v":0},{"$f":"IF(IF((IF(E15=0,IF(Inputs!I116=0,0,$B$7-F10),E15-F10))>=$B$7,0,((IF(E15=0,IF(Inputs!I116=0,0,$B$7-F10),E15-F10))))>($B$7-F10*F1),0,IF((IF(E15=0,IF(Inputs!I116=0,0,$B$7-F10),E15-F10))>=$B$7,0,((IF(E15=0,IF(Inputs!I116=0,0,$B$7-F10),E15-F10)))))","v":0},{"$f":"IF(IF((IF(F15=0,IF(Inputs!J116=0,0,$B$7-G10),F15-G10))>=$B$7,0,((IF(F15=0,IF(Inputs!J116=0,0,$B$7-G10),F15-G10))))>($B$7-G10*G1),0,IF((IF(F15=0,IF(Inputs!J116=0,0,$B$7-G10),F15-G10))>=$B$7,0,((IF(F15=0,IF(Inputs!J116=0,0,$B$7-G10),F15-G10)))))","v":0},{"$f":"IF(IF((IF(G15=0,IF(Inputs!K116=0,0,$B$7-H10),G15-H10))>=$B$7,0,((IF(G15=0,IF(Inputs!K116=0,0,$B$7-H10),G15-H10))))>($B$7-H10*H1),0,IF((IF(G15=0,IF(Inputs!K116=0,0,$B$7-H10),G15-H10))>=$B$7,0,((IF(G15=0,IF(Inputs!K116=0,0,$B$7-H10),G15-H10)))))","v":315520},{"$f":"IF(IF((IF(H15=0,IF(Inputs!L116=0,0,$B$7-I10),H15-I10))>=$B$7,0,((IF(H15=0,IF(Inputs!L116=0,0,$B$7-I10),H15-I10))))>($B$7-I10*I1),0,IF((IF(H15=0,IF(Inputs!L116=0,0,$B$7-I10),H15-I10))>=$B$7,0,((IF(H15=0,IF(Inputs!L116=0,0,$B$7-I10),H15-I10)))))","v":304640},{"$f":"IF(IF((IF(I15=0,IF(Inputs!M116=0,0,$B$7-J10),I15-J10))>=$B$7,0,((IF(I15=0,IF(Inputs!M116=0,0,$B$7-J10),I15-J10))))>($B$7-J10*J1),0,IF((IF(I15=0,IF(Inputs!M116=0,0,$B$7-J10),I15-J10))>=$B$7,0,((IF(I15=0,IF(Inputs!M116=0,0,$B$7-J10),I15-J10)))))","v":293760},{"$f":"IF(IF((IF(J15=0,IF(Inputs!N116=0,0,$B$7-K10),J15-K10))>=$B$7,0,((IF(J15=0,IF(Inputs!N116=0,0,$B$7-K10),J15-K10))))>($B$7-K10*K1),0,IF((IF(J15=0,IF(Inputs!N116=0,0,$B$7-K10),J15-K10))>=$B$7,0,((IF(J15=0,IF(Inputs!N116=0,0,$B$7-K10),J15-K10)))))","v":282880},{"$f":"IF(IF((IF(K15=0,IF(Inputs!O116=0,0,$B$7-L10),K15-L10))>=$B$7,0,((IF(K15=0,IF(Inputs!O116=0,0,$B$7-L10),K15-L10))))>($B$7-L10*L1),0,IF((IF(K15=0,IF(Inputs!O116=0,0,$B$7-L10),K15-L10))>=$B$7,0,((IF(K15=0,IF(Inputs!O116=0,0,$B$7-L10),K15-L10)))))","v":272000},{"$f":"IF(IF((IF(L15=0,IF(Inputs!P116=0,0,$B$7-M10),L15-M10))>=$B$7,0,((IF(L15=0,IF(Inputs!P116=0,0,$B$7-M10),L15-M10))))>($B$7-M10*M1),0,IF((IF(L15=0,IF(Inputs!P116=0,0,$B$7-M10),L15-M10))>=$B$7,0,((IF(L15=0,IF(Inputs!P116=0,0,$B$7-M10),L15-M10)))))","v":261120},{"$f":"IF(IF((IF(M15=0,IF(Inputs!Q116=0,0,$B$7-N10),M15-N10))>=$B$7,0,((IF(M15=0,IF(Inputs!Q116=0,0,$B$7-N10),M15-N10))))>($B$7-N10*N1),0,IF((IF(M15=0,IF(Inputs!Q116=0,0,$B$7-N10),M15-N10))>=$B$7,0,((IF(M15=0,IF(Inputs!Q116=0,0,$B$7-N10),M15-N10)))))","v":250240},{"$f":"IF(IF((IF(N15=0,IF(Inputs!R116=0,0,$B$7-O10),N15-O10))>=$B$7,0,((IF(N15=0,IF(Inputs!R116=0,0,$B$7-O10),N15-O10))))>($B$7-O10*O1),0,IF((IF(N15=0,IF(Inputs!R116=0,0,$B$7-O10),N15-O10))>=$B$7,0,((IF(N15=0,IF(Inputs!R116=0,0,$B$7-O10),N15-O10)))))","v":239360},{"$f":"IF(IF((IF(O15=0,IF(Inputs!S116=0,0,$B$7-P10),O15-P10))>=$B$7,0,((IF(O15=0,IF(Inputs!S116=0,0,$B$7-P10),O15-P10))))>($B$7-P10*P1),0,IF((IF(O15=0,IF(Inputs!S116=0,0,$B$7-P10),O15-P10))>=$B$7,0,((IF(O15=0,IF(Inputs!S116=0,0,$B$7-P10),O15-P10)))))","v":228480},{"$f":"IF(IF((IF(P15=0,IF(Inputs!T116=0,0,$B$7-Q10),P15-Q10))>=$B$7,0,((IF(P15=0,IF(Inputs!T116=0,0,$B$7-Q10),P15-Q10))))>($B$7-Q10*Q1),0,IF((IF(P15=0,IF(Inputs!T116=0,0,$B$7-Q10),P15-Q10))>=$B$7,0,((IF(P15=0,IF(Inputs!T116=0,0,$B$7-Q10),P15-Q10)))))","v":217600},{"$f":"IF(IF((IF(Q15=0,IF(Inputs!U116=0,0,$B$7-R10),Q15-R10))>=$B$7,0,((IF(Q15=0,IF(Inputs!U116=0,0,$B$7-R10),Q15-R10))))>($B$7-R10*R1),0,IF((IF(Q15=0,IF(Inputs!U116=0,0,$B$7-R10),Q15-R10))>=$B$7,0,((IF(Q15=0,IF(Inputs!U116=0,0,$B$7-R10),Q15-R10)))))","v":206720},{"$f":"IF(IF((IF(R15=0,IF(Inputs!V116=0,0,$B$7-S10),R15-S10))>=$B$7,0,((IF(R15=0,IF(Inputs!V116=0,0,$B$7-S10),R15-S10))))>($B$7-S10*S1),0,IF((IF(R15=0,IF(Inputs!V116=0,0,$B$7-S10),R15-S10))>=$B$7,0,((IF(R15=0,IF(Inputs!V116=0,0,$B$7-S10),R15-S10)))))","v":195840},{"$f":"IF(IF((IF(S15=0,IF(Inputs!W116=0,0,$B$7-T10),S15-T10))>=$B$7,0,((IF(S15=0,IF(Inputs!W116=0,0,$B$7-T10),S15-T10))))>($B$7-T10*T1),0,IF((IF(S15=0,IF(Inputs!W116=0,0,$B$7-T10),S15-T10))>=$B$7,0,((IF(S15=0,IF(Inputs!W116=0,0,$B$7-T10),S15-T10)))))","v":184960},{"$f":"IF(IF((IF(T15=0,IF(Inputs!X116=0,0,$B$7-U10),T15-U10))>=$B$7,0,((IF(T15=0,IF(Inputs!X116=0,0,$B$7-U10),T15-U10))))>($B$7-U10*U1),0,IF((IF(T15=0,IF(Inputs!X116=0,0,$B$7-U10),T15-U10))>=$B$7,0,((IF(T15=0,IF(Inputs!X116=0,0,$B$7-U10),T15-U10)))))","v":174080},{"$f":"IF(IF((IF(U15=0,IF(Inputs!Y116=0,0,$B$7-V10),U15-V10))>=$B$7,0,((IF(U15=0,IF(Inputs!Y116=0,0,$B$7-V10),U15-V10))))>($B$7-V10*V1),0,IF((IF(U15=0,IF(Inputs!Y116=0,0,$B$7-V10),U15-V10))>=$B$7,0,((IF(U15=0,IF(Inputs!Y116=0,0,$B$7-V10),U15-V10)))))","v":163200},{"$f":"IF(IF((IF(V15=0,IF(Inputs!Z116=0,0,$B$7-W10),V15-W10))>=$B$7,0,((IF(V15=0,IF(Inputs!Z116=0,0,$B$7-W10),V15-W10))))>($B$7-W10*W1),0,IF((IF(V15=0,IF(Inputs!Z116=0,0,$B$7-W10),V15-W10))>=$B$7,0,((IF(V15=0,IF(Inputs!Z116=0,0,$B$7-W10),V15-W10)))))","v":152320},{"$f":"IF(IF((IF(W15=0,IF(Inputs!AA116=0,0,$B$7-X10),W15-X10))>=$B$7,0,((IF(W15=0,IF(Inputs!AA116=0,0,$B$7-X10),W15-X10))))>($B$7-X10*X1),0,IF((IF(W15=0,IF(Inputs!AA116=0,0,$B$7-X10),W15-X10))>=$B$7,0,((IF(W15=0,IF(Inputs!AA116=0,0,$B$7-X10),W15-X10)))))","v":141440},{"$f":"IF(IF((IF(X15=0,IF(Inputs!AB116=0,0,$B$7-Y10),X15-Y10))>=$B$7,0,((IF(X15=0,IF(Inputs!AB116=0,0,$B$7-Y10),X15-Y10))))>($B$7-Y10*Y1),0,IF((IF(X15=0,IF(Inputs!AB116=0,0,$B$7-Y10),X15-Y10))>=$B$7,0,((IF(X15=0,IF(Inputs!AB116=0,0,$B$7-Y10),X15-Y10)))))","v":130560},{"$f":"IF(IF((IF(Y15=0,IF(Inputs!AC116=0,0,$B$7-Z10),Y15-Z10))>=$B$7,0,((IF(Y15=0,IF(Inputs!AC116=0,0,$B$7-Z10),Y15-Z10))))>($B$7-Z10*Z1),0,IF((IF(Y15=0,IF(Inputs!AC116=0,0,$B$7-Z10),Y15-Z10))>=$B$7,0,((IF(Y15=0,IF(Inputs!AC116=0,0,$B$7-Z10),Y15-Z10)))))","v":119680},{"$f":"IF(IF((IF(Z15=0,IF(Inputs!AD116=0,0,$B$7-AA10),Z15-AA10))>=$B$7,0,((IF(Z15=0,IF(Inputs!AD116=0,0,$B$7-AA10),Z15-AA10))))>($B$7-AA10*AA1),0,IF((IF(Z15=0,IF(Inputs!AD116=0,0,$B$7-AA10),Z15-AA10))>=$B$7,0,((IF(Z15=0,IF(Inputs!AD116=0,0,$B$7-AA10),Z15-AA10)))))","v":108800},{"$f":"IF(IF((IF(AA15=0,IF(Inputs!AE116=0,0,$B$7-AB10),AA15-AB10))>=$B$7,0,((IF(AA15=0,IF(Inputs!AE116=0,0,$B$7-AB10),AA15-AB10))))>($B$7-AB10*AB1),0,IF((IF(AA15=0,IF(Inputs!AE116=0,0,$B$7-AB10),AA15-AB10))>=$B$7,0,((IF(AA15=0,IF(Inputs!AE116=0,0,$B$7-AB10),AA15-AB10)))))","v":97920}]
["Остаточная стоимость оборудования (тыс. $)",null,{"$f":"IF(IF((IF(B16=0,IF(Inputs!F116=0,0,$B$8-C11),B16-C11))>=$B$8,0,((IF(B16=0,IF(Inputs!F116=0,0,$B$8-C11),B16-C11))))>($B$8-C11*C1),0,IF((IF(B16=0,IF(Inputs!F116=0,0,$B$8-C11),B16-C11))>=$B$8,0,((IF(B16=0,IF(Inputs!F116=0,0,$B$8-C11),B16-C11)))))","v":0},{"$f":"IF(IF((IF(C16=0,IF(Inputs!G116=0,0,$B$8-D11),C16-D11))>=$B$8,0,((IF(C16=0,IF(Inputs!G116=0,0,$B$8-D11),C16-D11))))>($B$8-D11*D1),0,IF((IF(C16=0,IF(Inputs!G116=0,0,$B$8-D11),C16-D11))>=$B$8,0,((IF(C16=0,IF(Inputs!G116=0,0,$B$8-D11),C16-D11)))))","v":0},{"$f":"IF(IF((IF(D16=0,IF(Inputs!H116=0,0,$B$8-E11),D16-E11))>=$B$8,0,((IF(D16=0,IF(Inputs!H116=0,0,$B$8-E11),D16-E11))))>($B$8-E11*E1),0,IF((IF(D16=0,IF(Inputs!H116=0,0,$B$8-E11),D16-E11))>=$B$8,0,((IF(D16=0,IF(Inputs!H116=0,0,$B$8-E11),D16-E11)))))","v":0},{"$f":"IF(IF((IF(E16=0,IF(Inputs!I116=0,0,$B$8-F11),E16-F11))>=$B$8,0,((IF(E16=0,IF(Inputs!I116=0,0,$B$8-F11),E16-F11))))>($B$8-F11*F1),0,IF((IF(E16=0,IF(Inputs!I116=0,0,$B$8-F11),E16-F11))>=$B$8,0,((IF(E16=0,IF(Inputs!I116=0,0,$B$8-F11),E16-F11)))))","v":0},{"$f":"IF(IF((IF(F16=0,IF(Inputs!J116=0,0,$B$8-G11),F16-G11))>=$B$8,0,((IF(F16=0,IF(Inputs!J116=0,0,$B$8-G11),F16-G11))))>($B$8-G11*G1),0,IF((IF(F16=0,IF(Inputs!J116=0,0,$B$8-G11),F16-G11))>=$B$8,0,((IF(F16=0,IF(Inputs!J116=0,0,$B$8-G11),F16-G11)))))","v":0},{"$f":"IF(IF((IF(G16=0,IF(Inputs!K116=0,0,$B$8-H11),G16-H11))>=$B$8,0,((IF(G16=0,IF(Inputs!K116=0,0,$B$8-H11),G16-H11))))>($B$8-H11*H1),0,IF((IF(G16=0,IF(Inputs!K116=0,0,$B$8-H11),G16-H11))>=$B$8,0,((IF(G16=0,IF(Inputs!K116=0,0,$B$8-H11),G16-H11)))))","v":843264},{"$f":"IF(IF((IF(H16=0,IF(Inputs!L116=0,0,$B$8-I11),H16-I11))>=$B$8,0,((IF(H16=0,IF(Inputs!L116=0,0,$B$8-I11),H16-I11))))>($B$8-I11*I1),0,IF((IF(H16=0,IF(Inputs!L116=0,0,$B$8-I11),H16-I11))>=$B$8,0,((IF(H16=0,IF(Inputs!L116=0,0,$B$8-I11),H16-I11)))))","v":808128},{"$f":"IF(IF((IF(I16=0,IF(Inputs!M116=0,0,$B$8-J11),I16-J11))>=$B$8,0,((IF(I16=0,IF(Inputs!M116=0,0,$B$8-J11),I16-J11))))>($B$8-J11*J1),0,IF((IF(I16=0,IF(Inputs!M116=0,0,$B$8-J11),I16-J11))>=$B$8,0,((IF(I16=0,IF(Inputs!M116=0,0,$B$8-J11),I16-J11)))))","v":772992},{"$f":"IF(IF((IF(J16=0,IF(Inputs!N116=0,0,$B$8-K11),J16-K11))>=$B$8,0,((IF(J16=0,IF(Inputs!N116=0,0,$B$8-K11),J16-K11))))>($B$8-K11*K1),0,IF((IF(J16=0,IF(Inputs!N116=0,0,$B$8-K11),J16-K11))>=$B$8,0,((IF(J16=0,IF(Inputs!N116=0,0,$B$8-K11),J16-K11)))))","v":737856},{"$f":"IF(IF((IF(K16=0,IF(Inputs!O116=0,0,$B$8-L11),K16-L11))>=$B$8,0,((IF(K16=0,IF(Inputs!O116=0,0,$B$8-L11),K16-L11))))>($B$8-L11*L1),0,IF((IF(K16=0,IF(Inputs!O116=0,0,$B$8-L11),K16-L11))>=$B$8,0,((IF(K16=0,IF(Inputs!O116=0,0,$B$8-L11),K16-L11)))))","v":702720},{"$f":"IF(IF((IF(L16=0,IF(Inputs!P116=0,0,$B$8-M11),L16-M11))>=$B$8,0,((IF(L16=0,IF(Inputs!P116=0,0,$B$8-M11),L16-M11))))>($B$8-M11*M1),0,IF((IF(L16=0,IF(Inputs!P116=0,0,$B$8-M11),L16-M11))>=$B$8,0,((IF(L16=0,IF(Inputs!P116=0,0,$B$8-M11),L16-M11)))))","v":667584},{"$f":"IF(IF((IF(M16=0,IF(Inputs!Q116=0,0,$B$8-N11),M16-N11))>=$B$8,0,((IF(M16=0,IF(Inputs!Q116=0,0,$B$8-N11),M16-N11))))>($B$8-N11*N1),0,IF((IF(M16=0,IF(Inputs!Q116=0,0,$B$8-N11),M16-N11))>=$B$8,0,((IF(M16=0,IF(Inputs!Q116=0,0,$B$8-N11),M16-N11)))))","v":632448},{"$f":"IF(IF((IF(N16=0,IF(Inputs!R116=0,0,$B$8-O11),N16-O11))>=$B$8,0,((IF(N16=0,IF(Inputs!R116=0,0,$B$8-O11),N16-O11))))>($B$8-O11*O1),0,IF((IF(N16=0,IF(Inputs!R116=0,0,$B$8-O11),N16-O11))>=$B$8,0,((IF(N16=0,IF(Inputs!R116=0,0,$B$8-O11),N16-O11)))))","v":597312},{"$f":"IF(IF((IF(O16=0,IF(Inputs!S116=0,0,$B$8-P11),O16-P11))>=$B$8,0,((IF(O16=0,IF(Inputs!S116=0,0,$B$8-P11),O16-P11))))>($B$8-P11*P1),0,IF((IF(O16=0,IF(Inputs!S116=0,0,$B$8-P11),O16-P11))>=$B$8,0,((IF(O16=0,IF(Inputs!S116=0,0,$B$8-P11),O16-P11)))))","v":562176},{"$f":"IF(IF((IF(P16=0,IF(Inputs!T116=0,0,$B$8-Q11),P16-Q11))>=$B$8,0,((IF(P16=0,IF(Inputs!T116=0,0,$B$8-Q11),P16-Q11))))>($B$8-Q11*Q1),0,IF((IF(P16=0,IF(Inputs!T116=0,0,$B$8-Q11),P16-Q11))>=$B$8,0,((IF(P16=0,IF(Inputs!T116=0,0,$B$8-Q11),P16-Q11)))))","v":527040},{"$f":"IF(IF((IF(Q16=0,IF(Inputs!U116=0,0,$B$8-R11),Q16-R11))>=$B$8,0,((IF(Q16=0,IF(Inputs!U116=0,0,$B$8-R11),Q16-R11))))>($B$8-R11*R1),0,IF((IF(Q16=0,IF(Inputs!U116=0,0,$B$8-R11),Q16-R11))>=$B$8,0,((IF(Q16=0,IF(Inputs!U116=0,0,$B$8-R11),Q16-R11)))))","v":491904},{"$f":"IF(IF((IF(R16=0,IF(Inputs!V116=0,0,$B$8-S11),R16-S11))>=$B$8,0,((IF(R16=0,IF(Inputs!V116=0,0,$B$8-S11),R16-S11))))>($B$8-S11*S1),0,IF((IF(R16=0,IF(Inputs!V116=0,0,$B$8-S11),R16-S11))>=$B$8,0,((IF(R16=0,IF(Inputs!V116=0,0,$B$8-S11),R16-S11)))))","v":456768},{"$f":"IF(IF((IF(S16=0,IF(Inputs!W116=0,0,$B$8-T11),S16-T11))>=$B$8,0,((IF(S16=0,IF(Inputs!W116=0,0,$B$8-T11),S16-T11))))>($B$8-T11*T1),0,IF((IF(S16=0,IF(Inputs!W116=0,0,$B$8-T11),S16-T11))>=$B$8,0,((IF(S16=0,IF(Inputs!W116=0,0,$B$8-T11),S16-T11)))))","v":421632},{"$f":"IF(IF((IF(T16=0,IF(Inputs!X116=0,0,$B$8-U11),T16-U11))>=$B$8,0,((IF(T16=0,IF(Inputs!X116=0,0,$B$8-U11),T16-U11))))>($B$8-U11*U1),0,IF((IF(T16=0,IF(Inputs!X116=0,0,$B$8-U11),T16-U11))>=$B$8,0,((IF(T16=0,IF(Inputs!X116=0,0,$B$8-U11),T16-U11)))))","v":386496},{"$f":"IF(IF((IF(U16=0,IF(Inputs!Y116=0,0,$B$8-V11),U16-V11))>=$B$8,0,((IF(U16=0,IF(Inputs!Y116=0,0,$B$8-V11),U16-V11))))>($B$8-V11*V1),0,IF((IF(U16=0,IF(Inputs!Y116=0,0,$B$8-V11),U16-V11))>=$B$8,0,((IF(U16=0,IF(Inputs!Y116=0,0,$B$8-V11),U16-V11)))))","v":351360},{"$f":"IF(IF((IF(V16=0,IF(Inputs!Z116=0,0,$B$8-W11),V16-W11))>=$B$8,0,((IF(V16=0,IF(Inputs!Z116=0,0,$B$8-W11),V16-W11))))>($B$8-W11*W1),0,IF((IF(V16=0,IF(Inputs!Z116=0,0,$B$8-W11),V16-W11))>=$B$8,0,((IF(V16=0,IF(Inputs!Z116=0,0,$B$8-W11),V16-W11)))))","v":316224},{"$f":"IF(IF((IF(W16=0,IF(Inputs!AA116=0,0,$B$8-X11),W16-X11))>=$B$8,0,((IF(W16=0,IF(Inputs!AA116=0,0,$B$8-X11),W16-X11))))>($B$8-X11*X1),0,IF((IF(W16=0,IF(Inputs!AA116=0,0,$B$8-X11),W16-X11))>=$B$8,0,((IF(W16=0,IF(Inputs!AA116=0,0,$B$8-X11),W16-X11)))))","v":281088},{"$f":"IF(IF((IF(X16=0,IF(Inputs!AB116=0,0,$B$8-Y11),X16-Y11))>=$B$8,0,((IF(X16=0,IF(Inputs!AB116=0,0,$B$8-Y11),X16-Y11))))>($B$8-Y11*Y1),0,IF((IF(X16=0,IF(Inputs!AB116=0,0,$B$8-Y11),X16-Y11))>=$B$8,0,((IF(X16=0,IF(Inputs!AB116=0,0,$B$8-Y11),X16-Y11)))))","v":245952},{"$f":"IF(IF((IF(Y16=0,IF(Inputs!AC116=0,0,$B$8-Z11),Y16-Z11))>=$B$8,0,((IF(Y16=0,IF(Inputs!AC116=0,0,$B$8-Z11),Y16-Z11))))>($B$8-Z11*Z1),0,IF((IF(Y16=0,IF(Inputs!AC116=0,0,$B$8-Z11),Y16-Z11))>=$B$8,0,((IF(Y16=0,IF(Inputs!AC116=0,0,$B$8-Z11),Y16-Z11)))))","v":210816},{"$f":"IF(IF((IF(Z16=0,IF(Inputs!AD116=0,0,$B$8-AA11),Z16-AA11))>=$B$8,0,((IF(Z16=0,IF(Inputs!AD116=0,0,$B$8-AA11),Z16-AA11))))>($B$8-AA11*AA1),0,IF((IF(Z16=0,IF(Inputs!AD116=0,0,$B$8-AA11),Z16-AA11))>=$B$8,0,((IF(Z16=0,IF(Inputs!AD116=0,0,$B$8-AA11),Z16-AA11)))))","v":175680},{"$f":"IF(IF((IF(AA16=0,IF(Inputs!AE116=0,0,$B$8-AB11),AA16-AB11))>=$B$8,0,((IF(AA16=0,IF(Inputs!AE116=0,0,$B$8-AB11),AA16-AB11))))>($B$8-AB11*AB1),0,IF((IF(AA16=0,IF(Inputs!AE116=0,0,$B$8-AB11),AA16-AB11))>=$B$8,0,((IF(AA16=0,IF(Inputs!AE116=0,0,$B$8-AB11),AA16-AB11)))))","v":140544}]
[" Остаточная стоимость НМА (тыс. $)",null,{"$f":"IF(IF((IF(B17=0,IF(Inputs!F116=0,0,$B$9-C12),B17-C12))>=$B$9,0,((IF(B17=0,IF(Inputs!F116=0,0,$B$9-C12),B17-C12))))>($B$9-C12*C1),0,IF((IF(B17=0,IF(Inputs!F116=0,0,$B$9-C12),B17-C12))>=$B$9,0,((IF(B17=0,IF(Inputs!F116=0,0,$B$9-C12),B17-C12)))))","v":0},{"$f":"IF(IF((IF(C17=0,IF(Inputs!G116=0,0,$B$9-D12),C17-D12))>=$B$9,0,((IF(C17=0,IF(Inputs!G116=0,0,$B$9-D12),C17-D12))))>($B$9-D12*D1),0,IF((IF(C17=0,IF(Inputs!G116=0,0,$B$9-D12),C17-D12))>=$B$9,0,((IF(C17=0,IF(Inputs!G116=0,0,$B$9-D12),C17-D12)))))","v":0},{"$f":"IF(IF((IF(D17=0,IF(Inputs!H116=0,0,$B$9-E12),D17-E12))>=$B$9,0,((IF(D17=0,IF(Inputs!H116=0,0,$B$9-E12),D17-E12))))>($B$9-E12*E1),0,IF((IF(D17=0,IF(Inputs!H116=0,0,$B$9-E12),D17-E12))>=$B$9,0,((IF(D17=0,IF(Inputs!H116=0,0,$B$9-E12),D17-E12)))))","v":0},{"$f":"IF(IF((IF(E17=0,IF(Inputs!I116=0,0,$B$9-F12),E17-F12))>=$B$9,0,((IF(E17=0,IF(Inputs!I116=0,0,$B$9-F12),E17-F12))))>($B$9-F12*F1),0,IF((IF(E17=0,IF(Inputs!I116=0,0,$B$9-F12),E17-F12))>=$B$9,0,((IF(E17=0,IF(Inputs!I116=0,0,$B$9-F12),E17-F12)))))","v":0},{"$f":"IF(IF((IF(F17=0,IF(Inputs!J116=0,0,$B$9-G12),F17-G12))>=$B$9,0,((IF(F17=0,IF(Inputs!J116=0,0,$B$9-G12),F17-G12))))>($B$9-G12*G1),0,IF((IF(F17=0,IF(Inputs!J116=0,0,$B$9-G12),F17-G12))>=$B$9,0,((IF(F17=0,IF(Inputs!J116=0,0,$B$9-G12),F17-G12)))))","v":0},{"$f":"IF(IF((IF(G17=0,IF(Inputs!K116=0,0,$B$9-H12),G17-H12))>=$B$9,0,((IF(G17=0,IF(Inputs!K116=0,0,$B$9-H12),G17-H12))))>($B$9-H12*H1),0,IF((IF(G17=0,IF(Inputs!K116=0,0,$B$9-H12),G17-H12))>=$B$9,0,((IF(G17=0,IF(Inputs!K116=0,0,$B$9-H12),G17-H12)))))","v":20346.666666666668},{"$f":"IF(IF((IF(H17=0,IF(Inputs!L116=0,0,$B$9-I12),H17-I12))>=$B$9,0,((IF(H17=0,IF(Inputs!L116=0,0,$B$9-I12),H17-I12))))>($B$9-I12*I1),0,IF((IF(H17=0,IF(Inputs!L116=0,0,$B$9-I12),H17-I12))>=$B$9,0,((IF(H17=0,IF(Inputs!L116=0,0,$B$9-I12),H17-I12)))))","v":18893.333333333336},{"$f":"IF(IF((IF(I17=0,IF(Inputs!M116=0,0,$B$9-J12),I17-J12))>=$B$9,0,((IF(I17=0,IF(Inputs!M116=0,0,$B$9-J12),I17-J12))))>($B$9-J12*J1),0,IF((IF(I17=0,IF(Inputs!M116=0,0,$B$9-J12),I17-J12))>=$B$9,0,((IF(I17=0,IF(Inputs!M116=0,0,$B$9-J12),I17-J12)))))","v":17440.000000000004},{"$f":"IF(IF((IF(J17=0,IF(Inputs!N116=0,0,$B$9-K12),J17-K12))>=$B$9,0,((IF(J17=0,IF(Inputs!N116=0,0,$B$9-K12),J17-K12))))>($B$9-K12*K1),0,IF((IF(J17=0,IF(Inputs!N116=0,0,$B$9-K12),J17-K12))>=$B$9,0,((IF(J17=0,IF(Inputs!N116=0,0,$B$9-K12),J17-K12)))))","v":15986.66666666667},{"$f":"IF(IF((IF(K17=0,IF(Inputs!O116=0,0,$B$9-L12),K17-L12))>=$B$9,0,((IF(K17=0,IF(Inputs!O116=0,0,$B$9-L12),K17-L12))))>($B$9-L12*L1),0,IF((IF(K17=0,IF(Inputs!O116=0,0,$B$9-L12),K17-L12))>=$B$9,0,((IF(K17=0,IF(Inputs!O116=0,0,$B$9-L12),K17-L12)))))","v":14533.333333333336},{"$f":"IF(IF((IF(L17=0,IF(Inputs!P116=0,0,$B$9-M12),L17-M12))>=$B$9,0,((IF(L17=0,IF(Inputs!P116=0,0,$B$9-M12),L17-M12))))>($B$9-M12*M1),0,IF((IF(L17=0,IF(Inputs!P116=0,0,$B$9-M12),L17-M12))>=$B$9,0,((IF(L17=0,IF(Inputs!P116=0,0,$B$9-M12),L17-M12)))))","v":13080.000000000002},{"$f":"IF(IF((IF(M17=0,IF(Inputs!Q116=0,0,$B$9-N12),M17-N12))>=$B$9,0,((IF(M17=0,IF(Inputs!Q116=0,0,$B$9-N12),M17-N12))))>($B$9-N12*N1),0,IF((IF(M17=0,IF(Inputs!Q116=0,0,$B$9-N12),M17-N12))>=$B$9,0,((IF(M17=0,IF(Inputs!Q116=0,0,$B$9-N12),M17-N12)))))","v":11626.666666666668},{"$f":"IF(IF((IF(N17=0,IF(Inputs!R116=0,0,$B$9-O12),N17-O12))>=$B$9,0,((IF(N17=0,IF(Inputs!R116=0,0,$B$9-O12),N17-O12))))>($B$9-O12*O1),0,IF((IF(N17=0,IF(Inputs!R116=0,0,$B$9-O12),N17-O12))>=$B$9,0,((IF(N17=0,IF(Inputs!R116=0,0,$B$9-O12),N17-O12)))))","v":10173.333333333334},{"$f":"IF(IF((IF(O17=0,IF(Inputs!S116=0,0,$B$9-P12),O17-P12))>=$B$9,0,((IF(O17=0,IF(Inputs!S116=0,0,$B$9-P12),O17-P12))))>($B$9-P12*P1),0,IF((IF(O17=0,IF(Inputs!S116=0,0,$B$9-P12),O17-P12))>=$B$9,0,((IF(O17=0,IF(Inputs!S116=0,0,$B$9-P12),O17-P12)))))","v":8720},{"$f":"IF(IF((IF(P17=0,IF(Inputs!T116=0,0,$B$9-Q12),P17-Q12))>=$B$9,0,((IF(P17=0,IF(Inputs!T116=0,0,$B$9-Q12),P17-Q12))))>($B$9-Q12*Q1),0,IF((IF(P17=0,IF(Inputs!T116=0,0,$B$9-Q12),P17-Q12))>=$B$9,0,((IF(P17=0,IF(Inputs!T116=0,0,$B$9-Q12),P17-Q12)))))","v":7266.666666666667},{"$f":"IF(IF((IF(Q17=0,IF(Inputs!U116=0,0,$B$9-R12),Q17-R12))>=$B$9,0,((IF(Q17=0,IF(Inputs!U116=0,0,$B$9-R12),Q17-R12))))>($B$9-R12*R1),0,IF((IF(Q17=0,IF(Inputs!U116=0,0,$B$9-R12),Q17-R12))>=$B$9,0,((IF(Q17=0,IF(Inputs!U116=0,0,$B$9-R12),Q17-R12)))))","v":5813.3333333333339},{"$f":"IF(IF((IF(R17=0,IF(Inputs!V116=0,0,$B$9-S12),R17-S12))>=$B$9,0,((IF(R17=0,IF(Inputs!V116=0,0,$B$9-S12),R17-S12))))>($B$9-S12*S1),0,IF((IF(R17=0,IF(Inputs!V116=0,0,$B$9-S12),R17-S12))>=$B$9,0,((IF(R17=0,IF(Inputs!V116=0,0,$B$9-S12),R17-S12)))))","v":4360.0000000000009},{"$f":"IF(IF((IF(S17=0,IF(Inputs!W116=0,0,$B$9-T12),S17-T12))>=$B$9,0,((IF(S17=0,IF(Inputs!W116=0,0,$B$9-T12),S17-T12))))>($B$9-T12*T1),0,IF((IF(S17=0,IF(Inputs!W116=0,0,$B$9-T12),S17-T12))>=$B$9,0,((IF(S17=0,IF(Inputs!W116=0,0,$B$9-T12),S17-T12)))))","v":2906.6666666666679},{"$f":"IF(IF((IF(T17=0,IF(Inputs!X116=0,0,$B$9-U12),T17-U12))>=$B$9,0,((IF(T17=0,IF(Inputs!X116=0,0,$B$9-U12),T17-U12))))>($B$9-U12*U1),0,IF((IF(T17=0,IF(Inputs!X116=0,0,$B$9-U12),T17-U12))>=$B$9,0,((IF(T17=0,IF(Inputs!X116=0,0,$B$9-U12),T17-U12)))))","v":1453.3333333333346},{"$f":"IF(IF((IF(U17=0,IF(Inputs!Y116=0,0,$B$9-V12),U17-V12))>=$B$9,0,((IF(U17=0,IF(Inputs!Y116=0,0,$B$9-V12),U17-V12))))>($B$9-V12*V1),0,IF((IF(U17=0,IF(Inputs!Y116=0,0,$B$9-V12),U17-V12))>=$B$9,0,((IF(U17=0,IF(Inputs!Y116=0,0,$B$9-V12),U17-V12)))))","v":0},{"$f":"IF(IF((IF(V17=0,IF(Inputs!Z116=0,0,$B$9-W12),V17-W12))>=$B$9,0,((IF(V17=0,IF(Inputs!Z116=0,0,$B$9-W12),V17-W12))))>($B$9-W12*W1),0,IF((IF(V17=0,IF(Inputs!Z116=0,0,$B$9-W12),V17-W12))>=$B$9,0,((IF(V17=0,IF(Inputs!Z116=0,0,$B$9-W12),V17-W12)))))","v":0},{"$f":"IF(IF((IF(W17=0,IF(Inputs!AA116=0,0,$B$9-X12),W17-X12))>=$B$9,0,((IF(W17=0,IF(Inputs!AA116=0,0,$B$9-X12),W17-X12))))>($B$9-X12*X1),0,IF((IF(W17=0,IF(Inputs!AA116=0,0,$B$9-X12),W17-X12))>=$B$9,0,((IF(W17=0,IF(Inputs!AA116=0,0,$B$9-X12),W17-X12)))))","v":0},{"$f":"IF(IF((IF(X17=0,IF(Inputs!AB116=0,0,$B$9-Y12),X17-Y12))>=$B$9,0,((IF(X17=0,IF(Inputs!AB116=0,0,$B$9-Y12),X17-Y12))))>($B$9-Y12*Y1),0,IF((IF(X17=0,IF(Inputs!AB116=0,0,$B$9-Y12),X17-Y12))>=$B$9,0,((IF(X17=0,IF(Inputs!AB116=0,0,$B$9-Y12),X17-Y12)))))","v":0},{"$f":"IF(IF((IF(Y17=0,IF(Inputs!AC116=0,0,$B$9-Z12),Y17-Z12))>=$B$9,0,((IF(Y17=0,IF(Inputs!AC116=0,0,$B$9-Z12),Y17-Z12))))>($B$9-Z12*Z1),0,IF((IF(Y17=0,IF(Inputs!AC116=0,0,$B$9-Z12),Y17-Z12))>=$B$9,0,((IF(Y17=0,IF(Inputs!AC116=0,0,$B$9-Z12),Y17-Z12)))))","v":0},{"$f":"IF(IF((IF(Z17=0,IF(Inputs!AD116=0,0,$B$9-AA12),Z17-AA12))>=$B$9,0,((IF(Z17=0,IF(Inputs!AD116=0,0,$B$9-AA12),Z17-AA12))))>($B$9-AA12*AA1),0,IF((IF(Z17=0,IF(Inputs!AD116=0,0,$B$9-AA12),Z17-AA12))>=$B$9,0,((IF(Z17=0,IF(Inputs!AD116=0,0,$B$9-AA12),Z17-AA12)))))","v":0},{"$f":"IF(IF((IF(AA17=0,IF(Inputs!AE116=0,0,$B$9-AB12),AA17-AB12))>=$B$9,0,((IF(AA17=0,IF(Inputs!AE116=0,0,$B$9-AB12),AA17-AB12))))>($B$9-AB12*AB1),0,IF((IF(AA17=0,IF(Inputs!AE116=0,0,$B$9-AB12),AA17-AB12))>=$B$9,0,((IF(AA17=0,IF(Inputs!AE116=0,0,$B$9-AB12),AA17-AB12)))))","v":0}]
[]
["год"]
["январь ",null,{"$f":"($B$7+$B$8)-(H$10/12+H$11/12)","v":1200965.3333333333},{"$f":"C31-(I$10/12+I$11/12)","v":1154949.3333333323},{"$f":"D31-($J$10/12+$J$11/12)","v":1108933.3333333314},{"$f":"E31-($K$10/12+$K$11/12)","v":1062917.3333333305},{"$f":"F31-(L$10/12+L$11/12)","v":1016901.3333333306},{"$f":"G31-(M$10/12+M$11/12)","v":970885.33333333104},924869.33333333151,878853.33333333198,832837.33333333244,786821.33333333291,740805.33333333337,694789.33333333384,648773.3333333343,602757.33333333477,556741.33333333523,510725.33333333547,464709.33333333523,418693.333333335,{"$f":"T31-(Z$10/12+Z$11/12)","v":372677.33333333477},{"$f":"U31-(AA$10/12+AA$11/12)","v":326661.33333333454},{"$f":"V31-(AB$10/12+AB$11/12)","v":280645.3333333343},{"$f":"W31-(#REF!/12+#REF!/12)","v":{"$error":"#REF!"}},{"$f":"X31-(#REF!/12+#REF!/12)","v":{"$error":"#REF!"}},{"$f":"Y31-(#REF!/12+#REF!/12)","v":{"$error":"#REF!"}},{"$f":"Z31-(#REF!/12+#REF!/12)","v":{"$error":"#REF!"}},{"$f":"AA31-(#REF!/12+#REF!/12)","v":{"$error":"#REF!"}}]
["февраль",null,{"$f":"C20-(H$10/12+H$11/12)","v":1197130.6666666665},{"$f":"D20-(I$10/12+I$11/12)","v":1151114.6666666656},{"$f":"E20-(J$10/12+J$11/12)","v":1105098.6666666646},1059082.6666666637,1013066.666666664,967050.66666666442,921034.66666666488,875018.66666666535,829002.66666666581,782986.66666666628,736970.66666666674,690954.66666666721,644938.66666666768,598922.66666666814,552906.66666666861,506890.66666666878,460874.66666666855,414858.66666666832,{"$f":"U20-(Z$10/12+Z$11/12)","v":368842.66666666808},{"$f":"V20-(AA$10/12+AA$11/12)","v":322826.66666666785},{"$f":"W20-(AB$10/12+AB$11/12)","v":276810.66666666762},{"$f":"X20-(#REF!/12+#REF!/12)","v":{"$error":"#REF!"}},{"$f":"Y20-(#REF!/12+#REF!/12)","v":{"$error":"#REF!"}},{"$f":"Z20-(#REF!/12+#REF!/12)","v":{"$error":"#REF!"}},{"$f":"AA20-(#REF!/12+#REF!/12)","v":{"$error":"#REF!"}},{"$f":"AB20-(#REF!/12+#REF!/12)","v":{"$error":"#REF!"}}]
["март",null,{"$f":"C21-(H$10/12+H$11/12)","v":1193295.9999999998},{"$f":"D21-(I$10/12+I$11/12)","v":1147279.9999999988},1101263.9999999979,1055247.999999997,1009231.9999999973,963215.99999999779,917199.99999999825,871183.99999999872,825167.99999999919,779151.99999999965,733136.00000000012,687120.00000000058,641104.00000000105,595088.00000000151,{"$f":"Q21-(V$10/12+V$11/12)","v":549072.00000000198},503056.0000000021,457040.00000000186,411024.00000000163,365008.0000000014,318992.00000000116,272976.00000000093,{"$f":"X21-(#REF!/12+#REF!/12)","v":{"$error":"#REF!"}},{"$f":"Y21-(#REF!/12+#REF!/12)","v":{"$error":"#REF!"}},{"$f":"Z21-(#REF!/12+#REF!/12)","v":{"$error":"#REF!"}},{"$f":"AA21-(#REF!/12+#REF!/12)","v":{"$error":"#REF!"}},{"$f":"AB21-(#REF!/12+#REF!/12)","v":{"$error":"#REF!"}}]
["апрель",null,1189461.333333333,1143445.3333333321,1097429.3333333312,1051413.3333333302,1005397.3333333307,959381.33333333116,913365.33333333163,867349.33333333209,821333.33333333256,775317.33333333302,729301.33333333349,683285.33333333395,637269.33333333442,591253.33333333489,545237.33333333535,499221.33333333541,453205.33333333518,{"$f":"T22-(Y$10/12+Y$11/12)","v":407189.33333333494},361173.33333333471,315157.33333333448,269141.33333333425,{"$f":"X22-(#REF!/12+#REF!/12)","v":{"$error":"#REF!"}},{"$f":"Y22-(#REF!/12+#REF!/12)","v":{"$error":"#REF!"}},{"$f":"Z22-(#REF!/12+#REF!/12)","v":{"$error":"#REF!"}},{"$f":"AA22-(#REF!/12+#REF!/12)","v":{"$error":"#REF!"}},{"$f":"AB22-(#REF!/12+#REF!/12)","v":{"$error":"#REF!"}}]
["май",null,1185626.6666666663,1139610.6666666653,1093594.6666666644,1047578.6666666636,1001562.6666666641,955546.66666666453,909530.666666665,863514.66666666546,817498.66666666593,771482.6666666664,725466.66666666686,679450.66666666733,633434.66666666779,587418.66666666826,541402.66666666872,495386.66666666872,449370.66666666849,403354.66666666826,357338.66666666802,311322.66666666779,265306.66666666756,{"$f":"X23-(#REF!/12+#REF!/12)","v":{"$error":"#REF!"}},{"$f":"Y23-(#REF!/12+#REF!/12)","v":{"$error":"#REF!"}},{"$f":"Z23-(#REF!/12+#REF!/12)","v":{"$error":"#REF!"}},{"$f":"AA23-(#REF!/12+#REF!/12)","v":{"$error":"#REF!"}},{"$f":"AB23-(#REF!/12+#REF!/12)","v":{"$error":"#REF!"}}]
["июнь",null,1181791.9999999995,1135775.9999999986,1089759.9999999977,1043743.999999997,997727.99999999744,951711.9999999979,905695.99999999837,859679.99999999884,813663.9999999993,767647.99999999977,721632.00000000023,675616.0000000007,629600.00000000116,583584.00000000163,537568.0000000021,491552.00000000204,445536.0000000018,399520.00000000157,353504.00000000134,307488.00000000111,261472.0000000009,{"$f":"X24-(#REF!/12+#REF!/12)","v":{"$error":"#REF!"}},{"$f":"Y24-(#REF!/12+#REF!/12)","v":{"$error":"#REF!"}},{"$f":"Z24-(#REF!/12+#REF!/12)","v":{"$error":"#REF!"}},{"$f":"AA24-(#REF!/12+#REF!/12)","v":{"$error":"#REF!"}},{"$f":"AB24-(#REF!/12+#REF!/12)","v":{"$error":"#REF!"}}]
["июль",null,1177957.3333333328,1131941.3333333319,1085925.3333333309,1039909.3333333303,993893.33333333081,947877.33333333128,901861.33333333174,855845.33333333221,809829.33333333267,763813.33333333314,717797.3333333336,671781.33333333407,625765.33333333454,579749.333333335,533733.33333333547,487717.33333333535,441701.33333333512,395685.33333333489,349669.33333333465,303653.33333333442,257637.33333333425,{"$f":"X25-(#REF!/12+#REF!/12)","v":{"$error":"#REF!"}},{"$f":"Y25-(#REF!/12+#REF!/12)","v":{"$error":"#REF!"}},{"$f":"Z25-(#REF!/12+#REF!/12)","v":{"$error":"#REF!"}},{"$f":"AA25-(#REF!/12+#REF!/12)","v":{"$error":"#REF!"}},{"$f":"AB25-(#REF!/12+#REF!/12)","v":{"$error":"#REF!"}}]
["август",null,1174122.666666666,1128106.6666666651,1082090.6666666642,1036074.6666666637,990058.66666666418,944042.66666666465,898026.66666666511,852010.66666666558,805994.66666666605,759978.66666666651,713962.66666666698,667946.66666666744,621930.66666666791,575914.66666666837,529898.66666666884,483882.66666666867,437866.66666666843,391850.6666666682,345834.66666666797,299818.66666666773,253802.66666666759,{"$f":"X26-(#REF!/12+#REF!/12)","v":{"$error":"#REF!"}},{"$f":"Y26-(#REF!/12+#REF!/12)","v":{"$error":"#REF!"}},{"$f":"Z26-(#REF!/12+#REF!/12)","v":{"$error":"#REF!"}},{"$f":"AA26-(#REF!/12+#REF!/12)","v":{"$error":"#REF!"}},{"$f":"AB26-(#REF!/12+#REF!/12)","v":{"$error":"#REF!"}}]
["сентябрь",null,1170287.9999999993,1124271.9999999984,1078255.9999999974,1032239.9999999971,986223.99999999756,940207.99999999802,894191.99999999849,848175.99999999895,802159.99999999942,756143.99999999988,710128.00000000035,664112.00000000081,618096.00000000128,572080.00000000175,526064.00000000221,480048.00000000198,434032.00000000175,388016.00000000151,342000.00000000128,295984.00000000105,249968.00000000093,{"$f":"X27-(#REF!/12+#REF!/12)","v":{"$error":"#REF!"}},{"$f":"Y27-(#REF!/12+#REF!/12)","v":{"$error":"#REF!"}},{"$f":"Z27-(#REF!/12+#REF!/12)","v":{"$error":"#REF!"}},{"$f":"AA27-(#REF!/12+#REF!/12)","v":{"$error":"#REF!"}},{"$f":"AB27-(#REF!/12+#REF!/12)","v":{"$error":"#REF!"}}]
["октябрь",null,1166453.3333333326,1120437.3333333316,1074421.3333333307,1028405.3333333305,982389.33333333093,936373.33333333139,890357.33333333186,844341.33333333232,798325.33333333279,752309.33333333326,706293.33333333372,660277.33333333419,614261.33333333465,568245.33333333512,522229.33333333553,476213.33333333529,430197.33333333506,384181.33333333483,338165.33333333459,292149.33333333436,246133.33333333427,{"$f":"X28-(#REF!/12+#REF!/12)","v":{"$error":"#REF!"}},{"$f":"Y28-(#REF!/12+#REF!/12)","v":{"$error":"#REF!"}},{"$f":"Z28-(#REF!/12+#REF!/12)","v":{"$error":"#REF!"}},{"$f":"AA28-(#REF!/12+#REF!/12)","v":{"$error":"#REF!"}},{"$f":"AB28-(#REF!/12+#REF!/12)","v":{"$error":"#REF!"}}]
["ноябрь",null,1162618.6666666658,1116602.6666666649,1070586.666666664,1024570.6666666638,978554.6666666643,932538.66666666477,886522.66666666523,840506.6666666657,794490.66666666616,748474.66666666663,702458.66666666709,656442.66666666756,610426.66666666802,564410.66666666849,518394.66666666884,472378.66666666861,426362.66666666837,380346.66666666814,334330.66666666791,288314.66666666768,242298.66666666762,{"$f":"X29-(#REF!/12+#REF!/12)","v":{"$error":"#REF!"}},{"$f":"Y29-(#REF!/12+#REF!/12)","v":{"$error":"#REF!"}},{"$f":"Z29-(#REF!/12+#REF!/12)","v":{"$error":"#REF!"}},{"$f":"AA29-(#REF!/12+#REF!/12)","v":{"$error":"#REF!"}},{"$f":"AB29-(#REF!/12+#REF!/12)","v":{"$error":"#REF!"}}]
["декабрь",null,1158783.9999999991,1112767.9999999981,1066751.9999999972,1020735.9999999972,974719.99999999767,928703.99999999814,882687.9999999986,836671.99999999907,790655.99999999953,744640,698624.00000000047,652608.00000000093,606592.0000000014,560576.00000000186,{"$f":"Q30-(V$10/12+V$11/12)","v":514560.00000000215},468544.00000000192,422528.00000000169,376512.00000000146,330496.00000000122,284480.00000000099,238464.00000000096,{"$f":"X30-(#REF!/12+#REF!/12)","v":{"$error":"#REF!"}},{"$f":"Y30-(#REF!/12+#REF!/12)","v":{"$error":"#REF!"}},{"$f":"Z30-(#REF!/12+#REF!/12)","v":{"$error":"#REF!"}},{"$f":"AA30-(#REF!/12+#REF!/12)","v":{"$error":"#REF!"}},{"$f":"AB30-(#REF!/12+#REF!/12)","v":{"$error":"#REF!"}}]
["год"]
["январь ",null,null,null,null,null,null,{"$f":"($B$7+$B$8)-(H$10/12+H$11/12)","v":1200965.3333333333},{"$f":"H44-(I10/12+I11/12)","v":1154949.3333333323},{"$f":"I44-(J10/12+J11/12)","v":1108933.3333333314},1062917.3333333305,1016901.3333333306,970885.33333333104,924869.33333333151,878853.33333333198,832837.33333333244,786821.33333333291,740805.33333333337,694789.33333333384,648773.3333333343,602757.33333333477,556741.33333333523,510725.33333333547,464709.33333333523,418693.333333335,372677.33333333477,326661.33333333454,280645.3333333343]
["февраль",null,null,null,null,null,null,{"$f":"H33-(H$10/12+H$11/12)","v":1197130.6666666665},{"$f":"I33-(I$10/12+I$11/12)","v":1151114.6666666656},{"$f":"J33-(J$10/12+J$11/12)","v":1105098.6666666646},1059082.6666666637,1013066.666666664,967050.66666666442,921034.66666666488,875018.66666666535,829002.66666666581,782986.66666666628,736970.66666666674,690954.66666666721,644938.66666666768,598922.66666666814,552906.66666666861,506890.66666666878,460874.66666666855,414858.66666666832,368842.66666666808,322826.66666666785,276810.66666666762]
["март",null,null,null,null,null,null,{"$f":"H34-(H$10/12+H$11/12)","v":1193295.9999999998},{"$f":"I34-(I$10/12+I$11/12)","v":1147279.9999999988},1101263.9999999979,1055247.999999997,1009231.9999999973,963215.99999999779,917199.99999999825,871183.99999999872,825167.99999999919,779151.99999999965,733136.00000000012,687120.00000000058,641104.00000000105,595088.00000000151,549072.00000000198,503056.0000000021,457040.00000000186,411024.00000000163,365008.0000000014,318992.00000000116,272976.00000000093]
["апрель",null,null,null,null,null,null,1189461.333333333,1143445.3333333321,1097429.3333333312,1051413.3333333302,1005397.3333333307,959381.33333333116,913365.33333333163,867349.33333333209,821333.33333333256,775317.33333333302,729301.33333333349,683285.33333333395,637269.33333333442,591253.33333333489,545237.33333333535,499221.33333333541,453205.33333333518,407189.33333333494,361173.33333333471,315157.33333333448,269141.33333333425]
["май",null,null,null,null,null,null,1185626.6666666663,1139610.6666666653,1093594.6666666644,1047578.6666666636,1001562.6666666641,955546.66666666453,909530.666666665,863514.66666666546,817498.66666666593,771482.6666666664,725466.66666666686,679450.66666666733,633434.66666666779,587418.66666666826,541402.66666666872,495386.66666666872,449370.66666666849,403354.66666666826,357338.66666666802,311322.66666666779,265306.66666666756]
["июнь",null,null,null,null,null,null,1181791.9999999995,1135775.9999999986,1089759.9999999977,1043743.999999997,997727.99999999744,951711.9999999979,905695.99999999837,859679.99999999884,813663.9999999993,767647.99999999977,721632.00000000023,675616.0000000007,629600.00000000116,583584.00000000163,537568.0000000021,491552.00000000204,445536.0000000018,399520.00000000157,353504.00000000134,307488.00000000111,261472.0000000009]
["июль",null,null,null,null,null,null,1177957.3333333328,1131941.3333333319,1085925.3333333309,1039909.3333333303,993893.33333333081,947877.33333333128,901861.33333333174,855845.33333333221,809829.33333333267,763813.33333333314,717797.3333333336,671781.33333333407,625765.33333333454,579749.333333335,533733.33333333547,487717.33333333535,441701.33333333512,395685.33333333489,349669.33333333465,303653.33333333442,257637.33333333425]
["август",null,null,null,null,null,null,1174122.666666666,1128106.6666666651,1082090.6666666642,1036074.6666666637,990058.66666666418,944042.66666666465,898026.66666666511,852010.66666666558,805994.66666666605,759978.66666666651,713962.66666666698,667946.66666666744,621930.66666666791,575914.66666666837,529898.66666666884,483882.66666666867,437866.66666666843,391850.6666666682,345834.66666666797,299818.66666666773,253802.66666666759]
["сентябрь",null,null,null,null,null,null,1170287.9999999993,1124271.9999999984,1078255.9999999974,1032239.9999999971,986223.99999999756,940207.99999999802,894191.99999999849,848175.99999999895,802159.99999999942,756143.99999999988,710128.00000000035,664112.00000000081,618096.00000000128,572080.00000000175,526064.00000000221,480048.00000000198,434032.00000000175,388016.00000000151,342000.00000000128,295984.00000000105,249968.00000000093]
["октябрь",null,null,null,null,null,null,1166453.3333333326,1120437.3333333316,1074421.3333333307,1028405.3333333305,982389.33333333093,936373.33333333139,890357.33333333186,844341.33333333232,798325.33333333279,752309.33333333326,706293.33333333372,660277.33333333419,614261.33333333465,568245.33333333512,522229.33333333553,476213.33333333529,430197.33333333506,384181.33333333483,338165.33333333459,292149.33333333436,246133.33333333427]
["ноябрь",null,null,null,null,null,null,1162618.6666666658,1116602.6666666649,1070586.666666664,1024570.6666666638,978554.6666666643,932538.66666666477,886522.66666666523,840506.6666666657,794490.66666666616,748474.66666666663,702458.66666666709,656442.66666666756,610426.66666666802,564410.66666666849,518394.66666666884,472378.66666666861,426362.66666666837,380346.66666666814,334330.66666666791,288314.66666666768,242298.66666666762]
["декабрь",null,null,null,null,null,null,1158783.9999999991,{"$f":"I43-(I$10/12+I$11/12)","v":1112767.9999999981},1066751.9999999972,1020735.9999999972,974719.99999999767,928703.99999999814,882687.9999999986,836671.99999999907,790655.99999999953,744640,698624.00000000047,652608.00000000093,606592.0000000014,560576.00000000186,514560.00000000215,468544.00000000192,422528.00000000169,376512.00000000146,330496.00000000122,284480.00000000099,238464.00000000096]
[]
[]
["Среднее значение остаточной стоимости за год",null,{"$f":"IFERROR(AVERAGE(C33:C45),0)","v":0},{"$f":"IFERROR(AVERAGE(D33:D45),0)","v":0},{"$f":"IFERROR(AVERAGE(E33:E45),0)","v":0},{"$f":"IFERROR(AVERAGE(F33:F45),0)","v":0},{"$f":"IFERROR(AVERAGE(G33:G45),0)","v":0},{"$f":"IF(IFERROR(AVERAGE(H33:H45),0)<0,0,IFERROR(AVERAGE(H33:H45),0))","v":1179874.666666666},{"$f":"IF(IFERROR(AVERAGE(I33:I45),0)<0,0,IFERROR(AVERAGE(I33:I45),0))","v":1133858.6666666651},1087842.6666666642,1041826.6666666636,995810.66666666407,949794.66666666465,903778.666666665,857762.6666666657,811746.66666666605,765730.66666666651,719714.66666666698,673698.66666666744,627682.66666666791,581666.66666666837,535650.66666666872,489634.66666666867,443618.66666666855,397602.6666666682,351586.66666666797,305570.66666666773,259554.66666666759]

{"sheet":"Рассчет себестоимости","index":14,"n_rows":50,"n_cols":29,"rows_kept":50,"cut":false,"hidden":false,"merged":[[1,0,1,2]]}
[]
[{"$f":"Inputs!C103","v":"Объемы производимой продукции для анализа чувствительности"}]
[{"$f":"Inputs!C104","v":"Аммиак (переработка)"},{"$f":"Inputs!D104","v":"тонн"},null,{"$f":"Inputs!F104","v":0},{"$f":"Inputs!G104","v":0},{"$f":"Inputs!H104","v":0},{"$f":"Inputs!I104","v":0},{"$f":"Inputs!J104","v":0},{"$f":"Inputs!K104","v":843125},{"$f":"Inputs!L104","v":843125},{"$f":"Inputs!M104","v":843125},{"$f":"Inputs!N104","v":843125},{"$f":"Inputs!O104","v":843125},{"$f":"Inputs!P104","v":843125},{"$f":"Inputs!Q104","v":843125},{"$f":"Inputs!R104","v":843125},{"$f":"Inputs!S104","v":843125},{"$f":"Inputs!T104","v":843125},{"$f":"Inputs!U104","v":843125},{"$f":"Inputs!V104","v":843125},{"$f":"Inputs!W104","v":843125},{"$f":"Inputs!X104","v":843125},{"$f":"Inputs!Y104","v":843125},{"$f":"Inputs!Z104","v":843125},{"$f":"Inputs!AA104","v":843125},{"$f":"Inputs!AB104","v":843125},{"$f":"Inputs!AC104","v":843125},{"$f":"Inputs!AD104","v":843125},{"$f":"Inputs!AE104","v":843125}]
[{"$f":"Inputs!C105","v":"Азотная кислота (переработка)"},{"$f":"Inputs!D105","v":"тонн"},null,{"$f":"Inputs!F105","v":0},{"$f":"Inputs!G105","v":0},{"$f":"Inputs!H105","v":0},{"$f":"Inputs!I105","v":0},{"$f":"Inputs!J105","v":0},{"$f":"Inputs!K105","v":0},{"$f":"Inputs!L105","v":0},{"$f":"Inputs!M105","v":0},{"$f":"Inputs!N105","v":0},{"$f":"Inputs!O105","v":0},{"$f":"Inputs!P105","v":0},{"$f":"Inputs!Q105","v":0},{"$f":"Inputs!R105","v":0},{"$f":"Inputs!S105","v":0},{"$f":"Inputs!T105","v":0},{"$f":"Inputs!U105","v":0},{"$f":"Inputs!V105","v":0},{"$f":"Inputs!W105","v":0},{"$f":"Inputs!X105","v":0},{"$f":"Inputs!Y105","v":0},{"$f":"Inputs!Z105","v":0},{"$f":"Inputs!AA105","v":0},{"$f":"Inputs!AB105","v":0},{"$f":"Inputs!AC105","v":0},{"$f":"Inputs!AD105","v":0},{"$f":"Inputs!AE105","v":0}]
[{"$f":"Inputs!C106","v":"Аммиачная селитра (переработка)"},{"$f":"Inputs!D106","v":"тонн"},null,{"$f":"Inputs!F106","v":0},{"$f":"Inputs!G106","v":0},{"$f":"Inputs!H106","v":0},{"$f":"Inputs!I106","v":0},{"$f":"Inputs!J106","v":0},{"$f":"Inputs!K106","v":0},{"$f":"Inputs!L106","v":0},{"$f":"Inputs!M106","v":0},{"$f":"Inputs!N106","v":0},{"$f":"Inputs!O106","v":0},{"$f":"Inputs!P106","v":0},{"$f":"Inputs!Q106","v":0},{"$f":"Inputs!R106","v":0},{"$f":"Inputs!S106","v":0},{"$f":"Inputs!T106","v":0},{"$f":"Inputs!U106","v":0},{"$f":"Inputs!V106","v":0},{"$f":"Inputs!W106","v":0},{"$f":"Inputs!X106","v":0},{"$f":"Inputs!Y106","v":0},{"$f":"Inputs!Z106","v":0},{"$f":"Inputs!AA106","v":0},{"$f":"Inputs!AB106","v":0},{"$f":"Inputs!AC106","v":0},{"$f":"Inputs!AD106","v":0},{"$f":"Inputs!AE106","v":0}]
[{"$f":"Inputs!C107","v":"Карбамид (переработка)"},{"$f":"Inputs!D107","v":"тонн"},null,{"$f":"Inputs!F107","v":0},{"$f":"Inputs!G107","v":0},{"$f":"Inputs!H107","v":0},{"$f":"Inputs!I107","v":0},{"$f":"Inputs!J107","v":0},{"$f":"Inputs!K107","v":1180375},{"$f":"Inputs!L107","v":1180375},{"$f":"Inputs!M107","v":1180375},{"$f":"Inputs!N107","v":1180375},{"$f":"Inputs!O107","v":1180375},{"$f":"Inputs!P107","v":1180375},{"$f":"Inputs!Q107","v":1180375},{"$f":"Inputs!R107","v":1180375},{"$f":"Inputs!S107","v":1180375},{"$f":"Inputs!T107","v":1180375},{"$f":"Inputs!U107","v":1180375},{"$f":"Inputs!V107","v":1180375},{"$f":"Inputs!W107","v":1180375},{"$f":"Inputs!X107","v":1180375},{"$f":"Inputs!Y107","v":1180375},{"$f":"Inputs!Z107","v":1180375},{"$f":"Inputs!AA107","v":1180375},{"$f":"Inputs!AB107","v":1180375},{"$f":"Inputs!AC107","v":1180375},{"$f":"Inputs!AD107","v":1180375},{"$f":"Inputs!AE107","v":1180375}]
[{"$f":"Inputs!C108","v":"UF 85 (переработка)"},{"$f":"Inputs!D108","v":"тонн"},null,{"$f":"Inputs!F108","v":0},{"$f":"Inputs!G108","v":0},{"$f":"Inputs!H108","v":0},{"$f":"Inputs!I108","v":0},{"$f":"Inputs!J108","v":0},{"$f":"Inputs!K108","v":0},{"$f":"Inputs!L108","v":0},{"$f":"Inputs!M108","v":0},{"$f":"Inputs!N108","v":0},{"$f":"Inputs!O108","v":0},{"$f":"Inputs!P108","v":0},{"$f":"Inputs!Q108","v":0},{"$f":"Inputs!R108","v":0},{"$f":"Inputs!S108","v":0},{"$f":"Inputs!T108","v":0},{"$f":"Inputs!U108","v":0},{"$f":"Inputs!V108","v":0},{"$f":"Inputs!W108","v":0},{"$f":"Inputs!X108","v":0},{"$f":"Inputs!Y108","v":0},{"$f":"Inputs!Z108","v":0},{"$f":"Inputs!AA108","v":0},{"$f":"Inputs!AB108","v":0},{"$f":"Inputs!AC108","v":0},{"$f":"Inputs!AD108","v":0},{"$f":"Inputs!AE108","v":0}]
[{"$f":"Inputs!C109","v":"FILLER MILLING (переработка)"},{"$f":"Inputs!D109","v":"тонн"},null,{"$f":"Inputs!F109","v":0},{"$f":"Inputs!G109","v":0},{"$f":"Inputs!H109","v":0},{"$f":"Inputs!I109","v":0},{"$f":"Inputs!J109","v":0},{"$f":"Inputs!K109","v":0},{"$f":"Inputs!L109","v":0},{"$f":"Inputs!M109","v":0},{"$f":"Inputs!N109","v":0},{"$f":"Inputs!O109","v":0},{"$f":"Inputs!P109","v":0},{"$f":"Inputs!Q109","v":0},{"$f":"Inputs!R109","v":0},{"$f":"Inputs!S109","v":0},{"$f":"Inputs!T109","v":0},{"$f":"Inputs!U109","v":0},{"$f":"Inputs!V109","v":0},{"$f":"Inputs!W109","v":0},{"$f":"Inputs!X109","v":0},{"$f":"Inputs!Y109","v":0},{"$f":"Inputs!Z109","v":0},{"$f":"Inputs!AA109","v":0},{"$f":"Inputs!AB109","v":0},{"$f":"Inputs!AC109","v":0},{"$f":"Inputs!AD109","v":0},{"$f":"Inputs!AE109","v":0}]
[{"$f":"Inputs!C110","v":"Аммиак (экспорт)"},{"$f":"Inputs!D110","v":"тонн"},null,{"$f":"Inputs!F110","v":0},{"$f":"Inputs!G110","v":0},{"$f":"Inputs!H110","v":0},{"$f":"Inputs!I110","v":0},{"$f":"Inputs!J110","v":0},{"$f":"Inputs!K110","v":180091.5},{"$f":"Inputs!L110","v":180091.5},{"$f":"Inputs!M110","v":180091.5},{"$f":"Inputs!N110","v":180091.5},{"$f":"Inputs!O110","v":180091.5},{"$f":"Inputs!P110","v":180091.5},{"$f":"Inputs!Q110","v":180091.5},{"$f":"Inputs!R110","v":180091.5},{"$f":"Inputs!S110","v":180091.5},{"$f":"Inputs!T110","v":180091.5},{"$f":"Inputs!U110","v":180091.5},{"$f":"Inputs!V110","v":180091.5},{"$f":"Inputs!W110","v":180091.5},{"$f":"Inputs!X110","v":180091.5},{"$f":"Inputs!Y110","v":180091.5},{"$f":"Inputs!Z110","v":180091.5},{"$f":"Inputs!AA110","v":180091.5},{"$f":"Inputs!AB110","v":180091.5},{"$f":"Inputs!AC110","v":180091.5},{"$f":"Inputs!AD110","v":180091.5},{"$f":"Inputs!AE110","v":180091.5}]
[{"$f":"Inputs!C111","v":"Известковая аммиачная селитра (экспорт)"},{"$f":"Inputs!D111","v":"тонн"},null,{"$f":"Inputs!F111","v":0},{"$f":"Inputs!G111","v":0},{"$f":"Inputs!H111","v":0},{"$f":"Inputs!I111","v":0},{"$f":"Inputs!J111","v":0},{"$f":"Inputs!K111","v":0},{"$f":"Inputs!L111","v":0},{"$f":"Inputs!M111","v":0},{"$f":"Inputs!N111","v":0},{"$f":"Inputs!O111","v":0},{"$f":"Inputs!P111","v":0},{"$f":"Inputs!Q111","v":0},{"$f":"Inputs!R111","v":0},{"$f":"Inputs!S111","v":0},{"$f":"Inputs!T111","v":0},{"$f":"Inputs!U111","v":0},{"$f":"Inputs!V111","v":0},{"$f":"Inputs!W111","v":0},{"$f":"Inputs!X111","v":0},{"$f":"Inputs!Y111","v":0},{"$f":"Inputs!Z111","v":0},{"$f":"Inputs!AA111","v":0},{"$f":"Inputs!AB111","v":0},{"$f":"Inputs!AC111","v":0},{"$f":"Inputs!AD111","v":0},{"$f":"Inputs!AE111","v":0}]
[{"$f":"Inputs!C112","v":"Карбамид (экспорт)"},{"$f":"Inputs!D112","v":"тонн"},null,{"$f":"Inputs!F112","v":0},{"$f":"Inputs!G112","v":0},{"$f":"Inputs!H112","v":0},{"$f":"Inputs!I112","v":0},{"$f":"Inputs!J112","v":0},{"$f":"Inputs!K112","v":1180375},{"$f":"Inputs!L112","v":1180375},{"$f":"Inputs!M112","v":1180375},{"$f":"Inputs!N112","v":1180375},{"$f":"Inputs!O112","v":1180375},{"$f":"Inputs!P112","v":1180375},{"$f":"Inputs!Q112","v":1180375},{"$f":"Inputs!R112","v":1180375},{"$f":"Inputs!S112","v":1180375},{"$f":"Inputs!T112","v":1180375},{"$f":"Inputs!U112","v":1180375},{"$f":"Inputs!V112","v":1180375},{"$f":"Inputs!W112","v":1180375},{"$f":"Inputs!X112","v":1180375},{"$f":"Inputs!Y112","v":1180375},{"$f":"Inputs!Z112","v":1180375},{"$f":"Inputs!AA112","v":1180375},{"$f":"Inputs!AB112","v":1180375},{"$f":"Inputs!AC112","v":1180375},{"$f":"Inputs!AD112","v":1180375},{"$f":"Inputs!AE112","v":1180375}]
[{"$f":"Inputs!C113","v":"КАС(экспорт)"},{"$f":"Inputs!D113","v":"тонн"},null,{"$f":"Inputs!F113","v":0},{"$f":"Inputs!G113","v":0},{"$f":"Inputs!H113","v":0},{"$f":"Inputs!I113","v":0},{"$f":"Inputs!J113","v":0},{"$f":"Inputs!K113","v":0},{"$f":"Inputs!L113","v":0},{"$f":"Inputs!M113","v":0},{"$f":"Inputs!N113","v":0},{"$f":"Inputs!O113","v":0},{"$f":"Inputs!P113","v":0},{"$f":"Inputs!Q113","v":0},{"$f":"Inputs!R113","v":0},{"$f":"Inputs!S113","v":0},{"$f":"Inputs!T113","v":0},{"$f":"Inputs!U113","v":0},{"$f":"Inputs!V113","v":0},{"$f":"Inputs!W113","v":0},{"$f":"Inputs!X113","v":0},{"$f":"Inputs!Y113","v":0},{"$f":"Inputs!Z113","v":0},{"$f":"Inputs!AA113","v":0},{"$f":"Inputs!AB113","v":0},{"$f":"Inputs!AC113","v":0},{"$f":"Inputs!AD113","v":0},{"$f":"Inputs!AE113","v":0}]
[]
[]
[null,null,"Затраты по статьям расходов в год. (тыс. руб.):"]
[null,null,null,2020,2021,2022,2023,2024,2025,2026,2027,2028,2029,2030,2031,2032,2033,2034,2035,2036,2037,2038,2039,2040,2041,2042,2043,2044,2045]
[null,null,"Природный газ ",{"$f":"Inputs!F219*Inputs!F184*Inputs!F104","v":0},{"$f":"Inputs!G219*Inputs!G184*Inputs!G104","v":0},{"$f":"Inputs!H219*Inputs!H184*Inputs!H104","v":0},{"$f":"Inputs!I219*Inputs!I184*Inputs!I104","v":0},{"$f":"Inputs!J219*Inputs!J184*Inputs!J104","v":0},{"$f":"Inputs!K219*Inputs!K184*I3","v":4385451.5622860808},{"$f":"Inputs!L219*Inputs!L184*J3","v":4560869.6247775238},{"$f":"Inputs!M219*Inputs!M184*K3","v":4743304.4097686252},{"$f":"Inputs!N219*Inputs!N184*L3","v":4933036.5861593699},{"$f":"Inputs!O219*Inputs!O184*M3","v":5130358.049605744},{"$f":"Inputs!P219*Inputs!P184*N3","v":5335572.3715899736},{"$f":"Inputs!Q219*Inputs!Q184*O3","v":5548995.2664535725},{"$f":"Inputs!R219*Inputs!R184*P3","v":5770955.0771117155},{"$f":"Inputs!S219*Inputs!S184*Q3","v":6001793.2801961843},{"$f":"Inputs!T219*Inputs!T184*R3","v":6241865.011404031},{"$f":"Inputs!U219*Inputs!U184*S3","v":6491539.6118601924},{"$f":"Inputs!V219*Inputs!V184*T3","v":6751201.1963345995},{"$f":"Inputs!W219*Inputs!W184*U3","v":7021249.2441879837},{"$f":"Inputs!X219*Inputs!X184*V3","v":7302099.213955503},{"$f":"Inputs!Y219*Inputs!Y184*W3","v":7594183.1825137222},{"$f":"Inputs!Z219*Inputs!Z184*X3","v":7897950.5098142698},{"$f":"Inputs!AA219*Inputs!AA184*Y3","v":8213868.5302068414},{"$f":"Inputs!AB219*Inputs!AB184*Z3","v":8542423.2714151163},{"$f":"Inputs!AC219*Inputs!AC184*AA3","v":8884120.2022717185},{"$f":"Inputs!AD219*Inputs!AD184*AB3","v":9239485.0103625879},{"$f":"Inputs!AE219*Inputs!AE184*AC3","v":9609064.4107770901}]
[null,null,"Электроэнергия",{"$f":"Inputs!F185*Inputs!F220*Inputs!F104+Inputs!F234*Inputs!F185*Inputs!F105+Inputs!F246*Inputs!F185*Inputs!F106+Inputs!F257*Inputs!F185*Inputs!F107+Inputs!F290+Inputs!F302*Inputs!F185*Inputs!F113","v":0},{"$f":"Inputs!G185*Inputs!G220*Inputs!G104+Inputs!G234*Inputs!G185*Inputs!G105+Inputs!G246*Inputs!G185*Inputs!G106+Inputs!G257*Inputs!G185*Inputs!G107+Inputs!G290+Inputs!G302*Inputs!G185*Inputs!G113","v":0},{"$f":"Inputs!H185*Inputs!H220*Inputs!H104+Inputs!H234*Inputs!H185*Inputs!H105+Inputs!H246*Inputs!H185*Inputs!H106+Inputs!H257*Inputs!H185*Inputs!H107+Inputs!H290+Inputs!H302*Inputs!H185*Inputs!H113","v":0},{"$f":"Inputs!I185*Inputs!I220*Inputs!I104+Inputs!I234*Inputs!I185*Inputs!I105+Inputs!I246*Inputs!I185*Inputs!I106+Inputs!I257*Inputs!I185*Inputs!I107+Inputs!I290+Inputs!I302*Inputs!I185*Inputs!I113","v":0},{"$f":"Inputs!J185*Inputs!J220*Inputs!J104+Inputs!J234*Inputs!J185*Inputs!J105+Inputs!J246*Inputs!J185*Inputs!J106+Inputs!J257*Inputs!J185*Inputs!J107+Inputs!J290+Inputs!J302*Inputs!J185*Inputs!J113","v":0},{"$f":"Inputs!K290*Inputs!K185*I11+Inputs!K220*Inputs!K185*I3","v":328102.09375},{"$f":"Inputs!L290*Inputs!L185*J11+Inputs!L220*Inputs!L185*J3","v":328102.09375},{"$f":"Inputs!M290*Inputs!M185*Inputs!M112+Inputs!M220*Inputs!M185*Inputs!M104","v":328102.09375},{"$f":"Inputs!N290*Inputs!N185*Inputs!N112+Inputs!N220*Inputs!N185*Inputs!N104","v":328102.09375},{"$f":"Inputs!O290*Inputs!O185*Inputs!O112+Inputs!O220*Inputs!O185*Inputs!O104","v":328102.09375},{"$f":"Inputs!P290*Inputs!P185*Inputs!P112+Inputs!P220*Inputs!P185*Inputs!P104","v":328102.09375},{"$f":"Inputs!Q290*Inputs!Q185*Inputs!Q112+Inputs!Q220*Inputs!Q185*Inputs!Q104","v":328102.09375},{"$f":"Inputs!R290*Inputs!R185*Inputs!R112+Inputs!R220*Inputs!R185*Inputs!R104","v":328102.09375},{"$f":"Inputs!S290*Inputs!S185*Inputs!S112+Inputs!S220*Inputs!S185*Inputs!S104","v":328102.09375},{"$f":"Inputs!T290*Inputs!T185*Inputs!T112+Inputs!T220*Inputs!T185*Inputs!T104","v":328102.09375},{"$f":"Inputs!U290*Inputs!U185*Inputs!U112+Inputs!U220*Inputs!U185*Inputs!U104","v":328102.09375},{"$f":"Inputs!V290*Inputs!V185*Inputs!V112+Inputs!V220*Inputs!V185*Inputs!V104","v":328102.09375},{"$f":"Inputs!W290*Inputs!W185*Inputs!W112+Inputs!W220*Inputs!W185*Inputs!W104","v":328102.09375},{"$f":"Inputs!X290*Inputs!X185*Inputs!X112+Inputs!X220*Inputs!X185*Inputs!X104","v":328102.09375},{"$f":"Inputs!Y290*Inputs!Y185*Inputs!Y112+Inputs!Y220*Inputs!Y185*Inputs!Y104","v":328102.09375},{"$f":"Inputs!Z290*Inputs!Z185*Inputs!Z112+Inputs!Z220*Inputs!Z185*Inputs!Z104","v":328102.09375},{"$f":"Inputs!AA290*Inputs!AA185*Inputs!AA112+Inputs!AA220*Inputs!AA185*Inputs!AA104","v":328102.09375},{"$f":"Inputs!AB290*Inputs!AB185*Inputs!AB112+Inputs!AB220*Inputs!AB185*Inputs!AB104","v":328102.09375},{"$f":"Inputs!AC290*Inputs!AC185*Inputs!AC112+Inputs!AC220*Inputs!AC185*Inputs!AC104","v":328102.09375},{"$f":"Inputs!AD290*Inputs!AD185*Inputs!AD112+Inputs!AD220*Inputs!AD185*Inputs!AD104","v":328102.09375},{"$f":"Inputs!AE290*Inputs!AE185*Inputs!AE112+Inputs!AE220*Inputs!AE185*Inputs!AE104","v":328102.09375}]
[null,null,"Вода осветленная",{"$f":"Inputs!F186*Inputs!F221*Inputs!F104+Inputs!F186*Inputs!F258*Inputs!F107*Inputs!F291+Inputs!F303*Inputs!F186*Inputs!F113","v":0},{"$f":"Inputs!G186*Inputs!G221*Inputs!G104+Inputs!G186*Inputs!G258*Inputs!G107*Inputs!G291+Inputs!G303*Inputs!G186*Inputs!G113","v":0},{"$f":"Inputs!H186*Inputs!H221*Inputs!H104+Inputs!H186*Inputs!H258*Inputs!H107*Inputs!H291+Inputs!H303*Inputs!H186*Inputs!H113","v":0},{"$f":"Inputs!I186*Inputs!I221*Inputs!I104+Inputs!I186*Inputs!I258*Inputs!I107*Inputs!I291+Inputs!I303*Inputs!I186*Inputs!I113","v":0},{"$f":"Inputs!J186*Inputs!J221*Inputs!J104+Inputs!J186*Inputs!J258*Inputs!J107*Inputs!J291+Inputs!J303*Inputs!J186*Inputs!J113","v":0},{"$f":"Inputs!K186*Inputs!K221*I3","v":21331.062499999996},{"$f":"Inputs!L186*Inputs!L221*J3","v":21331.062499999996},{"$f":"Inputs!M186*Inputs!M221*K3","v":21331.062499999996},{"$f":"Inputs!N186*Inputs!N221*L3","v":21331.062499999996},{"$f":"Inputs!O186*Inputs!O221*M3","v":21331.062499999996},{"$f":"Inputs!P186*Inputs!P221*N3","v":21331.062499999996},{"$f":"Inputs!Q186*Inputs!Q221*O3","v":21331.062499999996},{"$f":"Inputs!R186*Inputs!R221*P3","v":21331.062499999996},{"$f":"Inputs!S186*Inputs!S221*Q3","v":21331.062499999996},{"$f":"Inputs!T186*Inputs!T221*R3","v":21331.062499999996},{"$f":"Inputs!U186*Inputs!U221*S3","v":21331.062499999996},{"$f":"Inputs!V186*Inputs!V221*T3","v":21331.062499999996},{"$f":"Inputs!W186*Inputs!W221*U3","v":21331.062499999996},{"$f":"Inputs!X186*Inputs!X221*V3","v":21331.062499999996},{"$f":"Inputs!Y186*Inputs!Y221*W3","v":21331.062499999996},{"$f":"Inputs!Z186*Inputs!Z221*X3","v":21331.062499999996},{"$f":"Inputs!AA186*Inputs!AA221*Y3","v":21331.062499999996},{"$f":"Inputs!AB186*Inputs!AB221*Z3","v":21331.062499999996},{"$f":"Inputs!AC186*Inputs!AC221*AA3","v":21331.062499999996},{"$f":"Inputs!AD186*Inputs!AD221*AB3","v":21331.062499999996},{"$f":"Inputs!AE186*Inputs!AE221*AC3","v":21331.062499999996}]
[]
[null,null,"КФК",{"$f":"Inputs!F288*Inputs!F188*Inputs!F112","v":0},{"$f":"Inputs!G288*Inputs!G188*Inputs!G112","v":0},{"$f":"Inputs!H288*Inputs!H188*Inputs!H112","v":0},{"$f":"Inputs!I288*Inputs!I188*Inputs!I112","v":0},{"$f":"Inputs!J288*Inputs!J188*Inputs!J112","v":0},{"$f":"Inputs!K288*Inputs!K188*I11","v":106233.75},{"$f":"Inputs!L288*Inputs!L188*Inputs!L112","v":110483.09999999999},{"$f":"Inputs!M288*Inputs!M188*Inputs!M112","v":114902.42399999998},{"$f":"Inputs!N288*Inputs!N188*Inputs!N112","v":119498.52095999999},{"$f":"Inputs!O288*Inputs!O188*Inputs!O112","v":124278.46179839999},{"$f":"Inputs!P288*Inputs!P188*Inputs!P112","v":129249.600270336},{"$f":"Inputs!Q288*Inputs!Q188*Inputs!Q112","v":134419.58428114944},{"$f":"Inputs!R288*Inputs!R188*Inputs!R112","v":139796.36765239539},{"$f":"Inputs!S288*Inputs!S188*Inputs!S112","v":145388.22235849121},{"$f":"Inputs!T288*Inputs!T188*Inputs!T112","v":151203.75125283087},{"$f":"Inputs!U288*Inputs!U188*Inputs!U112","v":157251.90130294408},{"$f":"Inputs!V288*Inputs!V188*Inputs!V112","v":163541.97735506183},{"$f":"Inputs!W288*Inputs!W188*Inputs!W112","v":170083.65644926432},{"$f":"Inputs!X288*Inputs!X188*Inputs!X112","v":176887.0027072349},{"$f":"Inputs!Y288*Inputs!Y188*Inputs!Y112","v":183962.4828155243},{"$f":"Inputs!Z288*Inputs!Z188*Inputs!Z112","v":191320.98212814526},{"$f":"Inputs!AA288*Inputs!AA188*Inputs!AA112","v":198973.82141327107},{"$f":"Inputs!AB288*Inputs!AB188*Inputs!AB112","v":206932.77426980188},{"$f":"Inputs!AC288*Inputs!AC188*Inputs!AC112","v":215210.08524059397},{"$f":"Inputs!AD288*Inputs!AD188*Inputs!AD112","v":223818.48865021774},{"$f":"Inputs!AE288*Inputs!AE188*Inputs!AE112","v":232771.22819622647}]
[null,null,"Платина",{"$f":"Inputs!F189*Inputs!F232*Inputs!F105+Inputs!F106*Inputs!F189*Inputs!F244","v":0},{"$f":"Inputs!G189*Inputs!G232*Inputs!G105+Inputs!G106*Inputs!G189*Inputs!G244","v":0},{"$f":"Inputs!H189*Inputs!H232*Inputs!H105+Inputs!H106*Inputs!H189*Inputs!H244","v":0},{"$f":"Inputs!I189*Inputs!I232*Inputs!I105+Inputs!I106*Inputs!I189*Inputs!I244","v":0},{"$f":"Inputs!J189*Inputs!J232*Inputs!J105+Inputs!J106*Inputs!J189*Inputs!J244","v":0},{"$f":"Inputs!K189*Inputs!K232*Inputs!K105+Inputs!K106*Inputs!K189*Inputs!K244","v":0},{"$f":"Inputs!L189*Inputs!L232*Inputs!L105+Inputs!L106*Inputs!L189*Inputs!L244","v":0},{"$f":"Inputs!M189*Inputs!M232*Inputs!M105+Inputs!M106*Inputs!M189*Inputs!M244","v":0},{"$f":"Inputs!N189*Inputs!N232*Inputs!N105+Inputs!N106*Inputs!N189*Inputs!N244","v":0},{"$f":"Inputs!O189*Inputs!O232*Inputs!O105+Inputs!O106*Inputs!O189*Inputs!O244","v":0},{"$f":"Inputs!P189*Inputs!P232*Inputs!P105+Inputs!P106*Inputs!P189*Inputs!P244","v":0},{"$f":"Inputs!Q189*Inputs!Q232*Inputs!Q105+Inputs!Q106*Inputs!Q189*Inputs!Q244","v":0},{"$f":"Inputs!R189*Inputs!R232*Inputs!R105+Inputs!R106*Inputs!R189*Inputs!R244","v":0},{"$f":"Inputs!S189*Inputs!S232*Inputs!S105+Inputs!S106*Inputs!S189*Inputs!S244","v":0},{"$f":"Inputs!T189*Inputs!T232*Inputs!T105+Inputs!T106*Inputs!T189*Inputs!T244","v":0},{"$f":"Inputs!U189*Inputs!U232*Inputs!U105+Inputs!U106*Inputs!U189*Inputs!U244","v":0},{"$f":"Inputs!V189*Inputs!V232*Inputs!V105+Inputs!V106*Inputs!V189*Inputs!V244","v":0},{"$f":"Inputs!W189*Inputs!W232*Inputs!W105+Inputs!W106*Inputs!W189*Inputs!W244","v":0},{"$f":"Inputs!X189*Inputs!X232*Inputs!X105+Inputs!X106*Inputs!X189*Inputs!X244","v":0},{"$f":"Inputs!Y189*Inputs!Y232*Inputs!Y105+Inputs!Y106*Inputs!Y189*Inputs!Y244","v":0},{"$f":"Inputs!Z189*Inputs!Z232*Inputs!Z105+Inputs!Z106*Inputs!Z189*Inputs!Z244","v":0},{"$f":"Inputs!AA189*Inputs!AA232*Inputs!AA105+Inputs!AA106*Inputs!AA189*Inputs!AA244","v":0},{"$f":"Inputs!AB189*Inputs!AB232*Inputs!AB105+Inputs!AB106*Inputs!AB189*Inputs!AB244","v":0},{"$f":"Inputs!AC189*Inputs!AC232*Inputs!AC105+Inputs!AC106*Inputs!AC189*Inputs!AC244","v":0},{"$f":"Inputs!AD189*Inputs!AD232*Inputs!AD105+Inputs!AD106*Inputs!AD189*Inputs!AD244","v":0},{"$f":"Inputs!AE189*Inputs!AE232*Inputs!AE105+Inputs!AE106*Inputs!AE189*Inputs!AE244","v":0}]
[null,null,"Воздух КИП",0,0,0,0,0,0,0,0,0,0,0,0,0,0,0,0,0,0,0,0,0,0,0,0,0,0]
[null,null,"Охлаждающая вода ",0,0,0,0,0,0,0,0,0,0,0,0,0,0,0,0,0,0,0,0,0,0,0,0,0,0]
[null,null,"Диоксид углерода",0,0,0,0,0,0,0,0,0,0,0,0,0,0,0,0,0,0,0,0,0,0,0,0,0,0]
[null,null,"Пар водяной ВД",0,0,0,0,0,0,0,0,0,0,0,0,0,0,0,0,0,0,0,0,0,0,0,0,0,0]
[null,null,"Конденсат технологический",0,0,0,0,0,0,0,0,0,0,0,0,0,0,0,0,0,0,0,0,0,0,0,0,0,0]
[null,null,"Конденсат паровой",0,0,0,0,0,0,0,0,0,0,0,0,0,0,0,0,0,0,0,0,0,0,0,0,0,0]
[]
[]
[null,null,"Прочие расходы (Химикаты, катализаторы)",{"$f":"Inputs!F104*Inputs!F199*Inputs!F222","v":0},{"$f":"Inputs!G104*Inputs!G199*Inputs!G222","v":0},{"$f":"Inputs!H104*Inputs!H199*Inputs!H222","v":0},{"$f":"Inputs!I104*Inputs!I199*Inputs!I222","v":0},{"$f":"Inputs!J104*Inputs!J199*Inputs!J222","v":0},{"$f":"I3*Inputs!K199*Inputs!K222","v":8431.25},{"$f":"Inputs!L104*Inputs!L199*Inputs!L222","v":8768.5},{"$f":"Inputs!M104*Inputs!M199*Inputs!M222","v":9119.2400000000016},{"$f":"Inputs!N104*Inputs!N199*Inputs!N222","v":9484.0096000000012},{"$f":"Inputs!O104*Inputs!O199*Inputs!O222","v":9863.3699840000008},{"$f":"Inputs!P104*Inputs!P199*Inputs!P222","v":10257.90478336},{"$f":"Inputs!Q104*Inputs!Q199*Inputs!Q222","v":10668.220974694399},{"$f":"Inputs!R104*Inputs!R199*Inputs!R222","v":11094.949813682175},{"$f":"Inputs!S104*Inputs!S199*Inputs!S222","v":11538.747806229461},{"$f":"Inputs!T104*Inputs!T199*Inputs!T222","v":12000.29771847864},{"$f":"Inputs!U104*Inputs!U199*Inputs!U222","v":12480.309627217786},{"$f":"Inputs!V104*Inputs!V199*Inputs!V222","v":12979.522012306496},{"$f":"Inputs!W104*Inputs!W199*Inputs!W222","v":13498.702892798756},{"$f":"Inputs!X104*Inputs!X199*Inputs!X222","v":14038.651008510706},{"$f":"Inputs!Y104*Inputs!Y199*Inputs!Y222","v":14600.197048851136},{"$f":"Inputs!Z104*Inputs!Z199*Inputs!Z222","v":15184.204930805179},{"$f":"Inputs!AA104*Inputs!AA199*Inputs!AA222","v":15791.573128037388},{"$f":"Inputs!AB104*Inputs!AB199*Inputs!AB222","v":16423.236053158882},{"$f":"Inputs!AC104*Inputs!AC199*Inputs!AC222","v":17080.165495285237},{"$f":"Inputs!AD104*Inputs!AD199*Inputs!AD222","v":17763.372115096648},{"$f":"Inputs!AE104*Inputs!AE199*Inputs!AE222","v":18473.906999700514}]
[null,null,"Амортизация",{"$f":"((Inputs!F104+Inputs!F105+Inputs!F106+Inputs!F107+Inputs!F113)*Inputs!F201)*Inputs!F13","v":0},{"$f":"((Inputs!G104+Inputs!G105+Inputs!G106+Inputs!G107+Inputs!G113)*Inputs!G201)*Inputs!G13","v":0},{"$f":"((Inputs!H104+Inputs!H105+Inputs!H106+Inputs!H107+Inputs!H113)*Inputs!H201)*Inputs!H13","v":0},{"$f":"((Inputs!I104+Inputs!I105+Inputs!I106+Inputs!I107+Inputs!I113)*Inputs!I201)*Inputs!I13","v":0},{"$f":"((Inputs!J104+Inputs!J105+Inputs!J106+Inputs!J107+Inputs!J113)*Inputs!J201)*Inputs!J13","v":0},{"$f":"((SUM(I3:I12))*Inputs!K201)*Inputs!K13","v":3954520.8618433857},{"$f":"((SUM(J3:J12))*Inputs!L201)*Inputs!L13","v":3922337.5791427274},{"$f":"((SUM(K3:K12))*Inputs!M201)*Inputs!M13","v":4018025.3750295043},{"$f":"((SUM(L3:L12))*Inputs!N201)*Inputs!N13","v":3992738.5100504179},{"$f":"((SUM(M3:M12))*Inputs!O201)*Inputs!O13","v":3967451.6450713309},{"$f":"((SUM(N3:N12))*Inputs!P201)*Inputs!P13","v":4123483.0960218417},{"$f":"((SUM(O3:O12))*Inputs!Q201)*Inputs!Q13","v":4173769.4752416206},{"$f":"((SUM(P3:P12))*Inputs!R201)*Inputs!R13","v":4183826.7510855761},{"$f":"((SUM(Q3:Q12))*Inputs!S201)*Inputs!S13","v":4193884.0269295322},{"$f":"((SUM(R3:R12))*Inputs!T201)*Inputs!T13","v":4203941.3027734868},{"$f":"((SUM(S3:S12))*Inputs!U201)*Inputs!U13","v":4213998.5786174433},{"$f":"((SUM(T3:T12))*Inputs!V201)*Inputs!V13","v":4224055.8544613989},{"$f":"((SUM(U3:U12))*Inputs!W201)*Inputs!W13","v":4234113.1303053545},{"$f":"((SUM(V3:V12))*Inputs!X201)*Inputs!X13","v":4244170.406149311},{"$f":"((SUM(W3:W12))*Inputs!Y201)*Inputs!Y13","v":4254227.6819932656},{"$f":"((SUM(X3:X12))*Inputs!Z201)*Inputs!Z13","v":4133728.5114566083},{"$f":"((SUM(Y3:Y12))*Inputs!AA201)*Inputs!AA13","v":4143477.8711534403},{"$f":"((SUM(Z3:Z12))*Inputs!AB201)*Inputs!AB13","v":4153227.2308502719},{"$f":"((SUM(AA3:AA12))*Inputs!AC201)*Inputs!AC13","v":4162976.5905471039},{"$f":"((SUM(AB3:AB12))*Inputs!AD201)*Inputs!AD13","v":4172725.950243935},{"$f":"((SUM(AC3:AC12))*Inputs!AE201)*Inputs!AE13","v":4182475.3099407665}]
[null,null,"Доставка, перевалка, хранение (Карбамид (экспорт))",{"$f":"Inputs!F203*Inputs!F112","v":0},{"$f":"Inputs!G203*Inputs!G112","v":0},{"$f":"Inputs!H203*Inputs!H112","v":0},{"$f":"Inputs!I203*Inputs!I112","v":0},{"$f":"Inputs!J203*Inputs!J112","v":0},{"$f":"Inputs!K203*I11","v":3569553.5972096003},{"$f":"Inputs!L203*Inputs!L112","v":3712335.7410979844},{"$f":"Inputs!M203*Inputs!M112","v":3860829.1707419036},{"$f":"Inputs!N203*Inputs!N112","v":4015262.33757158},{"$f":"Inputs!O203*Inputs!O112","v":4175872.8310744432},{"$f":"Inputs!P203*Inputs!P112","v":4342907.7443174208},{"$f":"Inputs!Q203*Inputs!Q112","v":4516624.0540901171},{"$f":"Inputs!R203*Inputs!R112","v":4697289.0162537219},{"$f":"Inputs!S203*Inputs!S112","v":4885180.5769038713},{"$f":"Inputs!T203*Inputs!T112","v":5080587.7999800257},{"$f":"Inputs!U203*Inputs!U112","v":5283811.3119792268},{"$f":"Inputs!V203*Inputs!V112","v":5495163.7644583955},{"$f":"Inputs!W203*Inputs!W112","v":5714970.3150367308},{"$f":"Inputs!X203*Inputs!X112","v":5943569.1276382003},{"$f":"Inputs!Y203*Inputs!Y112","v":6181311.8927437272},{"$f":"Inputs!Z203*Inputs!Z112","v":6428564.3684534756},{"$f":"Inputs!AA203*Inputs!AA112","v":6685706.9431916149},{"$f":"Inputs!AB203*Inputs!AB112","v":6953135.2209192794},{"$f":"Inputs!AC203*Inputs!AC112","v":7231260.6297560511},{"$f":"Inputs!AD203*Inputs!AD112","v":7520511.0549462922},{"$f":"Inputs!AE203*Inputs!AE112","v":7821331.497144144}]
[null,null,"Доставка, перевалка, хранение (КАС (экспорт))",{"$f":"Inputs!F113*Inputs!F204","v":0},{"$f":"Inputs!G113*Inputs!G204","v":0},{"$f":"Inputs!H113*Inputs!H204","v":0},{"$f":"Inputs!I113*Inputs!I204","v":0},{"$f":"Inputs!J113*Inputs!J204","v":0},{"$f":"Inputs!K113*Inputs!K204","v":0},{"$f":"Inputs!L113*Inputs!L204","v":0},{"$f":"Inputs!M113*Inputs!M204","v":0},{"$f":"Inputs!N113*Inputs!N204","v":0},{"$f":"Inputs!O113*Inputs!O204","v":0},{"$f":"Inputs!P113*Inputs!P204","v":0},{"$f":"Inputs!Q113*Inputs!Q204","v":0},{"$f":"Inputs!R113*Inputs!R204","v":0},{"$f":"Inputs!S113*Inputs!S204","v":0},{"$f":"Inputs!T113*Inputs!T204","v":0},{"$f":"Inputs!U113*Inputs!U204","v":0},{"$f":"Inputs!V113*Inputs!V204","v":0},{"$f":"Inputs!W113*Inputs!W204","v":0},{"$f":"Inputs!X113*Inputs!X204","v":0},{"$f":"Inputs!Y113*Inputs!Y204","v":0},{"$f":"Inputs!Z113*Inputs!Z204","v":0},{"$f":"Inputs!AA113*Inputs!AA204","v":0},{"$f":"Inputs!AB113*Inputs!AB204","v":0},{"$f":"Inputs!AC113*Inputs!AC204","v":0},{"$f":"Inputs!AD113*Inputs!AD204","v":0},{"$f":"Inputs!AE113*Inputs!AE204","v":0}]
[null,null,"Доставка, перевалка, хранение (Известковая аммиачная селитра (экспорт))",{"$f":"Inputs!F111*Inputs!F205","v":0},{"$f":"Inputs!G111*Inputs!G205","v":0},{"$f":"Inputs!H111*Inputs!H205","v":0},{"$f":"Inputs!I111*Inputs!I205","v":0},{"$f":"Inputs!J111*Inputs!J205","v":0},{"$f":"Inputs!K111*Inputs!K205","v":0},{"$f":"Inputs!L111*Inputs!L205","v":0},{"$f":"Inputs!M111*Inputs!M205","v":0},{"$f":"Inputs!N111*Inputs!N205","v":0},{"$f":"Inputs!O111*Inputs!O205","v":0},{"$f":"Inputs!P111*Inputs!P205","v":0},{"$f":"Inputs!Q111*Inputs!Q205","v":0},{"$f":"Inputs!R111*Inputs!R205","v":0},{"$f":"Inputs!S111*Inputs!S205","v":0},{"$f":"Inputs!T111*Inputs!T205","v":0},{"$f":"Inputs!U111*Inputs!U205","v":0},{"$f":"Inputs!V111*Inputs!V205","v":0},{"$f":"Inputs!W111*Inputs!W205","v":0},{"$f":"Inputs!X111*Inputs!X205","v":0},{"$f":"Inputs!Y111*Inputs!Y205","v":0},{"$f":"Inputs!Z111*Inputs!Z205","v":0},{"$f":"Inputs!AA111*Inputs!AA205","v":0},{"$f":"Inputs!AB111*Inputs!AB205","v":0},{"$f":"Inputs!AC111*Inputs!AC205","v":0},{"$f":"Inputs!AD111*Inputs!AD205","v":0},{"$f":"Inputs!AE111*Inputs!AE205","v":0}]
[null,null,"Доставка, перевалка, хранение (Аммиак экспорт)",{"$f":"Inputs!F206*Inputs!F110","v":0},{"$f":"Inputs!G206*Inputs!G110","v":0},{"$f":"Inputs!H206*Inputs!H110","v":0},{"$f":"Inputs!I206*Inputs!I110","v":0},{"$f":"Inputs!J206*Inputs!J110","v":0},{"$f":"Inputs!K206*I9","v":370336.08634821424},{"$f":"Inputs!L206*Inputs!L110","v":385149.52980214282},{"$f":"Inputs!M206*Inputs!M110","v":400555.51099422853},{"$f":"Inputs!N206*Inputs!N110","v":416577.73143399769},{"$f":"Inputs!O206*Inputs!O110","v":433240.84069135762},{"$f":"Inputs!P206*Inputs!P110","v":450570.47431901185},{"$f":"Inputs!Q206*Inputs!Q110","v":468593.29329177231},{"$f":"Inputs!R206*Inputs!R110","v":487337.02502344322},{"$f":"Inputs!S206*Inputs!S110","v":506830.50602438097},{"$f":"Inputs!T206*Inputs!T110","v":527103.72626535629},{"$f":"Inputs!U206*Inputs!U110","v":548187.87531597051},{"$f":"Inputs!V206*Inputs!V110","v":570115.39032860927},{"$f":"Inputs!W206*Inputs!W110","v":592920.00594175362},{"$f":"Inputs!X206*Inputs!X110","v":616636.80617942382},{"$f":"Inputs!Y206*Inputs!Y110","v":641302.27842660074},{"$f":"Inputs!Z206*Inputs!Z110","v":666954.36956366478},{"$f":"Inputs!AA206*Inputs!AA110","v":693632.54434621136},{"$f":"Inputs!AB206*Inputs!AB110","v":721377.84612005972},{"$f":"Inputs!AC206*Inputs!AC110","v":750232.95996486221},{"$f":"Inputs!AD206*Inputs!AD110","v":780242.2783634566},{"$f":"Inputs!AE206*Inputs!AE110","v":811451.96949799487}]
[null,null,"Оплата производственного персонала",{"$f":"Inputs!F208*(Inputs!F104+Inputs!F105+Inputs!F106+Inputs!F107+Inputs!F113)","v":0},{"$f":"Inputs!G208*(Inputs!G104+Inputs!G105+Inputs!G106+Inputs!G107+Inputs!G113)","v":0},{"$f":"Inputs!H208*(Inputs!H104+Inputs!H105+Inputs!H106+Inputs!H107+Inputs!H113)","v":0},{"$f":"Inputs!I208*(Inputs!I104+Inputs!I105+Inputs!I106+Inputs!I107+Inputs!I113)","v":0},{"$f":"Inputs!J208*(Inputs!J104+Inputs!J105+Inputs!J106+Inputs!J107+Inputs!J113)","v":0},{"$f":"Inputs!K208*(SUM(I3:I12))","v":220994.87536560438},{"$f":"Inputs!L208*(SUM(J3:J12))","v":229834.67038022855},{"$f":"Inputs!M208*(SUM(K3:K12))","v":239028.05719543769},{"$f":"Inputs!N208*(SUM(L3:L12))","v":248589.17948325523},{"$f":"Inputs!O208*(SUM(M3:M12))","v":258532.74666258544},{"$f":"Inputs!P208*(SUM(N3:N12))","v":268874.05652908882},{"$f":"Inputs!Q208*(SUM(O3:O12))","v":279629.01879025239},{"$f":"Inputs!R208*(SUM(P3:P12))","v":290814.17954186257},{"$f":"Inputs!S208*(SUM(Q3:Q12))","v":302446.74672353704},{"$f":"Inputs!T208*(SUM(R3:R12))","v":314544.61659247847},{"$f":"Inputs!U208*(SUM(S3:S12))","v":327126.40125617757},{"$f":"Inputs!V208*(SUM(T3:T12))","v":340211.45730642474},{"$f":"Inputs!W208*(SUM(U3:U12))","v":353819.91559868172},{"$f":"Inputs!X208*(SUM(V3:V12))","v":367972.71222262899},{"$f":"Inputs!Y208*(SUM(W3:W12))","v":382691.62071153411},{"$f":"Inputs!Z208*(SUM(X3:X12))","v":397999.28553999553},{"$f":"Inputs!AA208*(SUM(Y3:Y12))","v":413919.25696159533},{"$f":"Inputs!AB208*(SUM(Z3:Z12))","v":430476.02724005911},{"$f":"Inputs!AC208*(SUM(AA3:AA12))","v":447695.0683296615},{"$f":"Inputs!AD208*(SUM(AB3:AB12))","v":465602.87106284796},{"$f":"Inputs!AE208*(SUM(AC3:AC12))","v":484226.98590536183}]
[null,null,"Лизинговые платежи",{"$f":"Inputs!F210*SUM(Inputs!F104:F113)","v":0},{"$f":"Inputs!G210*SUM(Inputs!G104:G113)","v":0},{"$f":"Inputs!H210*SUM(Inputs!H104:H113)","v":0},{"$f":"Inputs!I210*SUM(Inputs!I104:I113)","v":0},{"$f":"Inputs!J210*SUM(Inputs!J104:J113)","v":0},{"$f":"Inputs!K210*SUM(Inputs!K104:K113)","v":0},{"$f":"Inputs!L210*SUM(Inputs!L104:L113)","v":0},{"$f":"Inputs!M210*SUM(Inputs!M104:M113)","v":0},{"$f":"Inputs!N210*SUM(Inputs!N104:N113)","v":0},{"$f":"Inputs!O210*SUM(Inputs!O104:O113)","v":0},{"$f":"Inputs!P210*SUM(Inputs!P104:P113)","v":0},{"$f":"Inputs!Q210*SUM(Inputs!Q104:Q113)","v":0},{"$f":"Inputs!R210*SUM(Inputs!R104:R113)","v":0},{"$f":"Inputs!S210*SUM(Inputs!S104:S113)","v":0},{"$f":"Inputs!T210*SUM(Inputs!T104:T113)","v":0},{"$f":"Inputs!U210*SUM(Inputs!U104:U113)","v":0},{"$f":"Inputs!V210*SUM(Inputs!V104:V113)","v":0},{"$f":"Inputs!W210*SUM(Inputs!W104:W113)","v":0},{"$f":"Inputs!X210*SUM(Inputs!X104:X113)","v":0},{"$f":"Inputs!Y210*SUM(Inputs!Y104:Y113)","v":0},{"$f":"Inputs!Z210*SUM(Inputs!Z104:Z113)","v":0},{"$f":"Inputs!AA210*SUM(Inputs!AA104:AA113)","v":0},{"$f":"Inputs!AB210*SUM(Inputs!AB104:AB113)","v":0},{"$f":"Inputs!AC210*SUM(Inputs!AC104:AC113)","v":0},{"$f":"Inputs!AD210*SUM(Inputs!AD104:AD113)","v":0},{"$f":"Inputs!AE210*SUM(Inputs!AE104:AE113)","v":0}]
[null,null,"Проичие производственные расходы",{"$f":"Inputs!F212*SUM(Inputs!F104:F113)","v":0},{"$f":"Inputs!G212*SUM(Inputs!G104:G113)","v":0},{"$f":"Inputs!H212*SUM(Inputs!H104:H113)","v":0},{"$f":"Inputs!I212*SUM(Inputs!I104:I113)","v":0},{"$f":"Inputs!J212*SUM(Inputs!J104:J113)","v":0},{"$f":"Inputs!K212*SUM(Inputs!K104:K113)","v":0},{"$f":"Inputs!L212*SUM(Inputs!L104:L113)","v":0},{"$f":"Inputs!M212*SUM(Inputs!M104:M113)","v":0},{"$f":"Inputs!N212*SUM(Inputs!N104:N113)","v":0},{"$f":"Inputs!O212*SUM(Inputs!O104:O113)","v":0},{"$f":"Inputs!P212*SUM(Inputs!P104:P113)","v":0},{"$f":"Inputs!Q212*SUM(Inputs!Q104:Q113)","v":0},{"$f":"Inputs!R212*SUM(Inputs!R104:R113)","v":0},{"$f":"Inputs!S212*SUM(Inputs!S104:S113)","v":0},{"$f":"Inputs!T212*SUM(Inputs!T104:T113)","v":0},{"$f":"Inputs!U212*SUM(Inputs!U104:U113)","v":0},{"$f":"Inputs!V212*SUM(Inputs!V104:V113)","v":0},{"$f":"Inputs!W212*SUM(Inputs!W104:W113)","v":0},{"$f":"Inputs!X212*SUM(Inputs!X104:X113)","v":0},{"$f":"Inputs!Y212*SUM(Inputs!Y104:Y113)","v":0},{"$f":"Inputs!Z212*SUM(Inputs!Z104:Z113)","v":0},{"$f":"Inputs!AA212*SUM(Inputs!AA104:AA113)","v":0},{"$f":"Inputs!AB212*SUM(Inputs!AB104:AB113)","v":0},{"$f":"Inputs!AC212*SUM(Inputs!AC104:AC113)","v":0},{"$f":"Inputs!AD212*SUM(Inputs!AD104:AD113)","v":0},{"$f":"Inputs!AE212*SUM(Inputs!AE104:AE113)","v":0}]
[null,null,"Расходы на перснонал",{"$f":"Inputs!F214*(Inputs!F104+Inputs!F105+Inputs!F106+Inputs!F107+Inputs!F113)","v":0},{"$f":"Inputs!G214*(Inputs!G104+Inputs!G105+Inputs!G106+Inputs!G107+Inputs!G113)","v":0},{"$f":"Inputs!H214*(Inputs!H104+Inputs!H105+Inputs!H106+Inputs!H107+Inputs!H113)","v":0},{"$f":"Inputs!I214*(Inputs!I104+Inputs!I105+Inputs!I106+Inputs!I107+Inputs!I113)","v":0},{"$f":"Inputs!J214*(Inputs!J104+Inputs!J105+Inputs!J106+Inputs!J107+Inputs!J113)","v":0},{"$f":"Inputs!K214*(SUM(I3:I12))","v":425940.10724420816},{"$f":"Inputs!L214*(SUM(J3:J12))","v":442977.71153397649},{"$f":"Inputs!M214*(SUM(K3:K12))","v":460696.81999533554},{"$f":"Inputs!N214*(SUM(L3:L12))","v":479124.69279514893},{"$f":"Inputs!O214*(SUM(M3:M12))","v":498289.68050695502},{"$f":"Inputs!P214*(SUM(N3:N12))","v":518221.26772723312},{"$f":"Inputs!Q214*(SUM(O3:O12))","v":538950.11843632243},{"$f":"Inputs!R214*(SUM(P3:P12))","v":560508.12317377538},{"$f":"Inputs!S214*(SUM(Q3:Q12))","v":582928.44810072647},{"$f":"Inputs!T214*(SUM(R3:R12))","v":606245.58602475538},{"$f":"Inputs!U214*(SUM(S3:S12))","v":630495.40946574579},{"$f":"Inputs!V214*(SUM(T3:T12))","v":655715.22584437556},{"$f":"Inputs!W214*(SUM(U3:U12))","v":681943.83487815072},{"$f":"Inputs!X214*(SUM(V3:V12))","v":709221.58827327657},{"$f":"Inputs!Y214*(SUM(W3:W12))","v":737590.45180420775},{"$f":"Inputs!Z214*(SUM(X3:X12))","v":767094.06987637607},{"$f":"Inputs!AA214*(SUM(Y3:Y12))","v":797777.83267143089},{"$f":"Inputs!AB214*(SUM(Z3:Z12))","v":829688.94597828819},{"$f":"Inputs!AC214*(SUM(AA3:AA12))","v":862876.50381741975},{"$f":"Inputs!AD214*(SUM(AB3:AB12))","v":897391.56397011643},{"$f":"Inputs!AE214*(SUM(AC3:AC12))","v":933287.22652892128}]
[null,null,"Расходы на коммунальные услуги/содержание объекта",{"$f":"(Inputs!F216*(Inputs!F104+Inputs!F105+Inputs!F106+Inputs!F107+Inputs!F113))","v":0},{"$f":"(Inputs!G216*(Inputs!G104+Inputs!G105+Inputs!G106+Inputs!G107+Inputs!G113))","v":0},{"$f":"(Inputs!H216*(Inputs!H104+Inputs!H105+Inputs!H106+Inputs!H107+Inputs!H113))","v":0},{"$f":"(Inputs!I216*(Inputs!I104+Inputs!I105+Inputs!I106+Inputs!I107+Inputs!I113))","v":0},{"$f":"(Inputs!J216*(Inputs!J104+Inputs!J105+Inputs!J106+Inputs!J107+Inputs!J113))","v":0},{"$f":"(Inputs!K216*(I11+I9))","v":687370.80209965585},{"$f":"(Inputs!L216*(J11+J9))","v":695457.51741847547},{"$f":"(Inputs!M216*(K11+K9))","v":703544.23273729486},{"$f":"(Inputs!N216*(L11+L9))","v":711630.94805611449},{"$f":"(Inputs!O216*(M11+M9))","v":718706.82396008144},{"$f":"(Inputs!P216*(N11+N9))","v":725782.69986404851},{"$f":"(Inputs!Q216*(O11+O9))","v":733869.4151828679},{"$f":"(Inputs!R216*(P11+P9))","v":737912.77284227766},{"$f":"(Inputs!S216*(Q11+Q9))","v":742966.96991653985},{"$f":"(Inputs!T216*(R11+R9))","v":747010.3275759496},{"$f":"(Inputs!U216*(S11+S9))","v":751053.68523535936},{"$f":"(Inputs!V216*(T11+T9))","v":755097.04289476923},{"$f":"(Inputs!W216*(U11+U9))","v":760151.2399690313},{"$f":"(Inputs!X216*(V11+V9))","v":760151.2399690313},{"$f":"(Inputs!Y216*(W11+W9))","v":760151.2399690313},{"$f":"(Inputs!Z216*(X11+X9))","v":736878.25385683961},{"$f":"(Inputs!AA216*(Y11+Y9))","v":736878.25385683961},{"$f":"(Inputs!AB216*(Z11+Z9))","v":736878.25385683961},{"$f":"(Inputs!AC216*(AA11+AA9))","v":736878.25385683961},{"$f":"(Inputs!AD216*(AB11+AB9))","v":736878.25385683961},{"$f":"(Inputs!AE216*(AC11+AC9))","v":736878.25385683961}]
[null,null,"ИТОГО",{"$f":"SUM(D17:D41)","v":0},0,0,0,0,{"$f":"SUM(I17:I41)","v":14078266.048646752},14417647.13040306,14899438.396712331,15275375.672359884,15666027.605604896,16254352.371672312,16754951.602992367,17228967.41874845,17722390.681209493,18233935.575837389,18765378.240910277,19317514.587245941,19892183.201509748,{"$f":"SUM(V17:V41)","v":20484179.904353119},21099454.184276465,21585107.711870179,22249459.783179276,22939995.962952875,23657763.615529537,24403851.999821387,25179393.945097044]
[null,null,"Рассчет себестоимости:"]
[null,null,"Себестоимость тонны  производимой продукции(тыс. руб.)"]
[null,null,"Аммиак (переработка)",{"$f":"Inputs!F225","v":0},{"$f":"Inputs!G225","v":0},{"$f":"Inputs!H225","v":0},{"$f":"Inputs!I225","v":0},{"$f":"Inputs!J225","v":0},{"$f":"Inputs!K225","v":6.1948637560809194},{"$f":"Inputs!L225","v":6.4167705697472313},{"$f":"Inputs!M225","v":6.6478830729971339},{"$f":"Inputs!N225","v":6.8874542630872755},{"$f":"Inputs!O225","v":7.135631970097621},{"$f":"Inputs!P225","v":7.3943294170535161},{"$f":"Inputs!Q225","v":7.6634179572650787},{"$f":"Inputs!R225","v":7.9398747452595879},{"$f":"Inputs!S225","v":8.2280121660787948},{"$f":"Inputs!T225","v":8.5267817058342459},{"$f":"Inputs!U225","v":8.8373813790723599},{"$f":"Inputs!V225","v":9.1602843911324463},{"$f":"Inputs!W225","v":9.4967258849798544},{"$f":"Inputs!X225","v":9.8427596230347447},{"$f":"Inputs!Y225","v":10.20263294401027},{"$f":"Inputs!Z225","v":10.558663723511057},{"$f":"Inputs!AA225","v":10.947896440672929},{"$f":"Inputs!AB225","v":11.35269680643724},{"$f":"Inputs!AC225","v":11.773687526748088},{"$f":"Inputs!AD225","v":12.211516215787334},{"$f":"Inputs!AE225","v":12.666856392304114}]
[null,null,"Азотная кислота (переработка)",{"$f":"Inputs!F238","v":0},{"$f":"Inputs!G238","v":0},{"$f":"Inputs!H238","v":0},{"$f":"Inputs!I238","v":0},{"$f":"Inputs!J238","v":0},{"$f":"Inputs!K238","v":2.5671074018052593},{"$f":"Inputs!L238","v":2.6454503950590071},{"$f":"Inputs!M238","v":2.7273487618501848},{"$f":"Inputs!N238","v":2.8115172223021192},{"$f":"Inputs!O238","v":2.8978027178973775},{"$f":"Inputs!P238","v":2.9882982018478206},{"$f":"Inputs!Q238","v":3.0824687952393943},{"$f":"Inputs!R238","v":3.1760602362699695},{"$f":"Inputs!S238","v":3.2741919574120617},{"$f":"Inputs!T238","v":3.3751054236922875},{"$f":"Inputs!U238","v":3.4799009990460519},{"$f":"Inputs!V238","v":3.5887339678362991},{"$f":"Inputs!W238","v":3.7027168778484505},{"$f":"Inputs!X238","v":3.8163113723616808},{"$f":"Inputs!Y238","v":3.9344473854054458},{"$f":"Inputs!Z238","v":4.0339648718493457},{"$f":"Inputs!AA238","v":4.1617327620467481},{"$f":"Inputs!AB238","v":4.2946092429444818},{"$f":"Inputs!AC238","v":4.432798658170559},{"$f":"Inputs!AD238","v":4.5765135250981146},{"$f":"Inputs!AE238","v":4.7259748617952066}]
[null,null,"Аммиачная селитра (переработка)",{"$f":"Inputs!F249","v":0},{"$f":"Inputs!G249","v":0},{"$f":"Inputs!H249","v":0},{"$f":"Inputs!I249","v":0},{"$f":"Inputs!J249","v":0},{"$f":"Inputs!K249","v":4.0286120747268885},{"$f":"Inputs!L249","v":4.150310057625255},{"$f":"Inputs!M249","v":4.2776001502535586},{"$f":"Inputs!N249","v":4.4082543146507902},{"$f":"Inputs!O249","v":4.5419882802495231},{"$f":"Inputs!P249","v":4.6823744459248395},{"$f":"Inputs!Q249","v":4.8284710189449154},{"$f":"Inputs!R249","v":4.9729472409397788},{"$f":"Inputs!S249","v":5.1245707109071663},{"$f":"Inputs!T249","v":5.2802951177055313},{"$f":"Inputs!U249","v":5.4419832679761839},{"$f":"Inputs!V249","v":5.6098737114580164},{"$f":"Inputs!W249","v":5.7858479717718536},{"$f":"Inputs!X249","v":5.9603634729610135},{"$f":"Inputs!Y249","v":6.141855710500872},{"$f":"Inputs!Z249","v":6.2905143740109519},{"$f":"Inputs!AA249","v":6.4868026011893782},{"$f":"Inputs!AB249","v":6.6909387079261986},{"$f":"Inputs!AC249","v":6.9032366094037485},{"$f":"Inputs!AD249","v":7.1240227774116569},{"$f":"Inputs!AE249","v":7.3536367426111386}]
[null,null,"Карбамид (переработка)",{"$f":"Inputs!F265","v":0},{"$f":"Inputs!G265","v":0},{"$f":"Inputs!H265","v":0},{"$f":"Inputs!I265","v":0},{"$f":"Inputs!J265","v":0},{"$f":"Inputs!K265","v":4.0385463511995683},{"$f":"Inputs!L265","v":4.1673877027934836},{"$f":"Inputs!M265","v":4.3018834223473004},{"$f":"Inputs!N265","v":4.4405645344828386},{"$f":"Inputs!O265","v":4.5833088684650285},{"$f":"Inputs!P265","v":4.7326637759375112},{"$f":"Inputs!Q265","v":4.8880585366825908},{"$f":"Inputs!R265","v":5.0445082412426885},{"$f":"Inputs!S265","v":5.2081619231686647},{"$f":"Inputs!T265","v":5.377003817968963},{"$f":"Inputs!U265","v":5.5524160034377914},{"$f":"Inputs!V265","v":5.7346612912018902},{"$f":"Inputs!W265","v":5.9251423796600289},{"$f":"Inputs!X265","v":6.1173672800259471},{"$f":"Inputs!Y265","v":6.3172784911721314},{"$f":"Inputs!Z265","v":6.4974651898072473},{"$f":"Inputs!AA265","v":6.7136796302389659},{"$f":"Inputs!AB265","v":6.9385401249602205},{"$f":"Inputs!AC265","v":7.1723925161425903},{"$f":"Inputs!AD265","v":7.4155964796445204},{"$f":"Inputs!AE265","v":7.6685260783587958}]
[null,null,"Карбамид (экспорт)",{"$f":"Inputs!F298","v":0},{"$f":"Inputs!G298","v":0},{"$f":"Inputs!H298","v":0},{"$f":"Inputs!I298","v":0},{"$f":"Inputs!J298","v":0},{"$f":"Inputs!K298","v":7.1526307287995694},{"$f":"Inputs!L298","v":7.4060354554974834},{"$f":"Inputs!M298","v":7.6700770851594609},{"$f":"Inputs!N298","v":7.9434859438074854},{"$f":"Inputs!O298","v":8.2263471341626619},{"$f":"Inputs!P298","v":8.5214235722630498},{"$f":"Inputs!Q298","v":8.82836872486115},{"$f":"Inputs!R298","v":9.1424308369483906},{"$f":"Inputs!S298","v":9.4700014227025964},{"$f":"Inputs!T298","v":9.8093168974842513},{"$f":"Inputs!U298","v":10.162021606133688},{"$f":"Inputs!V298","v":10.528651118005625},{"$f":"Inputs!W298","v":10.910891799535912},{"$f":"Inputs!X298","v":11.302546676696867},{"$f":"Inputs!Y298","v":11.709865063709884},{"$f":"Inputs!Z298","v":12.10575522524651},{"$f":"Inputs!AA298","v":12.546301267095801},{"$f":"Inputs!AB298","v":13.004466627291327},{"$f":"Inputs!AC298","v":13.480956078566942},{"$f":"Inputs!AD298","v":13.976502584565846},{"$f":"Inputs!AE298","v":14.491868427476975}]
[null,null,"КАС(экспорт)",{"$f":"Inputs!F305","v":0},{"$f":"Inputs!G305","v":0},{"$f":"Inputs!H305","v":0},{"$f":"Inputs!I305","v":0},{"$f":"Inputs!J305","v":0},{"$f":"Inputs!K305","v":3.9447552831558674},{"$f":"Inputs!L305","v":4.0580636570054356},{"$f":"Inputs!M305","v":4.1767349183958764},{"$f":"Inputs!N305","v":4.2981717749107329},{"$f":"Inputs!O305","v":4.4220045026607382},{"$f":"Inputs!P305","v":4.5522847298854181},{"$f":"Inputs!Q305","v":4.6878850738402971},{"$f":"Inputs!R305","v":4.8203489451369723},{"$f":"Inputs!S305","v":4.959680518396377},{"$f":"Inputs!T305","v":5.1023328987632093},{"$f":"Inputs!U305","v":5.2503871866841028},{"$f":"Inputs!V305","v":5.4040594584612167},{"$f":"Inputs!W305","v":5.5654477682202774},{"$f":"Inputs!X305","v":5.7235458154608461},{"$f":"Inputs!Y305","v":5.8879633304938581},{"$f":"Inputs!Z305","v":6.0129757668903911},{"$f":"Inputs!AA305","v":6.1907939507793293},{"$f":"Inputs!AB305","v":6.3757206764871501},{"$f":"Inputs!AC305","v":6.5680402856866067},{"$f":"Inputs!AD305","v":6.7680484937173633},{"$f":"Inputs!AE305","v":6.9760528445326759}]

{"sheet":"Прибыль","index":15,"n_rows":5,"n_cols":28,"rows_kept":5,"cut":false,"hidden":true,"merged":[]}
[]
[null,null,2020,2021,2022,2023,2024,2025,2026,2027,2028,2029,2030,2031,2032,2033,2034,2035,2036,2037,2038,2039,2040,2041,2042,2043,2044,2045]
[null,"Валовая прибыль (тыс. руб.)",{"$f":"'Рассчет выручки'!C7-'Рассчет себестоимости'!D42+'Рассчет себестоимости'!D32","v":0},{"$f":"'Рассчет выручки'!D7-'Рассчет себестоимости'!E42+'Рассчет себестоимости'!E32","v":0},{"$f":"'Рассчет выручки'!E7-'Рассчет себестоимости'!F42+'Рассчет себестоимости'!F32","v":0},{"$f":"'Рассчет выручки'!F7-'Рассчет себестоимости'!G42+'Рассчет себестоимости'!G32","v":0},{"$f":"'Рассчет выручки'!G7-'Рассчет себестоимости'!H42+'Рассчет себестоимости'!H32","v":0},{"$f":"'Рассчет выручки'!H7-'Рассчет себестоимости'!I42+'Рассчет себестоимости'!I32","v":18864456.289455488},{"$f":"'Рассчет выручки'!I7-'Рассчет себестоимости'!J42+'Рассчет себестоимости'!J32","v":19496906.046192825},{"$f":"'Рассчет выручки'!J7-'Рассчет себестоимости'!K42+'Рассчет себестоимости'!K32","v":20089220.763066664},{"$f":"'Рассчет выручки'!K7-'Рассчет себестоимости'!L42+'Рассчет себестоимости'!L32","v":20656126.838264383},{"$f":"'Рассчет выручки'!L7-'Рассчет себестоимости'!M42+'Рассчет себестоимости'!M32","v":21217906.051439922},{"$f":"'Рассчет выручки'!M7-'Рассчет себестоимости'!N42+'Рассчет себестоимости'!N32","v":21747534.122360181},{"$f":"'Рассчет выручки'!N7-'Рассчет себестоимости'!O42+'Рассчет себестоимости'!O32","v":22245506.090332665},{"$f":"'Рассчет выручки'!O7-'Рассчет себестоимости'!P42+'Рассчет себестоимости'!P32","v":22713460.241614029},{"$f":"'Рассчет выручки'!P7-'Рассчет себестоимости'!Q42+'Рассчет себестоимости'!Q32","v":23142879.836776562},{"$f":"'Рассчет выручки'!Q7-'Рассчет себестоимости'!R42+'Рассчет себестоимости'!R32","v":23532289.304132011},{"$f":"'Рассчет выручки'!R7-'Рассчет себестоимости'!S42+'Рассчет себестоимости'!S32","v":23877158.145128038},{"$f":"'Рассчет выручки'!S7-'Рассчет себестоимости'!T42+'Рассчет себестоимости'!T32","v":24173956.878942933},{"$f":"'Рассчет выручки'!T7-'Рассчет себестоимости'!U42+'Рассчет себестоимости'!U32","v":24418148.14371454},{"$f":"'Рассчет выручки'!U7-'Рассчет себестоимости'!V42+'Рассчет себестоимости'!V32","v":24612286.286042422},{"$f":"'Рассчет выручки'!V7-'Рассчет себестоимости'!W42+'Рассчет себестоимости'!W32","v":24798175.624474034},{"$f":"'Рассчет выручки'!W7-'Рассчет себестоимости'!X42+'Рассчет себестоимости'!X32","v":24998449.074832439},{"$f":"'Рассчет выручки'!X7-'Рассчет себестоимости'!Y42+'Рассчет себестоимости'!Y32","v":25165888.986342486},{"$f":"'Рассчет выручки'!Y7-'Рассчет себестоимости'!Z42+'Рассчет себестоимости'!Z32","v":25323063.677677698},{"$f":"'Рассчет выручки'!Z7-'Рассчет себестоимости'!AA42+'Рассчет себестоимости'!AA32","v":25469234.054408241},{"$f":"'Рассчет выручки'!AA7-'Рассчет себестоимости'!AB42+'Рассчет себестоимости'!AB32","v":25603625.097189792},{"$f":"'Рассчет выручки'!AB7-'Рассчет себестоимости'!AC42+'Рассчет себестоимости'!AC32","v":25725424.301583376}]
[null,"Валовая прибыль (тыс. $)",{"$f":"C3/Inputs!F13","v":0},{"$f":"D3/Inputs!G13","v":0},{"$f":"E3/Inputs!H13","v":0},{"$f":"F3/Inputs!I13","v":0},{"$f":"G3/Inputs!J13","v":0},{"$f":"H3/Inputs!K13","v":239883.7269767992},{"$f":"I3/Inputs!L13","v":249960.33392554903},{"$f":"J3/Inputs!M13","v":251420.55592767417},{"$f":"K3/Inputs!N13","v":260152.73096050858},{"$f":"L3/Inputs!O13","v":268931.23480857426},{"$f":"M3/Inputs!P13","v":265213.83076049003},{"$f":"N3/Inputs!Q13","v":268018.14566665859},{"$f":"O3/Inputs!R13","v":272998.32021170709},{"$f":"P3/Inputs!S13","v":277492.5639901266},{"$f":"Q3/Inputs!T13","v":281486.7141642585},{"$f":"R3/Inputs!U13","v":284930.28812801954},{"$f":"S3/Inputs!V13","v":287785.20093979681},{"$f":"T3/Inputs!W13","v":290001.75942653848},{"$f":"U3/Inputs!X13","v":291614.76642230357},{"$f":"V3/Inputs!Y13","v":293122.64331529592},{"$f":"W3/Inputs!Z13","v":294793.03154283541},{"$f":"X3/Inputs!AA13","v":296069.28219226457},{"$f":"Y3/Inputs!AB13","v":297219.05724973825},{"$f":"Z3/Inputs!AC13","v":298234.59080103325},{"$f":"AA3/Inputs!AD13","v":299107.76982698357},{"$f":"AB3/Inputs!AE13","v":299830.1200650743}]
[null,"Валовая прибыль после уплаты платежей по кредиту (тыс. $)",{"$f":"C4-(Кредит!C12+Кредит!C13)","v":0},{"$f":"D4-(Кредит!D12+Кредит!D13)","v":0},{"$f":"E4-(Кредит!E12+Кредит!E13)","v":0},{"$f":"F4-(Кредит!F12+Кредит!F13)","v":0},{"$f":"G4-(Кредит!G12+Кредит!G13)","v":0},{"$f":"H4-(Кредит!H12+Кредит!H13)","v":137325.20531013256},{"$f":"I4-(Кредит!I12+Кредит!I13)","v":150000.97225888236},{"$f":"J4-(Кредит!J12+Кредит!J13)","v":154060.35426100751},{"$f":"K4-(Кредит!K12+Кредит!K13)","v":165391.68929384195},{"$f":"L4-(Кредит!L12+Кредит!L13)","v":176769.35314190763},{"$f":"M4-(Кредит!M12+Кредит!M13)","v":175651.10909382341},{"$f":"N4-(Кредит!N12+Кредит!N13)","v":181054.583999992},{"$f":"O4-(Кредит!O12+Кредит!O13)","v":188633.91854504051},{"$f":"P4-(Кредит!P12+Кредит!P13)","v":195727.32232346002},{"$f":"Q4-(Кредит!Q12+Кредит!Q13)","v":202320.63249759193},{"$f":"R4-(Кредит!R12+Кредит!R13)","v":208363.36646135297},{"$f":"S4-(Кредит!S12+Кредит!S13)","v":213817.43927313027},{"$f":"T4-(Кредит!T12+Кредит!T13)","v":218633.15775987195},{"$f":"U4-(Кредит!U12+Кредит!U13)","v":222845.32475563703},{"$f":"V4-(Кредит!V12+Кредит!V13)","v":226952.36164862939},{"$f":"W4-(Кредит!W12+Кредит!W13)","v":231221.90987616888},{"$f":"X4-(Кредит!X12+Кредит!X13)","v":235097.32052559801},{"$f":"Y4-(Кредит!Y12+Кредит!Y13)","v":238846.2555830717},{"$f":"Z4-(Кредит!Z12+Кредит!Z13)","v":242460.9491343667},{"$f":"AA4-(Кредит!AA12+Кредит!AA13)","v":245933.28816031702},{"$f":"AB4-(Кредит!AB12+Кредит!AB13)","v":247846.92006507429}]

{"sheet":"Рассчет выручки","index":16,"n_rows":8,"n_cols":28,"rows_kept":8,"cut":false,"hidden":true,"merged":[]}
[]
[null,null,2020,2021,2022,2023,2024,2025,2026,2027,2028,2029,2030,2031,2032,2033,2034,2035,2036,2037,2038,2039,2040,2041,2042,2043,2044,2045]
[null,null,{"$f":"Inputs!F50*Inputs!F86","v":0},{"$f":"Inputs!G50*Inputs!G86","v":0},{"$f":"Inputs!H50*Inputs!H86","v":0},{"$f":"Inputs!I50*Inputs!I86","v":0},{"$f":"Inputs!J50*Inputs!J86","v":0},{"$f":"Inputs!K50*Inputs!K86","v":3142129.2171566472},{"$f":"Inputs!L50*Inputs!L86","v":3250957.7040576437},{"$f":"Inputs!M50*Inputs!M86","v":3357011.7610994051},{"$f":"Inputs!N50*Inputs!N86","v":3461950.6701119314},{"$f":"Inputs!O50*Inputs!O86","v":3567928.8327197479},{"$f":"Inputs!P50*Inputs!P86","v":3672194.745668869},{"$f":"Inputs!Q50*Inputs!Q86","v":3774982.5451043407},{"$f":"Inputs!R50*Inputs!R86","v":3875995.7141081616},{"$f":"Inputs!S50*Inputs!S86","v":3974935.6310208421},{"$f":"Inputs!T50*Inputs!T86","v":4071502.9798482917},{"$f":"Inputs!U50*Inputs!U86","v":4165399.2061631461},{"$f":"Inputs!V50*Inputs!V86","v":4256328.0090657594},{"$f":"Inputs!W50*Inputs!W86","v":4343996.8591833366},{"$f":"Inputs!X50*Inputs!X86","v":4428118.5321805505},{"$f":"Inputs!Y50*Inputs!Y86","v":4513869.2247413695},{"$f":"Inputs!Z50*Inputs!Z86","v":4601280.4828948267},{"$f":"Inputs!AA50*Inputs!AA86","v":4690384.463560068},{"$f":"Inputs!AB50*Inputs!AB86","v":4781213.946376266},{"$f":"Inputs!AC50*Inputs!AC86","v":4873802.3457616186},{"$f":"Inputs!AD50*Inputs!AD86","v":4968183.7232058672},{"$f":"Inputs!AE50*Inputs!AE86","v":5064392.7998008663}]
[null,null,{"$f":"Inputs!F51*Inputs!F87","v":0},{"$f":"Inputs!G51*Inputs!G87","v":0},{"$f":"Inputs!H51*Inputs!H87","v":0},{"$f":"Inputs!I51*Inputs!I87","v":0},{"$f":"Inputs!J51*Inputs!J87","v":0},{"$f":"Inputs!K51*Inputs!K87","v":0},{"$f":"Inputs!L51*Inputs!L87","v":0},{"$f":"Inputs!M51*Inputs!M87","v":0},{"$f":"Inputs!N51*Inputs!N87","v":0},{"$f":"Inputs!O51*Inputs!O87","v":0},{"$f":"Inputs!P51*Inputs!P87","v":0},{"$f":"Inputs!Q51*Inputs!Q87","v":0},{"$f":"Inputs!R51*Inputs!R87","v":0},{"$f":"Inputs!S51*Inputs!S87","v":0},{"$f":"Inputs!T51*Inputs!T87","v":0},{"$f":"Inputs!U51*Inputs!U87","v":0},{"$f":"Inputs!V51*Inputs!V87","v":0},{"$f":"Inputs!W51*Inputs!W87","v":0},{"$f":"Inputs!X51*Inputs!X87","v":0},{"$f":"Inputs!Y51*Inputs!Y87","v":0},{"$f":"Inputs!Z51*Inputs!Z87","v":0},{"$f":"Inputs!AA51*Inputs!AA87","v":0},{"$f":"Inputs!AB51*Inputs!AB87","v":0},{"$f":"Inputs!AC51*Inputs!AC87","v":0},{"$f":"Inputs!AD51*Inputs!AD87","v":0},{"$f":"Inputs!AE51*Inputs!AE87","v":0}]
[null,"Карбамид (экспорт) (тыс. руб)",{"$f":"Inputs!F52*Inputs!F88","v":0},{"$f":"Inputs!G52*Inputs!G88","v":0},{"$f":"Inputs!H52*Inputs!H88","v":0},{"$f":"Inputs!I52*Inputs!I88","v":0},{"$f":"Inputs!J52*Inputs!J88","v":0},{"$f":"Inputs!K52*Inputs!K88","v":25846072.259102207},{"$f":"Inputs!L52*Inputs!L88","v":26741257.893395513},{"$f":"Inputs!M52*Inputs!M88","v":27613622.023650084},{"$f":"Inputs!N52*Inputs!N88","v":28476813.330461919},{"$f":"Inputs!O52*Inputs!O88","v":29348553.179253742},{"$f":"Inputs!P52*Inputs!P88","v":30206208.652341783},{"$f":"Inputs!Q52*Inputs!Q88","v":31051705.672979072},{"$f":"Inputs!R52*Inputs!R88","v":31882605.195168741},{"$f":"Inputs!S52*Inputs!S88","v":32696450.860035684},{"$f":"Inputs!T52*Inputs!T88","v":33490780.597347621},{"$f":"Inputs!U52*Inputs!U88","v":34263138.601257727},{"$f":"Inputs!V52*Inputs!V88","v":35011087.602661714},{"$f":"Inputs!W52*Inputs!W88","v":35732221.3557356},{"$f":"Inputs!X52*Inputs!X88","v":36424177.252065681},{"$f":"Inputs!Y52*Inputs!Y88","v":37129532.902015865},{"$f":"Inputs!Z52*Inputs!Z88","v":37848547.792351186},{"$f":"Inputs!AA52*Inputs!AA88","v":38581486.434808254},{"$f":"Inputs!AB52*Inputs!AB88","v":39328618.463404037},{"$f":"Inputs!AC52*Inputs!AC88","v":40090218.733629055},{"$f":"Inputs!AD52*Inputs!AD88","v":40866567.423561379},{"$f":"Inputs!AE52*Inputs!AE88","v":41657950.136938788}]
[null,"КАС(экспорт) (тыс. руб)",{"$f":"Inputs!F53*Inputs!F89","v":0},{"$f":"Inputs!G53*Inputs!G89","v":0},{"$f":"Inputs!H53*Inputs!H89","v":0},{"$f":"Inputs!I53*Inputs!I89","v":0},{"$f":"Inputs!J53*Inputs!J89","v":0},{"$f":"Inputs!K53*Inputs!K89","v":0},{"$f":"Inputs!L53*Inputs!L89","v":0},{"$f":"Inputs!M53*Inputs!M89","v":0},{"$f":"Inputs!N53*Inputs!N89","v":0},{"$f":"Inputs!O53*Inputs!O89","v":0},{"$f":"Inputs!P53*Inputs!P89","v":0},{"$f":"Inputs!Q53*Inputs!Q89","v":0},{"$f":"Inputs!R53*Inputs!R89","v":0},{"$f":"Inputs!S53*Inputs!S89","v":0},{"$f":"Inputs!T53*Inputs!T89","v":0},{"$f":"Inputs!U53*Inputs!U89","v":0},{"$f":"Inputs!V53*Inputs!V89","v":0},{"$f":"Inputs!W53*Inputs!W89","v":0},{"$f":"Inputs!X53*Inputs!X89","v":0},{"$f":"Inputs!Y53*Inputs!Y89","v":0},{"$f":"Inputs!Z53*Inputs!Z89","v":0},{"$f":"Inputs!AA53*Inputs!AA89","v":0},{"$f":"Inputs!AB53*Inputs!AB89","v":0},{"$f":"Inputs!AC53*Inputs!AC89","v":0},{"$f":"Inputs!AD53*Inputs!AD89","v":0},{"$f":"Inputs!AE53*Inputs!AE89","v":0}]
[null,"ИТОГО (тыс. руб.)",{"$f":"C5+C6","v":0},{"$f":"D5+D6","v":0},{"$f":"E5+E6","v":0},{"$f":"F5+F6","v":0},{"$f":"G5+G6","v":0},{"$f":"SUM(H3:H6)","v":28988201.476258855},{"$f":"SUM(I3:I6)","v":29992215.597453158},30970633.784749489,31938764.000573851,32916482.011973489,33878403.398010649,34826688.218083411,35758600.909276903,36671386.491056524,37562283.577195913,38428537.807420872,39267415.611727476,40076218.214918934,40852295.784246229,41643402.126757234,42449828.275246009,43271870.898368321,44109832.409780301,44964021.079390675,45834751.146767244,46722342.936739653]
[null,"ИТОГО (тыс.$)",{"$f":"(C5+C6)/Inputs!F13","v":0},{"$f":"(D5+D6)/Inputs!G13","v":0},{"$f":"(E5+E6)/Inputs!H13","v":0},{"$f":"(F5+F6)/Inputs!I13","v":0},{"$f":"(G5+G6)/Inputs!J13","v":0},{"$f":"H7/Inputs!K13","v":368619.04217012785},{"$f":"I7/Inputs!L13","v":384515.58458273282},{"$f":"J7/Inputs!M13","v":387603.58380398795},{"$f":"K7/Inputs!N13","v":402251.43577548926},{"$f":"L7/Inputs!O13","v":417207.52894150489},{"$f":"M7/Inputs!P13","v":413151.2609513494},{"$f":"N7/Inputs!Q13","v":419598.6532299206},{"$f":"O7/Inputs!R13","v":429790.87631342432},{"$f":"P7/Inputs!S13","v":439704.87399348349},{"$f":"Q7/Inputs!T13","v":449309.61216741527},{"$f":"R7/Inputs!U13","v":458574.4368427312},{"$f":"S7/Inputs!V13","v":467469.23347294616},{"$f":"T7/Inputs!W13","v":475964.58687552175},{"$f":"U7/Inputs!X13","v":484031.94057163777},{"$f":"V7/Inputs!Y13","v":492238.79582455364},{"$f":"W7/Inputs!Z13","v":500587.59758544824},{"$f":"X7/Inputs!AA13","v":509080.83409845084},{"$f":"Y7/Inputs!AB13","v":517721.03767347772},{"$f":"Z7/Inputs!AC13","v":526510.7854729587},{"$f":"AA7/Inputs!AD13","v":535452.70031270152},{"$f":"AB7/Inputs!AE13","v":544549.45147715218}]

{"sheet":"Налоги","index":17,"n_rows":7,"n_cols":29,"rows_kept":7,"cut":false,"hidden":true,"merged":[]}
[]
[null,null,null,2020,2021,2022,2023,2024,2025,2026,2027,2028,2029,2030,2031,2032,2033,2034,2035,2036,2037,2038,2039,2040,2041,2042,2043,2044,2045]
[null,"НДС Входящий",0.2,{"$f":"('Рассчет себестоимости'!D17+'Рассчет себестоимости'!D18+'Рассчет себестоимости'!D19+'Рассчет себестоимости'!D21+'Рассчет себестоимости'!D22+'Рассчет себестоимости'!D31+'Рассчет себестоимости'!D33+'Рассчет себестоимости'!D34)*18%/118%","v":0},{"$f":"('Рассчет себестоимости'!E17+'Рассчет себестоимости'!E18+'Рассчет себестоимости'!E19+'Рассчет себестоимости'!E21+'Рассчет себестоимости'!E22+'Рассчет себестоимости'!E31+'Рассчет себестоимости'!E33+'Рассчет себестоимости'!E34)*18%/118%","v":0},{"$f":"('Рассчет себестоимости'!F17+'Рассчет себестоимости'!F18+'Рассчет себестоимости'!F19+'Рассчет себестоимости'!F21+'Рассчет себестоимости'!F22+'Рассчет себестоимости'!F31+'Рассчет себестоимости'!F33+'Рассчет себестоимости'!F34)*18%/118%","v":0},{"$f":"('Рассчет себестоимости'!G17+'Рассчет себестоимости'!G18+'Рассчет себестоимости'!G19+'Рассчет себестоимости'!G21+'Рассчет себестоимости'!G22+'Рассчет себестоимости'!G31+'Рассчет себестоимости'!G33+'Рассчет себестоимости'!G34)*18%/118%","v":0},{"$f":"('Рассчет себестоимости'!H17+'Рассчет себестоимости'!H18+'Рассчет себестоимости'!H19+'Рассчет себестоимости'!H21+'Рассчет себестоимости'!H22+'Рассчет себестоимости'!H31+'Рассчет себестоимости'!H33+'Рассчет себестоимости'!H34)*18%/118%","v":0},{"$f":"('Рассчет себестоимости'!I17+'Рассчет себестоимости'!I18+'Рассчет себестоимости'!I19+'Рассчет себестоимости'!I21+'Рассчет себестоимости'!I22+'Рассчет себестоимости'!I31+'Рассчет себестоимости'!I33+'Рассчет себестоимости'!I34)*18%/118%","v":1284269.9973171379},{"$f":"('Рассчет себестоимости'!J17+'Рассчет себестоимости'!J18+'Рассчет себестоимости'!J19+'Рассчет себестоимости'!J21+'Рассчет себестоимости'!J22+'Рассчет себестоимости'!J31+'Рассчет себестоимости'!J33+'Рассчет себестоимости'!J34)*18%/118%","v":1333508.6626971113},{"$f":"('Рассчет себестоимости'!K17+'Рассчет себестоимости'!K18+'Рассчет себестоимости'!K19+'Рассчет себестоимости'!K21+'Рассчет себестоимости'!K22+'Рассчет себестоимости'!K31+'Рассчет себестоимости'!K33+'Рассчет себестоимости'!K34)*18%/118%","v":1384716.8746922838},{"$f":"('Рассчет себестоимости'!L17+'Рассчет себестоимости'!L18+'Рассчет себестоимости'!L19+'Рассчет себестоимости'!L21+'Рассчет себестоимости'!L22+'Рассчет себестоимости'!L31+'Рассчет себестоимости'!L33+'Рассчет себестоимости'!L34)*18%/118%","v":1437973.4151672637},{"$f":"('Рассчет себестоимости'!M17+'Рассчет себестоимости'!M18+'Рассчет себестоимости'!M19+'Рассчет себестоимости'!M21+'Рассчет себестоимости'!M22+'Рассчет себестоимости'!M31+'Рассчет себестоимости'!M33+'Рассчет себестоимости'!M34)*18%/118%","v":1493360.217261242},{"$f":"('Рассчет себестоимости'!N17+'Рассчет себестоимости'!N18+'Рассчет себестоимости'!N19+'Рассчет себестоимости'!N21+'Рассчет себестоимости'!N22+'Рассчет себестоимости'!N31+'Рассчет себестоимости'!N33+'Рассчет себестоимости'!N34)*18%/118%","v":1550962.4914389797},{"$f":"('Рассчет себестоимости'!O17+'Рассчет себестоимости'!O18+'Рассчет себестоимости'!O19+'Рассчет себестоимости'!O21+'Рассчет себестоимости'!O22+'Рассчет себестоимости'!O31+'Рассчет себестоимости'!O33+'Рассчет себестоимости'!O34)*18%/118%","v":1610868.8565838269},{"$f":"('Рассчет себестоимости'!P17+'Рассчет себестоимости'!P18+'Рассчет себестоимости'!P19+'Рассчет себестоимости'!P21+'Рассчет себестоимости'!P22+'Рассчет себестоимости'!P31+'Рассчет себестоимости'!P33+'Рассчет себестоимости'!P34)*18%/118%","v":1673171.4763344685},{"$f":"('Рассчет себестоимости'!Q17+'Рассчет себестоимости'!Q18+'Рассчет себестоимости'!Q19+'Рассчет себестоимости'!Q21+'Рассчет себестоимости'!Q22+'Рассчет себестоимости'!Q31+'Рассчет себестоимости'!Q33+'Рассчет себестоимости'!Q34)*18%/118%","v":1737966.2008751354},{"$f":"('Рассчет себестоимости'!R17+'Рассчет себестоимости'!R18+'Рассчет себестоимости'!R19+'Рассчет себестоимости'!R21+'Рассчет себестоимости'!R22+'Рассчет себестоимости'!R31+'Рассчет себестоимости'!R33+'Рассчет себестоимости'!R34)*18%/118%","v":1805352.7143974288},{"$f":"('Рассчет себестоимости'!S17+'Рассчет себестоимости'!S18+'Рассчет себестоимости'!S19+'Рассчет себестоимости'!S21+'Рассчет себестоимости'!S22+'Рассчет себестоимости'!S31+'Рассчет себестоимости'!S33+'Рассчет себестоимости'!S34)*18%/118%","v":1875434.6884606143},{"$f":"('Рассчет себестоимости'!T17+'Рассчет себестоимости'!T18+'Рассчет себестоимости'!T19+'Рассчет себестоимости'!T21+'Рассчет себестоимости'!T22+'Рассчет себестоимости'!T31+'Рассчет себестоимости'!T33+'Рассчет себестоимости'!T34)*18%/118%","v":1948319.9414863267},{"$f":"('Рассчет себестоимости'!U17+'Рассчет себестоимости'!U18+'Рассчет себестоимости'!U19+'Рассчет себестоимости'!U21+'Рассчет себестоимости'!U22+'Рассчет себестоимости'!U31+'Рассчет себестоимости'!U33+'Рассчет себестоимости'!U34)*18%/118%","v":2024120.604633068},{"$f":"('Рассчет себестоимости'!V17+'Рассчет себестоимости'!V18+'Рассчет себестоимости'!V19+'Рассчет себестоимости'!V21+'Рассчет себестоимости'!V22+'Рассчет себестоимости'!V31+'Рассчет себестоимости'!V33+'Рассчет себестоимости'!V34)*18%/118%","v":2102953.2943056789},{"$f":"('Рассчет себестоимости'!W17+'Рассчет себестоимости'!W18+'Рассчет себестоимости'!W19+'Рассчет себестоимости'!W21+'Рассчет себестоимости'!W22+'Рассчет себестоимости'!W31+'Рассчет себестоимости'!W33+'Рассчет себестоимости'!W34)*18%/118%","v":2184939.2915651938},{"$f":"('Рассчет себестоимости'!X17+'Рассчет себестоимости'!X18+'Рассчет себестоимости'!X19+'Рассчет себестоимости'!X21+'Рассчет себестоимости'!X22+'Рассчет себестоимости'!X31+'Рассчет себестоимости'!X33+'Рассчет себестоимости'!X34)*18%/118%","v":2270204.7287150891},{"$f":"('Рассчет себестоимости'!Y17+'Рассчет себестоимости'!Y18+'Рассчет себестоимости'!Y19+'Рассчет себестоимости'!Y21+'Рассчет себестоимости'!Y22+'Рассчет себестоимости'!Y31+'Рассчет себестоимости'!Y33+'Рассчет себестоимости'!Y34)*18%/118%","v":2358880.7833509808},{"$f":"('Рассчет себестоимости'!Z17+'Рассчет себестоимости'!Z18+'Рассчет себестоимости'!Z19+'Рассчет себестоимости'!Z21+'Рассчет себестоимости'!Z22+'Рассчет себестоимости'!Z31+'Рассчет себестоимости'!Z33+'Рассчет себестоимости'!Z34)*18%/118%","v":2451103.880172309},{"$f":"('Рассчет себестоимости'!AA17+'Рассчет себестоимости'!AA18+'Рассчет себестоимости'!AA19+'Рассчет себестоимости'!AA21+'Рассчет себестоимости'!AA22+'Рассчет себестоимости'!AA31+'Рассчет себестоимости'!AA33+'Рассчет себестоимости'!AA34)*18%/118%","v":2547015.9008664889},{"$f":"('Рассчет себестоимости'!AB17+'Рассчет себестоимости'!AB18+'Рассчет себестоимости'!AB19+'Рассчет себестоимости'!AB21+'Рассчет себестоимости'!AB22+'Рассчет себестоимости'!AB31+'Рассчет себестоимости'!AB33+'Рассчет себестоимости'!AB34)*18%/118%","v":2646764.4023884363},{"$f":"('Рассчет себестоимости'!AC17+'Рассчет себестоимости'!AC18+'Рассчет себестоимости'!AC19+'Рассчет себестоимости'!AC21+'Рассчет себестоимости'!AC22+'Рассчет себестоимости'!AC31+'Рассчет себестоимости'!AC33+'Рассчет себестоимости'!AC34)*18%/118%","v":2750502.8439712613}]
[null,"НДС к возврату",null,{"$f":"D3","v":0},{"$f":"E3","v":0},{"$f":"F3","v":0},{"$f":"G3","v":0},{"$f":"H3","v":0},{"$f":"I3+(SUM('Капитальные затраты'!D14:H21))*20%/120%","v":16867146.79731714},{"$f":"J3","v":1333508.6626971113},{"$f":"K3","v":1384716.8746922838},{"$f":"L3","v":1437973.4151672637},{"$f":"M3","v":1493360.217261242},1550962.4914389797,1610868.8565838269,1673171.4763344685,1737966.2008751354,1805352.7143974288,1875434.6884606143,1948319.9414863267,2024120.604633068,{"$f":"V3","v":2102953.2943056789},2184939.2915651938,2270204.7287150891,2358880.7833509808,2451103.880172309,2547015.9008664889,2646764.4023884363,2750502.8439712613]
[null,"Налог на прибыль",0.2,{"$f":"(Прибыль!C5*Inputs!F13)*$C$5","v":0},{"$f":"(Прибыль!D5*Inputs!G13)*$C$5","v":0},{"$f":"(Прибыль!E5*Inputs!H13)*$C$5","v":0},{"$f":"(Прибыль!F5*Inputs!I13)*$C$5","v":0},{"$f":"(Прибыль!G5*Inputs!J13)*$C$5","v":0},{"$f":"ОПУ!N78","v":1778282.9136877554},{"$f":"ОПУ!O78","v":1977345.2770100208},{"$f":"ОПУ!P78","v":2106633.017629148},{"$f":"ОПУ!Q78","v":2289392.9757094621},{"$f":"ОПУ!R78","v":2470401.1315430528},{"$f":"ОПУ!S78","v":2565820.1342010014},{"$f":"ОПУ!T78","v":2703613.3502848772},{"$f":"ОПУ!U78","v":2853093.7453590259},{"$f":"ОПУ!V78","v":2995156.1501694079},{"$f":"ОПУ!W78","v":3129505.4503783728},{"$f":"ОПУ!X78","v":3255235.5462754541},{"$f":"ОПУ!Y78","v":3371640.5416963096},{"$f":"ОПУ!Z78","v":3477812.9642685051},{"$f":"ОПУ!AA78","v":3574263.6833119565},{"$f":"ОПУ!AB78","v":3669353.5625361563},{"$f":"ОПУ!AC78","v":3793720.4743818343},{"$f":"ОПУ!AD78","v":3885759.8933711434},{"$f":"ОПУ!AE78","v":3976035.1892854865},{"$f":"ОПУ!AF78","v":4064398.5432388969},{"$f":"ОПУ!AG78","v":4150694.9513625065},{"$f":"ОПУ!AH78","v":4210602.7205685219}]
[null,"Чистая прибыль (тыс. руб.)",null,{"$f":"Прибыль!C5*Inputs!F13-D5","v":0},{"$f":"Прибыль!D5*Inputs!G13-E5","v":0},{"$f":"Прибыль!E5*Inputs!H13-F5","v":0},{"$f":"Прибыль!F5*Inputs!I13-G5","v":0},{"$f":"Прибыль!G5*Inputs!J13-H5","v":0},{"$f":"ОПУ!N80","v":7113131.6547510205},{"$f":"ОПУ!O80","v":7909381.1080400823},{"$f":"ОПУ!P80","v":8426532.07051659},{"$f":"ОПУ!Q80","v":9157571.9028378464},{"$f":"ОПУ!R80","v":9881604.5261722114},{"$f":"ОПУ!S80","v":10263280.536804006},{"$f":"ОПУ!T80","v":10814453.401139509},{"$f":"ОПУ!U80","v":11412374.981436104},{"$f":"ОПУ!V80","v":11980624.600677632},{"$f":"ОПУ!W80","v":12518021.801513489},{"$f":"ОПУ!X80","v":13020942.185101816},{"$f":"ОПУ!Y80","v":13486562.166785236},{"$f":"ОПУ!Z80","v":13911251.857074019},{"$f":"ОПУ!AA80","v":14297054.733247826},{"$f":"ОПУ!AB80","v":14677414.250144625},{"$f":"ОПУ!AC80","v":15174881.897527337},{"$f":"ОПУ!AD80","v":15543039.573484574},{"$f":"ОПУ!AE80","v":15904140.757141944},{"$f":"ОПУ!AF80","v":16257594.172955588},{"$f":"ОПУ!AG80","v":16602779.805450026},{"$f":"ОПУ!AH80","v":16842410.882274088}]
[null,"Чистая прибыль (тыс. $.)",null,{"$f":"D6/Inputs!F13","v":0},{"$f":"E6/Inputs!G13","v":0},{"$f":"F6/Inputs!H13","v":0},{"$f":"G6/Inputs!I13","v":0},{"$f":"H6/Inputs!J13","v":0},{"$f":"I6/Inputs!K13","v":90451.826738949909},{"$f":"J6/Inputs!L13","v":101402.32189794978},{"$f":"K6/Inputs!M13","v":105459.70909964986},{"$f":"L6/Inputs!N13","v":115334.65872591746},{"$f":"M6/Inputs!O13","v":125246.67140436996},{"$f":"N6/Inputs!P13","v":125161.95776590251},{"$f":"O6/Inputs!Q13","v":130294.61929083745},{"$f":"P6/Inputs!R13","v":137167.96852687624},{"$f":"Q6/Inputs!S13","v":143652.57314961188},{"$f":"R6/Inputs!T13","v":149737.10288891735},{"$f":"S6/Inputs!U13","v":155381.17165992621},{"$f":"T6/Inputs!V13","v":160554.31150934804},{"$f":"U6/Inputs!W13","v":165216.76789874129},{"$f":"V6/Inputs!X13","v":169396.38309535338},{"$f":"W6/Inputs!Y13","v":173491.89420974735},{"$f":"X6/Inputs!Z13","v":178949.0789802752},{"$f":"Y6/Inputs!AA13","v":182859.2890998185},{"$f":"Z6/Inputs!AB13","v":186668.31874579747},{"$f":"AA6/Inputs!AC13","v":190369.95518683357},{"$f":"AB6/Inputs!AD13","v":193957.70800759378},{"$f":"AC6/Inputs!AE13","v":196298.49513139963}]

{"sheet":"ОПУ","index":18,"n_rows":82,"n_cols":35,"rows_kept":82,"cut":false,"hidden":false,"merged":[[10,1,10,34]]}
[]
[]
[null,"Отчет о прибылях и убытках "]
[null,"Вводные данные",null,null,null,null,null,"Факт","Прогноз","Прогноз","Прогноз","Прогноз","Прогноз","Прогноз","Прогноз","Прогноз","Прогноз","Прогноз","Прогноз","Прогноз","Прогноз","Прогноз","Прогноз","Прогноз","Прогноз","Прогноз","Прогноз","Прогноз","Прогноз","Прогноз","Прогноз","Прогноз","Прогноз","Прогноз","Прогноз"]
[null,"Год",null,null,null,null,null,2019,2020,2021,2022,2023,2024,2025,2026,2027,2028,2029,2030,2031,2032,2033,2034,2035,2036,2037,2038,2039,2040,2041,2042,2043,2044,2045,2046]
[]
[null,"ИПЦ (макропрогноз Минэкономразвития)*","%",null,null,null,null,null,{"$f":"Inputs!F11","v":4.5999999999999999E-2},{"$f":"Inputs!G11","v":3.4000000000000002E-2},{"$f":"Inputs!H11","v":0.04},{"$f":"Inputs!I11","v":0.04},{"$f":"Inputs!J11","v":0.04},{"$f":"Inputs!K11","v":0.04},{"$f":"Inputs!L11","v":0.04},{"$f":"Inputs!M11","v":0.04},{"$f":"Inputs!N11","v":0.04},{"$f":"Inputs!O11","v":0.04},{"$f":"Inputs!P11","v":0.04},{"$f":"Inputs!Q11","v":0.04},{"$f":"Inputs!R11","v":0.04},{"$f":"Inputs!S11","v":0.04},{"$f":"Inputs!T11","v":0.04},{"$f":"Inputs!U11","v":0.04},{"$f":"Inputs!V11","v":0.04},{"$f":"Inputs!W11","v":0.04},{"$f":"Inputs!X11","v":0.04},{"$f":"Inputs!Y11","v":0.04},{"$f":"Inputs!Z11","v":0.04},{"$f":"Inputs!AA11","v":0.04},{"$f":"Inputs!AB11","v":0.04},{"$f":"Inputs!AC11","v":0.04},{"$f":"Inputs!AD11","v":0.04},{"$f":"Inputs!AE11","v":0.04}]
[null,"ИПЦ (макропрогноз Минэкономразвития) накопленным итогом","%",null,null,null,null,1,{"$f":"H8*(1+I7)","v":1.046},{"$f":"I8*(1+J7)","v":1.081564},1.12482656,1.1698196224000001,1.2166124072960003,1.2652769035878404,1.3158879797313541,1.3685234989206083,1.4232644388774327,1.4801950164325302,1.5394028170898315,1.6009789297734249,1.665018086964362,1.7316188104429366,1.8008835628606541,1.8729189053750803,1.9478356615900836,2.0257490880536868,{"$f":"Z8*(1+AA7)","v":2.1067790515758342},2.1910502136388676,2.2786922221844224,2.3698399110717991,2.4646335075146713,2.563218847815258,2.6657476017278685,2.7723775057969835]
[null,"Обменный курс USD/RUB","руб.",null,null,null,null,null,{"$f":"Inputs!F13","v":72.599999999999994},{"$f":"Inputs!G13","v":74.2},{"$f":"Inputs!H13","v":76},{"$f":"Inputs!I13","v":75.8},{"$f":"Inputs!J13","v":77.5},{"$f":"Inputs!K13","v":78.64},{"$f":"Inputs!L13","v":78},{"$f":"Inputs!M13","v":79.902857142857101},{"$f":"Inputs!N13","v":79.400000000000006},{"$f":"Inputs!O13","v":78.897142857142896},{"$f":"Inputs!P13","v":82},{"$f":"Inputs!Q13","v":83},{"$f":"Inputs!R13","v":83.2},{"$f":"Inputs!S13","v":83.4},{"$f":"Inputs!T13","v":83.6},{"$f":"Inputs!U13","v":83.8},{"$f":"Inputs!V13","v":84},{"$f":"Inputs!W13","v":84.2},{"$f":"Inputs!X13","v":84.4},{"$f":"Inputs!Y13","v":84.6},{"$f":"Inputs!Z13","v":84.8},{"$f":"Inputs!AA13","v":85},{"$f":"Inputs!AB13","v":85.2},{"$f":"Inputs!AC13","v":85.4},{"$f":"Inputs!AD13","v":85.6},{"$f":"Inputs!AE13","v":85.8}]
[]
[null,"\n*Обновлять с учетом актуальных прогнозов ВЭБ.РФ и иных источников\nМакроэкономические данные (прогнозы инфляции, обменных курсов, роста реальной заработной платы и т.п.) на основе актуального прогноза, официальных данных макроэкономической статистики (указывать ссылки на источник).Прогноз ВЭБ - базовый сценарий, иные источники - по усмотрению"]
[]
[null,"Ставка НДС","%",null,null,null,null,null,0,0,0,0,0,0,0,0,0,0,0,0,0,0,0,0,0,0,0,null,null,null,null,null,null,0,0]
[]
[null,"Выручка от реализации (c НДС)","тыс. руб.",null,null,null,null,null,{"$f":"I18+I19","v":0},{"$f":"J18+J19","v":0},{"$f":"K18+K19","v":0},{"$f":"L18+L19","v":0},{"$f":"M18+M19","v":0},{"$f":"SUM(N16:N19)","v":28988201.476258855},{"$f":"SUM(O16:O19)","v":29992215.597453158},30970633.784749489,31938764.000573851,32916482.011973489,33878403.398010649,34826688.218083411,35758600.909276903,36671386.491056524,37562283.577195913,38428537.807420872,39267415.611727476,40076218.214918934,40852295.784246229,41643402.126757234,42449828.275246009,43271870.898368321,44109832.409780301,44964021.079390675,45834751.146767244,46722342.936739653]
[null,"Аммиак (экспорт)",null,null,null,null,null,null,{"$f":"'Рассчет выручки'!C3","v":0},{"$f":"'Рассчет выручки'!D3","v":0},{"$f":"'Рассчет выручки'!E3","v":0},{"$f":"'Рассчет выручки'!F3","v":0},{"$f":"'Рассчет выручки'!G3","v":0},{"$f":"'Рассчет выручки'!H3","v":3142129.2171566472},{"$f":"'Рассчет выручки'!I3","v":3250957.7040576437},{"$f":"'Рассчет выручки'!J3","v":3357011.7610994051},{"$f":"'Рассчет выручки'!K3","v":3461950.6701119314},{"$f":"'Рассчет выручки'!L3","v":3567928.8327197479},{"$f":"'Рассчет выручки'!M3","v":3672194.745668869},{"$f":"'Рассчет выручки'!N3","v":3774982.5451043407},{"$f":"'Рассчет выручки'!O3","v":3875995.7141081616},{"$f":"'Рассчет выручки'!P3","v":3974935.6310208421},{"$f":"'Рассчет выручки'!Q3","v":4071502.9798482917},{"$f":"'Рассчет выручки'!R3","v":4165399.2061631461},{"$f":"'Рассчет выручки'!S3","v":4256328.0090657594},{"$f":"'Рассчет выручки'!T3","v":4343996.8591833366},{"$f":"'Рассчет выручки'!U3","v":4428118.5321805505},{"$f":"'Рассчет выручки'!V3","v":4513869.2247413695},{"$f":"'Рассчет выручки'!W3","v":4601280.4828948267},{"$f":"'Рассчет выручки'!X3","v":4690384.463560068},{"$f":"'Рассчет выручки'!Y3","v":4781213.946376266},{"$f":"'Рассчет выручки'!Z3","v":4873802.3457616186},{"$f":"'Рассчет выручки'!AA3","v":4968183.7232058672},{"$f":"'Рассчет выручки'!AB3","v":5064392.7998008663}]
[null,"Известковая аммиачная селитра (экспорт)",null,null,null,null,null,null,{"$f":"'Рассчет выручки'!C4","v":0},{"$f":"'Рассчет выручки'!D4","v":0},{"$f":"'Рассчет выручки'!E4","v":0},{"$f":"'Рассчет выручки'!F4","v":0},{"$f":"'Рассчет выручки'!G4","v":0},{"$f":"'Рассчет выручки'!H4","v":0},{"$f":"'Рассчет выручки'!I4","v":0},{"$f":"'Рассчет выручки'!J4","v":0},{"$f":"'Рассчет выручки'!K4","v":0},{"$f":"'Рассчет выручки'!L4","v":0},{"$f":"'Рассчет выручки'!M4","v":0},{"$f":"'Рассчет выручки'!N4","v":0},{"$f":"'Рассчет выручки'!O4","v":0},{"$f":"'Рассчет выручки'!P4","v":0},{"$f":"'Рассчет выручки'!Q4","v":0},{"$f":"'Рассчет выручки'!R4","v":0},{"$f":"'Рассчет выручки'!S4","v":0},{"$f":"'Рассчет выручки'!T4","v":0},{"$f":"'Рассчет выручки'!U4","v":0},{"$f":"'Рассчет выручки'!V4","v":0},{"$f":"'Рассчет выручки'!W4","v":0},{"$f":"'Рассчет выручки'!X4","v":0},{"$f":"'Рассчет выручки'!Y4","v":0},{"$f":"'Рассчет выручки'!Z4","v":0},{"$f":"'Рассчет выручки'!AA4","v":0},{"$f":"'Рассчет выручки'!AB4","v":0}]
[null,"Карбамид (Экспорт)",null,null,null,null,null,null,{"$f":"'Рассчет выручки'!C5","v":0},{"$f":"'Рассчет выручки'!D5","v":0},{"$f":"'Рассчет выручки'!E5","v":0},{"$f":"'Рассчет выручки'!F5","v":0},{"$f":"'Рассчет выручки'!G5","v":0},{"$f":"'Рассчет выручки'!H5","v":25846072.259102207},{"$f":"'Рассчет выручки'!I5","v":26741257.893395513},{"$f":"'Рассчет выручки'!J5","v":27613622.023650084},{"$f":"'Рассчет выручки'!K5","v":28476813.330461919},{"$f":"'Рассчет выручки'!L5","v":29348553.179253742},{"$f":"'Рассчет выручки'!M5","v":30206208.652341783},{"$f":"'Рассчет выручки'!N5","v":31051705.672979072},{"$f":"'Рассчет выручки'!O5","v":31882605.195168741},{"$f":"'Рассчет выручки'!P5","v":32696450.860035684},{"$f":"'Рассчет выручки'!Q5","v":33490780.597347621},{"$f":"'Рассчет выручки'!R5","v":34263138.601257727},{"$f":"'Рассчет выручки'!S5","v":35011087.602661714},{"$f":"'Рассчет выручки'!T5","v":35732221.3557356},{"$f":"'Рассчет выручки'!U5","v":36424177.252065681},{"$f":"'Рассчет выручки'!V5","v":37129532.902015865},{"$f":"'Рассчет выручки'!W5","v":37848547.792351186},{"$f":"'Рассчет выручки'!X5","v":38581486.434808254},{"$f":"'Рассчет выручки'!Y5","v":39328618.463404037},{"$f":"'Рассчет выручки'!Z5","v":40090218.733629055},{"$f":"'Рассчет выручки'!AA5","v":40866567.423561379},{"$f":"'Рассчет выручки'!AB5","v":41657950.136938788}]
[null,"Кас (Экспорт)",null,null,null,null,null,null,{"$f":"'Рассчет выручки'!C6","v":0},{"$f":"'Рассчет выручки'!D6","v":0},{"$f":"'Рассчет выручки'!E6","v":0},{"$f":"'Рассчет выручки'!F6","v":0},{"$f":"'Рассчет выручки'!G6","v":0},{"$f":"'Рассчет выручки'!H6","v":0},{"$f":"'Рассчет выручки'!I6","v":0},{"$f":"'Рассчет выручки'!J6","v":0},{"$f":"'Рассчет выручки'!K6","v":0},{"$f":"'Рассчет выручки'!L6","v":0},{"$f":"'Рассчет выручки'!M6","v":0},{"$f":"'Рассчет выручки'!N6","v":0},{"$f":"'Рассчет выручки'!O6","v":0},{"$f":"'Рассчет выручки'!P6","v":0},{"$f":"'Рассчет выручки'!Q6","v":0},{"$f":"'Рассчет выручки'!R6","v":0},{"$f":"'Рассчет выручки'!S6","v":0},{"$f":"'Рассчет выручки'!T6","v":0},{"$f":"'Рассчет выручки'!U6","v":0},{"$f":"'Рассчет выручки'!V6","v":0},{"$f":"'Рассчет выручки'!W6","v":0},{"$f":"'Рассчет выручки'!X6","v":0},{"$f":"'Рассчет выручки'!Y6","v":0},{"$f":"'Рассчет выручки'!Z6","v":0},{"$f":"'Рассчет выручки'!AA6","v":0},{"$f":"'Рассчет выручки'!AB6","v":0}]
[]
[null,"Цены на продукцию/услуги по видам продукции/услуг"]
[null,"Аммиак (экспорт)","тыс. руб.",null,null,null,null,null,{"$f":"Inputs!F50","v":14.519999999999998},{"$f":"Inputs!G50","v":15.074067807774163},{"$f":"Inputs!H50","v":15.659671462840189},{"$f":"Inputs!I50","v":16.25455634219184},{"$f":"Inputs!J50","v":16.837259216268649},{"$f":"Inputs!K50","v":17.447404331446222},{"$f":"Inputs!L50","v":18.05169985289502},{"$f":"Inputs!M50","v":18.640589706340418},{"$f":"Inputs!N50","v":19.223287440617305},{"$f":"Inputs!O50","v":19.81175587254117},{"$f":"Inputs!P50","v":20.39071663942423},{"$f":"Inputs!Q50","v":20.961469836745991},{"$f":"Inputs!R50","v":21.522368985255614},{"$f":"Inputs!S50","v":22.071755918634928},{"$f":"Inputs!T50","v":22.607968615111162},{"$f":"Inputs!U50","v":23.129349281688175},{"$f":"Inputs!V50","v":23.634252638607371},{"$f":"Inputs!W50","v":24.121054348391436},{"$f":"Inputs!X50","v":24.588159531019233},{"$f":"Inputs!Y50","v":25.064310224199197},{"$f":"Inputs!Z50","v":25.549681594605111},{"$f":"Inputs!AA50","v":26.044452201020412},{"$f":"Inputs!AB50","v":26.548804060026519},{"$f":"Inputs!AC50","v":27.062922712963235},{"$f":"Inputs!AD50","v":27.586997294185828},{"$f":"Inputs!AE50","v":28.12122060064393}]
[null,"Известковая аммиачная селитра (экспорт)","тыс. руб.",null,null,null,null,null,{"$f":"Inputs!F51","v":0},{"$f":"Inputs!G51","v":0},{"$f":"Inputs!H51","v":0},{"$f":"Inputs!I51","v":0},{"$f":"Inputs!J51","v":0},{"$f":"Inputs!K51","v":0},{"$f":"Inputs!L51","v":0},{"$f":"Inputs!M51","v":0},{"$f":"Inputs!N51","v":0},{"$f":"Inputs!O51","v":0},{"$f":"Inputs!P51","v":0},{"$f":"Inputs!Q51","v":0},{"$f":"Inputs!R51","v":0},{"$f":"Inputs!S51","v":0},{"$f":"Inputs!T51","v":0},{"$f":"Inputs!U51","v":0},{"$f":"Inputs!V51","v":0},{"$f":"Inputs!W51","v":0},{"$f":"Inputs!X51","v":0},{"$f":"Inputs!Y51","v":0},{"$f":"Inputs!Z51","v":0},{"$f":"Inputs!AA51","v":0},{"$f":"Inputs!AB51","v":0},{"$f":"Inputs!AC51","v":0},{"$f":"Inputs!AD51","v":0},{"$f":"Inputs!AE51","v":0}]
[null,"Карбамид (Экспорт)","тыс. руб.",null,null,null,null,null,{"$f":"Inputs!F52","v":18.2226},{"$f":"Inputs!G52","v":18.917955098756579},{"$f":"Inputs!H52","v":19.652887685864442},{"$f":"Inputs!I52","v":20.399468209450763},{"$f":"Inputs!J52","v":21.13076031641716},{"$f":"Inputs!K52","v":21.896492435965015},{"$f":"Inputs!L52","v":22.654883315383259},{"$f":"Inputs!M52","v":23.393940081457234},{"$f":"Inputs!N52","v":24.125225737974727},{"$f":"Inputs!O52","v":24.863753620039176},{"$f":"Inputs!P52","v":25.59034938247742},{"$f":"Inputs!Q52","v":26.306644645116233},{"$f":"Inputs!R52","v":27.01057307649581},{"$f":"Inputs!S52","v":27.700053677886846},{"$f":"Inputs!T52","v":28.373000611964521},{"$f":"Inputs!U52","v":29.027333348518674},{"$f":"Inputs!V52","v":29.660987061452264},{"$f":"Inputs!W52","v":30.271923207231264},{"$f":"Inputs!X52","v":30.858140211429149},{"$f":"Inputs!Y52","v":31.455709331370002},{"$f":"Inputs!Z52","v":32.064850401229428},{"$f":"Inputs!AA52","v":32.685787512280633},{"$f":"Inputs!AB52","v":33.318749095333295},{"$f":"Inputs!AC52","v":33.963968004768873},{"$f":"Inputs!AD52","v":34.621681604203225},{"$f":"Inputs!AE52","v":35.292131853808144}]
[null,"Кас (Экспорт)","тыс. руб.",null,null,null,null,null,{"$f":"Inputs!F53","v":0},{"$f":"Inputs!G53","v":0},{"$f":"Inputs!H53","v":0},{"$f":"Inputs!I53","v":0},{"$f":"Inputs!J53","v":0},{"$f":"Inputs!K53","v":0},{"$f":"Inputs!L53","v":0},{"$f":"Inputs!M53","v":0},{"$f":"Inputs!N53","v":0},{"$f":"Inputs!O53","v":0},{"$f":"Inputs!P53","v":0},{"$f":"Inputs!Q53","v":0},{"$f":"Inputs!R53","v":0},{"$f":"Inputs!S53","v":0},{"$f":"Inputs!T53","v":0},{"$f":"Inputs!U53","v":0},{"$f":"Inputs!V53","v":0},{"$f":"Inputs!W53","v":0},{"$f":"Inputs!X53","v":0},{"$f":"Inputs!Y53","v":0},{"$f":"Inputs!Z53","v":0},{"$f":"Inputs!AA53","v":0},{"$f":"Inputs!AB53","v":0},{"$f":"Inputs!AC53","v":0},{"$f":"Inputs!AD53","v":0},{"$f":"Inputs!AE53","v":0}]
[]
[]
[null,"Объемы реализации","тонн",null,null,null,null,null,{"$f":"I31+I32","v":0},0,0,0,0,1180375,1180375,1180375,1180375,1180375,1180375,1180375,1180375,1180375,1180375,1180375,1180375,1180375,{"$f":"AA31+AA32","v":1180375},1180375,1180375,1180375,1180375,1180375,1180375,1180375]
[null,"Аммиак (экспорт)","тонн",null,null,null,null,null,{"$f":"Inputs!F86","v":0},{"$f":"Inputs!G86","v":0},{"$f":"Inputs!H86","v":0},{"$f":"Inputs!I86","v":0},{"$f":"Inputs!J86","v":0},{"$f":"Inputs!K86","v":180091.5},{"$f":"Inputs!L86","v":180091.5},{"$f":"Inputs!M86","v":180091.5},{"$f":"Inputs!N86","v":180091.5},{"$f":"Inputs!O86","v":180091.5},{"$f":"Inputs!P86","v":180091.5},{"$f":"Inputs!Q86","v":180091.5},{"$f":"Inputs!R86","v":180091.5},{"$f":"Inputs!S86","v":180091.5},{"$f":"Inputs!T86","v":180091.5},{"$f":"Inputs!U86","v":180091.5},{"$f":"Inputs!V86","v":180091.5},{"$f":"Inputs!W86","v":180091.5},{"$f":"Inputs!X86","v":180091.5},{"$f":"Inputs!Y86","v":180091.5},{"$f":"Inputs!Z86","v":180091.5},{"$f":"Inputs!AA86","v":180091.5},{"$f":"Inputs!AB86","v":180091.5},{"$f":"Inputs!AC86","v":180091.5},{"$f":"Inputs!AD86","v":180091.5},{"$f":"Inputs!AE86","v":180091.5}]
[null,"Известковая аммиачная селитра (экспорт)","тонн",null,null,null,null,null,{"$f":"Inputs!F87","v":0},{"$f":"Inputs!G87","v":0},{"$f":"Inputs!H87","v":0},{"$f":"Inputs!I87","v":0},{"$f":"Inputs!J87","v":0},{"$f":"Inputs!K87","v":0},{"$f":"Inputs!L87","v":0},{"$f":"Inputs!M87","v":0},{"$f":"Inputs!N87","v":0},{"$f":"Inputs!O87","v":0},{"$f":"Inputs!P87","v":0},{"$f":"Inputs!Q87","v":0},{"$f":"Inputs!R87","v":0},{"$f":"Inputs!S87","v":0},{"$f":"Inputs!T87","v":0},{"$f":"Inputs!U87","v":0},{"$f":"Inputs!V87","v":0},{"$f":"Inputs!W87","v":0},{"$f":"Inputs!X87","v":0},{"$f":"Inputs!Y87","v":0},{"$f":"Inputs!Z87","v":0},{"$f":"Inputs!AA87","v":0},{"$f":"Inputs!AB87","v":0},{"$f":"Inputs!AC87","v":0},{"$f":"Inputs!AD87","v":0},{"$f":"Inputs!AE87","v":0}]
[null,"Карбамид (Экспорт)","тонн",null,null,null,null,null,{"$f":"Inputs!F88","v":0},{"$f":"Inputs!G88","v":0},{"$f":"Inputs!H88","v":0},{"$f":"Inputs!I88","v":0},{"$f":"Inputs!J88","v":0},{"$f":"Inputs!K88","v":1180375},{"$f":"Inputs!L88","v":1180375},{"$f":"Inputs!M88","v":1180375},{"$f":"Inputs!N88","v":1180375},{"$f":"Inputs!O88","v":1180375},{"$f":"Inputs!P88","v":1180375},{"$f":"Inputs!Q88","v":1180375},{"$f":"Inputs!R88","v":1180375},{"$f":"Inputs!S88","v":1180375},{"$f":"Inputs!T88","v":1180375},{"$f":"Inputs!U88","v":1180375},{"$f":"Inputs!V88","v":1180375},{"$f":"Inputs!W88","v":1180375},{"$f":"Inputs!X88","v":1180375},{"$f":"Inputs!Y88","v":1180375},{"$f":"Inputs!Z88","v":1180375},{"$f":"Inputs!AA88","v":1180375},{"$f":"Inputs!AB88","v":1180375},{"$f":"Inputs!AC88","v":1180375},{"$f":"Inputs!AD88","v":1180375},{"$f":"Inputs!AE88","v":1180375}]
[null,"Кас (Экспорт)","тонн",null,null,null,null,null,{"$f":"Inputs!F89","v":0},{"$f":"Inputs!G89","v":0},{"$f":"Inputs!H89","v":0},{"$f":"Inputs!I89","v":0},{"$f":"Inputs!J89","v":0},{"$f":"Inputs!K89","v":0},{"$f":"Inputs!L89","v":0},{"$f":"Inputs!M89","v":0},{"$f":"Inputs!N89","v":0},{"$f":"Inputs!O89","v":0},{"$f":"Inputs!P89","v":0},{"$f":"Inputs!Q89","v":0},{"$f":"Inputs!R89","v":0},{"$f":"Inputs!S89","v":0},{"$f":"Inputs!T89","v":0},{"$f":"Inputs!U89","v":0},{"$f":"Inputs!V89","v":0},{"$f":"Inputs!W89","v":0},{"$f":"Inputs!X89","v":0},{"$f":"Inputs!Y89","v":0},{"$f":"Inputs!Z89","v":0},{"$f":"Inputs!AA89","v":0},{"$f":"Inputs!AB89","v":0},{"$f":"Inputs!AC89","v":0},{"$f":"Inputs!AD89","v":0},{"$f":"Inputs!AE89","v":0}]
[]
[]
[]
[null,"Выручка от реализации (без НДС)","тыс. руб.",null,null,null,null,null,{"$f":"I15/(1+I13)","v":0},0,0,0,0,{"$f":"N15/(1+N13)","v":28988201.476258855},29992215.597453158,30970633.784749489,31938764.000573851,32916482.011973489,33878403.398010649,34826688.218083411,35758600.909276903,36671386.491056524,37562283.577195913,38428537.807420872,39267415.611727476,40076218.214918934,{"$f":"AA15/(1+AA13)","v":40852295.784246229},41643402.126757234,42449828.275246009,43271870.898368321,44109832.409780301,44964021.079390675,45834751.146767244,46722342.936739653]
[null,"Динамика выручки",null,null,null,null,null,null,{"$f":"IFERROR(I36/H36,0)","v":0},0,0,0,0,0,{"$f":"IFERROR(O36/N36,0)","v":1.0346352678008184},1.0326224044408181,1.0312596191138035,1.030612268257534,1.0292230921180234,1.0279908356049756,1.0267585790919276,1.0255263225788795,1.024294066065832,1.0230618095527841,1.0218295530397363,1.0205972965266883,1.0193650400136405,1.0193650400136405,1.0193650400136405,1.0193650400136407,1.0193650400136403,1.0193650400136405,1.0193650400136403,1.0193650400136407]
[]
[null,"Себестоимость итого ","тыс. руб.",null,null,null,null,null,{"$f":"-SUM(I41:I47)","v":0},0,0,0,0,-10123745.186803363,-10495309.551260332,{"$f":"-SUM(P41:P47)","v":-10881413.021682827},-11282637.162309466,-11698575.960533565,-12130869.275650471,-12581182.127750749,-13045140.667662876,-13528506.65427996,-14029994.273063906,-14551379.662292834,-15093458.732784541,-15658070.071204394,{"$f":"-SUM(AA41:AA47)","v":-16240009.498203808},-16845226.502283197,-17451379.20041357,-18105981.912025839,-18786768.732102603,-19494787.02498243,-20231126.049577452,-20996918.635156274]
[null,"в том числе"]
[null,"    Сырье и материалы",null,null,null,null,null,null,{"$f":"'Рассчет себестоимости'!D17+'Рассчет себестоимости'!D18+'Рассчет себестоимости'!D19+'Рассчет себестоимости'!D20+'Рассчет себестоимости'!D21+'Рассчет себестоимости'!D22+'Рассчет себестоимости'!D29+'Рассчет себестоимости'!D30","v":0},{"$f":"'Рассчет себестоимости'!E17+'Рассчет себестоимости'!E18+'Рассчет себестоимости'!E19+'Рассчет себестоимости'!E20+'Рассчет себестоимости'!E21+'Рассчет себестоимости'!E22+'Рассчет себестоимости'!E29+'Рассчет себестоимости'!E30","v":0},{"$f":"'Рассчет себестоимости'!F17+'Рассчет себестоимости'!F18+'Рассчет себестоимости'!F19+'Рассчет себестоимости'!F20+'Рассчет себестоимости'!F21+'Рассчет себестоимости'!F22+'Рассчет себестоимости'!F29+'Рассчет себестоимости'!F30","v":0},{"$f":"'Рассчет себестоимости'!G17+'Рассчет себестоимости'!G18+'Рассчет себестоимости'!G19+'Рассчет себестоимости'!G20+'Рассчет себестоимости'!G21+'Рассчет себестоимости'!G22+'Рассчет себестоимости'!G29+'Рассчет себестоимости'!G30","v":0},{"$f":"'Рассчет себестоимости'!H17+'Рассчет себестоимости'!H18+'Рассчет себестоимости'!H19+'Рассчет себестоимости'!H20+'Рассчет себестоимости'!H21+'Рассчет себестоимости'!H22+'Рассчет себестоимости'!H29+'Рассчет себестоимости'!H30","v":0},{"$f":"SUM('Рассчет себестоимости'!I17:I31)","v":4849549.7185360808},{"$f":"SUM('Рассчет себестоимости'!J17:J31)","v":5029554.3810275234},{"$f":"SUM('Рассчет себестоимости'!K17:K31)","v":5216759.230018625},{"$f":"SUM('Рассчет себестоимости'!L17:L31)","v":5411452.2729693707},{"$f":"SUM('Рассчет себестоимости'!M17:M31)","v":5613933.0376381436},{"$f":"SUM('Рассчет себестоимости'!N17:N31)","v":5824513.0328936689},{"$f":"SUM('Рассчет себестоимости'!O17:O31)","v":6043516.2279594159},{"$f":"SUM('Рассчет себестоимости'!P17:P31)","v":6271279.5508277938},{"$f":"SUM('Рассчет себестоимости'!Q17:Q31)","v":6508153.4066109052},{"$f":"SUM('Рассчет себестоимости'!R17:R31)","v":6754502.2166253403},{"$f":"SUM('Рассчет себестоимости'!S17:S31)","v":7010704.9790403545},{"$f":"SUM('Рассчет себестоимости'!T17:T31)","v":7277155.8519519679},{"$f":"SUM('Рассчет себестоимости'!U17:U31)","v":7554264.7597800465},{"$f":"SUM('Рассчет себестоимости'!V17:V31)","v":7842458.0239212485},{"$f":"SUM('Рассчет себестоимости'!W17:W31)","v":8142179.0186280981},{"$f":"SUM('Рассчет себестоимости'!X17:X31)","v":8453888.8531232197},{"$f":"SUM('Рассчет себестоимости'!Y17:Y31)","v":8778067.0809981488},{"$f":"SUM('Рассчет себестоимости'!Z17:Z31)","v":9115212.4379880782},{"$f":"SUM('Рассчет себестоимости'!AA17:AA31)","v":9465843.6092575975},{"$f":"SUM('Рассчет себестоимости'!AB17:AB31)","v":9830500.0273779016},{"$f":"SUM('Рассчет себестоимости'!AC17:AC31)","v":10209742.702223016}]
[null,"    Прочие переменные расходы",null,null,null,null,null,null,{"$f":"'Рассчет себестоимости'!D33+'Рассчет себестоимости'!D34+'Рассчет себестоимости'!D35+'Рассчет себестоимости'!D36","v":0},{"$f":"'Рассчет себестоимости'!E33+'Рассчет себестоимости'!E34+'Рассчет себестоимости'!E35+'Рассчет себестоимости'!E36","v":0},{"$f":"'Рассчет себестоимости'!F33+'Рассчет себестоимости'!F34+'Рассчет себестоимости'!F35+'Рассчет себестоимости'!F36","v":0},{"$f":"'Рассчет себестоимости'!G33+'Рассчет себестоимости'!G34+'Рассчет себестоимости'!G35+'Рассчет себестоимости'!G36","v":0},{"$f":"'Рассчет себестоимости'!H33+'Рассчет себестоимости'!H34+'Рассчет себестоимости'!H35+'Рассчет себестоимости'!H36","v":0},{"$f":"'Рассчет себестоимости'!I33+'Рассчет себестоимости'!I34+'Рассчет себестоимости'!I35+'Рассчет себестоимости'!I36","v":3939889.6835578145},{"$f":"'Рассчет себестоимости'!J33+'Рассчет себестоимости'!J34+'Рассчет себестоимости'!J35+'Рассчет себестоимости'!J36","v":4097485.270900127},{"$f":"'Рассчет себестоимости'!K33+'Рассчет себестоимости'!K34+'Рассчет себестоимости'!K35+'Рассчет себестоимости'!K36","v":4261384.6817361321},{"$f":"'Рассчет себестоимости'!L33+'Рассчет себестоимости'!L34+'Рассчет себестоимости'!L35+'Рассчет себестоимости'!L36","v":4431840.0690055778},{"$f":"'Рассчет себестоимости'!M33+'Рассчет себестоимости'!M34+'Рассчет себестоимости'!M35+'Рассчет себестоимости'!M36","v":4609113.6717658006},{"$f":"'Рассчет себестоимости'!N33+'Рассчет себестоимости'!N34+'Рассчет себестоимости'!N35+'Рассчет себестоимости'!N36","v":4793478.2186364327},{"$f":"'Рассчет себестоимости'!O33+'Рассчет себестоимости'!O34+'Рассчет себестоимости'!O35+'Рассчет себестоимости'!O36","v":4985217.3473818898},{"$f":"'Рассчет себестоимости'!P33+'Рассчет себестоимости'!P34+'Рассчет себестоимости'!P35+'Рассчет себестоимости'!P36","v":5184626.0412771655},{"$f":"'Рассчет себестоимости'!Q33+'Рассчет себестоимости'!Q34+'Рассчет себестоимости'!Q35+'Рассчет себестоимости'!Q36","v":5392011.0829282524},{"$f":"'Рассчет себестоимости'!R33+'Рассчет себестоимости'!R34+'Рассчет себестоимости'!R35+'Рассчет себестоимости'!R36","v":5607691.5262453817},{"$f":"'Рассчет себестоимости'!S33+'Рассчет себестоимости'!S34+'Рассчет себестоимости'!S35+'Рассчет себестоимости'!S36","v":5831999.1872951975},{"$f":"'Рассчет себестоимости'!T33+'Рассчет себестоимости'!T34+'Рассчет себестоимости'!T35+'Рассчет себестоимости'!T36","v":6065279.1547870049},{"$f":"'Рассчет себестоимости'!U33+'Рассчет себестоимости'!U34+'Рассчет себестоимости'!U35+'Рассчет себестоимости'!U36","v":6307890.3209784841},{"$f":"'Рассчет себестоимости'!V33+'Рассчет себестоимости'!V34+'Рассчет себестоимости'!V35+'Рассчет себестоимости'!V36","v":6560205.9338176241},{"$f":"'Рассчет себестоимости'!W33+'Рассчет себестоимости'!W34+'Рассчет себестоимости'!W35+'Рассчет себестоимости'!W36","v":6822614.1711703278},{"$f":"'Рассчет себестоимости'!X33+'Рассчет себестоимости'!X34+'Рассчет себестоимости'!X35+'Рассчет себестоимости'!X36","v":7095518.73801714},{"$f":"'Рассчет себестоимости'!Y33+'Рассчет себестоимости'!Y34+'Рассчет себестоимости'!Y35+'Рассчет себестоимости'!Y36","v":7379339.4875378264},{"$f":"'Рассчет себестоимости'!Z33+'Рассчет себестоимости'!Z34+'Рассчет себестоимости'!Z35+'Рассчет себестоимости'!Z36","v":7674513.0670393389},{"$f":"'Рассчет себестоимости'!AA33+'Рассчет себестоимости'!AA34+'Рассчет себестоимости'!AA35+'Рассчет себестоимости'!AA36","v":7981493.5897209132},{"$f":"'Рассчет себестоимости'!AB33+'Рассчет себестоимости'!AB34+'Рассчет себестоимости'!AB35+'Рассчет себестоимости'!AB36","v":8300753.3333097491},{"$f":"'Рассчет себестоимости'!AC33+'Рассчет себестоимости'!AC34+'Рассчет себестоимости'!AC35+'Рассчет себестоимости'!AC36","v":8632783.4666421395}]
[null,"    Оплата производственного персонала",null,null,null,null,null,null,{"$f":"'Рассчет себестоимости'!D37","v":0},{"$f":"'Рассчет себестоимости'!E37","v":0},{"$f":"'Рассчет себестоимости'!F37","v":0},{"$f":"'Рассчет себестоимости'!G37","v":0},{"$f":"'Рассчет себестоимости'!H37","v":0},{"$f":"'Рассчет себестоимости'!I37","v":220994.87536560438},{"$f":"'Рассчет себестоимости'!J37","v":229834.67038022855},{"$f":"'Рассчет себестоимости'!K37","v":239028.05719543769},{"$f":"'Рассчет себестоимости'!L37","v":248589.17948325523},{"$f":"'Рассчет себестоимости'!M37","v":258532.74666258544},{"$f":"'Рассчет себестоимости'!N37","v":268874.05652908882},{"$f":"'Рассчет себестоимости'!O37","v":279629.01879025239},{"$f":"'Рассчет себестоимости'!P37","v":290814.17954186257},{"$f":"'Рассчет себестоимости'!Q37","v":302446.74672353704},{"$f":"'Рассчет себестоимости'!R37","v":314544.61659247847},{"$f":"'Рассчет себестоимости'!S37","v":327126.40125617757},{"$f":"'Рассчет себестоимости'!T37","v":340211.45730642474},{"$f":"'Рассчет себестоимости'!U37","v":353819.91559868172},{"$f":"'Рассчет себестоимости'!V37","v":367972.71222262899},{"$f":"'Рассчет себестоимости'!W37","v":382691.62071153411},{"$f":"'Рассчет себестоимости'!X37","v":397999.28553999553},{"$f":"'Рассчет себестоимости'!Y37","v":413919.25696159533},{"$f":"'Рассчет себестоимости'!Z37","v":430476.02724005911},{"$f":"'Рассчет себестоимости'!AA37","v":447695.0683296615},{"$f":"'Рассчет себестоимости'!AB37","v":465602.87106284796},{"$f":"'Рассчет себестоимости'!AC37","v":484226.98590536183}]
[null,"    Лизинговые платежи",null,null,null,null,null,null,{"$f":"'Рассчет себестоимости'!D38","v":0},{"$f":"'Рассчет себестоимости'!E38","v":0},{"$f":"'Рассчет себестоимости'!F38","v":0},{"$f":"'Рассчет себестоимости'!G38","v":0},{"$f":"'Рассчет себестоимости'!H38","v":0},{"$f":"'Рассчет себестоимости'!I38","v":0},{"$f":"'Рассчет себестоимости'!J38","v":0},{"$f":"'Рассчет себестоимости'!K38","v":0},{"$f":"'Рассчет себестоимости'!L38","v":0},{"$f":"'Рассчет себестоимости'!M38","v":0},{"$f":"'Рассчет себестоимости'!N38","v":0},{"$f":"'Рассчет себестоимости'!O38","v":0},{"$f":"'Рассчет себестоимости'!P38","v":0},{"$f":"'Рассчет себестоимости'!Q38","v":0},{"$f":"'Рассчет себестоимости'!R38","v":0},{"$f":"'Рассчет себестоимости'!S38","v":0},{"$f":"'Рассчет себестоимости'!T38","v":0},{"$f":"'Рассчет себестоимости'!U38","v":0},{"$f":"'Рассчет себестоимости'!V38","v":0},{"$f":"'Рассчет себестоимости'!W38","v":0},{"$f":"'Рассчет себестоимости'!X38","v":0},{"$f":"'Рассчет себестоимости'!Y38","v":0},{"$f":"'Рассчет себестоимости'!Z38","v":0},{"$f":"'Рассчет себестоимости'!AA38","v":0},{"$f":"'Рассчет себестоимости'!AB38","v":0},{"$f":"'Рассчет себестоимости'!AC38","v":0}]
[null,"    Прочие производственные расходы",null,null,null,null,null,null,{"$f":"'Рассчет себестоимости'!D39","v":0},{"$f":"'Рассчет себестоимости'!E39","v":0},{"$f":"'Рассчет себестоимости'!F39","v":0},{"$f":"'Рассчет себестоимости'!G39","v":0},{"$f":"'Рассчет себестоимости'!H39","v":0},{"$f":"'Рассчет себестоимости'!I39","v":0},{"$f":"'Рассчет себестоимости'!J39","v":0},{"$f":"'Рассчет себестоимости'!K39","v":0},{"$f":"'Рассчет себестоимости'!L39","v":0},{"$f":"'Рассчет себестоимости'!M39","v":0},{"$f":"'Рассчет себестоимости'!N39","v":0},{"$f":"'Рассчет себестоимости'!O39","v":0},{"$f":"'Рассчет себестоимости'!P39","v":0},{"$f":"'Рассчет себестоимости'!Q39","v":0},{"$f":"'Рассчет себестоимости'!R39","v":0},{"$f":"'Рассчет себестоимости'!S39","v":0},{"$f":"'Рассчет себестоимости'!T39","v":0},{"$f":"'Рассчет себестоимости'!U39","v":0},{"$f":"'Рассчет себестоимости'!V39","v":0},{"$f":"'Рассчет себестоимости'!W39","v":0},{"$f":"'Рассчет себестоимости'!X39","v":0},{"$f":"'Рассчет себестоимости'!Y39","v":0},{"$f":"'Рассчет себестоимости'!Z39","v":0},{"$f":"'Рассчет себестоимости'!AA39","v":0},{"$f":"'Рассчет себестоимости'!AB39","v":0},{"$f":"'Рассчет себестоимости'!AC39","v":0}]
[null,"Расходы на персонал",null,null,null,null,null,null,{"$f":"'Рассчет себестоимости'!D40","v":0},{"$f":"'Рассчет себестоимости'!E40","v":0},{"$f":"'Рассчет себестоимости'!F40","v":0},{"$f":"'Рассчет себестоимости'!G40","v":0},{"$f":"'Рассчет себестоимости'!H40","v":0},{"$f":"'Рассчет себестоимости'!I40","v":425940.10724420816},{"$f":"'Рассчет себестоимости'!J40","v":442977.71153397649},{"$f":"'Рассчет себестоимости'!K40","v":460696.81999533554},{"$f":"'Рассчет себестоимости'!L40","v":479124.69279514893},{"$f":"'Рассчет себестоимости'!M40","v":498289.68050695502},{"$f":"'Рассчет себестоимости'!N40","v":518221.26772723312},{"$f":"'Рассчет себестоимости'!O40","v":538950.11843632243},{"$f":"'Рассчет себестоимости'!P40","v":560508.12317377538},{"$f":"'Рассчет себестоимости'!Q40","v":582928.44810072647},{"$f":"'Рассчет себестоимости'!R40","v":606245.58602475538},{"$f":"'Рассчет себестоимости'!S40","v":630495.40946574579},{"$f":"'Рассчет себестоимости'!T40","v":655715.22584437556},{"$f":"'Рассчет себестоимости'!U40","v":681943.83487815072},{"$f":"'Рассчет себестоимости'!V40","v":709221.58827327657},{"$f":"'Рассчет себестоимости'!W40","v":737590.45180420775},{"$f":"'Рассчет себестоимости'!X40","v":767094.06987637607},{"$f":"'Рассчет себестоимости'!Y40","v":797777.83267143089},{"$f":"'Рассчет себестоимости'!Z40","v":829688.94597828819},{"$f":"'Рассчет себестоимости'!AA40","v":862876.50381741975},{"$f":"'Рассчет себестоимости'!AB40","v":897391.56397011643},{"$f":"'Рассчет себестоимости'!AC40","v":933287.22652892128}]
[null,"Расходы на коммунальные услуги/содержание объекта",null,null,null,null,null,null,{"$f":"'Рассчет себестоимости'!D41","v":0},{"$f":"'Рассчет себестоимости'!E41","v":0},{"$f":"'Рассчет себестоимости'!F41","v":0},{"$f":"'Рассчет себестоимости'!G41","v":0},{"$f":"'Рассчет себестоимости'!H41","v":0},{"$f":"'Рассчет себестоимости'!I41","v":687370.80209965585},{"$f":"'Рассчет себестоимости'!J41","v":695457.51741847547},{"$f":"'Рассчет себестоимости'!K41","v":703544.23273729486},{"$f":"'Рассчет себестоимости'!L41","v":711630.94805611449},{"$f":"'Рассчет себестоимости'!M41","v":718706.82396008144},{"$f":"'Рассчет себестоимости'!N41","v":725782.69986404851},{"$f":"'Рассчет себестоимости'!O41","v":733869.4151828679},{"$f":"'Рассчет себестоимости'!P41","v":737912.77284227766},{"$f":"'Рассчет себестоимости'!Q41","v":742966.96991653985},{"$f":"'Рассчет себестоимости'!R41","v":747010.3275759496},{"$f":"'Рассчет себестоимости'!S41","v":751053.68523535936},{"$f":"'Рассчет себестоимости'!T41","v":755097.04289476923},{"$f":"'Рассчет себестоимости'!U41","v":760151.2399690313},{"$f":"'Рассчет себестоимости'!V41","v":760151.2399690313},{"$f":"'Рассчет себестоимости'!W41","v":760151.2399690313},{"$f":"'Рассчет себестоимости'!X41","v":736878.25385683961},{"$f":"'Рассчет себестоимости'!Y41","v":736878.25385683961},{"$f":"'Рассчет себестоимости'!Z41","v":736878.25385683961},{"$f":"'Рассчет себестоимости'!AA41","v":736878.25385683961},{"$f":"'Рассчет себестоимости'!AB41","v":736878.25385683961},{"$f":"'Рассчет себестоимости'!AC41","v":736878.25385683961}]
[null,"Прочее (расшифровать)"]
[]
[null,"Валовая прибыль","тыс. руб.",null,null,null,null,null,{"$f":"SUM(I36,I39)","v":0},0,0,0,0,{"$f":"SUM(N36,N39)","v":18864456.289455492},{"$f":"SUM(O36,O39)","v":19496906.046192825},20089220.763066664,20656126.838264383,21217906.051439926,{"$f":"SUM(S36,S39)","v":21747534.122360177},22245506.090332665,22713460.241614029,23142879.836776562,23532289.304132007,23877158.145128038,24173956.878942937,24418148.14371454,{"$f":"SUM(AA36,AA39)","v":24612286.286042422},24798175.624474037,24998449.074832439,25165888.986342482,25323063.677677698,25469234.054408245,25603625.097189792,25725424.30158338]
[null,"Валовая рентабельность",null,null,null,null,null,null,{"$f":"IFERROR(I50/I15,0)","v":0},{"$f":"IFERROR(J50/J15,0)","v":0},0,0,0,0.65076325293603865,0.65006554726982024,0.64865384747014665,0.64674158454889641,0.64459823026415264,0.64192913304873156,0.638748822484416,0.63518872841922192,0.63108821485167144,0.62648718509804546,0.62133923140102298,0.6156238321862777,0.60929272349915842,0.60247008922160983,0.59548870548548205,0.58889399770339979,0.58157617093675118,0.57409113329714023,0.56643586234065946,0.55860726755567069,0.55060218911570136]
[]
[null,"Административные, коммерческие, прочие расходы, в т.ч.","тыс. руб.",null,null,null,null,null,{"$f":"-SUM(I55:I58)","v":0},0,0,0,0,{"$f":"-SUM(N55:N58)","v":-2041277.5633066655},-1945701.4719999973,-1912278.2181485659,-1819862.8213333278,{"$f":"-SUM(R55:R58)","v":-1728465.5613866628},{"$f":"-SUM(S55:S58)","v":-1713429.578666663},-1650299.8453333301,-1570048.7850666647,-1489392.7839999988,-1408331.842133333,-1326865.9594666671,-1244995.1360000013,-1162719.3717333358,{"$f":"-SUM(AA55:AA58)","v":-1080038.6666666698},{"$f":"-SUM(AB55:AB58)","v":-996953.02080000367},-913462.43413333688,-829566.90666667023,-745266.43840000278,-660561.02933333581,-575450.67946666863,-489935.38880000164]
[null,"Ставка налога на имущество","%",null,null,null,null,null,2.1999999999999999E-2,2.1999999999999999E-2,2.1999999999999999E-2,2.1999999999999999E-2,2.1999999999999999E-2,2.1999999999999999E-2,2.1999999999999999E-2,2.1999999999999999E-2,2.1999999999999999E-2,2.1999999999999999E-2,2.1999999999999999E-2,2.1999999999999999E-2,2.1999999999999999E-2,2.1999999999999999E-2,2.1999999999999999E-2,2.1999999999999999E-2,2.1999999999999999E-2,2.1999999999999999E-2,2.1999999999999999E-2,2.1999999999999999E-2,2.1999999999999999E-2,2.1999999999999999E-2,2.1999999999999999E-2,2.1999999999999999E-2,2.1999999999999999E-2,2.1999999999999999E-2]
[null,"Налог на имущество, млн руб.","тыс. руб.",null,null,null,null,null,{"$f":"((Амортизация!C47)*Inputs!F13)*I54","v":0},{"$f":"((Амортизация!D47)*Inputs!G13)*J54","v":0},{"$f":"((Амортизация!E47)*Inputs!H13)*K54","v":0},{"$f":"((Амортизация!F47)*Inputs!I13)*L54","v":0},{"$f":"((Амортизация!G47)*Inputs!J13)*M54","v":0},{"$f":"((Амортизация!H47)*Inputs!K13)*N54","v":2041277.5633066655},{"$f":"((Амортизация!I47)*Inputs!L13)*O54","v":1945701.4719999973},{"$f":"((Амортизация!J47)*Inputs!M13)*P54","v":1912278.2181485659},{"$f":"((Амортизация!K47)*Inputs!N13)*Q54","v":1819862.8213333278},{"$f":"((Амортизация!L47)*Inputs!O13)*R54","v":1728465.5613866628},{"$f":"((Амортизация!M47)*Inputs!P13)*S54","v":1713429.578666663},{"$f":"((Амортизация!N47)*Inputs!Q13)*T54","v":1650299.8453333301},{"$f":"((Амортизация!O47)*Inputs!R13)*U54","v":1570048.7850666647},{"$f":"((Амортизация!P47)*Inputs!S13)*V54","v":1489392.7839999988},{"$f":"((Амортизация!Q47)*Inputs!T13)*W54","v":1408331.842133333},{"$f":"((Амортизация!R47)*Inputs!U13)*X54","v":1326865.9594666671},{"$f":"((Амортизация!S47)*Inputs!V13)*Y54","v":1244995.1360000013},{"$f":"((Амортизация!T47)*Inputs!W13)*Z54","v":1162719.3717333358},{"$f":"((Амортизация!U47)*Inputs!X13)*AA54","v":1080038.6666666698},{"$f":"((Амортизация!V47)*Inputs!Y13)*AB54","v":996953.02080000367},{"$f":"((Амортизация!W47)*Inputs!Z13)*AC54","v":913462.43413333688},{"$f":"((Амортизация!X47)*Inputs!AA13)*AD54","v":829566.90666667023},{"$f":"((Амортизация!Y47)*Inputs!AB13)*AE54","v":745266.43840000278},{"$f":"((Амортизация!Z47)*Inputs!AC13)*AF54","v":660561.02933333581},{"$f":"((Амортизация!AA47)*Inputs!AD13)*AG54","v":575450.67946666863},{"$f":"((Амортизация!AB47)*Inputs!AE13)*AH54","v":489935.38880000164}]
[]
[]
[]
[]
[null,"EBITDA","тыс. руб.",null,null,null,null,null,{"$f":"SUM(I50,I53)","v":0},0,0,0,0,{"$f":"SUM(N50,N53)","v":16823178.726148825},17551204.574192829,18176942.544918098,18836264.016931057,19489440.490053263,20034104.543693513,20595206.244999334,21143411.456547365,21653487.052776564,22123957.461998675,22550292.185661372,22928961.742942937,23255428.771981202,{"$f":"SUM(AA50,AA53)","v":23532247.61937575},{"$f":"SUM(AB50,AB53)","v":23801222.603674036},24084986.640699103,24336322.079675812,24577797.239277694,24808673.02507491,25028174.417723123,25235488.912783377]
[null,"Рентабельность по EBITDA",null,null,null,null,null,null,{"$f":"IFERROR(I60/I36,0)","v":0},{"$f":"IFERROR(J60/J36,0)","v":0},0,0,{"$f":"IFERROR(M60/M36,0)","v":0},0.58034572237697801,0.58519199814245204,0.58690896257566283,0.5897618335071646,0.59208758952320328,0.59135326739954697,0.59136275364550683,0.59128184321837096,0.5904736396606507,0.5889939416630714,0.58681109072296578,0.58391827895327675,0.58028002161451553,0.57603243997979747,0.57154846597850317,0.56737536096804209,0.56240512772914275,0.55719543459041021,0.55174498253329041,0.54605236837831894,0.54011608422444279]
[]
[null,"Амортизация начисленная","тыс. руб.",null,null,null,null,null,{"$f":"-'Рассчет себестоимости'!D32","v":0},{"$f":"-'Рассчет себестоимости'!E32","v":0},{"$f":"-'Рассчет себестоимости'!F32","v":0},{"$f":"-'Рассчет себестоимости'!G32","v":0},{"$f":"-'Рассчет себестоимости'!H32","v":0},{"$f":"-'Рассчет себестоимости'!I32","v":-3954520.8618433857},{"$f":"-'Рассчет себестоимости'!J32","v":-3922337.5791427274},{"$f":"-'Рассчет себестоимости'!K32","v":-4018025.3750295043},{"$f":"-'Рассчет себестоимости'!L32","v":-3992738.5100504179},{"$f":"-'Рассчет себестоимости'!M32","v":-3967451.6450713309},{"$f":"-'Рассчет себестоимости'!N32","v":-4123483.0960218417},{"$f":"-'Рассчет себестоимости'!O32","v":-4173769.4752416206},{"$f":"-'Рассчет себестоимости'!P32","v":-4183826.7510855761},{"$f":"-'Рассчет себестоимости'!Q32","v":-4193884.0269295322},{"$f":"-'Рассчет себестоимости'!R32","v":-4203941.3027734868},{"$f":"-'Рассчет себестоимости'!S32","v":-4213998.5786174433},{"$f":"-'Рассчет себестоимости'!T32","v":-4224055.8544613989},{"$f":"-'Рассчет себестоимости'!U32","v":-4234113.1303053545},{"$f":"-'Рассчет себестоимости'!V32","v":-4244170.406149311},{"$f":"-'Рассчет себестоимости'!W32","v":-4254227.6819932656},{"$f":"-'Рассчет себестоимости'!X32","v":-4133728.5114566083},{"$f":"-'Рассчет себестоимости'!Y32","v":-4143477.8711534403},{"$f":"-'Рассчет себестоимости'!Z32","v":-4153227.2308502719},{"$f":"-'Рассчет себестоимости'!AA32","v":-4162976.5905471039},{"$f":"-'Рассчет себестоимости'!AB32","v":-4172725.950243935},{"$f":"-'Рассчет себестоимости'!AC32","v":-4182475.3099407665}]
[]
[null,"EBIT","тыс. руб.",null,null,null,null,null,{"$f":"SUM(I60,I63)","v":0},0,0,0,{"$f":"SUM(M60,M63)","v":0},12868657.86430544,13628866.995050102,14158917.169888593,14843525.506880639,15521988.844981931,15910621.44767167,16421436.769757714,16959584.705461789,17459603.025847033,17920016.159225188,18336293.607043929,18704905.888481539,19021315.641675849,{"$f":"SUM(AA60,AA63)","v":19288077.213226438},{"$f":"SUM(AB60,AB63)","v":19546994.921680771},19951258.129242495,20192844.208522372,20424570.008427422,20645696.434527807,20855448.467479188,21053013.60284261]
[null,"Рентабельность по EBIT",null,null,null,null,null,null,{"$f":"IFERROR(I65/I36,0)","v":0},{"$f":"IFERROR(J65/J36,0)","v":0},0,0,0,0.44392743285038866,0.45441347774945384,0.45717234165419968,0.46474952839796624,0.47155673681457672,0.46963905768374986,0.47151875788267017,0.47427987321120108,0.4761097055903547,0.47707472636473153,0.47715303920574981,0.47634675206114641,0.47462850760191982,0.47214181829811513,0.46938996151616519,0.46999620351531024,0.46665059285162075,0.46303893922523182,0.45916036730955967,0.45501389111283824,0.45059841351166019]
[]
[null,"Процентные расходы","тыс. руб.",null,null,null,null,null,{"$f":"-(Кредит!C12*Inputs!F13+Кредит!C13*Inputs!F13)","v":0},{"$f":"-(Кредит!D12*Inputs!G13+Кредит!D13*Inputs!G13)","v":0},{"$f":"-(Кредит!E12*Inputs!H13+Кредит!E13*Inputs!H13)","v":0},{"$f":"-(Кредит!F12*Inputs!I13+Кредит!F13*Inputs!I13)","v":0},{"$f":"-(Кредит!G12*Inputs!J13+Кредит!G13*Inputs!J13)","v":0},{"$f":"-(Кредит!H13*Inputs!K13)","v":-3977243.2958666654},{"$f":"-(Кредит!I13*Inputs!L13)","v":-3742140.6099999994},{"$f":"-(Кредит!J13*Inputs!M13)","v":-3625752.0817428543},{"$f":"-(Кредит!K13*Inputs!N13)","v":-3396560.6283333302},{"$f":"-(Кредит!L13*Inputs!O13)","v":-3169983.1872666655},{"$f":"-(Кредит!M13*Inputs!P13)","v":-3081520.7766666627},{"$f":"-(Кредит!N13*Inputs!Q13)","v":-2903370.0183333284},{"$f":"-(Кредит!O13*Inputs!R13)","v":-2694115.9786666604},{"$f":"-(Кредит!P13*Inputs!S13)","v":-2483822.2749999929},{"$f":"-(Кредит!Q13*Inputs!T13)","v":-2272488.9073333265},{"$f":"-(Кредит!R13*Inputs!U13)","v":-2060115.8756666589},{"$f":"-(Кредит!S13*Inputs!V13)","v":-1846703.1799999913},{"$f":"-(Кредит!T13*Inputs!W13)","v":-1632250.8203333232},{"$f":"-(Кредит!U13*Inputs!X13)","v":-1416758.7966666562},{"$f":"-(Кредит!V13*Inputs!Y13)","v":-1200227.1089999883},{"$f":"-(Кредит!W13*Inputs!Z13)","v":-982655.75733332196},{"$f":"-(Кредит!X13*Inputs!AA13)","v":-764044.74166665599},{"$f":"-(Кредит!Y13*Inputs!AB13)","v":-544394.06199998991},{"$f":"-(Кредит!Z13*Inputs!AC13)","v":-323703.7183333232},{"$f":"-(Кредит!AA13*Inputs!AD13)","v":-101973.71066665644},{"$f":"-(Кредит!AB13*Inputs!AE13)","v":0}]
[null,"Прибыль/убыток от курсовых разниц","тыс. руб.",null,null,null,null,null,{"$f":"Кредит!C24","v":0},{"$f":"Кредит!D24","v":0},{"$f":"Кредит!E24","v":0},{"$f":"Кредит!F24","v":0},{"$f":"Кредит!G24","v":0},{"$f":"Кредит!H24","v":568077.51466667652},{"$f":"Кредит!I24","v":797631.19999998808},{"$f":"Кредит!J24","v":1531193.0331428349},{"$f":"Кредит!K24","v":1788782.4533333182},{"$f":"Кредит!L24","v":2041832.2133333236},{"$f":"Кредит!M24","v":3062034.3999999762},{"$f":"Кредит!N24","v":3650704.5333333015},{"$f":"Кредит!O24","v":4069964.8533333018},{"$f":"Кредит!P24","v":4491030.719999969},{"$f":"Кредит!Q24","v":4913902.1333332956},{"$f":"Кредит!R24","v":5338579.0933332965},{"$f":"Кредит!S24","v":5765061.5999999642},{"$f":"Кредит!T24","v":6193349.6533333063},{"$f":"Кредит!U24","v":6623443.2533333078},{"$f":"Кредит!V24","v":7055342.3999999762},{"$f":"Кредит!W24","v":7612289.7599999681},{"$f":"Кредит!X24","v":8171623.9999999702},{"$f":"Кредит!Y24","v":8733345.1199999712},{"$f":"Кредит!Z24","v":9297453.119999975},{"$f":"Кредит!AA24","v":9863947.9999999721},{"$f":"Кредит!AB24","v":5972671.1999999993}]
[]
[null,"EBT",null,null,null,null,null,null,{"$f":"SUM(I65,I68:I68)","v":0},{"$f":"SUM(J65,J68:J68)","v":0},0,0,0,{"$f":"SUM(N65,N68:N68)","v":8891414.5684387758},{"$f":"SUM(O65,O68:O68)","v":9886726.3850501031},10533165.088145738,11446964.878547309,12352005.657715265,12829100.671005007,13518066.751424385,14265468.726795129,14975780.75084704,15647527.251891863,16276177.73137727,16858202.708481546,17389064.821342524,{"$f":"SUM(AA65,AA68:AA68)","v":17871318.416559782},18346767.812680781,18968602.371909171,19428799.466855716,19880175.946427431,20321992.716194484,20753474.756812532,21053013.60284261]
[null,"Рентабельность по EBT",null,null,null,null,null,null,{"$f":"IFERROR(I71/I36,0)","v":0},{"$f":"IFERROR(J71/J36,0)","v":0},0,0,0,0.30672529220968692,0.32964308198323472,0.34010169637963505,0.35840350235036145,0.37525290987117571,0.37868079319695258,0.38815251874581813,0.39893811178429578,0.40837781670729456,0.41657550504707563,0.42354402899592508,0.42931785669762113,0.43389984374496698,0.43746178944125474,0.44056841842161565,0.44684756435093592,0.44899374728880348,0.45069715436097363,0.45196119538136903,0.4527890789754247,0.45059841351166019]
[]
[null,"Ставка налога на прибыль","%",null,null,null,null,null,0.2,0.2,0.2,0.2,0.2,0.2,0.2,0.2,0.2,0.2,0.2,0.2,0.2,0.2,0.2,0.2,0.2,0.2,0.2,0.2,0.2,0.2,0.2,0.2,0.2,0.2]
[null,"Зачет накопленных убытков",null,null,null,null,null,null,{"$f":"IF(I71<0, -I71,  -MIN(I71,$G$74))","v":0},{"$f":"IF(J71<0, -J71,  -MIN(J71,$G$76))","v":0},0,0,0,0,0,{"$f":"IF(P71<0, -P71,  -MIN(P71,$G$76))","v":0},0,0,0,0,0,0,0,0,0,0,{"$f":"IF(AA71<0, -AA71,  -MIN(AA71,$G$76))","v":0},0,0,0,0,0,0,0]
[null,"Налоговые убытки - к.п.",null,null,null,null,0,null,{"$f":"$G$74+I75","v":0},{"$f":"$G$76+J75","v":0},0,0,0,0,0,{"$f":"$G$76+P75","v":0},0,0,0,0,0,0,0,0,0,0,{"$f":"$G$76+AA75","v":0},0,0,0,0,0,0,0]
[null,"Налогооблагаемая база",null,null,null,null,null,null,{"$f":"(I71>0)*(I71+I75)","v":0},{"$f":"(J71>0)*(J71+J75)","v":0},0,0,0,{"$f":"(N71>0)*(N71+N75)","v":8891414.5684387758},9886726.3850501031,10533165.088145738,11446964.878547309,12352005.657715265,12829100.671005007,13518066.751424385,14265468.726795129,14975780.75084704,15647527.251891863,16276177.73137727,16858202.708481546,17389064.821342524,{"$f":"(AA71>0)*(AA71+AA75)","v":17871318.416559782},{"$f":"(AB71>0)*(AB71+AB75)","v":18346767.812680781},18968602.371909171,19428799.466855716,19880175.946427431,20321992.716194484,20753474.756812532,21053013.60284261]
[null,"Налог на прибыль",null,null,null,null,null,null,{"$f":"I77*I74","v":0},{"$f":"J77*J74","v":0},0,0,0,{"$f":"N77*N74","v":1778282.9136877554},1977345.2770100208,2106633.017629148,2289392.9757094621,2470401.1315430528,2565820.1342010014,2703613.3502848772,2853093.7453590259,2995156.1501694079,3129505.4503783728,3255235.5462754541,3371640.5416963096,3477812.9642685051,{"$f":"AA77*AA74","v":3574263.6833119565},{"$f":"AB77*AB74","v":3669353.5625361563},3793720.4743818343,3885759.8933711434,3976035.1892854865,4064398.5432388969,4150694.9513625065,4210602.7205685219]
[]
[null,"Чистая прибыль",null,null,null,null,null,null,{"$f":"I71-I78","v":0},0,0,0,0,7113131.6547510205,{"$f":"O71-O78","v":7909381.1080400823},8426532.07051659,9157571.9028378464,{"$f":"R71-R78","v":9881604.5261722114},10263280.536804006,10814453.401139509,11412374.981436104,11980624.600677632,12518021.801513489,13020942.185101816,13486562.166785236,{"$f":"Z71-Z78","v":13911251.857074019},{"$f":"AA71-AA78","v":14297054.733247826},{"$f":"AB71-AB78","v":14677414.250144625},15174881.897527337,15543039.573484574,15904140.757141944,16257594.172955588,16602779.805450026,16842410.882274088]
[null,"Рентабельность чистой прибыли",null,null,null,null,null,null,{"$f":"IFERROR(I80/I36,0)","v":0},{"$f":"IFERROR(J80/J36,0)","v":0},0,0,0,0.24538023376774956,0.26371446558658779,0.27208135710370801,0.28672280188028909,0.30020232789694057,0.3029446345575621,0.31052201499665455,0.31915048942743662,0.32670225336583564,0.3332604040376605,0.33883522319674009,0.34345428535809686,0.34711987499597358,0.34996943155300381,0.35245473473729255,0.35747805148074874,0.35919499783104281,0.3605577234887789,0.36156895630509522,0.36223126318033977,0.36047873080932813]
[null,"Чистая прибыль накопленым итогом",null,null,null,null,null,null,{"$f":"I80","v":0},{"$f":"I82+J80","v":0},{"$f":"J82+K80","v":0},{"$f":"K82+L80","v":0},0,{"$f":"M82+N80","v":7113131.6547510205},{"$f":"N82+O80","v":15022512.762791103},23449044.833307691,32606616.736145537,42488221.262317747,52751501.799121752,63565955.200261265,74978330.181697369,86958954.782375008,99476976.583888501,112497918.76899032,125984480.93577556,139895732.79284957,{"$f":"Z82+AA80","v":154192787.52609739},168870201.77624202,184045083.67376935,199588123.24725392,215492264.00439587,231749858.17735147,248352637.9828015,265195048.86507559]

{"sheet":"Баланс","index":19,"n_rows":47,"n_cols":34,"rows_kept":47,"cut":false,"hidden":false,"merged":[]}
[]
[]
[null,null,"Балансовый отчет",null,null,"млн руб."]
[null,null,null,null,null,null,null,"Факт","Прогноз","Прогноз","Прогноз","Прогноз","Прогноз","Прогноз","Прогноз","Прогноз","Прогноз","Прогноз","Прогноз","Прогноз","Прогноз","Прогноз","Прогноз","Прогноз","Прогноз","Прогноз","Прогноз","Прогноз","Прогноз","Прогноз","Прогноз","Прогноз","Прогноз","Прогноз"]
[null,"Год",null,null,null,null,null,2019,2020,2021,2022,2023,2024,2025,2026,2027,2028,2029,2030,2031,2032,2033,2034,2035,2036,2037,2038,2039,2040,2041,2042,2043,2044,2045]
[]
[]
[]
[null,null,null,"Оборотные активы",null,null,null,null,{"$f":"SUM(I10:I13)","v":8072},{"$f":"SUM(J10:J13)","v":139880},478760,820760,1226600,{"$f":"SUM(N10:N13)","v":41940587.263228685},{"$f":"SUM(O10:O13)","v":35517486.878488585},45244363.207293563,55758437.495824069,67054914.729851395,78787620.72829397,91132013.226403773,104138686.81501056,117780557.48803353,132029464.30024023,146853729.56648329,162218963.98224196,{"$f":"SUM(Z10:Z13)","v":178087264.79740113},194422893.84077656,211223682.34173915,228479587.55658808,246195089.83921295,264366816.16419882,282990949.56926221,302063206.30886656,321482175.22663546]
[null,null,null,"Денежные средства и эквиваленты",null,null,null,null,{"$f":"ДДС!I45","v":8072},{"$f":"ДДС!J45","v":139880},{"$f":"ДДС!K45","v":478760},{"$f":"ДДС!L45","v":820760},{"$f":"ДДС!M45","v":1226600},{"$f":"ДДС!N45","v":25073440.465911549},{"$f":"ДДС!O45","v":34183978.215791471},{"$f":"ДДС!P45","v":43859646.332601279},{"$f":"ДДС!Q45","v":54320464.080656804},{"$f":"ДДС!R45","v":65561554.512590155},{"$f":"ДДС!S45","v":77236658.236854985},{"$f":"ДДС!T45","v":89521144.369819939},{"$f":"ДДС!U45","v":102465515.3386761},{"$f":"ДДС!V45","v":116042591.2871584},{"$f":"ДДС!W45","v":130224111.5858428},{"$f":"ДДС!X45","v":144978294.87802267},{"$f":"ДДС!Y45","v":160270644.04075563},{"$f":"ДДС!Z45","v":176063144.19276807},{"$f":"ДДС!AA45","v":192319940.54647088},{"$f":"ДДС!AB45","v":209038743.05017397},{"$f":"ДДС!AC45","v":226209382.82787299},{"$f":"ДДС!AD45","v":243836209.05586198},{"$f":"ДДС!AE45","v":261915712.2840265},{"$f":"ДДС!AF45","v":280443933.6683957},{"$f":"ДДС!AG45","v":299416441.90647811},{"$f":"ДДС!AH45","v":318731672.3826642}]
[null,null,null,"Материально - производственные запасы"]
[null,null,null,"Дебиторская задолженность"]
[null,null,null,"НДС к получению",null,null,null,null,{"$f":"Налоги!D4","v":0},{"$f":"Налоги!E4","v":0},{"$f":"Налоги!F4","v":0},{"$f":"Налоги!G4","v":0},{"$f":"Налоги!H4","v":0},{"$f":"Налоги!I4","v":16867146.79731714},{"$f":"Налоги!J4","v":1333508.6626971113},{"$f":"Налоги!K4","v":1384716.8746922838},{"$f":"Налоги!L4","v":1437973.4151672637},{"$f":"Налоги!M4","v":1493360.217261242},{"$f":"Налоги!N4","v":1550962.4914389797},{"$f":"Налоги!O4","v":1610868.8565838269},{"$f":"Налоги!P4","v":1673171.4763344685},{"$f":"Налоги!Q4","v":1737966.2008751354},{"$f":"Налоги!R4","v":1805352.7143974288},{"$f":"Налоги!S4","v":1875434.6884606143},{"$f":"Налоги!T4","v":1948319.9414863267},{"$f":"Налоги!U4","v":2024120.604633068},{"$f":"Налоги!V4","v":2102953.2943056789},{"$f":"Налоги!W4","v":2184939.2915651938},{"$f":"Налоги!X4","v":2270204.7287150891},{"$f":"Налоги!Y4","v":2358880.7833509808},{"$f":"Налоги!Z4","v":2451103.880172309},{"$f":"Налоги!AA4","v":2547015.9008664889},{"$f":"Налоги!AB4","v":2646764.4023884363},{"$f":"Налоги!AC4","v":2750502.8439712613}]
[]
[null,null,null,"Внеоборотные активы",null,null,null,null,{"$f":"I16+I19+I20","v":586027.19999999995},{"$f":"J16+J19+J20","v":10379096},36385760,62213608,95061500,{"$f":"N16+N19+N20","v":92726835.626666665},88269584,86630038.491428524,82315779.733333334,78049261.561904803,77226288,74228117.333333328,70457531.733333334,66667958.400000006,62859397.333333336,59031848.533333331,55185312,{"$f":"Z16+Z19+Z20","v":51319787.733333334},47435275.733333342,43531776,39732531.200000003,35914880,32078822.400000002,28224358.400000002,24351488,20460211.199999999]
[null,null,null,"Основные средства в том числе:",null,null,null,null,{"$f":"I17+I18","v":0},{"$f":"J17+J18","v":0},0,0,0,{"$f":"N17+N18","v":91126773.760000005},86795904,85236532.6628571,81046438.400000006,76902623.085714325,76153728,73263104,69611110.400000006,65940710.400000006,62251904,58544691.199999996,54819072,{"$f":"Z17+Z18","v":51075046.399999999},47312614.400000006,43531776,39732531.200000003,35914880,32078822.400000002,28224358.400000002,24351488,20460211.199999999]
[null,null,null,"Здания и сооружения",null,null,null,null,{"$f":"Амортизация!C15*Inputs!F13","v":0},{"$f":"Амортизация!D15*Inputs!G13","v":0},{"$f":"Амортизация!E15*Inputs!H13","v":0},{"$f":"Амортизация!F15*Inputs!I13","v":0},{"$f":"Амортизация!G15*Inputs!J13","v":0},{"$f":"Амортизация!H15*Inputs!K13","v":24812492.800000001},{"$f":"Амортизация!I15*Inputs!L13","v":23761920},{"$f":"Амортизация!J15*Inputs!M13","v":23472263.314285703},{"$f":"Амортизация!K15*Inputs!N13","v":22460672},{"$f":"Амортизация!L15*Inputs!O13","v":21460022.857142869},{"$f":"Амортизация!M15*Inputs!P13","v":21411840},{"$f":"Амортизация!N15*Inputs!Q13","v":20769920},{"$f":"Амортизация!O15*Inputs!R13","v":19914752},{"$f":"Амортизация!P15*Inputs!S13","v":19055232},{"$f":"Амортизация!Q15*Inputs!T13","v":18191360},{"$f":"Амортизация!R15*Inputs!U13","v":17323136},{"$f":"Амортизация!S15*Inputs!V13","v":16450560},{"$f":"Амортизация!T15*Inputs!W13","v":15573632},{"$f":"Амортизация!U15*Inputs!X13","v":14692352.000000002},{"$f":"Амортизация!V15*Inputs!Y13","v":13806720},{"$f":"Амортизация!W15*Inputs!Z13","v":12916736},{"$f":"Амортизация!X15*Inputs!AA13","v":12022400},{"$f":"Амортизация!Y15*Inputs!AB13","v":11123712},{"$f":"Амортизация!Z15*Inputs!AC13","v":10220672},{"$f":"Амортизация!AA15*Inputs!AD13","v":9313280},{"$f":"Амортизация!AB15*Inputs!AE13","v":8401536}]
[null,null,null,"Оборудование",null,null,null,null,{"$f":"Амортизация!C16*Inputs!F13","v":0},{"$f":"Амортизация!D16*Inputs!G13","v":0},{"$f":"Амортизация!E16*Inputs!H13","v":0},{"$f":"Амортизация!F16*Inputs!I13","v":0},{"$f":"Амортизация!G16*Inputs!J13","v":0},{"$f":"Амортизация!H16*Inputs!K13","v":66314280.960000001},{"$f":"Амортизация!I16*Inputs!L13","v":63033984},{"$f":"Амортизация!J16*Inputs!M13","v":61764269.348571397},{"$f":"Амортизация!K16*Inputs!N13","v":58585766.400000006},{"$f":"Амортизация!L16*Inputs!O13","v":55442600.228571452},{"$f":"Амортизация!M16*Inputs!P13","v":54741888},{"$f":"Амортизация!N16*Inputs!Q13","v":52493184},{"$f":"Амортизация!O16*Inputs!R13","v":49696358.399999999},{"$f":"Амортизация!P16*Inputs!S13","v":46885478.400000006},{"$f":"Амортизация!Q16*Inputs!T13","v":44060544},{"$f":"Амортизация!R16*Inputs!U13","v":41221555.199999996},{"$f":"Амортизация!S16*Inputs!V13","v":38368512},{"$f":"Амортизация!T16*Inputs!W13","v":35501414.399999999},{"$f":"Амортизация!U16*Inputs!X13","v":32620262.400000002},{"$f":"Амортизация!V16*Inputs!Y13","v":29725055.999999996},{"$f":"Амортизация!W16*Inputs!Z13","v":26815795.199999999},{"$f":"Амортизация!X16*Inputs!AA13","v":23892480},{"$f":"Амортизация!Y16*Inputs!AB13","v":20955110.400000002},{"$f":"Амортизация!Z16*Inputs!AC13","v":18003686.400000002},{"$f":"Амортизация!AA16*Inputs!AD13","v":15038207.999999998},{"$f":"Амортизация!AB16*Inputs!AE13","v":12058675.199999999}]
[null,null,null,"Незавершенное строительство",null,null,null,null,{"$f":"Кредит!C20","v":586027.19999999995},{"$f":"Кредит!D20","v":10379096},{"$f":"Кредит!E20","v":36385760},{"$f":"Кредит!F20","v":62213608},{"$f":"Кредит!G20","v":95061500},{"$f":"'Капитальные затраты'!I5*Inputs!K13+'Капитальные затраты'!I6*Inputs!K13","v":0},{"$f":"'Капитальные затраты'!J5*Inputs!L13+'Капитальные затраты'!J6*Inputs!L13","v":0},{"$f":"'Капитальные затраты'!K5*Inputs!M13+'Капитальные затраты'!K6*Inputs!M13","v":0},{"$f":"'Капитальные затраты'!L5*Inputs!N13+'Капитальные затраты'!L6*Inputs!N13","v":0},{"$f":"'Капитальные затраты'!M5*Inputs!O13+'Капитальные затраты'!M6*Inputs!O13","v":0},{"$f":"'Капитальные затраты'!N5*Inputs!P13+'Капитальные затраты'!N6*Inputs!P13","v":0},{"$f":"'Капитальные затраты'!O5*Inputs!Q13+'Капитальные затраты'!O6*Inputs!Q13","v":0},{"$f":"'Капитальные затраты'!P5*Inputs!R13+'Капитальные затраты'!P6*Inputs!R13","v":0},{"$f":"'Капитальные затраты'!Q5*Inputs!S13+'Капитальные затраты'!Q6*Inputs!S13","v":0},{"$f":"'Капитальные затраты'!W5*Inputs!T13+'Капитальные затраты'!W6*Inputs!T13","v":0},{"$f":"'Капитальные затраты'!X5*Inputs!U13+'Капитальные затраты'!X6*Inputs!U13","v":0},{"$f":"'Капитальные затраты'!Y5*Inputs!V13+'Капитальные затраты'!Y6*Inputs!V13","v":0},{"$f":"'Капитальные затраты'!Z5*Inputs!W13+'Капитальные затраты'!Z6*Inputs!W13","v":0},{"$f":"'Капитальные затраты'!AA5*Inputs!X13+'Капитальные затраты'!AA6*Inputs!X13","v":0},{"$f":"'Капитальные затраты'!AB5*Inputs!Y13+'Капитальные затраты'!AB6*Inputs!Y13","v":0},{"$f":"'Капитальные затраты'!AC5*Inputs!Z13+'Капитальные затраты'!AC6*Inputs!Z13","v":0},{"$f":"'Капитальные затраты'!AD5*Inputs!AA13+'Капитальные затраты'!AD6*Inputs!AA13","v":0},{"$f":"'Капитальные затраты'!AE5*Inputs!AB13+'Капитальные затраты'!AE6*Inputs!AB13","v":0},{"$f":"'Капитальные затраты'!AF5*Inputs!AC13+'Капитальные затраты'!AF6*Inputs!AC13","v":0},{"$f":"'Капитальные затраты'!AG5*Inputs!AD13+'Капитальные затраты'!AG6*Inputs!AD13","v":0},{"$f":"'Капитальные затраты'!AH5*Inputs!AE13+'Капитальные затраты'!AH6*Inputs!AE13","v":0}]
[null,null,null,"Нематериальные активы",null,null,null,null,{"$f":"Амортизация!C17*Inputs!F13","v":0},{"$f":"Амортизация!D17*Inputs!G13","v":0},{"$f":"Амортизация!E17*Inputs!H13","v":0},{"$f":"Амортизация!F17*Inputs!I13","v":0},{"$f":"Амортизация!G17*Inputs!J13","v":0},{"$f":"Амортизация!H17*Inputs!K13","v":1600061.8666666667},{"$f":"Амортизация!I17*Inputs!L13","v":1473680.0000000002},{"$f":"Амортизация!J17*Inputs!M13","v":1393505.8285714281},{"$f":"Амортизация!K17*Inputs!N13","v":1269341.3333333337},{"$f":"Амортизация!L17*Inputs!O13","v":1146638.4761904769},{"$f":"Амортизация!M17*Inputs!P13","v":1072560.0000000002},{"$f":"Амортизация!N17*Inputs!Q13","v":965013.33333333349},{"$f":"Амортизация!O17*Inputs!R13","v":846421.33333333337},{"$f":"Амортизация!P17*Inputs!S13","v":727248},{"$f":"Амортизация!Q17*Inputs!T13","v":607493.33333333337},{"$f":"Амортизация!R17*Inputs!U13","v":487157.33333333337},{"$f":"Амортизация!S17*Inputs!V13","v":366240.00000000006},{"$f":"Амортизация!T17*Inputs!W13","v":244741.33333333343},{"$f":"Амортизация!U17*Inputs!X13","v":122661.33333333344},{"$f":"Амортизация!V17*Inputs!Y13","v":0},{"$f":"Амортизация!W17*Inputs!Z13","v":0},{"$f":"Амортизация!X17*Inputs!AA13","v":0},{"$f":"Амортизация!Y17*Inputs!AB13","v":0},{"$f":"Амортизация!Z17*Inputs!AC13","v":0},{"$f":"Амортизация!AA17*Inputs!AD13","v":0},{"$f":"Амортизация!AB17*Inputs!AE13","v":0}]
[null,null,null,"Прочие"]
[]
[null,null,null,"ИТОГО АКТИВОВ",null,null,null,null,{"$f":"I15+I9","v":594099.19999999995},{"$f":"J15+J9","v":10518976},{"$f":"K15+K9","v":36864520},63034368,96288100,{"$f":"N15+N9","v":134667422.88989535},{"$f":"O15+O9","v":123787070.87848859},131874401.69872209,138074217.22915739,145104176.29175621,156013908.72829396,165360130.55973709,174596218.5483439,184448515.88803354,194888861.63357356,205885578.09981662,217404275.98224196,{"$f":"Z15+Z9","v":229407052.53073448},241858169.57410991,254755458.34173915,268212118.7565881,282109969.83921295,296445638.56419879,311215307.96926218,326414694.30886656,341942386.42663544]
[]
[null,null,null,"Краткосрочные обязательства",null,null,null,null,{"$f":"SUM(I26:I29)","v":0},{"$f":"SUM(J26:J29)","v":0},0,0,{"$f":"SUM(M26:M29)","v":0},568077.51466667652,797631.19999998808,1531193.0331428349,1788782.4533333182,2041832.2133333236,3062034.3999999762,3650704.5333333015,4069964.8533333018,4491030.719999969,4913902.1333332956,5338579.0933332965,5765061.5999999642,{"$f":"SUM(Z26:Z29)","v":6193349.6533333063},6623443.2533333078,7055342.3999999762,7612289.7599999681,8171623.9999999702,8733345.1199999712,9297453.119999975,9863947.9999999721,5972671.1999999993]
[null,null,null,"Краткосрочные кредиты и займы"]
[null,null,null,"Кредиторская задолженность"]
[null,null,null,"НДС к уплате"]
[null,null,null,"Прочие краткосрочные обязательства",null,null,null,null,null,null,null,null,null,{"$f":"Кредит!H24","v":568077.51466667652},{"$f":"Кредит!I24","v":797631.19999998808},{"$f":"Кредит!J24","v":1531193.0331428349},{"$f":"Кредит!K24","v":1788782.4533333182},{"$f":"Кредит!L24","v":2041832.2133333236},{"$f":"Кредит!M24","v":3062034.3999999762},{"$f":"Кредит!N24","v":3650704.5333333015},{"$f":"Кредит!O24","v":4069964.8533333018},{"$f":"Кредит!P24","v":4491030.719999969},{"$f":"Кредит!Q24","v":4913902.1333332956},{"$f":"Кредит!R24","v":5338579.0933332965},{"$f":"Кредит!S24","v":5765061.5999999642},{"$f":"Кредит!T24","v":6193349.6533333063},{"$f":"Кредит!U24","v":6623443.2533333078},{"$f":"Кредит!V24","v":7055342.3999999762},{"$f":"Кредит!W24","v":7612289.7599999681},{"$f":"Кредит!X24","v":8171623.9999999702},{"$f":"Кредит!Y24","v":8733345.1199999712},{"$f":"Кредит!Z24","v":9297453.119999975},{"$f":"Кредит!AA24","v":9863947.9999999721},{"$f":"Кредит!AB24","v":5972671.1999999993}]
[]
[null,null,null,"Долгосрочные обязательства",null,null,null,null,{"$f":"SUM(I32:I36)","v":0},{"$f":"SUM(J32:J36)","v":4890076.8},{"$f":"SUM(K32:K36)","v":22178624},48043859.199999996,{"$f":"SUM(M32:M36)","v":80573960},77671218.112000003,72984412.800000012,70611305.458285689,66039457.280000016,61519889.348571479,59676713.600000024,56089872.800000027,51900026.880000032,47689387.680000037,43457955.200000033,39205729.440000035,34932710.400000036,{"$f":"SUM(Z32:Z36)","v":30638898.080000032},26324292.480000034,21988893.600000028,17632701.440000027,13255716.000000028,8857937.2800000291,4439365.2800000282,2.8649810701608657E-8,0]
[null,null,null,"Бюджетное финансирование"]
[null,null,null,"Долгосрочные кредиты",null,null,null,null,{"$f":"Кредит!C21","v":0},{"$f":"Кредит!D21","v":4890076.8},{"$f":"Кредит!E21","v":22178624},{"$f":"Кредит!F21","v":48043859.199999996},{"$f":"Кредит!G21","v":80573960},{"$f":"Кредит!H21","v":77671218.112000003},{"$f":"Кредит!I21","v":72984412.800000012},{"$f":"Кредит!J21","v":70611305.458285689},{"$f":"Кредит!K21","v":66039457.280000016},{"$f":"Кредит!L21","v":61519889.348571479},{"$f":"Кредит!M21","v":59676713.600000024},{"$f":"Кредит!N21","v":56089872.800000027},{"$f":"Кредит!O21","v":51900026.880000032},{"$f":"Кредит!P21","v":47689387.680000037},{"$f":"Кредит!Q21","v":43457955.200000033},{"$f":"Кредит!R21","v":39205729.440000035},{"$f":"Кредит!S21","v":34932710.400000036},{"$f":"Кредит!T21","v":30638898.080000032},{"$f":"Кредит!U21","v":26324292.480000034},{"$f":"Кредит!V21","v":21988893.600000028},{"$f":"Кредит!W21","v":17632701.440000027},{"$f":"Кредит!X21","v":13255716.000000028},{"$f":"Кредит!Y21","v":8857937.2800000291},{"$f":"Кредит!Z21","v":4439365.2800000282},{"$f":"Кредит!AA21","v":2.8649810701608657E-8},{"$f":"Кредит!AB21","v":0}]
[null,null,null,"Кредит 1 (инвестиционный кредит)"]
[null,null,null,"Кредит 2 "]
[null,null,null,"Прочие кредиты"]
[]
[null,null,null,"Собственный капитал",null,null,null,null,{"$f":"SUM(I39:I43)","v":594099.19999999995},{"$f":"SUM(J39:J43)","v":5628899.2000000002},14685896,14990508.799999999,{"$f":"SUM(M39:M43)","v":15714140},{"$f":"SUM(N39:N43)","v":56428127.263228685},50005026.878488585,59731903.207293563,70245977.495824069,81542454.729851395,93275160.72829397,105619553.22640377,118626226.81501056,132268097.48803353,146517004.30024022,161341269.56648329,176706503.98224196,{"$f":"SUM(Z39:Z43)","v":192574804.79740113},208910433.84077656,225711222.34173915,242967127.55658808,260682629.83921295,278854356.16419882,297478489.56926221,316550746.30886656,335969715.22663546]
[null,null,null,"Уставный капитал",null,null,null,null,{"$f":"Кредит!C22","v":586027.19999999995},{"$f":"Кредит!D22","v":5489019.2000000002},{"$f":"Кредит!E22","v":14207136},{"$f":"Кредит!F22","v":14169748.799999999},{"$f":"Кредит!G22","v":14487540},{"$f":"Кредит!H22","v":14487540},{"$f":"Кредит!I22","v":14487540},{"$f":"Кредит!J22+Кредит!J20","v":14487540},{"$f":"Кредит!K22+Кредит!K20","v":14487540},{"$f":"Кредит!L22+Кредит!L20","v":14487540},{"$f":"Кредит!M22+Кредит!M20","v":14487540},{"$f":"Кредит!N22+Кредит!N20","v":14487540},{"$f":"Кредит!O22+Кредит!O20","v":14487540},{"$f":"Кредит!P22+Кредит!P20","v":14487540},{"$f":"Кредит!Q22+Кредит!Q20","v":14487540},{"$f":"Кредит!R22+Кредит!R20","v":14487540},{"$f":"Кредит!S22+Кредит!S20","v":14487540},{"$f":"Кредит!T22+Кредит!T20","v":14487540},{"$f":"Кредит!U22+Кредит!U20","v":14487540},{"$f":"Кредит!V22+Кредит!V20","v":14487540},{"$f":"Кредит!W22+Кредит!W20","v":14487540},{"$f":"Кредит!X22+Кредит!X20","v":14487540},{"$f":"Кредит!Y22+Кредит!Y20","v":14487540},{"$f":"Кредит!Z22+Кредит!Z20","v":14487540},{"$f":"Кредит!AA22+Кредит!AA20","v":14487540},{"$f":"Кредит!AB22+Кредит!AB20","v":14487540}]
[null,null,null,"Добавочный капитал"]
[null,null,null,"Резервный капитал"]
[null,null,null,"Нераспределенная прибыль",null,null,null,null,{"$f":"ДДС!I45+Налоги!D4","v":8072},{"$f":"ДДС!J45+Налоги!E4","v":139880},{"$f":"ДДС!K45+Налоги!F4","v":478760},{"$f":"ДДС!L45+Налоги!G4","v":820760},{"$f":"ДДС!M45+Налоги!H4","v":1226600},{"$f":"ДДС!N45+Налоги!I4","v":41940587.263228685},{"$f":"ДДС!O45+Налоги!J4","v":35517486.878488585},{"$f":"ДДС!P45+Налоги!K4","v":45244363.207293563},{"$f":"ДДС!Q45+Налоги!L4","v":55758437.495824069},{"$f":"ДДС!R45+Налоги!M4","v":67054914.729851395},{"$f":"ДДС!S45+Налоги!N4","v":78787620.72829397},{"$f":"ДДС!T45+Налоги!O4","v":91132013.226403773},{"$f":"ДДС!U45+Налоги!P4","v":104138686.81501056},{"$f":"ДДС!V45+Налоги!Q4","v":117780557.48803353},{"$f":"ДДС!W45+Налоги!R4","v":132029464.30024023},{"$f":"ДДС!X45+Налоги!S4","v":146853729.56648329},{"$f":"ДДС!Y45+Налоги!T4","v":162218963.98224196},{"$f":"ДДС!Z45+Налоги!U4","v":178087264.79740113},{"$f":"ДДС!AA45+Налоги!V4","v":194422893.84077656},{"$f":"ДДС!AB45+Налоги!W4","v":211223682.34173915},{"$f":"ДДС!AC45+Налоги!X4","v":228479587.55658808},{"$f":"ДДС!AD45+Налоги!Y4","v":246195089.83921295},{"$f":"ДДС!AE45+Налоги!Z4","v":264366816.16419882},{"$f":"ДДС!AF45+Налоги!AA4","v":282990949.56926221},{"$f":"ДДС!AG45+Налоги!AB4","v":302063206.30886656},{"$f":"ДДС!AH45+Налоги!AC4","v":321482175.22663546}]
[]
[]
[null,null,null,"ИТОГО КАПИТАЛ И ОБЯЗАТЕЛЬСТВА",null,null,null,null,{"$f":"I38+I31+I25","v":594099.19999999995},{"$f":"J38+J31+J25","v":10518976},{"$f":"K38+K31+K25","v":36864520},{"$f":"L38+L31+L25","v":63034367.999999993},{"$f":"M38+M31+M25","v":96288100},{"$f":"N38+N31+N25","v":134667422.88989538},{"$f":"O38+O31+O25","v":123787070.87848859},{"$f":"P38+P31+P25","v":131874401.69872209},138074217.22915739,{"$f":"R38+R31+R25","v":145104176.29175621},{"$f":"S38+S31+S25","v":156013908.72829396},165360130.55973709,174596218.5483439,184448515.88803354,194888861.63357356,205885578.09981662,217404275.98224196,{"$f":"Z38+Z31+Z25","v":229407052.53073448},241858169.57410988,254755458.34173915,268212118.75658807,282109969.83921289,296445638.56419879,311215307.96926224,326414694.30886656,341942386.42663544]
[]
[null,null,null,"Check ",null,null,null,null,{"$f":"ROUND(I23-I45,5)","v":0},0,{"$f":"ROUND(K23-K45,5)","v":0},0,0,{"$f":"ROUND(N23-N45,5)","v":0},{"$f":"ROUND(O23-O45,5)","v":0},{"$f":"ROUND(P23-P45,5)","v":0},0,{"$f":"ROUND(R23-R45,5)","v":0},0,0,0,{"$f":"ROUND(V23-V45,5)","v":0},0,0,0,{"$f":"ROUND(Z23-Z45,5)","v":0},0,0,0,0,0,0,0,0]

{"sheet":"ДДС","index":20,"n_rows":45,"n_cols":34,"rows_kept":45,"cut":false,"hidden":false,"merged":[]}
[]
[]
[null,"Отчет о движении денежных средств","млн руб."]
[null,"Вводные данные",null,null,null,null,null,"Факт","Прогноз","Прогноз","Прогноз","Прогноз","Прогноз","Прогноз","Прогноз","Прогноз","Прогноз","Прогноз","Прогноз","Прогноз","Прогноз","Прогноз","Прогноз","Прогноз","Прогноз","Прогноз","Прогноз","Прогноз","Прогноз","Прогноз","Прогноз","Прогноз","Прогноз","Прогноз"]
[null,"Год",null,null,null,null,null,2019,2020,2021,2022,2023,2024,2025,2026,2027,2028,2029,2030,2031,2032,2033,2034,2035,2036,2037,2038,2039,2040,2041,2042,2043,2044,2045]
[]
[]
[null,"Операционный денежный поток "]
[]
[null,"Чистая прибыль",null,null,null,null,null,null,{"$f":"ОПУ!I80","v":0},{"$f":"ОПУ!J80","v":0},{"$f":"ОПУ!K80","v":0},{"$f":"ОПУ!L80","v":0},{"$f":"ОПУ!M80","v":0},{"$f":"ОПУ!N80","v":7113131.6547510205},{"$f":"ОПУ!O80","v":7909381.1080400823},{"$f":"ОПУ!P80","v":8426532.07051659},{"$f":"ОПУ!Q80","v":9157571.9028378464},{"$f":"ОПУ!R80","v":9881604.5261722114},{"$f":"ОПУ!S80","v":10263280.536804006},{"$f":"ОПУ!T80","v":10814453.401139509},{"$f":"ОПУ!U80","v":11412374.981436104},{"$f":"ОПУ!V80","v":11980624.600677632},{"$f":"ОПУ!W80","v":12518021.801513489},{"$f":"ОПУ!X80","v":13020942.185101816},{"$f":"ОПУ!Y80","v":13486562.166785236},{"$f":"ОПУ!Z80","v":13911251.857074019},{"$f":"ОПУ!AA80","v":14297054.733247826},{"$f":"ОПУ!AB80","v":14677414.250144625},{"$f":"ОПУ!AC80","v":15174881.897527337},{"$f":"ОПУ!AD80","v":15543039.573484574},{"$f":"ОПУ!AE80","v":15904140.757141944},{"$f":"ОПУ!AF80","v":16257594.172955588},{"$f":"ОПУ!AG80","v":16602779.805450026},{"$f":"ОПУ!AH80","v":16842410.882274088}]
[]
[null,"Корректировки",null,null,null,null,null,null,{"$f":"SUM(I13:I18)","v":0},0,0,0,0,25486281.757126849,{"$f":"SUM(O13:O18)","v":9693444.3692583125},9732038.564201938,9538903.5016071256,9349501.8735593185,9481749.0639915317,9421877.7653416432,9289026.9789289832,9158639.4727212004,9028793.2520801909,8900602.827980075,8774176.0188424867,8650635.7952407766,{"$f":"SUM(AA13:AA18)","v":8524033.737090677},8399545.3225274794,8123467.251361859,8003281.6500279168,7885603.4268794097,7770574.4636037555,7658342.3171558678,7669856.4077688679]
[null,"Амортизация",null,null,null,null,null,null,{"$f":"-ОПУ!I63","v":0},{"$f":"-ОПУ!J63","v":0},{"$f":"-ОПУ!K63","v":0},{"$f":"-ОПУ!L63","v":0},{"$f":"-ОПУ!M63","v":0},{"$f":"-ОПУ!N63","v":3954520.8618433857},{"$f":"-ОПУ!O63","v":3922337.5791427274},{"$f":"-ОПУ!P63","v":4018025.3750295043},{"$f":"-ОПУ!Q63","v":3992738.5100504179},{"$f":"-ОПУ!R63","v":3967451.6450713309},{"$f":"-ОПУ!S63","v":4123483.0960218417},{"$f":"-ОПУ!T63","v":4173769.4752416206},{"$f":"-ОПУ!U63","v":4183826.7510855761},{"$f":"-ОПУ!V63","v":4193884.0269295322},{"$f":"-ОПУ!W63","v":4203941.3027734868},{"$f":"-ОПУ!X63","v":4213998.5786174433},{"$f":"-ОПУ!Y63","v":4224055.8544613989},{"$f":"-ОПУ!Z63","v":4234113.1303053545},{"$f":"-ОПУ!AA63","v":4244170.406149311},{"$f":"-ОПУ!AB63","v":4254227.6819932656},{"$f":"-ОПУ!AC63","v":4133728.5114566083},{"$f":"-ОПУ!AD63","v":4143477.8711534403},{"$f":"-ОПУ!AE63","v":4153227.2308502719},{"$f":"-ОПУ!AF63","v":4162976.5905471039},{"$f":"-ОПУ!AG63","v":4172725.950243935},{"$f":"-ОПУ!AH63","v":4182475.3099407665}]
[null,"Процентные расходы",null,null,null,null,null,null,{"$f":"-ОПУ!I68","v":0},{"$f":"-ОПУ!J68","v":0},{"$f":"-ОПУ!K68","v":0},{"$f":"-ОПУ!L68","v":0},{"$f":"-ОПУ!M68","v":0},{"$f":"-ОПУ!N68","v":3977243.2958666654},{"$f":"-ОПУ!O68","v":3742140.6099999994},{"$f":"-ОПУ!P68","v":3625752.0817428543},{"$f":"-ОПУ!Q68","v":3396560.6283333302},{"$f":"-ОПУ!R68","v":3169983.1872666655},{"$f":"-ОПУ!S68","v":3081520.7766666627},{"$f":"-ОПУ!T68","v":2903370.0183333284},{"$f":"-ОПУ!U68","v":2694115.9786666604},{"$f":"-ОПУ!V68","v":2483822.2749999929},{"$f":"-ОПУ!W68","v":2272488.9073333265},{"$f":"-ОПУ!X68","v":2060115.8756666589},{"$f":"-ОПУ!Y68","v":1846703.1799999913},{"$f":"-ОПУ!Z68","v":1632250.8203333232},{"$f":"-ОПУ!AA68","v":1416758.7966666562},{"$f":"-ОПУ!AB68","v":1200227.1089999883},{"$f":"-ОПУ!AC68","v":982655.75733332196},{"$f":"-ОПУ!AD68","v":764044.74166665599},{"$f":"-ОПУ!AE68","v":544394.06199998991},{"$f":"-ОПУ!AF68","v":323703.7183333232},{"$f":"-ОПУ!AG68","v":101973.71066665644},{"$f":"-ОПУ!AH68","v":0}]
[null,"Изменения в оборотном капитале"]
[null,"Изменение НДС",null,null,null,null,null,null,{"$f":"Налоги!D4","v":0},{"$f":"Налоги!E4","v":0},{"$f":"Налоги!F4","v":0},{"$f":"Налоги!G4","v":0},{"$f":"Налоги!H4","v":0},{"$f":"Налоги!I4","v":16867146.79731714},{"$f":"Налоги!J4","v":1333508.6626971113},{"$f":"Налоги!K4","v":1384716.8746922838},{"$f":"Налоги!L4","v":1437973.4151672637},{"$f":"Налоги!M4","v":1493360.217261242},{"$f":"Налоги!N4","v":1550962.4914389797},{"$f":"Налоги!O4","v":1610868.8565838269},{"$f":"Налоги!P4","v":1673171.4763344685},{"$f":"Налоги!Q4","v":1737966.2008751354},{"$f":"Налоги!R4","v":1805352.7143974288},{"$f":"Налоги!S4","v":1875434.6884606143},{"$f":"Налоги!T4","v":1948319.9414863267},{"$f":"Налоги!U4","v":2024120.604633068},{"$f":"Налоги!V4","v":2102953.2943056789},{"$f":"Налоги!W4","v":2184939.2915651938},{"$f":"Налоги!X4","v":2270204.7287150891},{"$f":"Налоги!Y4","v":2358880.7833509808},{"$f":"Налоги!Z4","v":2451103.880172309},{"$f":"Налоги!AA4","v":2547015.9008664889},{"$f":"Налоги!AB4","v":2646764.4023884363},{"$f":"Налоги!AC4","v":2750502.8439712613}]
[null,"Прибыль/убыток от курсовых разниц"]
[null,"Капитальные вложения на поддержание основных средств",null,null,null,null,null,null,{"$f":"ОПУ!I47","v":0},{"$f":"ОПУ!J47","v":0},{"$f":"ОПУ!K47","v":0},{"$f":"ОПУ!L47","v":0},{"$f":"ОПУ!M47","v":0},{"$f":"ОПУ!N47","v":687370.80209965585},{"$f":"ОПУ!O47","v":695457.51741847547},{"$f":"ОПУ!P47","v":703544.23273729486},{"$f":"ОПУ!Q47","v":711630.94805611449},{"$f":"ОПУ!R47","v":718706.82396008144},{"$f":"ОПУ!S47","v":725782.69986404851},{"$f":"ОПУ!T47","v":733869.4151828679},{"$f":"ОПУ!U47","v":737912.77284227766},{"$f":"ОПУ!V47","v":742966.96991653985},{"$f":"ОПУ!W47","v":747010.3275759496},{"$f":"ОПУ!X47","v":751053.68523535936},{"$f":"ОПУ!Y47","v":755097.04289476923},{"$f":"ОПУ!Z47","v":760151.2399690313},{"$f":"ОПУ!AA47","v":760151.2399690313},{"$f":"ОПУ!AB47","v":760151.2399690313},{"$f":"ОПУ!AC47","v":736878.25385683961},{"$f":"ОПУ!AD47","v":736878.25385683961},{"$f":"ОПУ!AE47","v":736878.25385683961},{"$f":"ОПУ!AF47","v":736878.25385683961},{"$f":"ОПУ!AG47","v":736878.25385683961},{"$f":"ОПУ!AH47","v":736878.25385683961}]
[null,"Итого денежный поток от операционной деятельности",null,null,null,null,null,null,{"$f":"I12+I10","v":0},{"$f":"J12+J10","v":0},{"$f":"K12+K10","v":0},0,{"$f":"M12+M10","v":0},{"$f":"N12+N10","v":32599413.411877871},17602825.477298394,18158570.63471853,18696475.40444497,19231106.399731532,19745029.600795537,20236331.166481152,20701401.960365087,21139264.073398832,21546815.05359368,21921545.013081893,22260738.185627721,22561887.652314797,{"$f":"AA12+AA10","v":22821088.470338501},23076959.572672106,23298349.148889195,23546321.223512489,23789744.184021354,24028168.636559345,24261122.122605894,24512267.290042955]
[]
[]
[null,"Денежный поток от инвестиционной деятельности"]
[]
[null,"Капитальные затраты на создание (без НДС)",null,null,null,null,null,null,{"$f":"(Кредит!C4*Inputs!F13-Кредит!C4)-(Кредит!C4*Inputs!F13-Кредит!C4)*20%/120%","v":481629.33333333326},{"$f":"(Кредит!D4*Inputs!G13-Кредит!D4)-(Кредит!D4*Inputs!G13-Кредит!D4)*20%/120%","v":8040288},{"$f":"(Кредит!E4*Inputs!H13-Кредит!E4)-(Кредит!E4*Inputs!H13-Кредит!E4)*20%/120%","v":21180000},{"$f":"(Кредит!F4*Inputs!I13-Кредит!F4)-(Кредит!F4*Inputs!I13-Кредит!F4)*20%/120%","v":21318000},{"$f":"(Кредит!G4*Inputs!J13-Кредит!G4)-(Кредит!G4*Inputs!J13-Кредит!G4)*20%/120%","v":25872300}]
[null,"Капитальные затраты на создание , в т.ч.",null,null,null,null,null,null,{"$f":"Кредит!C4*Inputs!F13-Кредит!C4","v":577955.19999999995},{"$f":"Кредит!D4*Inputs!G13-Кредит!D4","v":9648345.5999999996},{"$f":"Кредит!E4*Inputs!H13-Кредит!E4","v":25416000},{"$f":"Кредит!F4*Inputs!I13-Кредит!F4","v":25581600},{"$f":"Кредит!G4*Inputs!J13-Кредит!G4","v":31046760},{"$f":"Кредит!H4*Inputs!K13-Кредит!H4*Inputs!K13*20%/120%","v":0},{"$f":"Кредит!I4*Inputs!L13-Кредит!I4*Inputs!L13*20%/120%","v":0},{"$f":"Кредит!J4*Inputs!M13-Кредит!J4*Inputs!M13*20%/120%","v":0},{"$f":"Кредит!K4*Inputs!N13-Кредит!K4*Inputs!N13*20%/120%","v":0},{"$f":"Кредит!L4*Inputs!O13-Кредит!L4*Inputs!O13*20%/120%","v":0},{"$f":"Кредит!M4*Inputs!P13-Кредит!M4*Inputs!P13*20%/120%","v":0},{"$f":"Кредит!N4*Inputs!Q13-Кредит!N4*Inputs!Q13*20%/120%","v":0},{"$f":"Кредит!O4*Inputs!R13-Кредит!O4*Inputs!R13*20%/120%","v":0},{"$f":"Кредит!P4*Inputs!S13-Кредит!P4*Inputs!S13*20%/120%","v":0},{"$f":"Кредит!Q4*Inputs!T13-Кредит!Q4*Inputs!T13*20%/120%","v":0},{"$f":"Кредит!R4*Inputs!U13-Кредит!R4*Inputs!U13*20%/120%","v":0},{"$f":"Кредит!S4*Inputs!V13-Кредит!S4*Inputs!V13*20%/120%","v":0},{"$f":"Кредит!T4*Inputs!W13-Кредит!T4*Inputs!W13*20%/120%","v":0},{"$f":"Кредит!U4*Inputs!X13-Кредит!U4*Inputs!X13*20%/120%","v":0},{"$f":"Кредит!V4*Inputs!Y13-Кредит!V4*Inputs!Y13*20%/120%","v":0},{"$f":"Кредит!W4*Inputs!Z13-Кредит!W4*Inputs!Z13*20%/120%","v":0},{"$f":"Кредит!X4*Inputs!AA13-Кредит!X4*Inputs!AA13*20%/120%","v":0},{"$f":"Кредит!Y4*Inputs!AB13-Кредит!Y4*Inputs!AB13*20%/120%","v":0},{"$f":"Кредит!Z4*Inputs!AC13-Кредит!Z4*Inputs!AC13*20%/120%","v":0},{"$f":"Кредит!AA4*Inputs!AD13-Кредит!AA4*Inputs!AD13*20%/120%","v":0},{"$f":"Кредит!AB4*Inputs!AE13-Кредит!AB4*Inputs!AE13*20%/120%","v":0}]
[null,"Капитальные затраты на строительство/модернизацию ",null,null,null,null,null,null,null,null,null,null,null,{"$f":"Кредит!H4*Inputs!K13","v":0},{"$f":"Кредит!I4*Inputs!L13","v":0},{"$f":"Кредит!J4*Inputs!M13","v":0},{"$f":"Кредит!K4*Inputs!N13","v":0},{"$f":"Кредит!L4*Inputs!O13","v":0},{"$f":"Кредит!M4*Inputs!P13","v":0},{"$f":"Кредит!N4*Inputs!Q13","v":0},{"$f":"Кредит!O4*Inputs!R13","v":0},{"$f":"Кредит!P4*Inputs!S13","v":0},{"$f":"Кредит!Q4*Inputs!T13","v":0},{"$f":"Кредит!R4*Inputs!U13","v":0},{"$f":"Кредит!S4*Inputs!V13","v":0},{"$f":"Кредит!T4*Inputs!W13","v":0},{"$f":"Кредит!U4*Inputs!X13","v":0},{"$f":"Кредит!V4*Inputs!Y13","v":0},{"$f":"Кредит!W4*Inputs!Z13","v":0},{"$f":"Кредит!X4*Inputs!AA13","v":0},{"$f":"Кредит!Y4*Inputs!AB13","v":0},{"$f":"Кредит!Z4*Inputs!AC13","v":0},{"$f":"Кредит!AA4*Inputs!AD13","v":0},{"$f":"Кредит!AB4*Inputs!AE13","v":0}]
[null,"На инфраструктуру за периметром проекта  (в том числе затраты на инфраструктуру, не учтённую в модели: транспортную, энергетическую, социальную) (включены в основные капитальные расходы)",null,null,null,null,null,null,0,0,0,0,0,0,0,0,0,0,0,0,0,0,0,0,0,0,0,0,0,0,0,0,0,0]
[null,"Капитальные вложения на поддержание основных средств",null,null,null,null,null,null,{"$f":"ОПУ!I47","v":0},{"$f":"ОПУ!J47","v":0},{"$f":"ОПУ!K47","v":0},{"$f":"ОПУ!L47","v":0},{"$f":"ОПУ!M47","v":0},{"$f":"ОПУ!N47","v":687370.80209965585},{"$f":"ОПУ!O47","v":695457.51741847547},{"$f":"ОПУ!P47","v":703544.23273729486},{"$f":"ОПУ!Q47","v":711630.94805611449},{"$f":"ОПУ!R47","v":718706.82396008144},{"$f":"ОПУ!S47","v":725782.69986404851},{"$f":"ОПУ!T47","v":733869.4151828679},{"$f":"ОПУ!U47","v":737912.77284227766},{"$f":"ОПУ!V47","v":742966.96991653985},{"$f":"ОПУ!W47","v":747010.3275759496},{"$f":"ОПУ!X47","v":751053.68523535936},{"$f":"ОПУ!Y47","v":755097.04289476923},{"$f":"ОПУ!Z47","v":760151.2399690313},{"$f":"ОПУ!AA47","v":760151.2399690313},{"$f":"ОПУ!AB47","v":760151.2399690313},{"$f":"ОПУ!AC47","v":736878.25385683961},{"$f":"ОПУ!AD47","v":736878.25385683961},{"$f":"ОПУ!AE47","v":736878.25385683961},{"$f":"ОПУ!AF47","v":736878.25385683961},{"$f":"ОПУ!AG47","v":736878.25385683961},{"$f":"ОПУ!AH47","v":736878.25385683961}]
[null,"Итого денежный поток от инвестиционной деятельности",null,null,null,null,null,null,{"$f":"-SUM(I25:I28)","v":-577955.19999999995},{"$f":"-SUM(J25:J28)","v":-9648345.5999999996},-25416000,-25581600,-31046760,{"$f":"-SUM(N25:N28)","v":-687370.80209965585},{"$f":"-SUM(O25:O28)","v":-695457.51741847547},-703544.23273729486,-711630.94805611449,-718706.82396008144,-725782.69986404851,-733869.4151828679,-737912.77284227766,-742966.96991653985,-747010.3275759496,-751053.68523535936,-755097.04289476923,-760151.2399690313,{"$f":"-SUM(AA25:AA28)","v":-760151.2399690313},-760151.2399690313,-736878.25385683961,-736878.25385683961,-736878.25385683961,-736878.25385683961,-736878.25385683961,-736878.25385683961]
[]
[]
[null,"Финансовый денежный поток"]
[]
[null,"Участие государства в создании инфраструктурных условий"]
[null,"Компенсация части капитальных затрат на реализацию проекта"]
[null,"Субсидии на % по кредиту"]
[null,"Прочие неналоговые меры поддержки по проекту (указать)"]
[null,"Привлечение акционерного капитала",null,null,null,null,null,null,{"$f":"Кредит!C5*Inputs!F13","v":586027.19999999995},{"$f":"Кредит!D5*Inputs!G13","v":4890076.8},{"$f":"Кредит!E5*Inputs!H13","v":8584960},{"$f":"Кредит!F5*Inputs!I13","v":0},{"$f":"Кредит!G5*Inputs!J13","v":0},{"$f":"Кредит!H5*Inputs!K13","v":0},{"$f":"Кредит!I5*Inputs!L13","v":0},{"$f":"Кредит!J5*Inputs!M13","v":0},{"$f":"Кредит!K5*Inputs!N13","v":0},{"$f":"Кредит!L5*Inputs!O13","v":0},{"$f":"Кредит!M5*Inputs!P13","v":0},{"$f":"Кредит!N5*Inputs!Q13","v":0},{"$f":"Кредит!O5*Inputs!R13","v":0},{"$f":"Кредит!P5*Inputs!S13","v":0},{"$f":"Кредит!Q5*Inputs!T13","v":0},{"$f":"Кредит!R5*Inputs!U13","v":0},{"$f":"Кредит!S5*Inputs!V13","v":0},{"$f":"Кредит!T5*Inputs!W13","v":0},{"$f":"Кредит!U5*Inputs!X13","v":0},{"$f":"Кредит!V5*Inputs!Y13","v":0},{"$f":"Кредит!W5*Inputs!Z13","v":0},{"$f":"Кредит!X5*Inputs!AA13","v":0},{"$f":"Кредит!Y5*Inputs!AB13","v":0},{"$f":"Кредит!Z5*Inputs!AC13","v":0},{"$f":"Кредит!AA5*Inputs!AD13","v":0},{"$f":"Кредит!AB5*Inputs!AE13","v":0}]
[null,"Привлечение Кредита  (инвестиционный кредит)",null,null,null,null,null,null,{"$f":"Кредит!C21","v":0},{"$f":"Кредит!D6*Inputs!G13","v":4890076.8},{"$f":"Кредит!E6*Inputs!H13","v":17169920},{"$f":"Кредит!F6*Inputs!I13","v":25923600},{"$f":"Кредит!G6*Inputs!J13","v":31452600},{"$f":"Кредит!H6*Inputs!K13","v":0},{"$f":"Кредит!I6*Inputs!L13","v":0},{"$f":"Кредит!J6*Inputs!M13","v":0},{"$f":"Кредит!K6*Inputs!N13","v":0},{"$f":"Кредит!L6*Inputs!O13","v":0},{"$f":"Кредит!M6*Inputs!P13","v":0},{"$f":"Кредит!N6*Inputs!Q13","v":0},{"$f":"Кредит!O6*Inputs!R13","v":0},{"$f":"Кредит!P6*Inputs!S13","v":0},{"$f":"Кредит!Q6*Inputs!T13","v":0},{"$f":"Кредит!R6*Inputs!U13","v":0},{"$f":"Кредит!S6*Inputs!V13","v":0},{"$f":"Кредит!T6*Inputs!W13","v":0},{"$f":"Кредит!U6*Inputs!X13","v":0},{"$f":"Кредит!V6*Inputs!Y13","v":0},{"$f":"Кредит!W6*Inputs!Z13","v":0},{"$f":"Кредит!X6*Inputs!AA13","v":0},{"$f":"Кредит!Y6*Inputs!AB13","v":0},{"$f":"Кредит!Z6*Inputs!AC13","v":0},{"$f":"Кредит!AA6*Inputs!AD13","v":0},{"$f":"Кредит!AB6*Inputs!AE13","v":0}]
[null,"Погашение тела долга",null,null,null,null,null,null,{"$f":"Кредит!C12*Inputs!F13","v":0},{"$f":"Кредит!D12*Inputs!G13","v":0},{"$f":"Кредит!E12*Inputs!H13","v":0},{"$f":"Кредит!F12*Inputs!I13","v":0},{"$f":"Кредит!G12*Inputs!J13","v":0},{"$f":"Кредит!H12*Inputs!K13","v":4087958.8479999998},{"$f":"Кредит!I12*Inputs!L13","v":4054689.5999999996},{"$f":"Кредит!J12*Inputs!M13","v":4153606.2034285692},{"$f":"Кредит!K12*Inputs!N13","v":4127466.08},{"$f":"Кредит!L12*Inputs!O13","v":4101325.9565714304},{"$f":"Кредит!M12*Inputs!P13","v":4262622.3999999994},{"$f":"Кредит!N12*Inputs!Q13","v":4314605.5999999996},{"$f":"Кредит!O12*Inputs!R13","v":4325002.24},{"$f":"Кредит!P12*Inputs!S13","v":4335398.88},{"$f":"Кредит!Q12*Inputs!T13","v":4345795.5199999996},{"$f":"Кредит!R12*Inputs!U13","v":4356192.1599999992},{"$f":"Кредит!S12*Inputs!V13","v":4366588.8},{"$f":"Кредит!T12*Inputs!W13","v":4376985.4399999995},{"$f":"Кредит!U12*Inputs!X13","v":4387382.08},{"$f":"Кредит!V12*Inputs!Y13","v":4397778.72},{"$f":"Кредит!W12*Inputs!Z13","v":4408175.3599999994},{"$f":"Кредит!X12*Inputs!AA13","v":4418572},{"$f":"Кредит!Y12*Inputs!AB13","v":4428968.6399999997},{"$f":"Кредит!Z12*Inputs!AC13","v":4439365.28},{"$f":"Кредит!AA12*Inputs!AD13","v":4449761.919999999},{"$f":"Кредит!AB12*Inputs!AE13","v":4460158.5599999996}]
[null,"Проценты по кредиту",null,null,null,null,null,null,{"$f":"Кредит!C13*Inputs!F13","v":0},{"$f":"Кредит!D13*Inputs!G13","v":0},{"$f":"Кредит!E13*Inputs!H13","v":0},{"$f":"Кредит!F13*Inputs!I13","v":0},{"$f":"Кредит!G13*Inputs!J13","v":0},{"$f":"Кредит!H13*Inputs!K13","v":3977243.2958666654},{"$f":"Кредит!I13*Inputs!L13","v":3742140.6099999994},{"$f":"Кредит!J13*Inputs!M13","v":3625752.0817428543},{"$f":"Кредит!K13*Inputs!N13","v":3396560.6283333302},{"$f":"Кредит!L13*Inputs!O13","v":3169983.1872666655},{"$f":"Кредит!M13*Inputs!P13","v":3081520.7766666627},{"$f":"Кредит!N13*Inputs!Q13","v":2903370.0183333284},{"$f":"Кредит!O13*Inputs!R13","v":2694115.9786666604},{"$f":"Кредит!P13*Inputs!S13","v":2483822.2749999929},{"$f":"Кредит!Q13*Inputs!T13","v":2272488.9073333265},{"$f":"Кредит!R13*Inputs!U13","v":2060115.8756666589},{"$f":"Кредит!S13*Inputs!V13","v":1846703.1799999913},{"$f":"Кредит!T13*Inputs!W13","v":1632250.8203333232},{"$f":"Кредит!U13*Inputs!X13","v":1416758.7966666562},{"$f":"Кредит!V13*Inputs!Y13","v":1200227.1089999883},{"$f":"Кредит!W13*Inputs!Z13","v":982655.75733332196},{"$f":"Кредит!X13*Inputs!AA13","v":764044.74166665599},{"$f":"Кредит!Y13*Inputs!AB13","v":544394.06199998991},{"$f":"Кредит!Z13*Inputs!AC13","v":323703.7183333232},{"$f":"Кредит!AA13*Inputs!AD13","v":101973.71066665644},{"$f":"Кредит!AB13*Inputs!AE13","v":0}]
[null,"Итого денежный поток от финансовой деятельности",null,null,null,null,null,null,{"$f":"I34+I35+I36+I37+I38+I39-I40-I41","v":586027.19999999995},{"$f":"J34+J35+J36+J37+J38+J39-J40-J41","v":9780153.5999999996},25754880,25923600,31452600,-8065202.1438666657,-7796830.209999999,-7779358.2851714231,-7524026.7083333302,-7271309.1438380964,-7344143.1766666621,-7217975.6183333285,-7019118.2186666606,-6819221.1549999928,-6618284.4273333261,-6416308.0356666576,-6213291.9799999911,-6009236.2603333229,{"$f":"AA34+AA35+AA36+AA37+AA38+AA39-AA40-AA41","v":-5804140.8766666558},-5598005.8289999878,-5390831.1173333209,-5182616.741666656,-4973362.7019999893,-4763068.9983333237,-4551735.6306666555,-4460158.5599999996]
[]
[null,"Сальдо денежных потоков",null,null,null,null,null,null,{"$f":"SUM(I19,I29,I42)","v":8072},131808,{"$f":"SUM(K19,K29,K42)","v":338880},342000,{"$f":"SUM(M19,M29,M42)","v":405840},{"$f":"SUM(N19,N29,N42)","v":23846840.465911549},{"$f":"SUM(O19,O29,O42)","v":9110537.7498799209},9675668.1168098114,10460817.748055527,11241090.431933355,11675103.724264827,12284486.132964958,12944370.968856148,13577075.948482297,14181520.298684407,14754183.292179877,15292349.162732961,15792500.152012445,{"$f":"SUM(AA19,AA29,AA42)","v":16256796.353702815},16718802.503703088,17170639.777699031,17626826.227988992,18079503.228164528,18528221.384369183,18972508.238082398,19315230.476186115]
[null,"Сальдо денежных потоков (накопленным итогом)",null,null,null,null,null,null,{"$f":"SUM(I44+H45)","v":8072},{"$f":"SUM(J44+I45)","v":139880},{"$f":"SUM(K44+J45)","v":478760},{"$f":"SUM(L44+K45)","v":820760},{"$f":"SUM(M44+L45)","v":1226600},{"$f":"SUM(N44+M45)","v":25073440.465911549},{"$f":"SUM(O44+N45)","v":34183978.215791471},43859646.332601279,54320464.080656804,65561554.512590155,77236658.236854985,89521144.369819939,102465515.3386761,116042591.2871584,130224111.5858428,144978294.87802267,160270644.04075563,176063144.19276807,{"$f":"SUM(AA44+Z45)","v":192319940.54647088},209038743.05017397,226209382.82787299,243836209.05586198,261915712.2840265,280443933.6683957,299416441.90647811,318731672.3826642]

{"sheet":"Дисконтированные потоки","index":21,"n_rows":77,"n_cols":36,"rows_kept":77,"cut":false,"hidden":false,"merged":[]}
[]
[]
[null,"Дисконтированные потоки"]
[null,"Вводные данные",null,null,null,null,null,"Факт","Прогноз","Прогноз","Прогноз","Прогноз","Прогноз","Прогноз","Прогноз","Прогноз","Прогноз","Прогноз","Прогноз","Прогноз","Прогноз","Прогноз","Прогноз","Прогноз","Прогноз","Прогноз","Прогноз","Прогноз","Прогноз","Прогноз","Прогноз","Прогноз","Прогноз","Прогноз",null,"TV"]
[null,"Год",null,null,null,null,null,2019,2020,2021,2022,2023,2024,2025,2026,2027,2028,2029,2030,2031,2032,2033,2034,2035,2036,2037,2038,2039,2040,2041,2042,2043,2044,2045]
[]
[null,"WACC",null,null,{"$f":"E24","v":4.7986131187980195E-2},null,null,null,{"$f":"I24","v":9.3581999999999999E-2},{"$f":"J24","v":6.8337017672290543E-2},6.0921557256245304E-2,5.2203816891661398E-2,4.8165991156041088E-2,5.0436791598239036E-2,5.2707592040436985E-2,5.4978392482634926E-2,5.7249192924832867E-2,5.9519993367030816E-2,6.179079380922875E-2,6.4061594251426698E-2,6.6332394693624647E-2,6.8603195135822581E-2,7.0873995578020529E-2,7.3144796020218478E-2,7.5415596462416426E-2,7.7686396904614374E-2,7.9957197346812309E-2,8.2227997789010257E-2,8.4498798231208205E-2,8.6769598673406154E-2,8.9040399115604102E-2,9.1311199557802036E-2,9.3581999999999999E-2,9.3581999999999999E-2,null,{"$f":"E24","v":4.7986131187980195E-2}]
[]
[]
[null,"Терминальный темп роста ",null,null,0.04]
[null,"Стоимость собственного капитала (CAPM)"]
[null,"Безрисковая ставка (30–летнии гособлигации США)","%",null,2.2499999999999999E-2,null,null,null,2.2499999999999999E-2,2.2499999999999999E-2,2.2499999999999999E-2,2.2499999999999999E-2,2.2499999999999999E-2,2.2499999999999999E-2,2.2499999999999999E-2,2.2499999999999999E-2,2.2499999999999999E-2,2.2499999999999999E-2,2.2499999999999999E-2,2.2499999999999999E-2,2.2499999999999999E-2,2.2499999999999999E-2,2.2499999999999999E-2,2.2499999999999999E-2,2.2499999999999999E-2,2.2499999999999999E-2,2.2499999999999999E-2,2.2499999999999999E-2,2.2499999999999999E-2,2.2499999999999999E-2,2.2499999999999999E-2,2.2499999999999999E-2,2.2499999999999999E-2,2.2499999999999999E-2]
[null,"Рыночная премия за риск (www.Damodaran.com)","%",null,9.4299999999999995E-2,null,null,null,9.4299999999999995E-2,9.4299999999999995E-2,9.4299999999999995E-2,9.4299999999999995E-2,9.4299999999999995E-2,9.4299999999999995E-2,9.4299999999999995E-2,9.4299999999999995E-2,9.4299999999999995E-2,9.4299999999999995E-2,9.4299999999999995E-2,9.4299999999999995E-2,9.4299999999999995E-2,9.4299999999999995E-2,9.4299999999999995E-2,9.4299999999999995E-2,9.4299999999999995E-2,9.4299999999999995E-2,9.4299999999999995E-2,9.4299999999999995E-2,9.4299999999999995E-2,9.4299999999999995E-2,9.4299999999999995E-2,9.4299999999999995E-2,9.4299999999999995E-2,9.4299999999999995E-2]
[null,"Бета без учета финансового риска (www.Damodaran.com)",null,null,0.99,null,null,null,0.99,0.99,0.99,0.99,0.99,0.99,0.99,0.99,0.99,0.99,0.99,0.99,0.99,0.99,0.99,0.99,0.99,0.99,0.99,0.99,0.99,0.99,0.99,0.99,0.99,0.99]
[null,"Бета с учетом финансового риска",null,null,{"$f":"(1+(1-E22)*(E21/$E$48))*E14","v":0.99000000034524505},null,null,null,{"$f":"(1+(1-I22)*(I21/$E$48))*I14","v":0.99000000034524505},{"$f":"(1+(1-J22)*(J21/$E$48))*J14","v":0.99000000034524505},0.99000000034524505,0.99000000034524505,0.99000000034524505,0.99000000034524505,0.99000000034524505,0.99000000034524505,0.99000000034524505,0.99000000034524505,0.99000000034524505,0.99000000034524505,0.99000000034524505,0.99000000034524505,0.99000000034524505,0.99000000034524505,0.99000000034524505,0.99000000034524505,0.99000000034524505,0.99000000034524505,0.99000000034524505,0.99000000034524505,0.99000000034524505,0.99000000034524505,0.99000000034524505,0.99000000034524505]
[null,"Стоимость акционерного капитала","%",null,{"$f":"E12+E14*(E13-E12)","v":9.3581999999999999E-2},null,null,null,{"$f":"I12+I14*(I13-I12)","v":9.3581999999999999E-2},9.3581999999999999E-2,9.3581999999999999E-2,9.3581999999999999E-2,9.3581999999999999E-2,9.3581999999999999E-2,9.3581999999999999E-2,9.3581999999999999E-2,9.3581999999999999E-2,9.3581999999999999E-2,9.3581999999999999E-2,9.3581999999999999E-2,9.3581999999999999E-2,9.3581999999999999E-2,9.3581999999999999E-2,9.3581999999999999E-2,9.3581999999999999E-2,9.3581999999999999E-2,9.3581999999999999E-2,9.3581999999999999E-2,9.3581999999999999E-2,9.3581999999999999E-2,9.3581999999999999E-2,9.3581999999999999E-2,9.3581999999999999E-2,9.3581999999999999E-2]
[]
[null,"Средневзвешенная стоимость капитала (WACC)"]
[null,"Доля акционерного капитала","%",null,{"$f":"Результаты_1!J17","v":0.14904503728827201},null,null,null,{"$f":"Кредит!C36","v":1},{"$f":"Кредит!D36","v":0.52885330283099807},{"$f":"Кредит!E36","v":0.39045868493608493},{"$f":"Кредит!F36","v":0.22775963740923055},{"$f":"Кредит!G36","v":0.15240176096526981},{"$f":"Кредит!H36","v":0.19478167291700632},{"$f":"Кредит!I36","v":0.23716158486874273},{"$f":"Кредит!J36","v":0.27954149682047924},{"$f":"Кредит!K36","v":0.32192140877221576},{"$f":"Кредит!L36","v":0.36430132072395216},{"$f":"Кредит!M36","v":0.40668123267568868},{"$f":"Кредит!N36","v":0.44906114462742519},{"$f":"Кредит!O36","v":0.49144105657916159},{"$f":"Кредит!P36","v":0.53382096853089811},{"$f":"Кредит!Q36","v":0.57620088048263463},{"$f":"Кредит!R36","v":0.61858079243437114},{"$f":"Кредит!S36","v":0.66096070438610766},{"$f":"Кредит!T36","v":0.70334061633784417},{"$f":"Кредит!U36","v":0.74572052828958069},{"$f":"Кредит!V36","v":0.7881004402413172},{"$f":"Кредит!W36","v":0.83048035219305372},{"$f":"Кредит!X36","v":0.87286026414479023},{"$f":"Кредит!Y36","v":0.91524017609652675},{"$f":"Кредит!Z36","v":0.95762008804826326},{"$f":"Кредит!AA36","v":0.99999999999999978},{"$f":"Кредит!AB36","v":1}]
[null,"Доля долга ","%",null,{"$f":"Результаты_1!I17","v":0.85095496271172799},null,null,null,{"$f":"Кредит!C35","v":0},{"$f":"Кредит!D35","v":0.47114669716900198},{"$f":"Кредит!E35","v":0.60954131506391507},{"$f":"Кредит!F35","v":0.77224036259076945},{"$f":"Кредит!G35","v":0.84759823903473019},{"$f":"Кредит!H35","v":0.80521832708299368},{"$f":"Кредит!I35","v":0.76283841513125727},{"$f":"Кредит!J35","v":0.72045850317952076},{"$f":"Кредит!K35","v":0.67807859122778424},{"$f":"Кредит!L35","v":0.63569867927604784},{"$f":"Кредит!M35","v":0.59331876732431132},{"$f":"Кредит!N35","v":0.55093885537257481},{"$f":"Кредит!O35","v":0.50855894342083841},{"$f":"Кредит!P35","v":0.46617903146910195},{"$f":"Кредит!Q35","v":0.42379911951736537},{"$f":"Кредит!R35","v":0.38141920756562891},{"$f":"Кредит!S35","v":0.3390392956138924},{"$f":"Кредит!T35","v":0.29665938366215588},{"$f":"Кредит!U35","v":0.25427947171041937},{"$f":"Кредит!V35","v":0.2118995597586828},{"$f":"Кредит!W35","v":0.16951964780694628},{"$f":"Кредит!X35","v":0.1271397358552098},{"$f":"Кредит!Y35","v":8.4759823903473294E-2},{"$f":"Кредит!Z35","v":4.2379911951736779E-2},{"$f":"Кредит!AA35","v":2.7286324005579452E-16},{"$f":"Кредит!AB35","v":0}]
[null,"Доналоговая стоимость долга ","%",null,{"$f":"Кредит!$B$10","v":0.05},null,null,null,{"$f":"Кредит!$B$10","v":0.05},{"$f":"Кредит!$B$10","v":0.05},{"$f":"Кредит!$B$10","v":0.05},{"$f":"Кредит!$B$10","v":0.05},{"$f":"Кредит!$B$10","v":0.05},{"$f":"Кредит!$B$10","v":0.05},{"$f":"Кредит!$B$10","v":0.05},{"$f":"Кредит!$B$10","v":0.05},{"$f":"Кредит!$B$10","v":0.05},{"$f":"Кредит!$B$10","v":0.05},{"$f":"Кредит!$B$10","v":0.05},{"$f":"Кредит!$B$10","v":0.05},{"$f":"Кредит!$B$10","v":0.05},{"$f":"Кредит!$B$10","v":0.05},{"$f":"Кредит!$B$10","v":0.05},{"$f":"Кредит!$B$10","v":0.05},{"$f":"Кредит!$B$10","v":0.05},{"$f":"Кредит!$B$10","v":0.05},{"$f":"Кредит!$B$10","v":0.05},{"$f":"Кредит!$B$10","v":0.05},{"$f":"Кредит!$B$10","v":0.05},{"$f":"Кредит!$B$10","v":0.05},{"$f":"Кредит!$B$10","v":0.05},{"$f":"Кредит!$B$10","v":0.05},{"$f":"Кредит!$B$10","v":0.05},{"$f":"Кредит!$B$10","v":0.05}]
[null,"Ставка налога на прибыль","%",null,0.2,null,null,null,0.2,0.2,0.2,0.2,0.2,0.2,0.2,0.2,0.2,0.2,0.2,0.2,0.2,0.2,0.2,0.2,0.2,0.2,0.2,0.2,0.2,0.2,0.2,0.2,0.2,0.2]
[null,"Посленалоговая стоимость долга ","%",null,{"$f":"E21*(1-E22)","v":4.0000000000000008E-2},null,null,null,{"$f":"I21*(1-I22)","v":4.0000000000000008E-2},{"$f":"J21*(1-J22)","v":4.0000000000000008E-2},4.0000000000000008E-2,4.0000000000000008E-2,4.0000000000000008E-2,4.0000000000000008E-2,4.0000000000000008E-2,4.0000000000000008E-2,4.0000000000000008E-2,4.0000000000000008E-2,4.0000000000000008E-2,4.0000000000000008E-2,4.0000000000000008E-2,4.0000000000000008E-2,4.0000000000000008E-2,4.0000000000000008E-2,4.0000000000000008E-2,4.0000000000000008E-2,4.0000000000000008E-2,4.0000000000000008E-2,4.0000000000000008E-2,4.0000000000000008E-2,4.0000000000000008E-2,4.0000000000000008E-2,4.0000000000000008E-2,4.0000000000000008E-2]
[null,"Средневзвешенная стоимость капитала (WACC)","%",null,{"$f":"(E19*E16)+(E20*E23)","v":4.7986131187980195E-2},null,null,null,{"$f":"(I19*I16)+(I20*I23)","v":9.3581999999999999E-2},6.8337017672290543E-2,6.0921557256245304E-2,5.2203816891661398E-2,4.8165991156041088E-2,5.0436791598239036E-2,5.2707592040436985E-2,5.4978392482634926E-2,5.7249192924832867E-2,5.9519993367030816E-2,6.179079380922875E-2,6.4061594251426698E-2,6.6332394693624647E-2,6.8603195135822581E-2,7.0873995578020529E-2,7.3144796020218478E-2,7.5415596462416426E-2,7.7686396904614374E-2,7.9957197346812309E-2,8.2227997789010257E-2,8.4498798231208205E-2,8.6769598673406154E-2,8.9040399115604102E-2,9.1311199557802036E-2,9.3581999999999999E-2,9.3581999999999999E-2]
[]
[]
[null,"CAPM",null,null,null,null,null,null,{"$f":"I16","v":9.3581999999999999E-2},{"$f":"J16","v":9.3581999999999999E-2},9.3581999999999999E-2,9.3581999999999999E-2,9.3581999999999999E-2,9.3581999999999999E-2,9.3581999999999999E-2,9.3581999999999999E-2,9.3581999999999999E-2,9.3581999999999999E-2,9.3581999999999999E-2,9.3581999999999999E-2,9.3581999999999999E-2,9.3581999999999999E-2,9.3581999999999999E-2,9.3581999999999999E-2,9.3581999999999999E-2,9.3581999999999999E-2,9.3581999999999999E-2,9.3581999999999999E-2,9.3581999999999999E-2,9.3581999999999999E-2,9.3581999999999999E-2,9.3581999999999999E-2,9.3581999999999999E-2,9.3581999999999999E-2,null,{"$f":"E16","v":9.3581999999999999E-2}]
[]
[null,"EBIT",null,null,null,null,null,null,{"$f":"ОПУ!I65","v":0},{"$f":"ОПУ!J65","v":0},{"$f":"ОПУ!K65","v":0},{"$f":"ОПУ!L65","v":0},{"$f":"ОПУ!M65","v":0},{"$f":"ОПУ!N65","v":12868657.86430544},{"$f":"ОПУ!O65","v":13628866.995050102},{"$f":"ОПУ!P65","v":14158917.169888593},{"$f":"ОПУ!Q65","v":14843525.506880639},{"$f":"ОПУ!R65","v":15521988.844981931},{"$f":"ОПУ!S65","v":15910621.44767167},{"$f":"ОПУ!T65","v":16421436.769757714},{"$f":"ОПУ!U65","v":16959584.705461789},{"$f":"ОПУ!V65","v":17459603.025847033},{"$f":"ОПУ!W65","v":17920016.159225188},{"$f":"ОПУ!X65","v":18336293.607043929},{"$f":"ОПУ!Y65","v":18704905.888481539},{"$f":"ОПУ!Z65","v":19021315.641675849},{"$f":"ОПУ!AA65","v":19288077.213226438},{"$f":"ОПУ!AB65","v":19546994.921680771},{"$f":"ОПУ!AC65","v":19951258.129242495},{"$f":"ОПУ!AD65","v":20192844.208522372},{"$f":"ОПУ!AE65","v":20424570.008427422},{"$f":"ОПУ!AF65","v":20645696.434527807},{"$f":"ОПУ!AG65","v":20855448.467479188},{"$f":"ОПУ!AH65","v":21053013.60284261},"TV project",{"$f":"AH40*(1+E10)/(AH7-E10)","v":447166048.55403769}]
[null,"Налог на прибыль",null,null,null,null,null,null,{"$f":"ОПУ!I78","v":0},{"$f":"ОПУ!J78","v":0},{"$f":"ОПУ!K78","v":0},{"$f":"ОПУ!L78","v":0},{"$f":"ОПУ!M78","v":0},{"$f":"ОПУ!N78","v":1778282.9136877554},{"$f":"ОПУ!O78","v":1977345.2770100208},{"$f":"ОПУ!P78","v":2106633.017629148},{"$f":"ОПУ!Q78","v":2289392.9757094621},{"$f":"ОПУ!R78","v":2470401.1315430528},{"$f":"ОПУ!S78","v":2565820.1342010014},{"$f":"ОПУ!T78","v":2703613.3502848772},{"$f":"ОПУ!U78","v":2853093.7453590259},{"$f":"ОПУ!V78","v":2995156.1501694079},{"$f":"ОПУ!W78","v":3129505.4503783728},{"$f":"ОПУ!X78","v":3255235.5462754541},{"$f":"ОПУ!Y78","v":3371640.5416963096},{"$f":"ОПУ!Z78","v":3477812.9642685051},{"$f":"ОПУ!AA78","v":3574263.6833119565},{"$f":"ОПУ!AB78","v":3669353.5625361563},{"$f":"ОПУ!AC78","v":3793720.4743818343},{"$f":"ОПУ!AD78","v":3885759.8933711434},{"$f":"ОПУ!AE78","v":3976035.1892854865},{"$f":"ОПУ!AF78","v":4064398.5432388969},{"$f":"ОПУ!AG78","v":4150694.9513625065},{"$f":"ОПУ!AH78","v":4210602.7205685219},"TV eq",{"$f":"AG42*(1+E10)/(AH7-E10)","v":355527925.62556911}]
[null,"Амортизация",null,null,null,null,null,null,{"$f":"-ОПУ!I63","v":0},{"$f":"-ОПУ!J63","v":0},{"$f":"-ОПУ!K63","v":0},{"$f":"-ОПУ!L63","v":0},{"$f":"-ОПУ!M63","v":0},{"$f":"-ОПУ!N63","v":3954520.8618433857},{"$f":"-ОПУ!O63","v":3922337.5791427274},{"$f":"-ОПУ!P63","v":4018025.3750295043},{"$f":"-ОПУ!Q63","v":3992738.5100504179},{"$f":"-ОПУ!R63","v":3967451.6450713309},{"$f":"-ОПУ!S63","v":4123483.0960218417},{"$f":"-ОПУ!T63","v":4173769.4752416206},{"$f":"-ОПУ!U63","v":4183826.7510855761},{"$f":"-ОПУ!V63","v":4193884.0269295322},{"$f":"-ОПУ!W63","v":4203941.3027734868},{"$f":"-ОПУ!X63","v":4213998.5786174433},{"$f":"-ОПУ!Y63","v":4224055.8544613989},{"$f":"-ОПУ!Z63","v":4234113.1303053545},{"$f":"-ОПУ!AA63","v":4244170.406149311},{"$f":"-ОПУ!AB63","v":4254227.6819932656},{"$f":"-ОПУ!AC63","v":4133728.5114566083},{"$f":"-ОПУ!AD63","v":4143477.8711534403},{"$f":"-ОПУ!AE63","v":4153227.2308502719},{"$f":"-ОПУ!AF63","v":4162976.5905471039},{"$f":"-ОПУ!AG63","v":4172725.950243935},{"$f":"-ОПУ!AH63","v":4182475.3099407665}]
[null,"Процентные выплаты",null,null,null,null,null,null,{"$f":"ДДС!I41","v":0},{"$f":"ДДС!J41","v":0},{"$f":"ДДС!K41","v":0},{"$f":"ДДС!L41","v":0},{"$f":"ДДС!M41","v":0},{"$f":"ДДС!N41","v":3977243.2958666654},{"$f":"ДДС!O41","v":3742140.6099999994},{"$f":"ДДС!P41","v":3625752.0817428543},{"$f":"ДДС!Q41","v":3396560.6283333302},{"$f":"ДДС!R41","v":3169983.1872666655},{"$f":"ДДС!S41","v":3081520.7766666627},{"$f":"ДДС!T41","v":2903370.0183333284},{"$f":"ДДС!U41","v":2694115.9786666604},{"$f":"ДДС!V41","v":2483822.2749999929},{"$f":"ДДС!W41","v":2272488.9073333265},{"$f":"ДДС!X41","v":2060115.8756666589},{"$f":"ДДС!Y41","v":1846703.1799999913},{"$f":"ДДС!Z41","v":1632250.8203333232},{"$f":"ДДС!AA41","v":1416758.7966666562},{"$f":"ДДС!AB41","v":1200227.1089999883},{"$f":"ДДС!AC41","v":982655.75733332196},{"$f":"ДДС!AD41","v":764044.74166665599},{"$f":"ДДС!AE41","v":544394.06199998991},{"$f":"ДДС!AF41","v":323703.7183333232},{"$f":"ДДС!AG41","v":101973.71066665644},{"$f":"ДДС!AH41","v":0}]
[null,"Изменения в оборот. капитале и НДС",null,null,null,null,null,null,{"$f":"ДДС!I15+ДДС!I16","v":0},{"$f":"ДДС!J15+ДДС!J16","v":0},{"$f":"ДДС!K15+ДДС!K16","v":0},{"$f":"ДДС!L15+ДДС!L16","v":0},{"$f":"ДДС!M15+ДДС!M16","v":0},{"$f":"ДДС!N15+ДДС!N16","v":16867146.79731714},{"$f":"ДДС!O15+ДДС!O16","v":1333508.6626971113},{"$f":"ДДС!P15+ДДС!P16","v":1384716.8746922838},{"$f":"ДДС!Q15+ДДС!Q16","v":1437973.4151672637},{"$f":"ДДС!R15+ДДС!R16","v":1493360.217261242},{"$f":"ДДС!S15+ДДС!S16","v":1550962.4914389797},{"$f":"ДДС!T15+ДДС!T16","v":1610868.8565838269},{"$f":"ДДС!U15+ДДС!U16","v":1673171.4763344685},{"$f":"ДДС!V15+ДДС!V16","v":1737966.2008751354},{"$f":"ДДС!W15+ДДС!W16","v":1805352.7143974288},{"$f":"ДДС!X15+ДДС!X16","v":1875434.6884606143},{"$f":"ДДС!Y15+ДДС!Y16","v":1948319.9414863267},{"$f":"ДДС!Z15+ДДС!Z16","v":2024120.604633068},{"$f":"ДДС!AA15+ДДС!AA16","v":2102953.2943056789},{"$f":"ДДС!AB15+ДДС!AB16","v":2184939.2915651938},{"$f":"ДДС!AC15+ДДС!AC16","v":2270204.7287150891},{"$f":"ДДС!AD15+ДДС!AD16","v":2358880.7833509808},{"$f":"ДДС!AE15+ДДС!AE16","v":2451103.880172309},{"$f":"ДДС!AF15+ДДС!AF16","v":2547015.9008664889},{"$f":"ДДС!AG15+ДДС!AG16","v":2646764.4023884363},{"$f":"ДДС!AH15+ДДС!AH16","v":2750502.8439712613}]
[null,"OCF",null,null,null,null,null,null,{"$f":"I29-I30+I31+I33","v":0},{"$f":"J29-J30+J31+J33","v":0},0,0,0,{"$f":"N29-N30+N31+N33","v":31912042.609778211},16907367.95987992,17455026.401981235,17984844.456388857,18512399.575771451,19019246.900931492,19502461.751298282,19963489.187522806,20396297.103482295,20799804.726017732,21170491.327846535,21505641.142732952,21801736.412345763,22060937.230369471,22316808.332703076,22561470.895032357,22809442.969655652,23052865.930164516,23291290.382702503,23524243.868749052,23775389.036186114]
[null,"ICF",null,null,null,null,null,null,{"$f":"ДДС!I29","v":-577955.19999999995},{"$f":"ДДС!J29","v":-9648345.5999999996},{"$f":"ДДС!K29","v":-25416000},{"$f":"ДДС!L29","v":-25581600},{"$f":"ДДС!M29","v":-31046760},{"$f":"ДДС!N29","v":-687370.80209965585},{"$f":"ДДС!O29","v":-695457.51741847547},{"$f":"ДДС!P29","v":-703544.23273729486},{"$f":"ДДС!Q29","v":-711630.94805611449},{"$f":"ДДС!R29","v":-718706.82396008144},{"$f":"ДДС!S29","v":-725782.69986404851},{"$f":"ДДС!T29","v":-733869.4151828679},{"$f":"ДДС!U29","v":-737912.77284227766},{"$f":"ДДС!V29","v":-742966.96991653985},{"$f":"ДДС!W29","v":-747010.3275759496},{"$f":"ДДС!X29","v":-751053.68523535936},{"$f":"ДДС!Y29","v":-755097.04289476923},{"$f":"ДДС!Z29","v":-760151.2399690313},{"$f":"ДДС!AA29","v":-760151.2399690313},{"$f":"ДДС!AB29","v":-760151.2399690313},{"$f":"ДДС!AC29","v":-736878.25385683961},{"$f":"ДДС!AD29","v":-736878.25385683961},{"$f":"ДДС!AE29","v":-736878.25385683961},{"$f":"ДДС!AF29","v":-736878.25385683961},{"$f":"ДДС!AG29","v":-736878.25385683961},{"$f":"ДДС!AH29","v":-736878.25385683961}]
[null,"Получение долгового финансирования ",null,null,null,null,null,null,{"$f":"Кредит!C6*Inputs!F13","v":0},{"$f":"Кредит!D6*Inputs!G13","v":4890076.8},{"$f":"Кредит!E6*Inputs!H13","v":17169920},{"$f":"Кредит!F6*Inputs!I13","v":25923600},{"$f":"Кредит!G6*Inputs!J13","v":31452600},{"$f":"Кредит!H6*Inputs!K13","v":0},{"$f":"Кредит!I6*Inputs!L13","v":0},{"$f":"Кредит!J6*Inputs!M13","v":0},{"$f":"Кредит!K6*Inputs!N13","v":0},{"$f":"Кредит!L6*Inputs!O13","v":0},{"$f":"Кредит!M6*Inputs!P13","v":0},{"$f":"Кредит!N6*Inputs!Q13","v":0},{"$f":"Кредит!O6*Inputs!R13","v":0},{"$f":"Кредит!P6*Inputs!S13","v":0},{"$f":"Кредит!Q6*Inputs!T13","v":0},{"$f":"Кредит!R6*Inputs!U13","v":0},{"$f":"Кредит!S6*Inputs!V13","v":0},{"$f":"Кредит!T6*Inputs!W13","v":0},{"$f":"Кредит!U6*Inputs!X13","v":0},{"$f":"Кредит!V6*Inputs!Y13","v":0},{"$f":"Кредит!W6*Inputs!Z13","v":0},{"$f":"Кредит!X6*Inputs!AA13","v":0},{"$f":"Кредит!Y6*Inputs!AB13","v":0},{"$f":"Кредит!Z6*Inputs!AC13","v":0},{"$f":"Кредит!AA6*Inputs!AD13","v":0},{"$f":"Кредит!AB6*Inputs!AE13","v":0}]
[null,"Взносы в уставный капитал ",null,null,null,null,null,null,{"$f":"Кредит!C5*Inputs!F13","v":586027.19999999995},{"$f":"Кредит!D5*Inputs!G13","v":4890076.8},{"$f":"Кредит!E5*Inputs!H13","v":8584960},{"$f":"Кредит!F5*Inputs!I13","v":0},{"$f":"Кредит!G5*Inputs!J13","v":0},{"$f":"Кредит!H5*Inputs!K13","v":0},{"$f":"Кредит!I5*Inputs!L13","v":0},{"$f":"Кредит!J5*Inputs!M13","v":0},{"$f":"Кредит!K5*Inputs!N13","v":0},{"$f":"Кредит!L5*Inputs!O13","v":0},{"$f":"Кредит!M5*Inputs!P13","v":0},{"$f":"Кредит!N5*Inputs!Q13","v":0},{"$f":"Кредит!O5*Inputs!R13","v":0},{"$f":"Кредит!P5*Inputs!S13","v":0},{"$f":"Кредит!Q5*Inputs!T13","v":0},{"$f":"Кредит!R5*Inputs!U13","v":0},{"$f":"Кредит!S5*Inputs!V13","v":0},{"$f":"Кредит!T5*Inputs!W13","v":0},{"$f":"Кредит!U5*Inputs!X13","v":0},{"$f":"Кредит!V5*Inputs!Y13","v":0},{"$f":"Кредит!W5*Inputs!Z13","v":0},{"$f":"Кредит!X5*Inputs!AA13","v":0},{"$f":"Кредит!Y5*Inputs!AB13","v":0},{"$f":"Кредит!Z5*Inputs!AC13","v":0},{"$f":"Кредит!AA5*Inputs!AD13","v":0},{"$f":"Кредит!AB5*Inputs!AE13","v":0}]
[null,"CFADS",null,null,null,null,null,null,{"$f":"I34+I35+I36+I37+I32","v":8072},{"$f":"J34+J35+J36+J37+J32","v":131808},338880,342000,405840,{"$f":"N34+N35+N36+N37+N32","v":35201915.103545219},19954051.052461445,20377234.250986792,20669774.136666074,20963675.939078037,21374984.977734108,21671962.354448743,21919692.393347189,22137152.408565745,22325283.30577511,22479553.518277835,22597247.279838175,22673835.992710058,22717544.787067097,22756884.201734036,22807248.398508839,22836609.457465466,22860381.73830767,22878115.847178984,22889339.325558871,23038510.782329276]
[null,"DSCR",null,null,null,null,null,null,{"$f":"IF(I32=0,0,I38/I32)","v":0},{"$f":"IF(J32=0,0,J38/J32)","v":0},0,0,0,{"$f":"IF(N32=0,0,N38/N32)","v":8.8508327212792519},5.3322558214779239,5.6201399851894198,6.0855013051271794,6.6131820582790146,6.9365052280633392,7.4644162533886993,8.1361354028253157,8.9125347781035611,9.824155019516871,10.911790828757821,12.236534557674981,13.891146942771831,16.034871172507867,18.960481754736186,23.209804886710192,29.889099698076084,41.992342191102175,70.676098393225757,224.46314031252834,0]
[null,"FCFF",null,null,null,null,null,null,{"$f":"I34+I35","v":-577955.19999999995},{"$f":"J34+J35","v":-9648345.5999999996},-25416000,-25581600,-31046760,{"$f":"N34+N35","v":31224671.807678554},16211910.442461444,16751482.169243939,17273213.508332744,17793692.75181137,18293464.201067444,18768592.336115416,19225576.414680529,19653330.133565754,20052794.398441784,20419437.642611176,20750544.099838182,21041585.172376733,21300785.990400441,21556657.092734046,21824592.641175516,22072564.71579881,22315987.676307678,22554412.128845662,22787365.614892215,23038510.782329276]
[null,"Погашение тела долга",null,null,null,null,null,null,{"$f":"ДДС!I40","v":0},{"$f":"ДДС!J40","v":0},{"$f":"ДДС!K40","v":0},{"$f":"ДДС!L40","v":0},{"$f":"ДДС!M40","v":0},{"$f":"ДДС!N40","v":4087958.8479999998},{"$f":"ДДС!O40","v":4054689.5999999996},{"$f":"ДДС!P40","v":4153606.2034285692},{"$f":"ДДС!Q40","v":4127466.08},{"$f":"ДДС!R40","v":4101325.9565714304},{"$f":"ДДС!S40","v":4262622.3999999994},{"$f":"ДДС!T40","v":4314605.5999999996},{"$f":"ДДС!U40","v":4325002.24},{"$f":"ДДС!V40","v":4335398.88},{"$f":"ДДС!W40","v":4345795.5199999996},{"$f":"ДДС!X40","v":4356192.1599999992},{"$f":"ДДС!Y40","v":4366588.8},{"$f":"ДДС!Z40","v":4376985.4399999995},{"$f":"ДДС!AA40","v":4387382.08},{"$f":"ДДС!AB40","v":4397778.72},{"$f":"ДДС!AC40","v":4408175.3599999994},{"$f":"ДДС!AD40","v":4418572},{"$f":"ДДС!AE40","v":4428968.6399999997},{"$f":"ДДС!AF40","v":4439365.28},{"$f":"ДДС!AG40","v":4449761.919999999},{"$f":"ДДС!AH40","v":4460158.5599999996}]
[null,"FCFE",null,null,null,null,null,null,{"$f":"I40-I32*20%+I36-I41","v":-577955.19999999995},{"$f":"J40-J32*20%+J36-J41","v":-4758268.8},{"$f":"K40-K32*20%+K36-K41","v":-8246080},342000,405840,26341264.300505221,11408792.720461445,11872725.5494668,12466435.302666077,13058370.157786608,13414537.645734113,13873312.732448751,14361750.978947198,14821166.798565757,15252501.096975118,15651222.307477843,16014614.663838182,16338149.568310069,16630052.15106711,16918832.950934049,17219886.129708853,17501183.76746548,17778140.223907679,18050306.105178997,18317208.952758886,{"$f":"AH40-AH32*20%+AH36-AH41","v":18578352.222329278}]
[null,"Фактор дисконтирования 1+wacc",null,null,null,null,null,null,{"$f":"1+I7","v":1.0935820000000001},1.0683370176722906,1.0609215572562454,1.0522038168916614,1.048165991156041,1.0504367915982391,1.052707592040437,1.054978392482635,1.0572491929248329,1.0595199933670307,1.0617907938092288,1.0640615942514267,1.0663323946936247,1.0686031951358226,1.0708739955780204,1.0731447960202185,1.0754155964624164,1.0776863969046144,1.0799571973468123,1.0822279977890104,1.0844987982312082,1.0867695986734061,1.0890403991156041,1.091311199557802,1.0935820000000001,1.0935820000000001]
[null,"Дисконтированый FCFF",null,null,null,null,null,null,{"$f":"I40/I43","v":-528497.36005164671},{"$f":"J40/(I43*J43)","v":-8258348.7881667959},{"$f":"K40/(I43*J43*K43)","v":-20505213.597498309},{"$f":"L40/(I43*J43*K43*L43)","v":-19614847.086548757},{"$f":"M40/(I43*J43*K43*L43*M43)","v":-22711375.767064407},{"$f":"N40/(I43*J43*K43*L43*M43*N43)","v":21744784.913489878},{"$f":"O40/(I43*J43*K43*L43*M43*N43*O43)","v":10724663.506955856},{"$f":"P40/(I43*J43*K43*L43*M43*N43*O43*P43)","v":10504107.398613874},{"$f":"Q40/(I43*J43*K43*L43*M43*N43*O43*P43*Q43)","v":10244757.741189888},{"$f":"R40/(I43*J43*K43*L43*M43*N43*O43*P43*Q43*R43)","v":9960599.6043534465},{"$f":"S40/(I43*J43*K43*L43*M43*N43*O43*P43*Q43*R43*S43)","v":9644426.2143458817},{"$f":"T40/(I43*J43*K43*L43*M43*N43*O43*P43*Q43*R43*S43*T43)","v":9299195.3911375441},{"$f":"U40/(I43*J43*K43*L43*M43*N43*O43*P43*Q43*R43*S43*T43*U43)","v":8933063.8505605739},{"$f":"V40/(I43*J43*K43*L43*M43*N43*O43*P43*Q43*R43*S43*T43*U43*V43)","v":8545564.3662293982},{"$f":"W40/(I43*J43*K43*L43*M43*N43*O43*P43*Q43*R43*S43*T43*U43*V43*W43)","v":8142188.0534767285},{"$f":"X40/(I43*J43*K43*L43*M43*N43*O43*P43*Q43*R43*S43*T43*U43*V43*W43*X43)","v":7725946.2271827031},{"$f":"Y40/(I43*J43*K43*L43*M43*N43*O43*P43*Q43*R43*S43*T43*U43*V43*W43*X43*Y43)","v":7300642.1584983896},{"$f":"Z40/(I43*J43*K43*L43*M43*N43*O43*P43*Q43*R43*S43*T43*U43*V43*W43*X43*Y43*Z43)","v":6869381.3478051005},{"$f":"AA40/(I43*J43*K43*L43*M43*N43*O43*P43*Q43*R43*S43*T43*U43*V43*W43*X43*Y43*Z43*AA43)","v":6439145.7880900344},{"$f":"AB40/(I43*J43*K43*L43*M43*N43*O43*P43*Q43*R43*S43*T43*U43*V43*W43*X43*Y43*Z43*AA43*AB43)","v":6021369.4829850001},{"$f":"AC40/(I43*J43*K43*L43*M43*N43*O43*P43*Q43*R43*S43*T43*U43*V43*W43*X43*Y43*Z43*AA43*AB43*AC43)","v":5621224.5592439314},{"$f":"AD40/(I43*J43*K43*L43*M43*N43*O43*P43*Q43*R43*S43*T43*U43*V43*W43*X43*Y43*Z43*AA43*AB43*AC43*AD43)","v":5231185.3320604507},{"$f":"AE40/(I43*J43*K43*L43*M43*N43*O43*P43*Q43*R43*S43*T43*U43*V43*W43*X43*Y43*Z43*AA43*AB43*AC43*AD43*AE43)","v":4856455.6834445242},{"$f":"AF40/(I43*J43*K43*L43*M43*N43*O43*P43*Q43*R43*S43*T43*U43*V43*W43*X43*Y43*Z43*AA43*AB43*AC43*AD43*AE43*AF43)","v":4497655.805011034},{"$f":"AG40/(I43*J43*K43*L43*M43*N43*O43*P43*Q43*R43*S43*T43*U43*V43*W43*X43*Y43*Z43*AA43*AB43*AC43*AD43*AE43*AF43*AG43)","v":4155253.0042803208},{"$f":"AH40/(I43*J43*K43*L43*M43*N43*O43*P43*Q43*R43*S43*T43*U43*V43*W43*X43*Y43*Z43*AA43*AB43*AC43*AD43*AE43*AF43*AG43*AH43)","v":3841549.212404558}]
[null,"NPV project",null,null,{"$f":"SUM(I44:AH44)+(AJ29/(I43*J43*K43*L43*M43*N43*O43*P43*Q43*R43*S43*T43*U43*V43*W43*X43*Y43*Z43*AA43*AB43*AC43*AD43*AE43*AF43*AG43*AH43))","v":173247438.74000129}]
[null,"Фактор дисконтирования 1+ks",null,null,null,null,null,null,{"$f":"1+I27","v":1.0935820000000001},1.0935820000000001,1.0935820000000001,1.0935820000000001,1.0935820000000001,1.0935820000000001,1.0935820000000001,1.0935820000000001,1.0935820000000001,1.0935820000000001,1.0935820000000001,1.0935820000000001,1.0935820000000001,1.0935820000000001,1.0935820000000001,1.0935820000000001,1.0935820000000001,1.0935820000000001,1.0935820000000001,1.0935820000000001,1.0935820000000001,1.0935820000000001,1.0935820000000001,1.0935820000000001,1.0935820000000001,1.0935820000000001]
[null,"Дисконтированый FCFE",null,null,null,null,null,null,{"$f":"I42/I46","v":-528497.36005164671},{"$f":"J42/(I46*J46)","v":-3978746.4637371306},{"$f":"K42/(I46*J46*K46)","v":-6305121.8504618444},{"$f":"L42/(I46*J46*K46*L46)","v":239122.63787135549},{"$f":"M42/(I46*J46*K46*L46*M46)","v":259476.53089328631},{"$f":"N42/(I46*J46*K46*L46*M46*N46)","v":15400275.718701409},{"$f":"O42/(I46*J46*K46*L46*M46*N46*O46)","v":6099303.114526608},{"$f":"P42/(I46*J46*K46*L46*M46*N46*O46*P46)","v":5804163.0293456772},{"$f":"Q42/(I46*J46*K46*L46*M46*N46*O46*P46*Q46)","v":5572885.344256415},{"$f":"R42/(I46*J46*K46*L46*M46*N46*O46*P46*Q46*R46)","v":5337961.5647453237},{"$f":"S42/(I46*J46*K46*L46*M46*N46*O46*P46*Q46*R46*S46)","v":5014305.8746941807},{"$f":"T42/(I46*J46*K46*L46*M46*N46*O46*P46*Q46*R46*S46*T46)","v":4742026.0669512274},{"$f":"U42/(I46*J46*K46*L46*M46*N46*O46*P46*Q46*R46*S46*T46*U46)","v":4488898.6451712502},{"$f":"V42/(I46*J46*K46*L46*M46*N46*O46*P46*Q46*R46*S46*T46*U46*V46)","v":4236073.13046447},{"$f":"W42/(I46*J46*K46*L46*M46*N46*O46*P46*Q46*R46*S46*T46*U46*V46*W46)","v":3986307.2160245511},{"$f":"X42/(I46*J46*K46*L46*M46*N46*O46*P46*Q46*R46*S46*T46*U46*V46*W46*X46)","v":3740473.7195197474},{"$f":"Y42/(I46*J46*K46*L46*M46*N46*O46*P46*Q46*R46*S46*T46*U46*V46*W46*X46*Y46)","v":3499802.1021526586},{"$f":"Z42/(I46*J46*K46*L46*M46*N46*O46*P46*Q46*R46*S46*T46*U46*V46*W46*X46*Y46*Z46)","v":3264964.8384942529},{"$f":"AA42/(I46*J46*K46*L46*M46*N46*O46*P46*Q46*R46*S46*T46*U46*V46*W46*X46*Y46*Z46*AA46)","v":3038910.4246083712},{"$f":"AB42/(I46*J46*K46*L46*M46*N46*O46*P46*Q46*R46*S46*T46*U46*V46*W46*X46*Y46*Z46*AA46*AB46)","v":2827114.1020487309},{"$f":"AC42/(I46*J46*K46*L46*M46*N46*O46*P46*Q46*R46*S46*T46*U46*V46*W46*X46*Y46*Z46*AA46*AB46*AC46)","v":2631187.85881982},{"$f":"AD42/(I46*J46*K46*L46*M46*N46*O46*P46*Q46*R46*S46*T46*U46*V46*W46*X46*Y46*Z46*AA46*AB46*AC46*AD46)","v":2445330.997030857},{"$f":"AE42/(I46*J46*K46*L46*M46*N46*O46*P46*Q46*R46*S46*T46*U46*V46*W46*X46*Y46*Z46*AA46*AB46*AC46*AD46*AE46)","v":2271460.568354513},{"$f":"AF42/(I46*J46*K46*L46*M46*N46*O46*P46*Q46*R46*S46*T46*U46*V46*W46*X46*Y46*Z46*AA46*AB46*AC46*AD46*AE46*AF46)","v":2108881.0904794219},{"$f":"AG42/(I46*J46*K46*L46*M46*N46*O46*P46*Q46*R46*S46*T46*U46*V46*W46*X46*Y46*Z46*AA46*AB46*AC46*AD46*AE46*AF46*AG46)","v":1956930.7961955182},{"$f":"AH42/(I46*J46*K46*L46*M46*N46*O46*P46*Q46*R46*S46*T46*U46*V46*W46*X46*Y46*Z46*AA46*AB46*AC46*AD46*AE46*AF46*AG46*AH46)","v":1814980.6830322761}]
[null,"NPV eq",null,null,{"$f":"SUM(I47:AH47)+(AJ30/(I46*J46*K46*L46*M46*N46*O46*P46*Q46*R46*S46*T46*U46*V46*W46*X46*Y46*Z46*AA46*AB46*AC46*AD46*AE46*AF46*AG46*AH46))","v":114701169.46812618}]
[]
[null,"Поиск решения IRR project"]
[null,"IRR project",null,null,0.19198467334795116,null,null,null,{"$f":"$E$51","v":0.19198467334795116},{"$f":"$E$51","v":0.19198467334795116},0.19198467334795116,0.19198467334795116,0.19198467334795116,0.19198467334795116,0.19198467334795116,0.19198467334795116,0.19198467334795116,0.19198467334795116,0.19198467334795116,0.19198467334795116,0.19198467334795116,0.19198467334795116,0.19198467334795116,0.19198467334795116,0.19198467334795116,0.19198467334795116,0.19198467334795116,0.19198467334795116,0.19198467334795116,0.19198467334795116,0.19198467334795116,0.19198467334795116,0.19198467334795116,0.19198467334795116]
[null,{"$f":"B40","v":"FCFF"},null,null,null,0,null,null,{"$f":"I40","v":-577955.19999999995},{"$f":"J40","v":-9648345.5999999996},-25416000,-25581600,-31046760,31224671.807678554,16211910.442461444,16751482.169243939,17273213.508332744,17793692.75181137,18293464.201067444,18768592.336115416,19225576.414680529,19653330.133565754,20052794.398441784,20419437.642611176,20750544.099838182,21041585.172376733,21300785.990400441,21556657.092734046,21824592.641175516,22072564.71579881,22315987.676307678,22554412.128845662,22787365.614892215,23038510.782329276]
[null,"Фактор дисконтирования 1+wacc",null,null,null,null,null,null,{"$f":"1+I51","v":1.1919846733479511},{"$f":"1+J51","v":1.1919846733479511},{"$f":"1+K51","v":1.1919846733479511},{"$f":"1+L51","v":1.1919846733479511},{"$f":"1+M51","v":1.1919846733479511},1.1919846733479511,1.1919846733479511,1.1919846733479511,1.1919846733479511,1.1919846733479511,1.1919846733479511,1.1919846733479511,1.1919846733479511,1.1919846733479511,1.1919846733479511,1.1919846733479511,1.1919846733479511,1.1919846733479511,1.1919846733479511,1.1919846733479511,1.1919846733479511,1.1919846733479511,1.1919846733479511,1.1919846733479511,1.1919846733479511,1.1919846733479511]
[null,"Дисконтированый FCFF",null,null,null,null,null,null,{"$f":"I52/I53","v":-484867.97936477291},{"$f":"J52/(I53*J53)","v":-6790652.5327419555},{"$f":"K52/(I53*J53*K53)","v":-15007045.113519838},{"$f":"L52/(I53*J53*K53*L53)","v":-12671995.760774937},{"$f":"M52/(I53*J53*K53*L53*M53)","v":-12902175.001903722},{"$f":"N52/(I53*J53*K53*L53*M53*N53)","v":10886138.488176286},{"$f":"O52/(I53*J53*K53*L53*M53*N53*O53)","v":4741759.2193977162},{"$f":"P52/(I53*J53*K53*L53*M53*N53*O53*P53)","v":4110435.8003072613},{"$f":"Q52/(I53*J53*K53*L53*M53*N53*O53*P53*Q53)","v":3555798.1533657266},{"$f":"R52/(I53*J53*K53*L53*M53*N53*O53*P53*Q53*R53)","v":3072977.4604309704},{"$f":"S52/(I53*J53*K53*L53*M53*N53*O53*P53*Q53*R53*S53)","v":2650443.624958849},{"$f":"T52/(I53*J53*K53*L53*M53*N53*O53*P53*Q53*R53*S53*T53)","v":2281306.5447996636},{"$f":"U52/(I53*J53*K53*L53*M53*N53*O53*P53*Q53*R53*S53*T53*U53)","v":1960471.9974926298},{"$f":"V52/(I53*J53*K53*L53*M53*N53*O53*P53*Q53*R53*S53*T53*U53*V53)","v":1681305.9583139187},{"$f":"W52/(I53*J53*K53*L53*M53*N53*O53*P53*Q53*R53*S53*T53*U53*V53*W53)","v":1439179.0632702599},{"$f":"X52/(I53*J53*K53*L53*M53*N53*O53*P53*Q53*R53*S53*T53*U53*V53*W53*X53)","v":1229456.1322832212},{"$f":"Y52/(I53*J53*K53*L53*M53*N53*O53*P53*Q53*R53*S53*T53*U53*V53*W53*X53*Y53)","v":1048161.1962497112},{"$f":"Z52/(I53*J53*K53*L53*M53*N53*O53*P53*Q53*R53*S53*T53*U53*V53*W53*X53*Y53*Z53)","v":891674.55160953617},{"$f":"AA52/(I53*J53*K53*L53*M53*N53*O53*P53*Q53*R53*S53*T53*U53*V53*W53*X53*Y53*Z53*AA53)","v":757273.70235620125},{"$f":"AB52/(I53*J53*K53*L53*M53*N53*O53*P53*Q53*R53*S53*T53*U53*V53*W53*X53*Y53*Z53*AA53*AB53)","v":642936.36208785174},{"$f":"AC52/(I53*J53*K53*L53*M53*N53*O53*P53*Q53*R53*S53*T53*U53*V53*W53*X53*Y53*Z53*AA53*AB53*AC53)","v":546087.26692374086},{"$f":"AD52/(I53*J53*K53*L53*M53*N53*O53*P53*Q53*R53*S53*T53*U53*V53*W53*X53*Y53*Z53*AA53*AB53*AC53*AD53)","v":463338.1193131847},{"$f":"AE52/(I53*J53*K53*L53*M53*N53*O53*P53*Q53*R53*S53*T53*U53*V53*W53*X53*Y53*Z53*AA53*AB53*AC53*AD53*AE53)","v":392998.30238084641},{"$f":"AF52/(I53*J53*K53*L53*M53*N53*O53*P53*Q53*R53*S53*T53*U53*V53*W53*X53*Y53*Z53*AA53*AB53*AC53*AD53*AE53*AF53)","v":333223.331538431},{"$f":"AG52/(I53*J53*K53*L53*M53*N53*O53*P53*Q53*R53*S53*T53*U53*V53*W53*X53*Y53*Z53*AA53*AB53*AC53*AD53*AE53*AF53*AG53)","v":282440.73921182007},{"$f":"AH52/(I53*J53*K53*L53*M53*N53*O53*P53*Q53*R53*S53*T53*U53*V53*W53*X53*Y53*Z53*AA53*AB53*AC53*AD53*AE53*AF53*AG53*AH53)","v":239561.4595805069}]
[null,"NPV project",null,null,{"$f":"SUM(I54:AH54)+((AJ29)/(I53*J53*K53*L53*M53*N53*O53*P53*Q53*R53*S53*T53*U53*V53*W53*X53*Y53*Z53*AA53*AB53*AC53*AD53*AE53*AF53*AG53*AH53))","v":2.7660280466079712E-7}]
[]
[null,"Поиск решения IRR eq"]
[null,"IRR eq",null,null,0.4803598855497917,null,null,null,{"$f":"$E$58","v":0.4803598855497917},{"$f":"$E$58","v":0.4803598855497917},0.4803598855497917,0.4803598855497917,0.4803598855497917,0.4803598855497917,0.4803598855497917,0.4803598855497917,0.4803598855497917,0.4803598855497917,0.4803598855497917,0.4803598855497917,0.4803598855497917,0.4803598855497917,0.4803598855497917,0.4803598855497917,0.4803598855497917,0.4803598855497917,0.4803598855497917,0.4803598855497917,0.4803598855497917,0.4803598855497917,0.4803598855497917,0.4803598855497917,0.4803598855497917,0.4803598855497917]
[null,{"$f":"B42","v":"FCFE"},null,null,null,{"$f":"F42","v":0},null,null,{"$f":"I42","v":-577955.19999999995},-4758268.8,-8246080,342000,405840,26341264.300505221,11408792.720461445,11872725.5494668,12466435.302666077,13058370.157786608,13414537.645734113,13873312.732448751,14361750.978947198,14821166.798565757,15252501.096975118,15651222.307477843,16014614.663838182,16338149.568310069,16630052.15106711,16918832.950934049,17219886.129708853,17501183.76746548,17778140.223907679,18050306.105178997,18317208.952758886,18578352.222329278]
[null,"Фактор дисконтирования 1+ks",null,null,null,null,null,null,{"$f":"1+I58","v":1.4803598855497917},{"$f":"1+J58","v":1.4803598855497917},1.4803598855497917,1.4803598855497917,1.4803598855497917,1.4803598855497917,1.4803598855497917,1.4803598855497917,1.4803598855497917,1.4803598855497917,1.4803598855497917,1.4803598855497917,1.4803598855497917,1.4803598855497917,1.4803598855497917,1.4803598855497917,1.4803598855497917,1.4803598855497917,1.4803598855497917,1.4803598855497917,1.4803598855497917,1.4803598855497917,1.4803598855497917,1.4803598855497917,1.4803598855497917,1.4803598855497917]
[null,"Дисконтированый FCFE",null,null,null,null,null,null,{"$f":"I59/I60","v":-390415.33456937253},{"$f":"J59/(I60*J60)","v":-2171272.619725205},{"$f":"K59/(I60*J60*K60)","v":-2541824.8387468592},{"$f":"L59/(I60*J60*K60*L60)","v":71212.605091501755},{"$f":"M59/(I60*J60*K60*L60*M60)","v":57084.514065441246},{"$f":"N59/(I60*J60*K60*L60*M60*N60)","v":2502838.1542578964},{"$f":"O59/(I60*J60*K60*L60*M60*N60*O60)","v":732265.43141969072},{"$f":"P59/(I60*J60*K60*L60*M60*N60*O60*P60)","v":514768.49990678177},{"$f":"Q59/(I60*J60*K60*L60*M60*N60*O60*P60*Q60)","v":365120.74927332689},{"$f":"R59/(I60*J60*K60*L60*M60*N60*O60*P60*Q60*R60)","v":258354.41847777762},{"$f":"S59/(I60*J60*K60*L60*M60*N60*O60*P60*Q60*R60*S60)","v":179281.43458567033},{"$f":"T59/(I60*J60*K60*L60*M60*N60*O60*P60*Q60*R60*S60*T60)","v":125248.48408970525},{"$f":"U59/(I60*J60*K60*L60*M60*N60*O60*P60*Q60*R60*S60*T60*U60)","v":87585.534757822476},{"$f":"V59/(I60*J60*K60*L60*M60*N60*O60*P60*Q60*R60*S60*T60*U60*V60)","v":61057.649357326321},{"$f":"W59/(I60*J60*K60*L60*M60*N60*O60*P60*Q60*R60*S60*T60*U60*V60*W60)","v":42445.479327172041},{"$f":"X59/(I60*J60*K60*L60*M60*N60*O60*P60*Q60*R60*S60*T60*U60*V60*W60*X60)","v":29421.941619647256},{"$f":"Y59/(I60*J60*K60*L60*M60*N60*O60*P60*Q60*R60*S60*T60*U60*V60*W60*X60*Y60)","v":20336.314725983208},{"$f":"Z59/(I60*J60*K60*L60*M60*N60*O60*P60*Q60*R60*S60*T60*U60*V60*W60*X60*Y60*Z60)","v":14014.942504518123},{"$f":"AA59/(I60*J60*K60*L60*M60*N60*O60*P60*Q60*R60*S60*T60*U60*V60*W60*X60*Y60*Z60*AA60)","v":9636.3986010029057},{"$f":"AB59/(I60*J60*K60*L60*M60*N60*O60*P60*Q60*R60*S60*T60*U60*V60*W60*X60*Y60*Z60*AA60*AB60)","v":6622.5346458719378},{"$f":"AC59/(I60*J60*K60*L60*M60*N60*O60*P60*Q60*R60*S60*T60*U60*V60*W60*X60*Y60*Z60*AA60*AB60*AC60)","v":4553.2008019378327},{"$f":"AD59/(I60*J60*K60*L60*M60*N60*O60*P60*Q60*R60*S60*T60*U60*V60*W60*X60*Y60*Z60*AA60*AB60*AC60*AD60)","v":3125.983240507348},{"$f":"AE59/(I60*J60*K60*L60*M60*N60*O60*P60*Q60*R60*S60*T60*U60*V60*W60*X60*Y60*Z60*AA60*AB60*AC60*AD60*AE60)","v":2145.0540481227863},{"$f":"AF59/(I60*J60*K60*L60*M60*N60*O60*P60*Q60*R60*S60*T60*U60*V60*W60*X60*Y60*Z60*AA60*AB60*AC60*AD60*AE60*AF60)","v":1471.1913919939284},{"$f":"AG59/(I60*J60*K60*L60*M60*N60*O60*P60*Q60*R60*S60*T60*U60*V60*W60*X60*Y60*Z60*AA60*AB60*AC60*AD60*AE60*AF60*AG60)","v":1008.5016088302615},{"$f":"AH59/(I60*J60*K60*L60*M60*N60*O60*P60*Q60*R60*S60*T60*U60*V60*W60*X60*Y60*Z60*AA60*AB60*AC60*AD60*AE60*AF60*AG60*AH60)","v":690.96679877499798}]
[null,"NPV eq",null,null,{"$f":"SUM(I61:AH61)+(AJ30/(I60*J60*K60*L60*M60*N60*O60*P60*Q60*R60*S60*T60*U60*V60*W60*X60*Y60*Z60*AA60*AB60*AC60*AD60*AE60*AF60*AG60*AH60))","v":6.0530510381795466E-8}]
[]
[null,"Дисконтированый срок окупаемости"]
[null,"Накопленый FCFF",null,null,null,null,null,null,{"$f":"I40","v":-577955.19999999995},{"$f":"I65+J40","v":-10226300.799999999},{"$f":"J65+K40","v":-35642300.799999997},-61223900.799999997,-92270660.799999997,{"$f":"M65+N40","v":-61045988.992321447},-44834078.549860001,-28082596.380616061,-10809382.872283317,6984309.8795280531,25277774.080595497,44046366.416710913,63271942.831391439,82925272.964957193,102978067.36339897,123397505.00601014,144148049.10584831,165189634.27822503,186490420.26862547,208047077.36135951,229871670.00253502,251944234.71833384,274260222.39464152,296814634.52348721,319602000.13837945,342640510.92070872]
[null,null,null,null,null,null,null,null,{"$f":"IF(I65<0,1,IF(H65<0,-H65/I40,0))","v":1},{"$f":"IF(J65<0,1,IF(I65<0,-I65/J40,0))","v":1},1,1,1,1,1,1,1,0.60748395642511799,0,0,0,0,0,0,0,0,0,0,0,0,0,0,0,0]
[null,"Прямой срок окупаемости проекта (5 лет инвест. фаза)",null,null,{"$f":"SUM(I66:AH66)","v":9.6074839564251171}]
[null,"Накопленый Дисконтируемый FCFF",null,null,null,null,null,null,{"$f":"I44","v":-528497.36005164671},{"$f":"I68+J44","v":-8786846.1482184418},{"$f":"J68+K44","v":-29292059.745716751},-48906906.832265511,-71618282.599329919,-49873497.68584004,-39148834.178884186,-28644726.780270312,-18399969.039080426,-8439369.4347269796,1205056.7796189021,10504252.170756446,19437316.02131702,27982880.38754642,36125068.441023149,43851014.66820585,51151656.826704241,58021038.174509339,64460183.962599374,70481553.445584372,76102778.004828304,81333963.33688876,86190419.02033329,90688074.825344324,94843327.829624638,98684877.042029202]
[null,null,null,null,null,null,null,null,{"$f":"IF(I68<0,1,IF(H68<0,-H68/I40,0))","v":1},{"$f":"IF(J68<0,1,IF(I68<0,-I68/J40,0))","v":1},1,1,1,1,1,1,1,1,0.46133249241193658,0,0,0,0,0,0,0,0,0,0,0,0,0,0,0]
[null,"Дисконтируемый срок окупаемости (5 лет инвест. фаза)",null,null,{"$f":"SUM(I69:AH69)","v":10.461332492411936}]
[null,null,null,null,null,null,null,null,{"$f":"E70-SUM(I44:AH44)/(AC44/(I43*J43*K43*L43*M43*N43*O43*P43*Q43*R43*S43*T43*U43*V43*W43*X43*Y43*Z43*AA43*AB43))","v":-52.38874325918799}]
[]
[null,"Накопленый FCFE",null,null,null,null,null,null,{"$f":"I42+H73","v":-577955.19999999995},-5336224,-13582304,-13240304,-12834464,13506800.300505221,24915593.020966664,36788318.570433468,49254753.873099543,62313124.030886151,75727661.67662026,89600974.409069017,103962725.38801621,118783892.18658197,134036393.28355709,149687615.59103492,165702230.2548731,182040379.82318318,198670431.97425029,215589264.92518434,232809151.0548932,250310334.82235867,268088475.04626635,286138781.15144533,304455990.10420424,323034342.3265335]
[null,"Прямой срок окупаемости для акционерного капитала (5 лет инвест. фаза)",null,null,{"$f":"SUM(I74:AH74)","v":5.487237964494887},null,null,null,{"$f":"IF(I73<0,1,IF(H73<0,-H73/I42,0))","v":1},{"$f":"IF(J73<0,1,IF(I73<0,-I73/J42,0))","v":1},1,1,1,0.4872379644948871,0,0,0,0,0,0,0,0,0,0,0,0,0,0,0,0,0,0,0,0]
[null,"Накопленый Дисконтируемый FCFE",null,null,null,null,null,null,{"$f":"I47+H75","v":-528497.36005164671},{"$f":"J47+I75","v":-4507243.823788777},-10812365.674250621,-10573243.036379267,-10313766.50548598,5086509.2132154293,11185812.327742036,16989975.357087713,22562860.701344129,27900822.266089454,32915128.140783634,37657154.20773486,42146052.852906108,46382125.98337058,50368433.199395128,54108906.918914877,57608709.021067537,60873673.859561794,63912584.284170166,66739698.386218898,69370886.245038718,71816217.242069572,74087677.810424089,76196558.900903508,78153489.69709903,79968470.380131304]
[null,null,null,null,null,null,null,null,{"$f":"IF(I75<0,1,IF(H75<0,-H75/I44,0))","v":1},{"$f":"IF(J75<0,1,IF(I75<0,-I75/J44,0))","v":1},1,1,1,0.47430988839478461,0,0,0,0,0,0,0,0,0,0,0,0,0,0,0,0,0,0,0,0]
[null,"Дисконтируемый срок окупаемости для акционерного капитала (5 лет инвест. фаза)",null,null,{"$f":"SUM(I76:AH76)","v":5.4743098883947843}]

{"sheet":"EBITDA_Sensitivity","index":22,"n_rows":13,"n_cols":30,"rows_kept":13,"cut":false,"hidden":true,"merged":[]}
[null,null,"Анализ чувствительности EBITDA к ключевым факторам"]
[]
[]
[null,null,"EBITDA",null,2019,2020,2021,2022,2023,2024,2025,2026,2027,2028,2029,2030,2031,2032,2033,2034,2035,2036,2037,2038,2039,2040,2041,2042,2043,2044]
[null,null,"Базовое значение","млн руб.",0,0,0,0,0,9926761.2432479002,9712322.5202653259,10202747.136649057,10724402.60170462,11304098.833480105,9980149.7005287036,10687869.238061704,11498030.829186754,12354353.749292588,13289778.871544722,14301556.024224153,15401242.985174458,16590617.758723246,17949587.017380979,19400985.062722668,20952114.850302778,22610849.387446068,24385675.33815001,26285739.917401776,28320901.321025498,30501782.955505505]
[null,null,"Цена + 5%","млн руб.",0,0,0,0,0,11377417.348153718,11212531.848457336,11754282.443651177,12329738.134398475,12966587.450728871,11702665.587282591,12473705.212042153,13350800.202567363,14278050.619775778,15288847.989463184,16380973.866554132,17566611.960055914,18848275.815879215,20306735.363135826,21863680.619525805,23526837.716036946,25304533.683455333,27205742.33230377,29240133.590496078,31418126.55728361,33750946.551322758]
[null,null,"Цена - 5%","млн руб.",0,0,0,0,0,8476105.1383420825,8212113.1920733154,8651211.8296469375,9119067.0690107681,9641610.216231335,8257633.8137748092,8902033.2640812472,9645261.455806138,10430656.878809391,11290709.753626261,12222138.181894174,13235874.010293003,14332959.701567279,15592438.671626132,16938289.505919531,18377391.984568618,19917165.091436811,21565608.343996249,23331346.244307466,25223676.084767394,27252619.359688245]
[null,null,"Объемы + 10%","млн руб.",0,0,0,0,0,12828073.453059539,12593489.576649349,13181796.086653296,13806091.136532329,14494934.236195244,13285673.968982793,14114453.380766757,15052678.258481892,16044820.520094255,17124713.058410343,18290659.497953959,19555459.435569998,20922351.513693124,22472958.055174943,24127813.496464565,25895055.394712161,27783452.584923297,29802453.316134561,31962237.012854517,34273769.932776406,36748865.011944115]
[null,null,"Объемы - 10%","млн руб.",0,0,0,0,0,7025449.0334362686,6831155.4638813101,7223698.1866448224,7642714.0668769144,8113263.4307649657,6674625.4320746139,7261285.0953566432,7943383.3998916103,8663886.9784909282,9454844.6846791059,10312452.550494356,11247026.534778923,12258884.003753377,13426215.979587033,14674156.628980786,16009174.305893408,17438246.189968854,18968897.360165469,20609242.82194905,22368032.709274597,24254700.89906691]
[null,null,"Себестоимость - 5%","млн руб.",0,0,0,0,0,10519423.983972203,10350091.893289451,10861978.132365819,11405953.685021736,12008862.807901572,10709055.081698708,11441881.682250179,12278154.618914442,13161633.338381065,14125300.491968412,15166449.357236458,16296682.899278939,17517826.117163584,18909929.609650817,20395791.060243979,21982766.743437205,23678785.124335743,25492390.549355477,27432790.229778409,29509904.764418185,31734422.465984881]
[null,null,"Себестоимость + 10%","млн руб.",0,0,0,0,0,8741435.7617992908,8436783.7742170766,8884285.1452155262,9361300.4350704029,9894570.8846371621,8522338.9381886944,9179844.3496847413,9937783.2497313637,10739794.57111563,11618735.63069734,12571769.358199527,13610363.156965498,14736201.041842574,16028901.832841314,17411373.067680024,18890811.064033929,20474977.91366671,22172244.915739074,23991639.292648513,25942894.434240114,28036503.934546776]
[null,null,"Обменный курс + 10%","млн руб.",0,0,0,0,0,12168776.00148987,12026953.648748115,12612055.949171815,13233337.5920306,13920362.503533196,12515351.876098217,13347230.122948524,14293930.098972648,15293628.425907111,16382648.899795229,17558058.720729787,18832667.528881799,20208531.056936413,21774410.983458582,23444833.541563507,25227948.037672345,27132535.5260325,29168056.963692088,31344704.991491623,33673459.612109639,36166148.056374624]
[null,null,"Обменный курс - 10%","млн руб.",0,0,0,0,0,7684746.4850059338,7397691.3917825483,7793438.3241263069,8215467.6113786511,8687835.1634270102,7444947.5249592066,8028508.3531748848,8702131.5594008528,9415079.0726780668,10196908.843294233,11045053.327718534,11969818.441467131,12972704.460510096,14124763.051303392,15357136.583881855,16676281.662933236,18089163.248859663,19603293.712607957,21226774.843311947,22968343.029941402,24837417.854636449]

{"sheet":"NPV_Sensitivity","index":23,"n_rows":23,"n_cols":23,"rows_kept":23,"cut":false,"hidden":true,"merged":[[0,2,0,22],[2,0,22,0]]}
[null,null,"Изменение объема продаж"]
[null,null,-0.5,-0.45,-0.4,-0.35,-0.3,-0.25,-0.2,-0.15,-0.1,-0.05,0,0.05,0.1,0.15,0.2,0.25,0.3,0.35,0.4,0.45,0.5]
["Изменение курса",-0.5,-156980760.58499053,-144802914.16758794,-132625067.75018534,-120447221.3327827,-108269374.91538015,-96091528.49797751,-83913682.080574915,-71735835.663172305,-59557989.24576968,-47380142.82836704,-35375380.819682181,-24227594.752769969,-13184146.490176821,-2248961.0914745107,8575114.6093689706,19273202.780861236,29830994.143437039,40126165.830723822,49993560.622030541,59766089.672214523,69538618.72239846]
[null,-0.45,-153595343.4765186,-140115679.31664824,-126636015.15677805,-113156350.99690774,-99676686.837037474,-86197022.677167162,-72717358.517296895,-59237694.357426606,-45758030.197556302,-33110465.025145575,-20844772.337484125,-8703603.358075425,3308827.0553592071,15185298.238377776,26906108.735861264,38415913.145261206,49403591.70900929,60217574.953167394,71031558.197325468,81845541.441483587,92659524.685641676]
[null,-0.4,-150209926.36804658,-135428444.46570861,-120646962.56337069,-105865480.66103272,-91083998.758694783,-76302516.8563568,-61521034.954018854,-46788292.34477292,-33250862.792059943,-19850160.369047515,-6591902.8772353195,6519707.762786027,19466727.781940207,32232838.701620977,44616233.623950943,56503243.458223701,68358680.896355957,80214118.334488243,92069555.77262044,103924993.2107527,115780430.64888492]
[null,-0.35,-146824509.25957465,-130741209.61476901,-114657909.9699634,-98574610.325157732,-82491310.680352092,-66408011.035546452,-50482559.545473941,-35768127.616842128,-21208069.761762325,-6809026.0408728346,7424109.89619096,21471819.979896054,35305190.878551804,48623095.187383428,61519986.819489822,74416878.45159626,87313770.083702594,100210661.71580902,113107553.34791535,126004444.98002174,138901336.61212808]
[null,-0.3,-143439092.15110263,-126053974.76382932,-108668857.37655599,-91283739.989282712,-73898622.602009386,-56568134.655588314,-40654542.539293848,-24911079.446455263,-9345278.1015801989,6037286.9757664166,21212126.169257998,36147452.12848305,50515475.966727242,64453821.792807736,78392167.618888289,92330513.44496879,106268859.27104929,120207205.09712985,134145550.92321031,148083896.74929085,162022242.57537138]
[null,-0.25,-140053675.0426307,-121366739.91288972,-102679804.78314874,-83992869.653407782,-65305934.523666777,-47910107.559415348,-30959189.423126545,-14200659.059357669,2359239.0015122294,18697929.252465304,34793583.990069948,50321094.604090184,65304748.378177315,80284548.398231909,95264348.418286562,110244148.43834125,125223948.45839587,140203748.4784506,155183548.49850518,170163348.51855981,185143148.53861451]
[null,-0.2,-136668257.93415874,-116679505.06195004,-96690752.189741373,-76701999.317532763,-57555329.651433006,-39361480.488530397,-21375668.28734722,-3610034.0265713856,13918946.327078607,31191430.231913619,48007162.453135647,64072766.575598553,80094020.789627403,96115275.003656119,112136529.21768498,128157783.43171379,144179037.64574257,160200291.85977143,176221546.07380015,192242800.28782898,208264054.50185773]
[null,-0.15,-133282840.82568678,-111992270.21101046,-90701699.596334115,-69604828.90753606,-50140473.868088759,-30907149.087308586,-11905329.395731341,6855815.700257685,25347212.695356738,43460844.177063033,60757876.385071561,77820584.793074474,94883293.201077446,111946001.60908031,129008710.01708332,146071418.42508626,163134126.8330892,180196835.24109215,197259543.64909506,214322252.05709803,231384960.465101]
[null,-0.1,-129897423.71721478,-107305035.36007074,-84712647.002926752,-63326358.736539289,-42808223.967720717,-22538977.577133957,-2519468.7540277354,17223073.368928418,36642864.706154436,55360077.806596346,73464240.408573434,91568403.010550499,109672565.61252764,127776728.21450464,145880890.81648177,163985053.41845882,182089216.02043593,200193378.62241304,218297541.22439003,236401703.82636714,254505866.42834425]
[null,-0.05,-126512006.60874294,-102617800.50913119,-78947255.958782837,-57109809.621702164,-35544691.787369117,-14242596.944355685,6781878.5215809718,27487825.086595513,47707314.745534159,67024987.636123866,86170604.432075083,105316221.2280263,124461838.02397756,143607454.81992871,162753071.61587989,181898688.41183111,201044305.20778236,220189922.00373361,239335538.79968476,258481155.59563604,277626772.3915872]
[null,0,-123126589.50027093,-97930565.658191547,-73858313.79154925,-50954248.827622116,-28341044.034203023,-6011353.5891432837,16004483.661882963,37648438.354474328,58502826.475726165,78689897.465651557,98876968.455576897,119064039.44550224,139251110.4354277,159438181.42535293,179625252.41527838,199812323.40520364,219999394.39512905,240186465.38505447,260373536.37497973,59766089.672214523,300747678.35483044]
[null,0.05,-119741172.39179891,-93243330.807251886,-68816107.071453497,-44846946.363500848,-21190701.324391786,2154860.7094718963,25154313.085365668,47635937.214024112,69126282.111279756,90354807.295179248,111583332.47907874,132811857.66297826,154040382.84687781,175268908.03077722,196497433.2146768,217725958.39857626,238954483.58247575,260183008.76637524,281411533.95027465,302640059.13417423,323868584.31807375]
[null,0.1,-116355755.28332697,-89155227.041748419,-63816213.329664379,-38786830.294582166,-14085688.531917788,10263177.205942553,34238632.071396545,57453358.553628311,79749737.746833265,102019717.12470689,124289696.50258058,146559675.88045415,168829655.25832793,191099634.63620144,213369614.0140751,235639593.39194867,257909572.76982239,280179552.14769602,302449531.52556956,324719510.90344334,346989490.28131688]
[null,0.15,-112970338.17485498,-85272325.006407782,-58853088.278775036,-32770667.093493395,-7025850.2312904894,18320834.773602623,43206691.542205438,67061759.810539059,90373193.382386833,113684626.9542346,136996060.5260824,160307494.09793013,183618927.66977799,206930361.24162567,230241794.81347352,253553228.38532126,276864661.95716906,300176095.52901685,323487529.10086459,346798962.67271239,370110396.24456018]
[null,0.2,-109584921.06638303,-81420750.303531498,-53919974.715803057,-26787671.303350769,-19577.033269144595,26336392.069119833,52054196.98369883,76643761.252118438,100996649.01794034,125349536.78376228,149702424.54958418,174055312.31540608,198408200.08122811,222761087.84704995,247113975.61287189,271466863.37869382,295819751.14451569,320172638.91033769,344525526.67615956,368878414.44198149,393231302.20780343]
[null,0.25,-106537121.85295422,-77594708.904727772,-49026036.615902156,-20828247.808638714,6951584.7811198086,34300958.594619334,60785351.034449548,86225762.693697885,111620104.65349388,137014446.61328995,162408788.57308602,187803130.53288212,213197472.49267823,238591814.45247415,263986156.41227031,289380498.37206638,314774840.33186239,340169182.29165858,365563524.25145459,390957866.21125066,416352208.17104661]
[null,0.3,-103827725.17612183,-73792171.043278307,-44157676.843993738,-14914022.034926303,13896398.832517251,42180894.018403187,69371967.981507003,95807764.135277197,122243560.28904736,148679356.44281757,175115152.59658775,201550948.75035799,227986744.90412831,254422541.0578984,280858337.21166855,307294133.36543882,333729929.51920903,360165725.67297924,386601521.82674932,413037317.98051953,439473114.1342898]
[null,0.35,-101139086.85854301,-70022392.759147212,-39306540.100610361,-9023635.7261588201,20796793.541040085,49995684.603401527,77912515.229112223,105389765.57685654,132867015.92460093,160344266.2723453,187821516.62008959,215298766.96783394,242776017.31557834,270253267.66332257,297730518.01106691,325207768.35881126,352685018.70655566,380162269.05429995,407639519.4020443,435116769.74978864,462594020.09753293]
[null,0.4,-98476795.214840174,-66262310.751329131,-34491634.504791424,-3156245.1817163378,27674804.65626369,57716489.513588004,86453062.476717561,114971767.018436,143490471.56015453,172009176.10187295,200527880.64359149,229046585.18530995,257565289.72702855,286083994.26874691,314602698.8104654,343121403.35218388,371640107.89390242,400158812.4356209,428677516.97733927,457196221.51905787,485714926.06077623]
[null,0.45,-95821440.463293403,-62534550.620446116,-29682372.480155513,2677668.8257432505,34524624.438166767,65365130.36127656,94993609.724322736,124553768.4600154,154113927.19570798,183674085.9314006,213234244.66709322,242794403.40278584,272354562.13847858,301914720.87417102,331474879.60986364,361035038.34555632,390595197.08124888,420155355.81694156,449715514.55263412,479275673.2883268,508835832.02401948]
[null,0.5,-93197584.579694211,-58810500.990855537,-24907255.753252938,8499420.418532066,41318408.892989725,72932544.042261139,103534156.97192794,134135769.90159468,164737382.83126146,195338995.76092821,225940608.69059497,256542221.62026173,287143834.54992855,317745447.47959518,348347060.40926194,378948673.3389287,409550286.26859552,440151899.19826233,470753512.12792897,501355125.05759573,531956737.98726249]

{"sheet":"DSCR_Sensitivity","index":24,"n_rows":18,"n_cols":33,"rows_kept":18,"cut":false,"hidden":true,"merged":[]}
[null,null,"Анализ чувствительности DSCR к ключевым факторам"]
[]
[]
[null,null,null,null,null,null,null,"DSCR по периодам (с учетом дофинансирования)"]
[null,null,"Факторы","NPV","DSCR avg","DSCR min",null,2019,2020,2021,2022,2023,2024,2025,2026,2027,2028,2029,2030,2031,2032,2033,2034,2035,2036,2037,2038,2039,2040,2041,2042,2043,2044]
[null,null,"Базовое значение",98876968.455576897,{"$f":"Inputs!D394","v":20.61696035812853},{"$f":"Inputs!D395","v":5.3322558214779239},null,0,0,0,0,0,7.1742463520999902,3.0859815900967398,3.2990967732164207,3.5444950941396782,3.8409459606365624,3.606612298659249,3.9879575219492525,4.4861811499966864,5.0789139391900111,5.8215366798011789,6.7516933154655199,7.9410836730473768,9.4804667085284144,11.681921418695596,14.762326698589554,19.320006866210555,26.646010692100564,40.133116073412467,72.481891846932911,247.24069162901452,0]
[null,null,"Цена + 5%",119706052.33505969,21.492628830870707,3.4528184109283324,null,0,0,0,0,0,7.5146952249518915,3.4528184109283324,3.6956044720420058,3.9747336109160045,4.3106544332004084,4.1218676855984366,4.5555225769126428,5.1187976842977951,5.7882137262504525,6.6247351528551315,7.6705342165729551,9.005296512232789,10.730439377308175,13.189051022688469,16.625420901438879,21.704752682643896,29.862365751744381,44.870109666388203,80.847465044263942,275.14527144940354,0]
[null,null,"Цена - 5%",78047884.576094061,16.997000113881857,2.7191447692651471,null,0,0,0,0,0,6.8337974792480889,2.7191447692651471,2.9025890743908365,3.1142565773633537,3.3712374880727167,3.0913569117200592,3.4203924669858612,3.8535646156955767,4.3696141521295697,5.0183382067472273,5.8328524143580847,6.8768708338619682,8.2304940397486579,10.174791814702726,12.899232495740232,16.935261049777221,23.429655632456754,35.396122480436716,64.116318649601837,219.33611180862559,0]
[null,null,"Объемы + 10%",139251110.4354277,23.597598317305117,3.7960555232731701,null,0,0,0,0,0,7.8551440978037945,3.7960555232731701,4.0664609004183667,4.3769954765947192,4.7496899724494499,4.6033494036702924,5.085768944792278,5.7097172204630287,6.450684808625966,7.3748638373403894,8.5286757473915209,9.9992966704679063,11.89815091749184,14.59738235765265,18.366940440414719,23.93470100182375,32.871180263263284,49.303460884547945,88.680709781060486,301.28832800038742,0]
[null,null,"Объемы - 10%",58502826.475726157,14.892030627447451,2.3759076569203108,null,0,0,0,0,0,6.4933486063961876,2.3759076569203108,2.531732646014476,2.711994711684639,2.9322019488236757,2.6098751936482061,2.8901460991062247,3.2626450795303423,3.7071430697540615,4.2682095222619703,4.9747108835395233,5.8828706756268527,7.062782499564995,8.7664604797385532,11.157712956764403,14.70531273059737,20.420841120937862,30.962771262276988,56.283073912805357,193.1930552576417,0]
[null,null,"Себестоимость - 5%",106211437.43910114,20.023084675467366,3.2235351978473026,null,0,0,0,0,0,7.2967695777273791,3.2235351978473026,3.4476879872823836,3.7055916658238801,4.0165511176222397,3.7988923912401917,4.19927577821906,4.7210623369295961,5.3413746798874016,6.1175301466738068,7.0886493001836524,8.3290806299840003,9.933050182641681,12.223247382339109,15.425797744139343,20.16154563956961,27.770109436126795,41.771868420738492,75.344990982562905,256.68359096461268,0]
[null,null,"Себестоимость + 10%",84208030.488528401,17.688274066194101,2.8108743745956151,null,0,0,0,0,0,6.9291999008452096,2.8108743745956151,3.0019143450844954,3.2223019507712802,3.4897356466652067,3.2220521134973636,3.5653210094096361,4.0164187761308607,4.5539924577952338,5.2295497460559215,6.0777813460292496,7.1650897591741352,8.5752997603018848,10.599269491408579,13.435384607489963,17.636929319492445,24.397813204048088,36.8556113787604,66.755693575672893,228.35489295781812,0]
[null,null,"CAPEX - 5%",106949582.18111691,20.737167867549392,3.3186004545861927,null,0,0,0,0,0,7.3957349285097846,3.3186004545861927,3.5505707948182965,3.8174516164821237,4.1391803328015531,3.9340913576813352,4.3491480279025758,4.8894244005235352,5.5319472334712279,6.3358047072535308,7.3417498389640032,8.6269172939483241,10.289394881995342,12.661819511727971,15.979646002947055,20.886275716512184,28.770007909837489,43.279163763159289,78.0708733709413,265.99856241222113,0]
[null,null,"CAPEX + 10%",82731741.004496902,16.667113153440901,2.6841853696149598,null,0,0,0,0,0,6.791675174664892,2.6841853696149598,2.8647325540859061,3.0730247373663686,3.3258138632606662,3.0409666512574658,3.364083011666239,3.7896700809048571,4.2964018854315471,4.9332555414743826,5.7325047748772402,6.7564619642184622,8.0832271361764558,9.989370167094231,12.659684263790226,16.614633397507742,22.977288225100445,34.699033700213413,62.828196487282028,214.84073300347589,0]
[null,null,"Обменный курс + 10%",124289696.50258058,20.754048350703496,3.3511614074905824,null,0,0,0,0,0,7.4106731253047116,3.3511614074905824,3.5856556428596957,3.855276586050596,4.1798292679222051,3.9777946275105354,4.3960194752360389,4.9398819614523193,5.5860378619050719,6.393616401572479,7.4031245950725726,8.6913943991010179,10.355904715776004,12.729605810717631,16.047128268970809,20.95053488193199,28.825206515361909,43.311749323805635,78.038329573338459,265.57633267691057,0]
[null,null,"Обменный курс - 10%",73464240.408573449,17.400195287754148,2.761872924393157,null,0,0,0,0,0,6.8852802959608859,2.761872924393157,2.94885815476353,3.1646510484707835,3.4267552517318869,3.1529450078410148,3.4892151345987377,3.9316579359953545,4.4590958114271606,5.1223281309695956,5.9554995292791295,7.0240372300929304,8.4104869218924811,10.401418272890895,13.192013668123597,17.327139291439934,23.982549130336722,36.248119878487501,65.690690181326133,224.83046368158642,0]
[null,null,"Процентная ставка + 1%",89578379.562892079,16.191191547493052,2.7716513250806165,null,0,0,0,0,0,6.1785386267499911,2.7716513250806165,2.9492473110136839,3.1537459117830653,3.4007883005304689,3.2055102488827076,3.5232979349577112,3.9384842916639062,4.4324282826583428,5.0512805665009832,5.8264110962212659,6.8175697275394809,8.1003889237736804,9.9349345155796627,12.501938915491296,16.300005721842126,22.405008910083804,33.644263394510382,60.601576539110752,206.23390969084542,0]
[null,null,"Процентная ставка + 2%",80964521.00940688,14.010032315433604,2.547129707211957,null,0,0,0,0,0,5.4673188229285641,2.547129707211957,2.6993548380117294,2.8746393529569136,3.0863899718832588,2.9190087847566071,3.191398229963752,3.5472722499976332,3.97065281370715,4.501097628429414,5.1654952253325144,6.0150597664624126,7.1146190775202953,8.6870867276397092,10.88737621327825,14.142862047293251,19.375721922928967,29.009368623866049,52.115637033523498,176.94335116358178,0]

{"sheet":"NPV_Sensitivity test","index":25,"n_rows":35,"n_cols":9,"rows_kept":35,"cut":false,"hidden":true,"merged":[[26,2,30,2],[3,4,3,8],[4,2,9,2],[13,4,13,8],[15,2,19,2],[23,4,23,8]]}
[null,null,"Анализ чувствительности NPV к ключевым факторам"]
[]
[]
[]
[]
[]
[]
[]
[]
[]
[]
[]
[null,null,"Объемы продаж / обменный курс"]
[null,null,null,null,"Объемы продаж"]
[null,null,null,7586.0481951009633,-0.2,-0.1,0,0.1,0.2]
[null,null,"Изменение курса",-0.2,31107.66889616636,36829.541728008509,42830.12913833365,49130.597896971798,55751.523297967949]
[null,null,null,-0.1,31250.661164962985,36980.622348959478,42989.826849744546,49299.482387793709,55930.20901018037]
[null,null,null,0,31371.337530921293,37108.136283522304,43124.626039873699,49442.049235244296,56081.063857305715]
[null,null,null,0.1,31474.543911732348,37217.198739750122,43239.928514700601,49564.00547417489,56210.120179279998]
[null,null,null,0.2,31563.817868370359,37311.544446307969,43339.678878406667,49669.519265811818,56321.784439403928]
[]
[]
[null,null,"Объем капитальных вложений / средняя ставка по кредитам"]
[null,null,null,null,"Средняя ставка по кредитам"]
[null,null,null,null,0.12000000000000001,0.11,0.1,9.0000000000000011E-2,0.08]
[null,null,null,7586.0481951009633,0.02,0.01,0,-0.01,-0.02]
[null,null,"Изменение Capex",0.2,-8013.9667263571318,2103.3641119043896,14139.277083719786,28526.438752490911,45824.597091810523]
[null,null,null,0.1,5519.9994385709506,16095.98908526657,28633.545076493967,43573.625908536946,61486.673700272382]
[null,null,null,0,19050.757300855956,30085.412768190501,43124.626039873699,58617.648301559646,77145.61662576432]
[null,null,null,-0.1,32574.080318048153,44067.394300169901,57608.275821980424,73654.270972826824,92797.214191088162]
[null,null,null,-0.2,46090.658755067438,58042.597266668992,72085.11867074779,88684.063390770636,108441.96222960783]
[]
[]
[null,null,"Примечание:"]
[null,null,"в случае технических сложностей финмодели возможно сокращение количества вариантов / шагов расчета"]

{"sheet":"Лист1","index":26,"n_rows":69,"n_cols":22,"rows_kept":69,"cut":false,"hidden":true,"merged":[]}
["Прогноз макропоказателей (inputs) для финансовых моделей проектов"]
[null,2015,2016,2017,2018,2019,2020,2021,2022,2023,2024,2025,2026,2027,2028,2029,2030,2031,2032,2033,2034,2035]
["ВВП млрд руб.",83094.304599999989,86014.204299999998,92101.347800000003,103875.80040000001,108867.12440829999,112912.71011397931,119855.06083318894,127662.35937313792,135895.01953752723,144148.26466028119,152548.43535436536,161117.92668642572,169258.37432447702,176883.93391234439,184919.83974365934,193105.59790445474,201459.00834158057,210114.27117397898,218944.31554715848,227368.77602669463,236058.15214290601]
["В % к пред году",97.692293111361423,100.32928065807927,101.63018573156542,102.25480434572111,101.0092937488656,101.72634812219161,102.17720690832948,102.45094989314087,102.49236018880319,102.27619413598919,102.0726778100411,102.10881698683573,101.74444009034582,101.34033386944921,101.43508948518267,101.41935892278333,101.3781255328652,101.3992819098745,101.36958052960962,101.39788861650898,101.31051662403681]
["индекс-дефлятор",107.58766240426043,103.17422609744523,105.35944872728319,110.29724764396811,103.73701134719339,101.92161688291365,103.89097054996624,103.97719249685485,103.87201381592465,103.71660952257963,103.67630622343647,103.44288678636948,103.25618069996207,103.11218617514366,103.06605554290657,102.97155880229595,102.90625769297398,102.87169622534573,102.80815115148565,102.42176178728771,102.48255980492719]
[]
["Строительство"]
["В % к пред году",96.1,97.9,98.8,105.3,100.95611085662476,103.34239083928158,104.6535571600069,104.89833341704349,103.58375845012371,102.08471087862938,101.30940779019166,102.85583665337467,100.62129439718709,100.03383989563429,100.56074719225396,100.9250823279673,101.21157795080963,100.75585751684237,100.67491429560222,100.92633997262266,101.20745586662001]
["индекс-дефлятор",108.62674899242346,105.10503467460029,106.3,105.62809119935442,103.28158933711269,101.92417529352915,102.94967148909274,103.50066045918847,103.41744069051984,103.27889531578016,103.20788338341174,102.99628880054081,102.93596677269161,102.8550008548097,102.82076963901152,102.73697326215836,102.66539853258378,102.64586239198256,102.58980100733694,102.18817121544022,102.22251068078552]
[]
["Заработная плата"]
["реальная в % к пред году",91,100.8,102.9,106.8,101.14439982083189,101.06248684973221,103.08471091649361,103.06245767380426,102.77412063906408,103.13749690264081,102.4420199862909,102.29784773539265,101.84401619251196,101.2937869866908,101.41010558060862,101.34376925097503,101.27308172699794,101.26667863831497,101.28662798410957,101.57593186980942,100.9928280219201]
["номинальная в % к пред году",105.13802130554815,107.93078585594674,106.7218747758623,109.92161738781707,106.50705301587975,104.84925001766037,106.67882250338916,106.68255113508881,106.35445660552294,106.61441270625933,105.85006985868371,105.64992249084631,105.09174658766867,104.44627509523421,104.5425080996979,104.41266169295591,104.29753788194391,104.26074650896263,104.2330027156529,104.23326737466097,103.59657184115116]
[]
["Коммерческие перевозки грузов, млн т ",2901.2690000000002,2947.5730000000003,3015.5730000000003,3051.4364999999998,3103.0873971961237,3176.8307632081992,3272.7423904102861,3378.6855701418262,3493.5292045686674,3601.9507896197129,3707.4128873970376,3803.4960009705114,3880.7546371671397,3952.1727362414522,4020.2616245742729,4087.5735498413596,4151.1452265611788,4214.8113297523287,4277.2029061274679,4340.8631338911619,4400.6927604772145]
["В % к пред году",97.328266425934899,101.59599127140572,102.30698272782388,101.18927646586566,101.69267481712707,102.37645146826056,103.01909778490146,103.23713776073463,103.39906250648889,103.10349731467127,102.92791611926657,102.59164858330449,102.03125325166411,101.84031472617001,101.72282166992463,101.67431703587735,101.555242393676,101.53369973143269,101.48029345785226,101.48836118278362,101.37828871219033]
["Коммерческий грузооборот, млрд т-км",2537.4620000000004,2586.2590000000005,2747.2288000000003,2851.3035999999997,2917.2240801506186,2986.3730374347524,3069.3708123425431,3161.0040774344825,3269.498402934893,3378.690343197115,3493.483696486483,3583.9057901990118,3653.5366745814654,3738.567894839312,3810.2951844114482,3883.232475454131,3951.3899089797083,4020.5458442188537,4090.6411901601095,4163.6689104030929,4234.8637387172184]
["В % к пред году",100.21571879936812,101.92306328134175,106.22404020633664,103.78835574233931,102.31194181323305,102.37036838392488,102.77921659040574,102.98540875945858,103.43227413956599,103.33971535707755,103.39756952040607,102.58830730492514,101.94287708602371,102.32736736569335,101.91857662050616,101.91421628804721,101.75517262889615,101.7501673292728,101.7434285954492,101.78523896005957,101.70990609114578]
["Пассажирооборот, мдрд пасс.-км",466.04999999999995,457.68950000000001,499.0616,530.33169999999996,552.1914162010263,576.32657868435001,603.04916535450627,624.87031697060729,647.27883266324989,671.11445467351359,692.74155192167166,715.19511516618309,733.53125098101009,749.27415270603763,764.49048996499141,778.87163153577239,793.22701710652575,807.41709220429561,820.71881855524816,833.89687127018192,845.53370826976811]
["В % к пред году",94.655647304588783,98.206093766763232,109.03933780434114,106.26577961518176,104.12189507076917,104.37079638965943,104.63670905672251,103.61846974836178,103.58610660229147,103.68243495808309,103.22256466055097,103.24126121527213,102.56379488981359,102.14618009852659,102.03081037881785,101.88114067598664,101.84310032481829,101.78890466307253,101.64744175957907,101.6056720544232,101.39547675504059]
[]
["Розничный товарооборот"]
["В % к пред году",90,95.4,101.3,102.6,100.8,102.2,103.3,103.4,103.3,103.2,103.2,103.1,102.5,102,102,102.1,102.10000000000001,102.1,102,102,101.8]
["индекс-дефлятор",116.09496901003266,107.78659763281716,103.93187517330448,103.13698252691218,105.38360465929637,103.36149161808174,103.06817766507686,103.51252390345886,103.48369408971425,103.37114619613141,103.3268085428703,103.27677935524534,103.18892608184034,103.11222257783453,103.08884652190744,103.02820041593365,102.98643637911503,102.95661703425792,102.90894740024871,102.61610743404989,102.57814725087796]
["Инвестиции в основной капитал"]
["В % к пред году",89.9,99.8,104.8,104.3,101.1,103.79441976910913,105.32919484822445,106.0653877377989,105.01991127296435,103.58852616052727,102.21828930526509,103.35628509142607,103.30269207954588,102.45469108733714,102.1673380106421,101.77727263289928,101.51816183138492,101.37243309478329,101.27839162569003,101.2712391715971,101.32051218101279]
["индекс-дефлятор",111.19103911168042,106.3413492920417,103.69061550922235,105.25545103145228,103.82591516870608,101.40497946779203,102.65530553836322,103.35026595828948,103.06353724801187,102.86185989888905,102.92506930689717,102.86072292244567,102.80686333608875,102.63235633266994,102.53666962584778,102.39566800254916,102.27205542096453,102.2382437791086,102.18451703607774,101.88997085696974,101.89826105992074]
[]
["Инфляция, %"]
["Индекс потребительских цен, % в среднем за год",115.536287148954,107.07419231740747,103.71416401930252,102.92286272267515,105.30197737546251,103.74695229255404,103.48656125136448,103.51252390345886,103.48369408971425,103.37114619613141,103.3268085428703,103.27677935524534,103.18892608184034,103.11222257783453,103.08884652190744,103.02820041593365,102.98643637911503,102.95661703425792,102.90894740024871,102.61610743404989,102.57814725087796]
["Индекс потребительских цен, % дек/дек",112.88569892489089,105.4290453407512,102.54266196401726,104.33594996272583,104.56960560262215,103.63114215181776,103.43054749381922,103.51252390345886,103.48369408971425,103.37114619613141,103.3268085428703,103.27677935524534,103.18892608184034,103.11222257783453,103.08884652190744,103.02820041593365,102.98643637911503,102.95661703425792,102.90894740024871,102.61610743404989,102.57814725087796]
[]
[]
[]
[]
["Индекс цен производителей в промышленности,\nв % в среднем за год",113.44388436594441,106.98614207534875,105.18157637017849,104.7002104789935,106.42876887406847,104.52814418787536,104.66135289676437,105.24706266655267,105.14185844073138,104.98014058249538,104.81732787259925,104.62816311355247,104.49358456189621,104.35864429663475,104.338235463223,104.17750689917709,104.06688461485689,104.02857615085456,103.94139255102689,103.54473251556288,103.52243645949537]
["Курс доллара, рублей"]
["на конец года",69.660275732409374,62.18470375758239,57.600200000000001,69.470600000000005,68.292465255182094,66.590893777445302,65.522888261228971,65.822637608919678,65.553804846270324,65.158024397077085,64.738363046828681,64.352030095576282,64.03623203600543,63.735881184440117,63.423337498909937,63.135410950973899,62.824696190344682,62.556113352160189,62.261402007715887,61.801303008608095,61.323144814453897]
["средн. год",60.660635586060572,66.898020220484582,58.333577560480109,62.54131602507082,66.796200222863391,67.211238474220835,66.075162502059584,65.822637608919678,65.553804846270324,65.158024397077085,64.738363046828681,64.352030095576282,64.03623203600543,63.735881184440117,63.423337498909937,63.135410950973899,62.824696190344682,62.556113352160189,62.261402007715887,61.801303008608095,61.323144814453897]
["Курс евро, рублей"]
["на конец года",79.697199999999995,63.811099999999996,68.232799999999997,79.460499999999996,79.219259696011221,77.245436781836545,76.006550383025598,76.354259626346817,76.042413621673575,75.583308300609417,75.096501134321258,74.648354910868477,74.282029161766289,73.933622173950525,73.57107149873552,73.237076703129716,72.876647580799826,72.565091488505814,72.223226328950417,71.689511489985378,71.134847984766509]
["средн. год",67.7,74.2,66.01247893464101,73.908679246385574,76.731049441985633,77.967819299689324,76.648081452137589,76.354259626346817,76.042413621673575,75.583308300609417,75.096501134321258,74.648354910868477,74.282029161766289,73.933622173950525,73.57107149873552,73.237076703129716,72.876647580799826,72.565091488505814,72.223226328950417,71.689511489985378,71.134847984766509]
[null,null,null,null,null,null,null,null,null,null,null,null,null,null,null,null,null,null,null,null,null,1.1599999999999997]
["Тарифы"]
["Газ природный, все потребители, % г/г",103.76361483962771,104.13965881147664,102.32125760283796,103.68829538495379,102.49842762505264,102.13161303541408,103.01071744077908,103.05162569810626,103.0132340273413,103.00098384507402,103.05888670766964,103.39346541272798,103.36917490103781,100.9691105139821,100.52162630080426,100.58226750452664,100.42276285578684,100.450387710339,100.38202610212319,99.553983386384957,100.08572346856057]
[" -  потребители, исключая население, % г/г",103.41889137648066,103.94619258551387,101.77782351576994,103.66732140542625,102.47168560534779,102.13488460006613,103.00000000000003,102.99999999999999,103,103,103.17191243822288,103.35056963287055,103.30359594601913,100.69042008356253,100.19830734854995,100.19564970038029,100.11922453506389,100.14737281038524,100.06770259594964,99.142739573599613,99.681740091349042]
["Электроэнергия, все потребители, % г/г",104.5,108,108.5,105.2,104.80000000000001,104.3,103.40454843784377,102.84357246942031,102.72467201357981,102.56333942105734,102.66009513028038,102.68978519715428,102.66041318608674,102.07167319557242,102.49382795749872,102.24536185547262,102.20400209655018,102.19626540073092,102.15104959548877,101.75852714762539,101.88125357437899]
[" -  потребители кроме населения. % г/г",104.1,108.2,107,103,103,103,103,103,103,103,101.97272925082189,101.86411684206931,101.92579603409013,101.33795751291461,102.49382795749872,102.24536185547262,102.20400209655018,102.19626540073092,102.15104959548876,101.75852714762539,101.88125357437899]
["Железнодорожные перевозки грузов, % г/г",110.00000000000001,109.00000000000001,104,104,104,104,103.48656125136448,103.51252390345887,103.48369408971425,103.37114619613142,102.99412768858325,102.9491014197208,102.87003347365631,102.80100032005106,102.7799618697167,102.72538037434029,102.68779274120354,102.66095533083212,102.61805266022384,102.35449669064491,102.32033252579018]
["Тепловая энергия , % г/г",108.1,108,104.46566564762492,104.16298865246387,105.47351006384153,104.32324216745832,104.37264182416403,104.39036985731134,104.37068404509782,104.29383316018672,104.24229745552613,104.24803477432792,104.17969689239474,103.40303127794843,103.33255065526498,103.27437935557604,103.22311667230059,103.20964750657097,103.15325079962254,102.68499661818349,102.80856585263081]
[]
["Процентные ставки (на конец года), % годовых"]
["ключевая ставка ЦБ",11,10,7.75,7.75,7.5,6.5,5.5,5.5,5.25,5,4.75,4.5,4.5,4.25,4,3.75,3.5,3.5,3.5,3.5,3.5]
["ставка по ОФЗ",9.56,8.4499999999999993,7.64,8.7799999999999994,8.25,7,6,6,5.75,5.5,5.25,5,5,4.75,4.5,4.25,4,4,4,4,4]
["ставка по корпоративным кредитам (до 3-х лет)",13.67,11.4,9.56,9.6999999999999993,9.5,8.5,7.5,7.5,7,6.75,6.75,6.5,6.5,6,5.75,5.25,5.25,5.25,5.25,5.25,5.25]
["ставка ФРС",0.38,0.5,1.375,2.375,2.375,2.625,3,3,3,3,3,3,3,3,3,3,3,3,3,3,3]
["ставка ЕЦБ",0.05,0,0,0,0,0.25,0.5,1,2,2.5,2.75,2.75,2.75,2.75,2.75,2.75,2.75,2.75,2.75,2.75,2.75]
[]
["Инфляция США, ЕС"]
["Индекс потребительских цен США, % дек. г/г",0.7,2.1,2.1,1.9,1.9,2.1,2.2999999999999998,2.1999999999999997,2.0999999999999996,2,1.9,1.9,1.9,1.9,1.9,1.9,1.9,1.9,1.9,1.9,1.9]
["Индекс потребительских цен Еврозона, % дек. г/г",0.3,1.1000000000000001,1.3,1.5,1.5,1.6,1.7,1.8,1.9,2,1.9000000000000001,1.9000000000000001,1.9000000000000001,1.9000000000000001,1.9000000000000001,1.9000000000000001,1.9000000000000001,1.9000000000000001,1.9000000000000001,1.9000000000000001,1.9000000000000001]
[]
["Цена на нефть Urals (в среднем за год), $/bbl",51.45,41.999991666666666,52.79666666666666,69.818333333333328,61.725000000000001,56.99999999999995,58.959999999999944,62,65,68,71,73,75,77,79,81,83,85,87,88,89.960560805681013]
["Цена на нефть Brent (в среднем за год), $/bbl",52.32,43.74,53.79666666666666,71.166141732283421,63.268124999999998,58.424999999999947,60.433999999999941,63.55,66.625,69.699999999999989,72.774999999999991,74.824999999999989,76.875,78.924999999999997,80.974999999999994,83.024999999999991,85.074999999999989,87.124999999999986,89.174999999999997,90.199999999999989,92.209574825823026]
[]
["Торговый баланс, млрд. долл.",148.39799999999994,90.215000000000003,115.42200000000005,194.44999999999993,180.48144294829049,155.45754042582513,151.86224787823977,152.67468554973715,158.00498722481012,165.29785542835191,175.61790040944805,179.7248700082323,181.13110773461392,182.34743938197801,187.36038733652305,192.4253840989482,197.78761544815808,203.81856759889752,210.87390818056053,215.0499692562131,223.48351886708679]
["Дефицит федерального бюджета"]
["млрд руб.",-1961.0096305028019,-2956.4061486694991,-1331.3882394766824,2741.9554162435888,1839.2611002645172,854.5171725749824,679.4560575153846,699.66440043120383,850.24350544700428,973.1903352929512,1089.6989644341447,1089.3094330436361,1083.3695212195817,1071.4336118352112,1073.3032480488728,1060.9861200039486,1041.9979318265978,1020.7586044222444,992.3139133079967,830.09091246860044,779.63113887092914]
["% ВВП",-2.3599807952455047,-3.4371138729112203,-1.44556868197827,2.6396479311687582,1.6894550216707043,0.75679449347411221,0.56689809574335237,0.54805849105936533,0.62566200611363143,0.6751314957460639,0.71432982049459071,0.67609449516048858,0.64006849028498081,0.60572692394220762,0.580415411097432,0.54943312442392578,0.51722578225931448,0.4858111725200403,0.45322661647009593,0.36508571096461467,0.3302707963243533]

{"sheet":"ПРИМЕРЫ","index":27,"n_rows":0,"n_cols":0,"rows_kept":0,"cut":false,"hidden":true,"merged":[]}

{"sheet":"Scenarios_Summary","index":28,"n_rows":44,"n_cols":14,"rows_kept":44,"cut":false,"hidden":true,"merged":[[3,8,3,9],[3,10,3,11],[4,3,4,4],[5,3,5,4],[6,3,6,4],[3,7,4,7],[7,3,7,4],[8,3,8,4],[3,3,3,4],[3,5,4,5],[3,6,4,6]]}
[null,"Анализ сценариев"]
[]
[]
[null,null,null,null,null,"Год погашения кредита","Дофинансирование всего (взносы акционеров)","Макс дофинансирование (разрыв) за период","С учетом дофинансирования (взносов акционеров)",null,"Без учета дофинансирования (взносов акционеров)"]
[null,null,"Сценарии","Название",null,null,null,null,"DSCR avg","DSCR min","DSCR avg","DSCR min"]
[null,null,"Базовый ","Базовый",null,2025,14500,8500,{"$f":"AVERAGE(E32:N32)","v":1.7022586447255357},{"$f":"MIN(E32:N32)","v":1.13573823470006},{"$f":"AVERAGE(E41:N41)","v":1.5805969385674945},{"$f":"MIN(E41:N41)","v":0.57957423091843396}]
[null,null,"Цена + 5%","Оптимистичный",null,2025,7960.9983087365654,4666.7921120179872,{"$f":"AVERAGE(E33:N33)","v":2.9745655641337105},{"$f":"MIN(E33:N33)","v":1.6172999126580665},{"$f":"AVERAGE(E42:N42)","v":2.8114753888508801},{"$f":"MIN(E42:N42)","v":0.78462613834841677}]
[null,null,"Объемы - 10% и ставка по долгу + 2%","Пессимистичный",null,2025,20263.210567550101,16699.64664310954,{"$f":"AVERAGE(E34:N34)","v":1.2598136166985592},{"$f":"MIN(E34:N34)","v":0.72041059024228904},{"$f":"AVERAGE(E43:N43)","v":1.1736155437802218},{"$f":"MIN(E43:N43)","v":0.40973032077463512}]
[null,null,"Объемы -10% и себестоимость + 10%","Пессимистичный -",null,2025,11136.988754390497,7089.2859627359203,{"$f":"AVERAGE(E35:N35)","v":1.1598136166985589},{"$f":"MIN(E35:N35)","v":0.62041059024228895},{"$f":"AVERAGE(E44:N44)","v":1.0835242571234598},{"$f":"MIN(E44:N44)","v":0.3626111830537081}]
[]
[]
[]
[]
[]
[]
[]
[]
[]
[]
[]
[]
[]
[]
[]
[]
[]
[]
[]
[null,"DSCR по периодам (с учетом дофинансирования)"]
[]
[null,null,"Сценарии","Название",2018,2019,2020,2021,2022,2023,2024,2025,2026,"XXXX"]
[null,null,{"$f":"C6","v":"Базовый "},"Базовый",1.13573823470006,1.23001875448376,1.2276745263320901,1.2093317487421169,1.4275404571982979,1.7359048634854812,2.0689094260540402,2.4351295742711132,2.8500802172628612,"н/д"]
[null,null,"Цена + 5%","Оптимистичный",1.9466975292491,1.665196300907563,1.6179640128855706,1.6172999126580665,1.8697871151377667,3.7345047413388821,4.65177517721445,4.7880006677867009,4.8798646200252955,"н/д"]
[null,null,"Объемы - 10% и ставка по долгу + 2%","Пессимистичный",0.72041059024228904,0.86956243384874521,0.87596773830565067,0.84269705763452596,1.014153404867006,1.2728676997998936,1.5659373046727247,1.90572835856856,2.2709979623476371,"н/д"]
[null,null,"Объемы -10% и себестоимость + 10%","Пессимистичный -",0.62041059024228895,0.76956243384874523,0.77596773830565069,0.74269705763452598,0.91415340486700603,1.1728676997998899,1.4659373046727247,1.80572835856856,2.170997962347637,"н/д"]
[]
[]
[null,"DSCR по периодам (без учета дофинансирования)"]
[]
[null,null,"Сценарии","Название",2018,2019,2020,2021,2022,2023,2024,2025,2026,"XXXX"]
[null,null,{"$f":"C6","v":"Базовый "},"Базовый",1.13573823470006,0.57957423091843396,0.85601846304732199,1.1364769801698427,1.4275404571982979,1.7359048634854812,2.0689094260540402,2.4351295742711132,2.8500802172628599,"н/д"]
[null,null,"Цена + 5%","Оптимистичный",1.9466975292491,0.78462613834841677,1.12815492858205,1.5198675819752601,1.8697871151377701,3.7345047413388817,4.65177517721445,4.7880006677867009,4.8798646200252929,"н/д"]
[null,null,"Объемы - 10% и ставка по долгу + 2%","Пессимистичный",0.72041059024228904,0.40973032077463512,0.610784488022037,0.79192976472721699,1.014153404867006,1.2728676997998936,1.5659373046727247,1.90572835856856,2.2709979623476362,"н/д"]
[null,null,"Объемы -10% и себестоимость + 10%","Пессимистичный -",0.62041059024228895,0.3626111830537081,0.54105766346986151,0.69795414708946357,0.91415340486700603,1.1728676997998899,1.4659373046727247,1.80572835856856,2.1709979623476361,"н/д"]

{"sheet":"Формы реализации проекта","index":29,"n_rows":4,"n_cols":1,"rows_kept":4,"cut":false,"hidden":true,"merged":[]}
["Форма реализации проекта"]
["Создание проектной компании."]
["Создание совместного предприятия (наличие стратегического и/или финансового партнера)."]
["Иное (указать)."]

{"sheet":"Субъекты","index":30,"n_rows":87,"n_cols":2,"rows_kept":87,"cut":false,"hidden":true,"merged":[]}
["Код","Субъект"]
[1,"Республика Адыгея (Адыгея)"]
[2,"Республика Башкортостан"]
[3,"Республика Бурятия"]
[4,"Республика Алтай"]
[5,"Республика Дагестан"]
[6,"Республика Ингушетия"]
[7,"Кабардино-Балкарская Республика"]
[8,"Республика Калмыкия"]
[9,"Карачаево-Черкесская Республика"]
[10,"Республика Карелия"]
[11,"Республика Коми"]
[12,"Республика Марий Эл"]
[13,"Республика Мордовия"]
[14,"Республика Саха (Якутия)"]
[15,"Республика Северная Осетия - Алания"]
[16,"Республика Татарстан (Татарстан)"]
[17,"Республика Тыва"]
[18,"Удмуртская Республика"]
[19,"Республика Хакасия"]
[20,"Чеченская Республика"]
[21,"Чувашская Республика - Чувашия"]
[22,"Алтайский край"]
[23,"Краснодарский край"]
[24,"Красноярский край"]
[25,"Приморский край"]
[26,"Ставропольский край"]
[27,"Хабаровский край"]
[28,"Амурская область"]
[29,"Архангельская область"]
[30,"Астраханская область"]
[31,"Белгородская область"]
[32,"Брянская область"]
[33,"Владимирская область"]
[34,"Волгоградская область"]
[35,"Вологодская область"]
[36,"Воронежская область"]
[37,"Ивановская область"]
[38,"Иркутская область"]
[39,"Калининградская область"]
[40,"Калужская область"]
[41,"Камчатский край"]
[42,"Кемеровская область"]
[43,"Кировская область"]
[44,"Костромская область"]
[45,"Курганская область"]
[46,"Курская область"]
[47,"Ленинградская область"]
[48,"Липецкая область"]
[49,"Магаданская область"]
[50,"Московская область"]
[51,"Мурманская область"]
[52,"Нижегородская область"]
[53,"Новгородская область"]
[54,"Новосибирская область"]
[55,"Омская область"]
[56,"Оренбургская область"]
[57,"Орловская область"]
[58,"Пензенская область"]
[59,"Пермский край"]
[60,"Псковская область"]
[61,"Ростовская область"]
[62,"Рязанская область"]
[63,"Самарская область"]
[64,"Саратовская область"]
[65,"Сахалинская область"]
[66,"Свердловская область"]
[67,"Смоленская область"]
[68,"Тамбовская область"]
[69,"Тверская область"]
[70,"Томская область"]
[71,"Тульская область"]
[72,"Тюменская область"]
[73,"Ульяновская область"]
[74,"Челябинская область"]
[75,"Забайкальский край"]
[76,"Ярославская область"]
[77,"г. Москва"]
[78,"Санкт-Петербург"]
[79,"Еврейская автономная область"]
[83,"Ненецкий автономный округ"]
[86,"Ханты-Мансийский автономный округ - Югра"]
[87,"Чукотский автономный округ"]
[89,"Ямало-Ненецкий автономный округ"]
[91,"Республика Крым"]
[92,"Севастополь"]
[99,"Иные территории, включая город и космодром Байконур"]

{"sheet":"ФОИВы","index":31,"n_rows":87,"n_cols":3,"rows_kept":87,"cut":false,"hidden":true,"merged":[]}
["Код","Полное наименование","Сокращенное наименование"]
[81,"Министерство Российской Федерации по развитию Дальнего Востока","Минвостокразвития России"]
[22,"Министерство здравоохранения и социального развития Российской Федерации","Минздравсоцразвития России"]
[80,"Министерство Российской Федерации по делам Северного Кавказа","Минкавказ России"]
[41,"Министерство связи и массовых коммуникаций Российской Федерации","Минкомсвязь России"]
[27,"Министерство культуры Российской Федерации","Минкультуры России"]
[6,"Министерство обороны Российской Федерации","Минобороны России"]
[30,"Министерство образования и науки Российской Федерации","Минобрнауки России"]
[33,"Министерство природных ресурсов и экологии Российской Федерации","Минприроды России"]
[38,"Министерство промышленности и торговли Российской Федерации","Минпромторг России"]
[40,"Министерство регионального развития Российской Федерации","Минрегион России"]
[45,"Министерство сельского хозяйства Российской Федерации","Минсельхоз России"]
[82,"Министерство спорта Российской Федерации","Минспорт России"]
[47,"Министерство спорта, туризма и молодежной политики Российской Федерации","Минспорттуризм России"]
[50,"Министерство транспорта Российской Федерации","Минтранс России"]
[83,"Министерство труда и социальной защиты Российской Федерации","Минтруд России"]
[56,"Министерство финансов Российской Федерации","Минфин России"]
[61,"Министерство экономического развития Российской Федерации","Минэкономразвития России"]
[68,"Министерство энергетики Российской Федерации","Минэнерго России"]
[12,"Министерство юстиции Российской Федерации","Минюст России"]
[84,"Государственная компания «Российские автомобильные дороги»","АО \"Автодор\""]
[87,"Государственная корпорация «Роснано»","АО \"Роснано\""]
[85,"Государственная корпорация по атомной энергии «Росатом»","ГК \"Росатом\""]
[86,"Государственная корпорация по космической деятельности «Роскосмос»","ГК \"Роскосмос\""]
[88,"Государственная корпорация по содействию разработке, производству и экспорту высокотехнологичной промышленной продукции «Ростех»","ГК \"Ростех\""]
[20,"Главное управление специальных программ Президента Российской Федерации","ГУСП"]
[15,"Государственная фельдъегерская служба Российской Федерации","ГФС России"]
[60,"Федеральное казначейство","Казначейство России"]
[1,"Министерство внутренних дел Российской Федерации","МВД России"]
[4,"Министерство иностранных дел Российской Федерации","МИД России"]
[3,"Министерство Российской Федерации по делам гражданской обороны, чрезвычайным ситуациям и ликвидации последствий стихийных бедствий","МЧС России"]
[52,"Федеральное агентство воздушного транспорта","Росавиация"]
[53,"Федеральное дорожное агентство","Росавтодор"]
[29,"Федеральное архивное агентство","Росархив"]
[36,"Федеральное агентство водных ресурсов","Росводресурсы"]
[34,"Федеральная служба по гидрометеорологии и мониторингу окружающей среды","Росгидромет"]
[76,"Федеральное агентство по обустройству государственной границы Российской Федерации","Росграница"]
[54,"Федеральное агентство железнодорожного транспорта","Росжелдор"]
[24,"Федеральная служба по надзору в сфере здравоохранения и социального развития","Росздравнадзор"]
[67,"Федеральное агентство по управлению государственным имуществом","Росимущество"]
[64,"Федеральное агентство геодезии и картографии","Роскартография"]
[75,"Федеральное космическое агентство","Роскосмос"]
[79,"Федеральное агентство лесного хозяйства","Рослесхоз"]
[48,"Федеральное агентство по делам молодежи","Росмолодежь"]
[55,"Федеральное агентство морского и речного транспорта","Росморречфлот"]
[66,"Федеральное агентство кадастра объектов недвижимости","Роснедвижимость"]
[37,"Федеральное агентство по недропользованию","Роснедра"]
[8,"Федеральная служба по оборонному заказу","Рособоронзаказ"]
[10,"Федеральное агентство по поставкам вооружения, военной, специальной техники и материальных средств","Рособоронпоставка"]
[32,"Федеральная служба по надзору в сфере образования и науки","Рособрнадзор"]
[28,"Федеральная служба по надзору за соблюдением законодательства в области охраны культурного наследия","Росохранкультура"]
[31,"Федеральная служба по интеллектуальной собственности, патентам и товарным знакам","Роспатент"]
[43,"Федеральное агентство по печати и массовым коммуникациям","Роспечать"]
[23,"Федеральная служба по надзору в сфере защиты прав потребителей и благополучия человека","Роспотребнадзор"]
[35,"Федеральная служба по надзору в сфере природопользования","Росприроднадзор"]
[63,"Федеральная регистрационная служба","Росрегистрация"]
[65,"Федеральное агентство по государственным резервам","Росрезерв"]
[77,"Федеральное агентство по рыболовству","Росрыболовство"]
[44,"Федеральное агентство связи","Россвязь"]
[42,"Федеральная служба по надзору в сфере связи и массовых коммуникаций","Россвязькомнадзор"]
[46,"Федеральная служба по ветеринарному и фитосанитарному надзору","Россельхознадзор"]
[5,"Федеральное агентство по делам Содружества Независимых Государств, соотечественников, проживающих за рубежом, и по международному гуманитарному сотрудничеству","Россотрудничество"]
[39,"Федеральное агентство по техническому регулированию и метрологии","Росстандарт"]
[62,"Федеральная служба государственной статистики","Росстат"]
[58,"Федеральная служба страхового надзора","Росстрахнадзор"]
[78,"Федеральная служба по экологическому, технологическому и атомному надзору","Ростехнадзор"]
[51,"Федеральная служба по надзору в сфере транспорта","Ространснадзор"]
[25,"Федеральная служба по труду и занятости","Роструд"]
[49,"Федеральное агентство по туризму","Ростуризм"]
[73,"Федеральная служба по финансовому мониторингу","Росфинмониторинг"]
[59,"Федеральная служба финансово-бюджетного надзора","Росфиннадзор"]
[11,"Федеральное агентство специального строительства","Спецстрой России"]
[16,"Служба внешней разведки Российской Федерации","СВР России"]
[70,"Федеральная антимонопольная служба","ФАС России"]
[26,"Федеральное медико-биологическое агентство","ФМБА России"]
[2,"Федеральная миграционная служба","ФМС России"]
[57,"Федеральная налоговая служба","ФНС России"]
[17,"Федеральная служба безопасности Российской Федерации","ФСБ России"]
[7,"Федеральная служба по военно-техническому сотрудничеству","ФСВТС России"]
[13,"Федеральная служба исполнения наказаний","ФСИН России"]
[18,"Федеральная служба Российской Федерации по контролю за оборотом наркотиков","ФСКН России"]
[19,"Федеральная служба охраны Российской Федерации","ФСО России"]
[14,"Федеральная служба судебных приставов","ФССП России"]
[72,"Федеральная служба по тарифам","ФСТ России"]
[9,"Федеральная служба по техническому и экспортному контролю","ФСТЭК России"]
[74,"Федеральная служба по финансовым рынкам","ФСФР России"]
[71,"Федеральная таможенная служба","ФТС России"]

{"sheet":"Нац.проекты","index":32,"n_rows":14,"n_cols":2,"rows_kept":14,"cut":false,"hidden":true,"merged":[]}
["Код","Нац.проект"]
[1,"Демография"]
[2,"Здравоохранение"]
[3,"Образование"]
[4,"Жильё и городская среда"]
[5,"Экология"]
[6,"Безопасные и качественные автомобильные дороги"]
[7,"Производительность труда и поддержка занятости"]
[8,"Наука"]
[9,"Цифровая экономика"]
[10,"Культура"]
[11,"Малое и среднее предпринимательство и поддержка индивидуальной предпринимательской инициативы"]
[12,"Международная кооперация и экспорт"]
[13,"Комплексный план модернизации и расширения магистральной инфраструктуры"]

{"sheet":"Отрасли ОКВЭД","index":33,"n_rows":2792,"n_cols":4,"rows_kept":2792,"cut":false,"hidden":true,"merged":[]}
["ОКВЭД","Раздел","Код","Наименование"]
[{"$f":"IF('Отрасли ОКВЭД'!$C2<>\"\",'Отрасли ОКВЭД'!$C2,'Отрасли ОКВЭД'!$B2)","v":"A"},"A","","СЕЛЬСКОЕ, ЛЕСНОЕ ХОЗЯЙСТВО, ОХОТА, РЫБОЛОВСТВО И РЫБОВОДСТВО"]
[{"$f":"IF('Отрасли ОКВЭД'!$C3<>\"\",'Отрасли ОКВЭД'!$C3,'Отрасли ОКВЭД'!$B3)","v":"01"},"A","01","Растениеводство и животноводство, охота и предоставление соответствующих услуг в этих областях"]
[{"$f":"IF('Отрасли ОКВЭД'!$C4<>\"\",'Отрасли ОКВЭД'!$C4,'Отрасли ОКВЭД'!$B4)","v":"01.1"},"A","01.1","Выращивание однолетних культур"]
[{"$f":"IF('Отрасли ОКВЭД'!$C5<>\"\",'Отрасли ОКВЭД'!$C5,'Отрасли ОКВЭД'!$B5)","v":"01.11"},"A","01.11","Выращивание зерновых (кроме риса), зернобобовых культур и семян масличных культур"]
[{"$f":"IF('Отрасли ОКВЭД'!$C6<>\"\",'Отрасли ОКВЭД'!$C6,'Отрасли ОКВЭД'!$B6)","v":"01.11.1"},"A","01.11.1","Выращивание зерновых культур"]
[{"$f":"IF('Отрасли ОКВЭД'!$C7<>\"\",'Отрасли ОКВЭД'!$C7,'Отрасли ОКВЭД'!$B7)","v":"01.11.11"},"A","01.11.11","Выращивание пшеницы"]
[{"$f":"IF('Отрасли ОКВЭД'!$C8<>\"\",'Отрасли ОКВЭД'!$C8,'Отрасли ОКВЭД'!$B8)","v":"01.11.12"},"A","01.11.12","Выращивание ячменя"]
[{"$f":"IF('Отрасли ОКВЭД'!$C9<>\"\",'Отрасли ОКВЭД'!$C9,'Отрасли ОКВЭД'!$B9)","v":"01.11.13"},"A","01.11.13","Выращивание ржи"]
[{"$f":"IF('Отрасли ОКВЭД'!$C10<>\"\",'Отрасли ОКВЭД'!$C10,'Отрасли ОКВЭД'!$B10)","v":"01.11.14"},"A","01.11.14","Выращивание кукурузы"]
[{"$f":"IF('Отрасли ОКВЭД'!$C11<>\"\",'Отрасли ОКВЭД'!$C11,'Отрасли ОКВЭД'!$B11)","v":"01.11.15"},"A","01.11.15","Выращивание овса"]
[{"$f":"IF('Отрасли ОКВЭД'!$C12<>\"\",'Отрасли ОКВЭД'!$C12,'Отрасли ОКВЭД'!$B12)","v":"01.11.16"},"A","01.11.16","Выращивание гречихи"]
[{"$f":"IF('Отрасли ОКВЭД'!$C13<>\"\",'Отрасли ОКВЭД'!$C13,'Отрасли ОКВЭД'!$B13)","v":"01.11.19"},"A","01.11.19","Выращивание прочих зерновых культур"]
[{"$f":"IF('Отрасли ОКВЭД'!$C14<>\"\",'Отрасли ОКВЭД'!$C14,'Отрасли ОКВЭД'!$B14)","v":"01.11.2"},"A","01.11.2","Выращивание зернобобовых культур"]
[{"$f":"IF('Отрасли ОКВЭД'!$C15<>\"\",'Отрасли ОКВЭД'!$C15,'Отрасли ОКВЭД'!$B15)","v":"01.11.3"},"A","01.11.3","Выращивание семян масличных культур"]
[{"$f":"IF('Отрасли ОКВЭД'!$C16<>\"\",'Отрасли ОКВЭД'!$C16,'Отрасли ОКВЭД'!$B16)","v":"01.11.31"},"A","01.11.31","Выращивание семян подсолнечника"]
[{"$f":"IF('Отрасли ОКВЭД'!$C17<>\"\",'Отрасли ОКВЭД'!$C17,'Отрасли ОКВЭД'!$B17)","v":"01.11.32"},"A","01.11.32","Выращивание семян рапса"]
[{"$f":"IF('Отрасли ОКВЭД'!$C18<>\"\",'Отрасли ОКВЭД'!$C18,'Отрасли ОКВЭД'!$B18)","v":"01.11.33"},"A","01.11.33","Выращивание семян соевых бобов"]
[{"$f":"IF('Отрасли ОКВЭД'!$C19<>\"\",'Отрасли ОКВЭД'!$C19,'Отрасли ОКВЭД'!$B19)","v":"01.11.39"},"A","01.11.39","Выращивание семян прочих масличных культур"]
[{"$f":"IF('Отрасли ОКВЭД'!$C20<>\"\",'Отрасли ОКВЭД'!$C20,'Отрасли ОКВЭД'!$B20)","v":"01.12"},"A","01.12","Выращивание риса"]
[{"$f":"IF('Отрасли ОКВЭД'!$C21<>\"\",'Отрасли ОКВЭД'!$C21,'Отрасли ОКВЭД'!$B21)","v":"01.13"},"A","01.13","Выращивание овощей, бахчевых, корнеплодных и клубнеплодных культур, грибов и трюфелей"]
[{"$f":"IF('Отрасли ОКВЭД'!$C22<>\"\",'Отрасли ОКВЭД'!$C22,'Отрасли ОКВЭД'!$B22)","v":"01.13.1"},"A","01.13.1","Выращивание овощей"]
[{"$f":"IF('Отрасли ОКВЭД'!$C23<>\"\",'Отрасли ОКВЭД'!$C23,'Отрасли ОКВЭД'!$B23)","v":"01.13.11"},"A","01.13.11","Выращивание овощей открытого грунта"]
[{"$f":"IF('Отрасли ОКВЭД'!$C24<>\"\",'Отрасли ОКВЭД'!$C24,'Отрасли ОКВЭД'!$B24)","v":"01.13.12"},"A","01.13.12","Выращивание овощей защищенного грунта"]
[{"$f":"IF('Отрасли ОКВЭД'!$C25<>\"\",'Отрасли ОКВЭД'!$C25,'Отрасли ОКВЭД'!$B25)","v":"01.13.2"},"A","01.13.2","Выращивание бахчевых культур"]
[{"$f":"IF('Отрасли ОКВЭД'!$C26<>\"\",'Отрасли ОКВЭД'!$C26,'Отрасли ОКВЭД'!$B26)","v":"01.13.3"},"A","01.13.3","Выращивание столовых корнеплодных и клубнеплодных культур с высоким содержанием крахмала или инулина"]
[{"$f":"IF('Отрасли ОКВЭД'!$C27<>\"\",'Отрасли ОКВЭД'!$C27,'Отрасли ОКВЭД'!$B27)","v":"01.13.31"},"A","01.13.31","Выращивание картофеля"]
[{"$f":"IF('Отрасли ОКВЭД'!$C28<>\"\",'Отрасли ОКВЭД'!$C28,'Отрасли ОКВЭД'!$B28)","v":"01.13.39"},"A","01.13.39","Выращивание прочих столовых корнеплодных и клубнеплодных культур с высоким содержанием крахмала или инулина"]
[{"$f":"IF('Отрасли ОКВЭД'!$C29<>\"\",'Отрасли ОКВЭД'!$C29,'Отрасли ОКВЭД'!$B29)","v":"01.13.4"},"A","01.13.4","Выращивание семян овощных культур, за исключением семян сахарной свеклы"]
[{"$f":"IF('Отрасли ОКВЭД'!$C30<>\"\",'Отрасли ОКВЭД'!$C30,'Отрасли ОКВЭД'!$B30)","v":"01.13.5"},"A","01.13.5","Выращивание сахарной свеклы и семян сахарной свеклы"]
[{"$f":"IF('Отрасли ОКВЭД'!$C31<>\"\",'Отрасли ОКВЭД'!$C31,'Отрасли ОКВЭД'!$B31)","v":"01.13.51"},"A","01.13.51","Выращивание сахарной свеклы"]
[{"$f":"IF('Отрасли ОКВЭД'!$C32<>\"\",'Отрасли ОКВЭД'!$C32,'Отрасли ОКВЭД'!$B32)","v":"01.13.52"},"A","01.13.52","Выращивание семян сахарной свеклы"]
[{"$f":"IF('Отрасли ОКВЭД'!$C33<>\"\",'Отрасли ОКВЭД'!$C33,'Отрасли ОКВЭД'!$B33)","v":"01.13.6"},"A","01.13.6","Выращивание грибов и трюфелей"]
[{"$f":"IF('Отрасли ОКВЭД'!$C34<>\"\",'Отрасли ОКВЭД'!$C34,'Отрасли ОКВЭД'!$B34)","v":"01.13.9"},"A","01.13.9","Выращивание овощей, не включенных в другие группировки"]
[{"$f":"IF('Отрасли ОКВЭД'!$C35<>\"\",'Отрасли ОКВЭД'!$C35,'Отрасли ОКВЭД'!$B35)","v":"01.14"},"A","01.14","Выращивание сахарного тростника"]
[{"$f":"IF('Отрасли ОКВЭД'!$C36<>\"\",'Отрасли ОКВЭД'!$C36,'Отрасли ОКВЭД'!$B36)","v":"01.15"},"A","01.15","Выращивание табака и махорки"]
[{"$f":"IF('Отрасли ОКВЭД'!$C37<>\"\",'Отрасли ОКВЭД'!$C37,'Отрасли ОКВЭД'!$B37)","v":"01.16"},"A","01.16","Выращивание волокнистых прядильных культур"]
[{"$f":"IF('Отрасли ОКВЭД'!$C38<>\"\",'Отрасли ОКВЭД'!$C38,'Отрасли ОКВЭД'!$B38)","v":"01.16.1"},"A","01.16.1","Выращивание хлопчатника"]
[{"$f":"IF('Отрасли ОКВЭД'!$C39<>\"\",'Отрасли ОКВЭД'!$C39,'Отрасли ОКВЭД'!$B39)","v":"01.16.2"},"A","01.16.2","Выращивание льна"]
[{"$f":"IF('Отрасли ОКВЭД'!$C40<>\"\",'Отрасли ОКВЭД'!$C40,'Отрасли ОКВЭД'!$B40)","v":"01.16.3"},"A","01.16.3","Выращивание обыкновенной конопли"]
[{"$f":"IF('Отрасли ОКВЭД'!$C41<>\"\",'Отрасли ОКВЭД'!$C41,'Отрасли ОКВЭД'!$B41)","v":"01.16.9"},"A","01.16.9","Выращивание прочих текстильных культур"]
[{"$f":"IF('Отрасли ОКВЭД'!$C42<>\"\",'Отрасли ОКВЭД'!$C42,'Отрасли ОКВЭД'!$B42)","v":"01.19"},"A","01.19","Выращивание прочих однолетних культур"]
[{"$f":"IF('Отрасли ОКВЭД'!$C43<>\"\",'Отрасли ОКВЭД'!$C43,'Отрасли ОКВЭД'!$B43)","v":"01.19.1"},"A","01.19.1","Выращивание однолетних кормовых культур"]
[{"$f":"IF('Отрасли ОКВЭД'!$C44<>\"\",'Отрасли ОКВЭД'!$C44,'Отрасли ОКВЭД'!$B44)","v":"01.19.2"},"A","01.19.2","Цветоводство"]
[{"$f":"IF('Отрасли ОКВЭД'!$C45<>\"\",'Отрасли ОКВЭД'!$C45,'Отрасли ОКВЭД'!$B45)","v":"01.19.21"},"A","01.19.21","Выращивание цветов в открытом и защищенном грунте"]
[{"$f":"IF('Отрасли ОКВЭД'!$C46<>\"\",'Отрасли ОКВЭД'!$C46,'Отрасли ОКВЭД'!$B46)","v":"01.19.22"},"A","01.19.22","Выращивание семян цветов"]
[{"$f":"IF('Отрасли ОКВЭД'!$C47<>\"\",'Отрасли ОКВЭД'!$C47,'Отрасли ОКВЭД'!$B47)","v":"01.19.3"},"A","01.19.3","Выращивание семян свеклы (кроме семян сахарной свеклы) и семян кормовых культур"]
[{"$f":"IF('Отрасли ОКВЭД'!$C48<>\"\",'Отрасли ОКВЭД'!$C48,'Отрасли ОКВЭД'!$B48)","v":"01.19.9"},"A","01.19.9","Выращивание прочих однолетних культур, не включенных в другие группировки"]
[{"$f":"IF('Отрасли ОКВЭД'!$C49<>\"\",'Отрасли ОКВЭД'!$C49,'Отрасли ОКВЭД'!$B49)","v":"01.2"},"A","01.2","Выращивание многолетних культур"]
[{"$f":"IF('Отрасли ОКВЭД'!$C50<>\"\",'Отрасли ОКВЭД'!$C50,'Отрасли ОКВЭД'!$B50)","v":"01.21"},"A","01.21","Выращивание винограда"]
[{"$f":"IF('Отрасли ОКВЭД'!$C51<>\"\",'Отрасли ОКВЭД'!$C51,'Отрасли ОКВЭД'!$B51)","v":"01.22"},"A","01.22","Выращивание тропических и субтропических культур"]
[{"$f":"IF('Отрасли ОКВЭД'!$C52<>\"\",'Отрасли ОКВЭД'!$C52,'Отрасли ОКВЭД'!$B52)","v":"01.23"},"A","01.23","Выращивание цитрусовых культур"]
[{"$f":"IF('Отрасли ОКВЭД'!$C53<>\"\",'Отрасли ОКВЭД'!$C53,'Отрасли ОКВЭД'!$B53)","v":"01.24"},"A","01.24","Выращивание семечковых и косточковых культур"]
[{"$f":"IF('Отрасли ОКВЭД'!$C54<>\"\",'Отрасли ОКВЭД'!$C54,'Отрасли ОКВЭД'!$B54)","v":"01.25"},"A","01.25","Выращивание прочих плодовых деревьев, кустарников и орехов"]
[{"$f":"IF('Отрасли ОКВЭД'!$C55<>\"\",'Отрасли ОКВЭД'!$C55,'Отрасли ОКВЭД'!$B55)","v":"01.25.1"},"A","01.25.1","Выращивание прочих плодовых и ягодных культур"]
[{"$f":"IF('Отрасли ОКВЭД'!$C56<>\"\",'Отрасли ОКВЭД'!$C56,'Отрасли ОКВЭД'!$B56)","v":"01.25.2"},"A","01.25.2","Выращивание семян плодовых и ягодных культур"]
[{"$f":"IF('Отрасли ОКВЭД'!$C57<>\"\",'Отрасли ОКВЭД'!$C57,'Отрасли ОКВЭД'!$B57)","v":"01.25.3"},"A","01.25.3","Выращивание орехоплодных культур"]
[{"$f":"IF('Отрасли ОКВЭД'!$C58<>\"\",'Отрасли ОКВЭД'!$C58,'Отрасли ОКВЭД'!$B58)","v":"01.26"},"A","01.26","Выращивание плодов масличных культур"]
[{"$f":"IF('Отрасли ОКВЭД'!$C59<>\"\",'Отрасли ОКВЭД'!$C59,'Отрасли ОКВЭД'!$B59)","v":"01.27"},"A","01.27","Выращивание культур для производства напитков"]
[{"$f":"IF('Отрасли ОКВЭД'!$C60<>\"\",'Отрасли ОКВЭД'!$C60,'Отрасли ОКВЭД'!$B60)","v":"01.27.1"},"A","01.27.1","Выращивание чая"]
[{"$f":"IF('Отрасли ОКВЭД'!$C61<>\"\",'Отрасли ОКВЭД'!$C61,'Отрасли ОКВЭД'!$B61)","v":"01.27.9"},"A","01.27.9","Выращивание прочих культур для производства напитков"]
[{"$f":"IF('Отрасли ОКВЭД'!$C62<>\"\",'Отрасли ОКВЭД'!$C62,'Отрасли ОКВЭД'!$B62)","v":"01.28"},"A","01.28","Выращивание специй, пряно-ароматических, эфиромасличных и лекарственных культур"]
[{"$f":"IF('Отрасли ОКВЭД'!$C63<>\"\",'Отрасли ОКВЭД'!$C63,'Отрасли ОКВЭД'!$B63)","v":"01.28.1"},"A","01.28.1","Выращивание пряностей"]
[{"$f":"IF('Отрасли ОКВЭД'!$C64<>\"\",'Отрасли ОКВЭД'!$C64,'Отрасли ОКВЭД'!$B64)","v":"01.28.2"},"A","01.28.2","Выращивание хмеля"]
[{"$f":"IF('Отрасли ОКВЭД'!$C65<>\"\",'Отрасли ОКВЭД'!$C65,'Отрасли ОКВЭД'!$B65)","v":"01.28.3"},"A","01.28.3","Выращивание растений, используемых в основном в парфюмерии, фармации или в качестве инсектицидов, фунгицидов и для аналогичных целей"]
[{"$f":"IF('Отрасли ОКВЭД'!$C66<>\"\",'Отрасли ОКВЭД'!$C66,'Отрасли ОКВЭД'!$B66)","v":"01.29"},"A","01.29","Выращивание прочих многолетних культур"]
[{"$f":"IF('Отрасли ОКВЭД'!$C67<>\"\",'Отрасли ОКВЭД'!$C67,'Отрасли ОКВЭД'!$B67)","v":"01.3"},"A","01.3","Выращивание рассады"]
[{"$f":"IF('Отрасли ОКВЭД'!$C68<>\"\",'Отрасли ОКВЭД'!$C68,'Отрасли ОКВЭД'!$B68)","v":"01.30"},"A","01.30","Выращивание рассады"]
[{"$f":"IF('Отрасли ОКВЭД'!$C69<>\"\",'Отрасли ОКВЭД'!$C69,'Отрасли ОКВЭД'!$B69)","v":"01.4"},"A","01.4","Животноводство"]
[{"$f":"IF('Отрасли ОКВЭД'!$C70<>\"\",'Отрасли ОКВЭД'!$C70,'Отрасли ОКВЭД'!$B70)","v":"01.41"},"A","01.41","Разведение молочного крупного рогатого скота, производство сырого молока"]
[{"$f":"IF('Отрасли ОКВЭД'!$C71<>\"\",'Отрасли ОКВЭД'!$C71,'Отрасли ОКВЭД'!$B71)","v":"01.41.1"},"A","01.41.1","Разведение молочного крупного рогатого скота"]
[{"$f":"IF('Отрасли ОКВЭД'!$C72<>\"\",'Отрасли ОКВЭД'!$C72,'Отрасли ОКВЭД'!$B72)","v":"01.41.11"},"A","01.41.11","Разведение молочного крупного рогатого скота, кроме племенного"]
[{"$f":"IF('Отрасли ОКВЭД'!$C73<>\"\",'Отрасли ОКВЭД'!$C73,'Отрасли ОКВЭД'!$B73)","v":"01.41.12"},"A","01.41.12","Разведение племенного молочного крупного рогатого скота"]
[{"$f":"IF('Отрасли ОКВЭД'!$C74<>\"\",'Отрасли ОКВЭД'!$C74,'Отрасли ОКВЭД'!$B74)","v":"01.41.2"},"A","01.41.2","Производство сырого коровьего молока и сырого молока прочего крупного рогатого скота (буйволов, яков и др.)"]
[{"$f":"IF('Отрасли ОКВЭД'!$C75<>\"\",'Отрасли ОКВЭД'!$C75,'Отрасли ОКВЭД'!$B75)","v":"01.41.21"},"A","01.41.21","Производство сырого коровьего молока"]
[{"$f":"IF('Отрасли ОКВЭД'!$C76<>\"\",'Отрасли ОКВЭД'!$C76,'Отрасли ОКВЭД'!$B76)","v":"01.41.29"},"A","01.41.29","Производство сырого молока прочего крупного рогатого скота (буйволов, яков и др.)"]
[{"$f":"IF('Отрасли ОКВЭД'!$C77<>\"\",'Отрасли ОКВЭД'!$C77,'Отрасли ОКВЭД'!$B77)","v":"01.42"},"A","01.42","Разведение прочих пород крупного рогатого скота и буйволов, производство спермы"]
[{"$f":"IF('Отрасли ОКВЭД'!$C78<>\"\",'Отрасли ОКВЭД'!$C78,'Отрасли ОКВЭД'!$B78)","v":"01.42.1"},"A","01.42.1","Разведение мясного и прочего крупного рогатого скота, включая буйволов, яков и др."]
[{"$f":"IF('Отрасли ОКВЭД'!$C79<>\"\",'Отрасли ОКВЭД'!$C79,'Отрасли ОКВЭД'!$B79)","v":"01.42.11"},"A","01.42.11","Разведение мясного и прочего крупного рогатого скота, включая буйволов, яков и др., на мясо"]
[{"$f":"IF('Отрасли ОКВЭД'!$C80<>\"\",'Отрасли ОКВЭД'!$C80,'Отрасли ОКВЭД'!$B80)","v":"01.42.12"},"A","01.42.12","Разведение племенного мясного и прочего крупного рогатого скота, включая буйволов, яков и др."]
[{"$f":"IF('Отрасли ОКВЭД'!$C81<>\"\",'Отрасли ОКВЭД'!$C81,'Отрасли ОКВЭД'!$B81)","v":"01.42.2"},"A","01.42.2","Производство бычьей спермы, а также спермы буйволов, яков и др."]
[{"$f":"IF('Отрасли ОКВЭД'!$C82<>\"\",'Отрасли ОКВЭД'!$C82,'Отрасли ОКВЭД'!$B82)","v":"01.43"},"A","01.43","Разведение лошадей и прочих животных семейства лошадиных отряда непарнокопытных"]
[{"$f":"IF('Отрасли ОКВЭД'!$C83<>\"\",'Отрасли ОКВЭД'!$C83,'Отрасли ОКВЭД'!$B83)","v":"01.43.1"},"A","01.43.1","Разведение лошадей, ослов, мулов, лошаков"]
[{"$f":"IF('Отрасли ОКВЭД'!$C84<>\"\",'Отрасли ОКВЭД'!$C84,'Отрасли ОКВЭД'!$B84)","v":"01.43.2"},"A","01.43.2","Производство сырого кобыльего молока"]
[{"$f":"IF('Отрасли ОКВЭД'!$C85<>\"\",'Отрасли ОКВЭД'!$C85,'Отрасли ОКВЭД'!$B85)","v":"01.43.3"},"A","01.43.3","Производство спермы жеребцов и ослов"]
[{"$f":"IF('Отрасли ОКВЭД'!$C86<>\"\",'Отрасли ОКВЭД'!$C86,'Отрасли ОКВЭД'!$B86)","v":"01.44"},"A","01.44","Разведение верблюдов и прочих животных семейства верблюжьих"]
[{"$f":"IF('Отрасли ОКВЭД'!$C87<>\"\",'Отрасли ОКВЭД'!$C87,'Отрасли ОКВЭД'!$B87)","v":"01.45"},"A","01.45","Разведение овец и коз"]
[{"$f":"IF('Отрасли ОКВЭД'!$C88<>\"\",'Отрасли ОКВЭД'!$C88,'Отрасли ОКВЭД'!$B88)","v":"01.45.1"},"A","01.45.1","Разведение овец и коз"]
[{"$f":"IF('Отрасли ОКВЭД'!$C89<>\"\",'Отрасли ОКВЭД'!$C89,'Отрасли ОКВЭД'!$B89)","v":"01.45.2"},"A","01.45.2","Производство сырого овечьего и козьего молока"]
[{"$f":"IF('Отрасли ОКВЭД'!$C90<>\"\",'Отрасли ОКВЭД'!$C90,'Отрасли ОКВЭД'!$B90)","v":"01.45.3"},"A","01.45.3","Производство сырой (немытой) шерсти и волоса козы"]
[{"$f":"IF('Отрасли ОКВЭД'!$C91<>\"\",'Отрасли ОКВЭД'!$C91,'Отрасли ОКВЭД'!$B91)","v":"01.45.4"},"A","01.45.4","Разведение племенных овец и коз"]
[{"$f":"IF('Отрасли ОКВЭД'!$C92<>\"\",'Отрасли ОКВЭД'!$C92,'Отрасли ОКВЭД'!$B92)","v":"01.46"},"A","01.46","Разведение свиней"]
[{"$f":"IF('Отрасли ОКВЭД'!$C93<>\"\",'Отрасли ОКВЭД'!$C93,'Отрасли ОКВЭД'!$B93)","v":"01.46.1"},"A","01.46.1","Выращивание и разведение свиней"]
[{"$f":"IF('Отрасли ОКВЭД'!$C94<>\"\",'Отрасли ОКВЭД'!$C94,'Отрасли ОКВЭД'!$B94)","v":"01.46.11"},"A","01.46.11","Выращивание свиней на мясо"]
[{"$f":"IF('Отрасли ОКВЭД'!$C95<>\"\",'Отрасли ОКВЭД'!$C95,'Отрасли ОКВЭД'!$B95)","v":"01.46.12"},"A","01.46.12","Разведение племенного поголовья свиней"]
[{"$f":"IF('Отрасли ОКВЭД'!$C96<>\"\",'Отрасли ОКВЭД'!$C96,'Отрасли ОКВЭД'!$B96)","v":"01.46.2"},"A","01.46.2","Производство спермы хряков"]
[{"$f":"IF('Отрасли ОКВЭД'!$C97<>\"\",'Отрасли ОКВЭД'!$C97,'Отрасли ОКВЭД'!$B97)","v":"01.47"},"A","01.47","Разведение сельскохозяйственной птицы"]
[{"$f":"IF('Отрасли ОКВЭД'!$C98<>\"\",'Отрасли ОКВЭД'!$C98,'Отрасли ОКВЭД'!$B98)","v":"01.47.1"},"A","01.47.1","Выращивание и разведение сельскохозяйственной птицы: кур, индеек, уток, гусей и цесарок"]
[{"$f":"IF('Отрасли ОКВЭД'!$C99<>\"\",'Отрасли ОКВЭД'!$C99,'Отрасли ОКВЭД'!$B99)","v":"01.47.11"},"A","01.47.11","Выращивание сельскохозяйственной птицы на мясо"]
[{"$f":"IF('Отрасли ОКВЭД'!$C100<>\"\",'Отрасли ОКВЭД'!$C100,'Отрасли ОКВЭД'!$B100)","v":"01.47.12"},"A","01.47.12","Разведение племенной сельскохозяйственной птицы"]
[{"$f":"IF('Отрасли ОКВЭД'!$C101<>\"\",'Отрасли ОКВЭД'!$C101,'Отрасли ОКВЭД'!$B101)","v":"01.47.2"},"A","01.47.2","Производство яиц сельскохозяйственной птицы"]
[{"$f":"IF('Отрасли ОКВЭД'!$C102<>\"\",'Отрасли ОКВЭД'!$C102,'Отрасли ОКВЭД'!$B102)","v":"01.47.3"},"A","01.47.3","Деятельность инкубаторов для птицеводства"]
[{"$f":"IF('Отрасли ОКВЭД'!$C103<>\"\",'Отрасли ОКВЭД'!$C103,'Отрасли ОКВЭД'!$B103)","v":"01.49"},"A","01.49","Разведение прочих животных"]
[{"$f":"IF('Отрасли ОКВЭД'!$C104<>\"\",'Отрасли ОКВЭД'!$C104,'Отрасли ОКВЭД'!$B104)","v":"01.49.1"},"A","01.49.1","Пчеловодство"]
[{"$f":"IF('Отрасли ОКВЭД'!$C105<>\"\",'Отрасли ОКВЭД'!$C105,'Отрасли ОКВЭД'!$B105)","v":"01.49.11"},"A","01.49.11","Пчеловодство медового направления"]
[{"$f":"IF('Отрасли ОКВЭД'!$C106<>\"\",'Отрасли ОКВЭД'!$C106,'Отрасли ОКВЭД'!$B106)","v":"01.49.12"},"A","01.49.12","Пчеловодство опылительного направления"]
[{"$f":"IF('Отрасли ОКВЭД'!$C107<>\"\",'Отрасли ОКВЭД'!$C107,'Отрасли ОКВЭД'!$B107)","v":"01.49.13"},"A","01.49.13","Пчеловодство разведенческого направления"]
[{"$f":"IF('Отрасли ОКВЭД'!$C108<>\"\",'Отрасли ОКВЭД'!$C108,'Отрасли ОКВЭД'!$B108)","v":"01.49.2"},"A","01.49.2","Разведение кроликов и прочих пушных зверей на фермах"]
[{"$f":"IF('Отрасли ОКВЭД'!$C109<>\"\",'Отрасли ОКВЭД'!$C109,'Отрасли ОКВЭД'!$B109)","v":"01.49.21"},"A","01.49.21","Разведение кроликов, производство тонкого волоса кроликов на фермах"]
[{"$f":"IF('Отрасли ОКВЭД'!$C110<>\"\",'Отрасли ОКВЭД'!$C110,'Отрасли ОКВЭД'!$B110)","v":"01.49.22"},"A","01.49.22","Разведение прочих пушных зверей на фермах"]
[{"$f":"IF('Отрасли ОКВЭД'!$C111<>\"\",'Отрасли ОКВЭД'!$C111,'Отрасли ОКВЭД'!$B111)","v":"01.49.3"},"A","01.49.3","Разведение шелкопряда"]
[{"$f":"IF('Отрасли ОКВЭД'!$C112<>\"\",'Отрасли ОКВЭД'!$C112,'Отрасли ОКВЭД'!$B112)","v":"01.49.31"},"A","01.49.31","Производство грен шелкопряда"]
[{"$f":"IF('Отрасли ОКВЭД'!$C113<>\"\",'Отрасли ОКВЭД'!$C113,'Отрасли ОКВЭД'!$B113)","v":"01.49.32"},"A","01.49.32","Производство коконов шелкопряда"]
[{"$f":"IF('Отрасли ОКВЭД'!$C114<>\"\",'Отрасли ОКВЭД'!$C114,'Отрасли ОКВЭД'!$B114)","v":"01.49.4"},"A","01.49.4","Разведение оленей"]
[{"$f":"IF('Отрасли ОКВЭД'!$C115<>\"\",'Отрасли ОКВЭД'!$C115,'Отрасли ОКВЭД'!$B115)","v":"01.49.41"},"A","01.49.41","Разведение домашних северных оленей"]
[{"$f":"IF('Отрасли ОКВЭД'!$C116<>\"\",'Отрасли ОКВЭД'!$C116,'Отрасли ОКВЭД'!$B116)","v":"01.49.42"},"A","01.49.42","Разведение пятнистых оленей, ланей"]
[{"$f":"IF('Отрасли ОКВЭД'!$C117<>\"\",'Отрасли ОКВЭД'!$C117,'Отрасли ОКВЭД'!$B117)","v":"01.49.43"},"A","01.49.43","Разведение благородных оленей (европейских, кавказских, маралов, изюбрей)"]
[{"$f":"IF('Отрасли ОКВЭД'!$C118<>\"\",'Отрасли ОКВЭД'!$C118,'Отрасли ОКВЭД'!$B118)","v":"01.49.44"},"A","01.49.44","Производство пантов северных оленей, пятнистых оленей, благородных оленей (европейских, кавказских, маралов, изюбрей), ланей"]
[{"$f":"IF('Отрасли ОКВЭД'!$C119<>\"\",'Отрасли ОКВЭД'!$C119,'Отрасли ОКВЭД'!$B119)","v":"01.49.5"},"A","01.49.5","Разведение домашних животных"]
[{"$f":"IF('Отрасли ОКВЭД'!$C120<>\"\",'Отрасли ОКВЭД'!$C120,'Отрасли ОКВЭД'!$B120)","v":"01.49.6"},"A","01.49.6","Разведение лабораторных животных"]
[{"$f":"IF('Отрасли ОКВЭД'!$C121<>\"\",'Отрасли ОКВЭД'!$C121,'Отрасли ОКВЭД'!$B121)","v":"01.49.7"},"A","01.49.7","Разведение дождевых червей"]
[{"$f":"IF('Отрасли ОКВЭД'!$C122<>\"\",'Отрасли ОКВЭД'!$C122,'Отрасли ОКВЭД'!$B122)","v":"01.49.9"},"A","01.49.9","Разведение прочих животных, не включенных в другие группировки"]
[{"$f":"IF('Отрасли ОКВЭД'!$C123<>\"\",'Отрасли ОКВЭД'!$C123,'Отрасли ОКВЭД'!$B123)","v":"01.5"},"A","01.5","Смешанное сельское хозяйство"]
[{"$f":"IF('Отрасли ОКВЭД'!$C124<>\"\",'Отрасли ОКВЭД'!$C124,'Отрасли ОКВЭД'!$B124)","v":"01.50"},"A","01.50","Смешанное сельское хозяйство"]
[{"$f":"IF('Отрасли ОКВЭД'!$C125<>\"\",'Отрасли ОКВЭД'!$C125,'Отрасли ОКВЭД'!$B125)","v":"01.6"},"A","01.6","Деятельность вспомогательная в области производства сельскохозяйственных культур и послеуборочной обработки сельхозпродукции"]
[{"$f":"IF('Отрасли ОКВЭД'!$C126<>\"\",'Отрасли ОКВЭД'!$C126,'Отрасли ОКВЭД'!$B126)","v":"01.61"},"A","01.61","Предоставление услуг в области растениеводства"]
[{"$f":"IF('Отрасли ОКВЭД'!$C127<>\"\",'Отрасли ОКВЭД'!$C127,'Отрасли ОКВЭД'!$B127)","v":"01.62"},"A","01.62","Предоставление услуг в области животноводства"]
[{"$f":"IF('Отрасли ОКВЭД'!$C128<>\"\",'Отрасли ОКВЭД'!$C128,'Отрасли ОКВЭД'!$B128)","v":"01.63"},"A","01.63","Деятельность сельскохозяйственная после сбора урожая"]
[{"$f":"IF('Отрасли ОКВЭД'!$C129<>\"\",'Отрасли ОКВЭД'!$C129,'Отрасли ОКВЭД'!$B129)","v":"01.64"},"A","01.64","Обработка семян для посадки"]
[{"$f":"IF('Отрасли ОКВЭД'!$C130<>\"\",'Отрасли ОКВЭД'!$C130,'Отрасли ОКВЭД'!$B130)","v":"01.7"},"A","01.7","Охота, отлов и отстрел диких животных, включая предоставление услуг в этих областях"]
[{"$f":"IF('Отрасли ОКВЭД'!$C131<>\"\",'Отрасли ОКВЭД'!$C131,'Отрасли ОКВЭД'!$B131)","v":"01.70"},"A","01.70","Охота, отлов и отстрел диких животных, включая предоставление услуг в этих областях"]
[{"$f":"IF('Отрасли ОКВЭД'!$C132<>\"\",'Отрасли ОКВЭД'!$C132,'Отрасли ОКВЭД'!$B132)","v":"02"},"A","02","Лесоводство и лесозаготовки"]
[{"$f":"IF('Отрасли ОКВЭД'!$C133<>\"\",'Отрасли ОКВЭД'!$C133,'Отрасли ОКВЭД'!$B133)","v":"02.1"},"A","02.1","Лесоводство и прочая лесохозяйственная деятельность"]
[{"$f":"IF('Отрасли ОКВЭД'!$C134<>\"\",'Отрасли ОКВЭД'!$C134,'Отрасли ОКВЭД'!$B134)","v":"02.10"},"A","02.10","Лесоводство и прочая лесохозяйственная деятельность"]
[{"$f":"IF('Отрасли ОКВЭД'!$C135<>\"\",'Отрасли ОКВЭД'!$C135,'Отрасли ОКВЭД'!$B135)","v":"02.10.1"},"A","02.10.1","Деятельность лесопитомников"]
[{"$f":"IF('Отрасли ОКВЭД'!$C136<>\"\",'Отрасли ОКВЭД'!$C136,'Отрасли ОКВЭД'!$B136)","v":"02.10.11"},"A","02.10.11","Выращивание посадочного материала лесных растений (саженцев, сеянцев)"]
[{"$f":"IF('Отрасли ОКВЭД'!$C137<>\"\",'Отрасли ОКВЭД'!$C137,'Отрасли ОКВЭД'!$B137)","v":"02.10.19"},"A","02.10.19","Выращивание прочей продукции лесопитомниками"]
[{"$f":"IF('Отрасли ОКВЭД'!$C138<>\"\",'Отрасли ОКВЭД'!$C138,'Отрасли ОКВЭД'!$B138)","v":"02.10.2"},"A","02.10.2","Деятельность лесохозяйственная прочая"]
[{"$f":"IF('Отрасли ОКВЭД'!$C139<>\"\",'Отрасли ОКВЭД'!$C139,'Отрасли ОКВЭД'!$B139)","v":"02.2"},"A","02.2","Лесозаготовки"]
[{"$f":"IF('Отрасли ОКВЭД'!$C140<>\"\",'Отрасли ОКВЭД'!$C140,'Отрасли ОКВЭД'!$B140)","v":"02.20"},"A","02.20","Лесозаготовки"]
[{"$f":"IF('Отрасли ОКВЭД'!$C141<>\"\",'Отрасли ОКВЭД'!$C141,'Отрасли ОКВЭД'!$B141)","v":"02.3"},"A","02.3","Сбор и заготовка пищевых лесных ресурсов, недревесных лесных ресурсов и лекарственных растений"]
[{"$f":"IF('Отрасли ОКВЭД'!$C142<>\"\",'Отрасли ОКВЭД'!$C142,'Отрасли ОКВЭД'!$B142)","v":"02.30"},"A","02.30","Сбор и заготовка пищевых лесных ресурсов, недревесных лесных ресурсов и лекарственных растений"]
[{"$f":"IF('Отрасли ОКВЭД'!$C143<>\"\",'Отрасли ОКВЭД'!$C143,'Отрасли ОКВЭД'!$B143)","v":"02.30.1"},"A","02.30.1","Сбор и заготовка пищевых лесных ресурсов"]
[{"$f":"IF('Отрасли ОКВЭД'!$C144<>\"\",'Отрасли ОКВЭД'!$C144,'Отрасли ОКВЭД'!$B144)","v":"02.30.11"},"A","02.30.11","Сбор и заготовка дикорастущих грибов"]
[{"$f":"IF('Отрасли ОКВЭД'!$C145<>\"\",'Отрасли ОКВЭД'!$C145,'Отрасли ОКВЭД'!$B145)","v":"02.30.12"},"A","02.30.12","Сбор и заготовка дикорастущих плодов, ягод"]
[{"$f":"IF('Отрасли ОКВЭД'!$C146<>\"\",'Отрасли ОКВЭД'!$C146,'Отрасли ОКВЭД'!$B146)","v":"02.30.13"},"A","02.30.13","Сбор и заготовка дикорастущих орехов"]
[{"$f":"IF('Отрасли ОКВЭД'!$C147<>\"\",'Отрасли ОКВЭД'!$C147,'Отрасли ОКВЭД'!$B147)","v":"02.30.14"},"A","02.30.14","Сбор лекарственных растений"]
[{"$f":"IF('Отрасли ОКВЭД'!$C148<>\"\",'Отрасли ОКВЭД'!$C148,'Отрасли ОКВЭД'!$B148)","v":"02.30.2"},"A","02.30.2","Сбор и заготовка недревесных лесных ресурсов"]
[{"$f":"IF('Отрасли ОКВЭД'!$C149<>\"\",'Отрасли ОКВЭД'!$C149,'Отрасли ОКВЭД'!$B149)","v":"02.4"},"A","02.4","Предоставление услуг в области лесоводства и лесозаготовок"]
[{"$f":"IF('Отрасли ОКВЭД'!$C150<>\"\",'Отрасли ОКВЭД'!$C150,'Отрасли ОКВЭД'!$B150)","v":"02.40"},"A","02.40","Предоставление услуг в области лесоводства и лесозаготовок"]
[{"$f":"IF('Отрасли ОКВЭД'!$C151<>\"\",'Отрасли ОКВЭД'!$C151,'Отрасли ОКВЭД'!$B151)","v":"02.40.1"},"A","02.40.1","Предоставление услуг в области лесоводства"]
[{"$f":"IF('Отрасли ОКВЭД'!$C152<>\"\",'Отрасли ОКВЭД'!$C152,'Отрасли ОКВЭД'!$B152)","v":"02.40.2"},"A","02.40.2","Предоставление услуг в области лесозаготовок"]
[{"$f":"IF('Отрасли ОКВЭД'!$C153<>\"\",'Отрасли ОКВЭД'!$C153,'Отрасли ОКВЭД'!$B153)","v":"03"},"A","03","Рыболовство и рыбоводство"]
[{"$f":"IF('Отрасли ОКВЭД'!$C154<>\"\",'Отрасли ОКВЭД'!$C154,'Отрасли ОКВЭД'!$B154)","v":"03.1"},"A","03.1","Рыболовство"]
[{"$f":"IF('Отрасли ОКВЭД'!$C155<>\"\",'Отрасли ОКВЭД'!$C155,'Отрасли ОКВЭД'!$B155)","v":"03.11"},"A","03.11","Рыболовство морское"]
[{"$f":"IF('Отрасли ОКВЭД'!$C156<>\"\",'Отрасли ОКВЭД'!$C156,'Отрасли ОКВЭД'!$B156)","v":"03.11.1"},"A","03.11.1","Рыболовство морское промышленное"]
[{"$f":"IF('Отрасли ОКВЭД'!$C157<>\"\",'Отрасли ОКВЭД'!$C157,'Отрасли ОКВЭД'!$B157)","v":"03.11.2"},"A","03.11.2","Рыболовство морское прибрежное"]
[{"$f":"IF('Отрасли ОКВЭД'!$C158<>\"\",'Отрасли ОКВЭД'!$C158,'Отрасли ОКВЭД'!$B158)","v":"03.11.3"},"A","03.11.3","Рыболовство в научно-исследовательских и контрольных целях"]
[{"$f":"IF('Отрасли ОКВЭД'!$C159<>\"\",'Отрасли ОКВЭД'!$C159,'Отрасли ОКВЭД'!$B159)","v":"03.11.4"},"A","03.11.4","Рыболовство в учебных и культурно-просветительских целях"]
[{"$f":"IF('Отрасли ОКВЭД'!$C160<>\"\",'Отрасли ОКВЭД'!$C160,'Отрасли ОКВЭД'!$B160)","v":"03.11.5"},"A","03.11.5","Рыболовство морское в целях аквакультуры (рыбоводства)"]
[{"$f":"IF('Отрасли ОКВЭД'!$C161<>\"\",'Отрасли ОКВЭД'!$C161,'Отрасли ОКВЭД'!$B161)","v":"03.12"},"A","03.12","Рыболовство пресноводное"]
[{"$f":"IF('Отрасли ОКВЭД'!$C162<>\"\",'Отрасли ОКВЭД'!$C162,'Отрасли ОКВЭД'!$B162)","v":"03.12.1"},"A","03.12.1","Рыболовство пресноводное промышленное"]
[{"$f":"IF('Отрасли ОКВЭД'!$C163<>\"\",'Отрасли ОКВЭД'!$C163,'Отрасли ОКВЭД'!$B163)","v":"03.12.2"},"A","03.12.2","Рыболовство пресноводное в целях аквакультуры (рыбоводства)"]
[{"$f":"IF('Отрасли ОКВЭД'!$C164<>\"\",'Отрасли ОКВЭД'!$C164,'Отрасли ОКВЭД'!$B164)","v":"03.12.3"},"A","03.12.3","Рыболовство любительское и спортивное"]
[{"$f":"IF('Отрасли ОКВЭД'!$C165<>\"\",'Отрасли ОКВЭД'!$C165,'Отрасли ОКВЭД'!$B165)","v":"03.12.4"},"A","03.12.4","Рыболовство в целях обеспечения ведения традиционного образа жизни и осуществления традиционной хозяйственной деятельности коренных малочисленных народов Севера, Сибири и Дальнего Востока Российской Федерации"]
[{"$f":"IF('Отрасли ОКВЭД'!$C166<>\"\",'Отрасли ОКВЭД'!$C166,'Отрасли ОКВЭД'!$B166)","v":"03.2"},"A","03.2","Рыбоводство"]
[{"$f":"IF('Отрасли ОКВЭД'!$C167<>\"\",'Отрасли ОКВЭД'!$C167,'Отрасли ОКВЭД'!$B167)","v":"03.21"},"A","03.21","Рыбоводство морское"]
[{"$f":"IF('Отрасли ОКВЭД'!$C168<>\"\",'Отрасли ОКВЭД'!$C168,'Отрасли ОКВЭД'!$B168)","v":"03.21.1"},"A","03.21.1","Рыбоводство морское индустриальное"]
[{"$f":"IF('Отрасли ОКВЭД'!$C169<>\"\",'Отрасли ОКВЭД'!$C169,'Отрасли ОКВЭД'!$B169)","v":"03.21.2"},"A","03.21.2","Рыбоводство морское пастбищное"]
[{"$f":"IF('Отрасли ОКВЭД'!$C170<>\"\",'Отрасли ОКВЭД'!$C170,'Отрасли ОКВЭД'!$B170)","v":"03.21.3"},"A","03.21.3","Мелиорация рыбохозяйственная морских и минерализированных водных объектов"]
[{"$f":"IF('Отрасли ОКВЭД'!$C171<>\"\",'Отрасли ОКВЭД'!$C171,'Отрасли ОКВЭД'!$B171)","v":"03.21.4"},"A","03.21.4","Воспроизводство морских биоресурсов искусственное"]
[{"$f":"IF('Отрасли ОКВЭД'!$C172<>\"\",'Отрасли ОКВЭД'!$C172,'Отрасли ОКВЭД'!$B172)","v":"03.21.5"},"A","03.21.5","Акклиматизация морских биоресурсов"]
[{"$f":"IF('Отрасли ОКВЭД'!$C173<>\"\",'Отрасли ОКВЭД'!$C173,'Отрасли ОКВЭД'!$B173)","v":"03.21.9"},"A","03.21.9","Деятельность по морскому рыбоводству прочая"]
[{"$f":"IF('Отрасли ОКВЭД'!$C174<>\"\",'Отрасли ОКВЭД'!$C174,'Отрасли ОКВЭД'!$B174)","v":"03.22"},"A","03.22","Рыбоводство пресноводное"]
[{"$f":"IF('Отрасли ОКВЭД'!$C175<>\"\",'Отрасли ОКВЭД'!$C175,'Отрасли ОКВЭД'!$B175)","v":"03.22.1"},"A","03.22.1","Рыбоводство пресноводное индустриальное"]
[{"$f":"IF('Отрасли ОКВЭД'!$C176<>\"\",'Отрасли ОКВЭД'!$C176,'Отрасли ОКВЭД'!$B176)","v":"03.22.2"},"A","03.22.2","Рыбоводство пресноводное пастбищное"]
[{"$f":"IF('Отрасли ОКВЭД'!$C177<>\"\",'Отрасли ОКВЭД'!$C177,'Отрасли ОКВЭД'!$B177)","v":"03.22.3"},"A","03.22.3","Рыбоводство прудовое"]
[{"$f":"IF('Отрасли ОКВЭД'!$C178<>\"\",'Отрасли ОКВЭД'!$C178,'Отрасли ОКВЭД'!$B178)","v":"03.22.4"},"A","03.22.4","Мелиорация рыбохозяйственная пресноводных объектов"]
[{"$f":"IF('Отрасли ОКВЭД'!$C179<>\"\",'Отрасли ОКВЭД'!$C179,'Отрасли ОКВЭД'!$B179)","v":"03.22.5"},"A","03.22.5","Воспроизводство пресноводных биоресурсов искусственное"]
[{"$f":"IF('Отрасли ОКВЭД'!$C180<>\"\",'Отрасли ОКВЭД'!$C180,'Отрасли ОКВЭД'!$B180)","v":"03.22.6"},"A","03.22.6","Акклиматизация пресноводных биоресурсов"]
[{"$f":"IF('Отрасли ОКВЭД'!$C181<>\"\",'Отрасли ОКВЭД'!$C181,'Отрасли ОКВЭД'!$B181)","v":"03.22.9"},"A","03.22.9","Деятельность по пресноводному рыбоводству прочая"]
[{"$f":"IF('Отрасли ОКВЭД'!$C182<>\"\",'Отрасли ОКВЭД'!$C182,'Отрасли ОКВЭД'!$B182)","v":"B"},"B","","ДОБЫЧА ПОЛЕЗНЫХ ИСКОПАЕМЫХ"]
[{"$f":"IF('Отрасли ОКВЭД'!$C183<>\"\",'Отрасли ОКВЭД'!$C183,'Отрасли ОКВЭД'!$B183)","v":"05"},"B","05","Добыча угля"]
[{"$f":"IF('Отрасли ОКВЭД'!$C184<>\"\",'Отрасли ОКВЭД'!$C184,'Отрасли ОКВЭД'!$B184)","v":"05.1"},"B","05.1","Добыча и обогащение угля и антрацита"]
[{"$f":"IF('Отрасли ОКВЭД'!$C185<>\"\",'Отрасли ОКВЭД'!$C185,'Отрасли ОКВЭД'!$B185)","v":"05.10"},"B","05.10","Добыча и обогащение угля и антрацита"]
[{"$f":"IF('Отрасли ОКВЭД'!$C186<>\"\",'Отрасли ОКВЭД'!$C186,'Отрасли ОКВЭД'!$B186)","v":"05.10.1"},"B","05.10.1","Добыча угля и антрацита"]
[{"$f":"IF('Отрасли ОКВЭД'!$C187<>\"\",'Отрасли ОКВЭД'!$C187,'Отрасли ОКВЭД'!$B187)","v":"05.10.11"},"B","05.10.11","Добыча антрацита открытым способом"]
[{"$f":"IF('Отрасли ОКВЭД'!$C188<>\"\",'Отрасли ОКВЭД'!$C188,'Отрасли ОКВЭД'!$B188)","v":"05.10.12"},"B","05.10.12","Добыча коксующегося угля открытым способом"]
[{"$f":"IF('Отрасли ОКВЭД'!$C189<>\"\",'Отрасли ОКВЭД'!$C189,'Отрасли ОКВЭД'!$B189)","v":"05.10.13"},"B","05.10.13","Добыча угля, за исключением антрацита, угля коксующегося и угля бурого, открытым способом"]
[{"$f":"IF('Отрасли ОКВЭД'!$C190<>\"\",'Отрасли ОКВЭД'!$C190,'Отрасли ОКВЭД'!$B190)","v":"05.10.14"},"B","05.10.14","Добыча антрацита подземным способом"]
[{"$f":"IF('Отрасли ОКВЭД'!$C191<>\"\",'Отрасли ОКВЭД'!$C191,'Отрасли ОКВЭД'!$B191)","v":"05.10.15"},"B","05.10.15","Добыча коксующегося угля подземным способом"]
[{"$f":"IF('Отрасли ОКВЭД'!$C192<>\"\",'Отрасли ОКВЭД'!$C192,'Отрасли ОКВЭД'!$B192)","v":"05.10.16"},"B","05.10.16","Добыча угля, за исключением антрацита, угля коксующегося и угля бурого, подземным способом"]
[{"$f":"IF('Отрасли ОКВЭД'!$C193<>\"\",'Отрасли ОКВЭД'!$C193,'Отрасли ОКВЭД'!$B193)","v":"05.10.2"},"B","05.10.2","Обогащение угля"]
[{"$f":"IF('Отрасли ОКВЭД'!$C194<>\"\",'Отрасли ОКВЭД'!$C194,'Отрасли ОКВЭД'!$B194)","v":"05.10.21"},"B","05.10.21","Обогащение антрацита"]
[{"$f":"IF('Отрасли ОКВЭД'!$C195<>\"\",'Отрасли ОКВЭД'!$C195,'Отрасли ОКВЭД'!$B195)","v":"05.10.22"},"B","05.10.22","Обогащение коксующегося угля"]
[{"$f":"IF('Отрасли ОКВЭД'!$C196<>\"\",'Отрасли ОКВЭД'!$C196,'Отрасли ОКВЭД'!$B196)","v":"05.10.23"},"B","05.10.23","Обогащение угля, кроме антрацита, угля коксующегося и угля бурого"]
[{"$f":"IF('Отрасли ОКВЭД'!$C197<>\"\",'Отрасли ОКВЭД'!$C197,'Отрасли ОКВЭД'!$B197)","v":"05.2"},"B","05.2","Добыча и обогащение бурого угля (лигнита)"]
[{"$f":"IF('Отрасли ОКВЭД'!$C198<>\"\",'Отрасли ОКВЭД'!$C198,'Отрасли ОКВЭД'!$B198)","v":"05.20"},"B","05.20","Добыча и обогащение бурого угля (лигнита)"]
[{"$f":"IF('Отрасли ОКВЭД'!$C199<>\"\",'Отрасли ОКВЭД'!$C199,'Отрасли ОКВЭД'!$B199)","v":"05.20.1"},"B","05.20.1","Добыча бурого угля (лигнита)"]
[{"$f":"IF('Отрасли ОКВЭД'!$C200<>\"\",'Отрасли ОКВЭД'!$C200,'Отрасли ОКВЭД'!$B200)","v":"05.20.11"},"B","05.20.11","Добыча бурого угля (лигнита) открытым способом"]
[{"$f":"IF('Отрасли ОКВЭД'!$C201<>\"\",'Отрасли ОКВЭД'!$C201,'Отрасли ОКВЭД'!$B201)","v":"05.20.12"},"B","05.20.12","Добыча бурого угля (лигнита) подземным способом"]
[{"$f":"IF('Отрасли ОКВЭД'!$C202<>\"\",'Отрасли ОКВЭД'!$C202,'Отрасли ОКВЭД'!$B202)","v":"05.20.2"},"B","05.20.2","Обогащение бурого угля (лигнита)"]
[{"$f":"IF('Отрасли ОКВЭД'!$C203<>\"\",'Отрасли ОКВЭД'!$C203,'Отрасли ОКВЭД'!$B203)","v":"06"},"B","06","Добыча сырой нефти и природного газа"]
[{"$f":"IF('Отрасли ОКВЭД'!$C204<>\"\",'Отрасли ОКВЭД'!$C204,'Отрасли ОКВЭД'!$B204)","v":"06.1"},"B","06.1","Добыча сырой нефти и нефтяного (попутного) газа"]
[{"$f":"IF('Отрасли ОКВЭД'!$C205<>\"\",'Отрасли ОКВЭД'!$C205,'Отрасли ОКВЭД'!$B205)","v":"06.10"},"B","06.10","Добыча сырой нефти и нефтяного (попутного) газа"]
[{"$f":"IF('Отрасли ОКВЭД'!$C206<>\"\",'Отрасли ОКВЭД'!$C206,'Отрасли ОКВЭД'!$B206)","v":"06.10.1"},"B","06.10.1","Добыча сырой нефти"]
[{"$f":"IF('Отрасли ОКВЭД'!$C207<>\"\",'Отрасли ОКВЭД'!$C207,'Отрасли ОКВЭД'!$B207)","v":"06.10.2"},"B","06.10.2","Добыча горючих (битуминозных) сланцев, песка и озокерита"]
[{"$f":"IF('Отрасли ОКВЭД'!$C208<>\"\",'Отрасли ОКВЭД'!$C208,'Отрасли ОКВЭД'!$B208)","v":"06.10.3"},"B","06.10.3","Добыча нефтяного (попутного) газа"]
[{"$f":"IF('Отрасли ОКВЭД'!$C209<>\"\",'Отрасли ОКВЭД'!$C209,'Отрасли ОКВЭД'!$B209)","v":"06.2"},"B","06.2","Добыча природного газа и газового конденсата"]
[{"$f":"IF('Отрасли ОКВЭД'!$C210<>\"\",'Отрасли ОКВЭД'!$C210,'Отрасли ОКВЭД'!$B210)","v":"06.20"},"B","06.20","Добыча природного газа и газового конденсата"]
[{"$f":"IF('Отрасли ОКВЭД'!$C211<>\"\",'Отрасли ОКВЭД'!$C211,'Отрасли ОКВЭД'!$B211)","v":"06.20.1"},"B","06.20.1","Добыча природного газа"]
[{"$f":"IF('Отрасли ОКВЭД'!$C212<>\"\",'Отрасли ОКВЭД'!$C212,'Отрасли ОКВЭД'!$B212)","v":"06.20.2"},"B","06.20.2","Добыча газового конденсата"]
[{"$f":"IF('Отрасли ОКВЭД'!$C213<>\"\",'Отрасли ОКВЭД'!$C213,'Отрасли ОКВЭД'!$B213)","v":"07"},"B","07","Добыча металлических руд"]
[{"$f":"IF('Отрасли ОКВЭД'!$C214<>\"\",'Отрасли ОКВЭД'!$C214,'Отрасли ОКВЭД'!$B214)","v":"07.1"},"B","07.1","Добыча и обогащение железных руд"]
[{"$f":"IF('Отрасли ОКВЭД'!$C215<>\"\",'Отрасли ОКВЭД'!$C215,'Отрасли ОКВЭД'!$B215)","v":"07.10"},"B","07.10","Добыча и обогащение железных руд"]
[{"$f":"IF('Отрасли ОКВЭД'!$C216<>\"\",'Отрасли ОКВЭД'!$C216,'Отрасли ОКВЭД'!$B216)","v":"07.10.1"},"B","07.10.1","Добыча железных руд подземным способом"]
[{"$f":"IF('Отрасли ОКВЭД'!$C217<>\"\",'Отрасли ОКВЭД'!$C217,'Отрасли ОКВЭД'!$B217)","v":"07.10.2"},"B","07.10.2","Добыча железных руд открытым способом"]
[{"$f":"IF('Отрасли ОКВЭД'!$C218<>\"\",'Отрасли ОКВЭД'!$C218,'Отрасли ОКВЭД'!$B218)","v":"07.10.3"},"B","07.10.3","Обогащение и агломерация железных руд"]
[{"$f":"IF('Отрасли ОКВЭД'!$C219<>\"\",'Отрасли ОКВЭД'!$C219,'Отрасли ОКВЭД'!$B219)","v":"07.2"},"B","07.2","Добыча руд цветных металлов"]
[{"$f":"IF('Отрасли ОКВЭД'!$C220<>\"\",'Отрасли ОКВЭД'!$C220,'Отрасли ОКВЭД'!$B220)","v":"07.21"},"B","07.21","Добыча урановой и ториевой руд"]
[{"$f":"IF('Отрасли ОКВЭД'!$C221<>\"\",'Отрасли ОКВЭД'!$C221,'Отрасли ОКВЭД'!$B221)","v":"07.21.1"},"B","07.21.1","Добыча и первичное обогащение урановых руд"]
[{"$f":"IF('Отрасли ОКВЭД'!$C222<>\"\",'Отрасли ОКВЭД'!$C222,'Отрасли ОКВЭД'!$B222)","v":"07.21.11"},"B","07.21.11","Добыча урановых руд подземным способом, включая способы подземного и кучного выщелачивания"]
[{"$f":"IF('Отрасли ОКВЭД'!$C223<>\"\",'Отрасли ОКВЭД'!$C223,'Отрасли ОКВЭД'!$B223)","v":"07.21.12"},"B","07.21.12","Добыча урановых руд открытым способом, включая способ кучного выщелачивания"]
[{"$f":"IF('Отрасли ОКВЭД'!$C224<>\"\",'Отрасли ОКВЭД'!$C224,'Отрасли ОКВЭД'!$B224)","v":"07.21.2"},"B","07.21.2","Добыча и первичное обогащение ториевых руд"]
[{"$f":"IF('Отрасли ОКВЭД'!$C225<>\"\",'Отрасли ОКВЭД'!$C225,'Отрасли ОКВЭД'!$B225)","v":"07.29"},"B","07.29","Добыча руд прочих цветных металлов"]
[{"$f":"IF('Отрасли ОКВЭД'!$C226<>\"\",'Отрасли ОКВЭД'!$C226,'Отрасли ОКВЭД'!$B226)","v":"07.29.1"},"B","07.29.1","Добыча и обогащение медной руды"]
[{"$f":"IF('Отрасли ОКВЭД'!$C227<>\"\",'Отрасли ОКВЭД'!$C227,'Отрасли ОКВЭД'!$B227)","v":"07.29.2"},"B","07.29.2","Добыча и обогащение никелевой и кобальтовой руд"]
[{"$f":"IF('Отрасли ОКВЭД'!$C228<>\"\",'Отрасли ОКВЭД'!$C228,'Отрасли ОКВЭД'!$B228)","v":"07.29.21"},"B","07.29.21","Добыча и обогащение никелевой руды"]
[{"$f":"IF('Отрасли ОКВЭД'!$C229<>\"\",'Отрасли ОКВЭД'!$C229,'Отрасли ОКВЭД'!$B229)","v":"07.29.22"},"B","07.29.22","Добыча и обогащение кобальтовой руды"]
[{"$f":"IF('Отрасли ОКВЭД'!$C230<>\"\",'Отрасли ОКВЭД'!$C230,'Отрасли ОКВЭД'!$B230)","v":"07.29.3"},"B","07.29.3","Добыча и обогащение алюминийсодержащего сырья (бокситов и нефелин-апатитовых руд)"]
[{"$f":"IF('Отрасли ОКВЭД'!$C231<>\"\",'Отрасли ОКВЭД'!$C231,'Отрасли ОКВЭД'!$B231)","v":"07.29.31"},"B","07.29.31","Добыча алюминийсодержащего сырья подземным способом"]
[{"$f":"IF('Отрасли ОКВЭД'!$C232<>\"\",'Отрасли ОКВЭД'!$C232,'Отрасли ОКВЭД'!$B232)","v":"07.29.32"},"B","07.29.32","Добыча алюминийсодержащего сырья открытым способом"]
[{"$f":"IF('Отрасли ОКВЭД'!$C233<>\"\",'Отрасли ОКВЭД'!$C233,'Отрасли ОКВЭД'!$B233)","v":"07.29.33"},"B","07.29.33","Обогащение нефелин-апатитовых руд"]
[{"$f":"IF('Отрасли ОКВЭД'!$C234<>\"\",'Отрасли ОКВЭД'!$C234,'Отрасли ОКВЭД'!$B234)","v":"07.29.4"},"B","07.29.4","Добыча руд и песков драгоценных металлов и руд редких металлов"]
[{"$f":"IF('Отрасли ОКВЭД'!$C235<>\"\",'Отрасли ОКВЭД'!$C235,'Отрасли ОКВЭД'!$B235)","v":"07.29.41"},"B","07.29.41","Добыча руд и песков драгоценных металлов (золота, серебра и металлов платиновой группы)"]
[{"$f":"IF('Отрасли ОКВЭД'!$C236<>\"\",'Отрасли ОКВЭД'!$C236,'Отрасли ОКВЭД'!$B236)","v":"07.29.42"},"B","07.29.42","Добыча и обогащение руд редких металлов (циркония, тантала, ниобия и т. п.)"]
[{"$f":"IF('Отрасли ОКВЭД'!$C237<>\"\",'Отрасли ОКВЭД'!$C237,'Отрасли ОКВЭД'!$B237)","v":"07.29.5"},"B","07.29.5","Добыча и обогащение свинцово-цинковой руды"]
[{"$f":"IF('Отрасли ОКВЭД'!$C238<>\"\",'Отрасли ОКВЭД'!$C238,'Отрасли ОКВЭД'!$B238)","v":"07.29.6"},"B","07.29.6","Добыча и обогащение оловянной руды"]
[{"$f":"IF('Отрасли ОКВЭД'!$C239<>\"\",'Отрасли ОКВЭД'!$C239,'Отрасли ОКВЭД'!$B239)","v":"07.29.7"},"B","07.29.7","Добыча и обогащение титаномагниевого сырья"]
[{"$f":"IF('Отрасли ОКВЭД'!$C240<>\"\",'Отрасли ОКВЭД'!$C240,'Отрасли ОКВЭД'!$B240)","v":"07.29.8"},"B","07.29.8","Добыча и обогащение вольфраммолибденовой руды"]
[{"$f":"IF('Отрасли ОКВЭД'!$C241<>\"\",'Отрасли ОКВЭД'!$C241,'Отрасли ОКВЭД'!$B241)","v":"07.29.9"},"B","07.29.9","Добыча и обогащение руд прочих цветных металлов"]
[{"$f":"IF('Отрасли ОКВЭД'!$C242<>\"\",'Отрасли ОКВЭД'!$C242,'Отрасли ОКВЭД'!$B242)","v":"07.29.91"},"B","07.29.91","Добыча и обогащение сурьмяно-ртутных руд"]
[{"$f":"IF('Отрасли ОКВЭД'!$C243<>\"\",'Отрасли ОКВЭД'!$C243,'Отрасли ОКВЭД'!$B243)","v":"07.29.92"},"B","07.29.92","Добыча и обогащение марганцевых руд"]
[{"$f":"IF('Отрасли ОКВЭД'!$C244<>\"\",'Отрасли ОКВЭД'!$C244,'Отрасли ОКВЭД'!$B244)","v":"07.29.93"},"B","07.29.93","Добыча и обогащение хромовых (хромитовых) руд"]
[{"$f":"IF('Отрасли ОКВЭД'!$C245<>\"\",'Отрасли ОКВЭД'!$C245,'Отрасли ОКВЭД'!$B245)","v":"07.29.99"},"B","07.29.99","Добыча и обогащение руд прочих цветных металлов, не включенных в другие группировки"]
[{"$f":"IF('Отрасли ОКВЭД'!$C246<>\"\",'Отрасли ОКВЭД'!$C246,'Отрасли ОКВЭД'!$B246)","v":"08"},"B","08","Добыча прочих полезных ископаемых"]
[{"$f":"IF('Отрасли ОКВЭД'!$C247<>\"\",'Отрасли ОКВЭД'!$C247,'Отрасли ОКВЭД'!$B247)","v":"08.1"},"B","08.1","Добыча камня, песка и глины"]
[{"$f":"IF('Отрасли ОКВЭД'!$C248<>\"\",'Отрасли ОКВЭД'!$C248,'Отрасли ОКВЭД'!$B248)","v":"08.11"},"B","08.11","Добыча декоративного и строительного камня, известняка, гипса, мела и сланцев"]
[{"$f":"IF('Отрасли ОКВЭД'!$C249<>\"\",'Отрасли ОКВЭД'!$C249,'Отрасли ОКВЭД'!$B249)","v":"08.11.1"},"B","08.11.1","Добыча и первичная обработка камня для памятников и строительства"]
[{"$f":"IF('Отрасли ОКВЭД'!$C250<>\"\",'Отрасли ОКВЭД'!$C250,'Отрасли ОКВЭД'!$B250)","v":"08.11.2"},"B","08.11.2","Добыча и первичная обработка известняка и гипсового камня"]
[{"$f":"IF('Отрасли ОКВЭД'!$C251<>\"\",'Отрасли ОКВЭД'!$C251,'Отрасли ОКВЭД'!$B251)","v":"08.11.3"},"B","08.11.3","Добыча мела и некальцинированного доломита"]
[{"$f":"IF('Отрасли ОКВЭД'!$C252<>\"\",'Отрасли ОКВЭД'!$C252,'Отрасли ОКВЭД'!$B252)","v":"08.11.4"},"B","08.11.4","Добыча и первичная обработка сланцев"]
[{"$f":"IF('Отрасли ОКВЭД'!$C253<>\"\",'Отрасли ОКВЭД'!$C253,'Отрасли ОКВЭД'!$B253)","v":"08.12"},"B","08.12","Разработка гравийных и песчаных карьеров, добыча глины и каолина"]
[{"$f":"IF('Отрасли ОКВЭД'!$C254<>\"\",'Отрасли ОКВЭД'!$C254,'Отрасли ОКВЭД'!$B254)","v":"08.12.1"},"B","08.12.1","Разработка гравийных и песчаных карьеров"]
[{"$f":"IF('Отрасли ОКВЭД'!$C255<>\"\",'Отрасли ОКВЭД'!$C255,'Отрасли ОКВЭД'!$B255)","v":"08.12.2"},"B","08.12.2","Добыча глины и каолина"]
[{"$f":"IF('Отрасли ОКВЭД'!$C256<>\"\",'Отрасли ОКВЭД'!$C256,'Отрасли ОКВЭД'!$B256)","v":"08.9"},"B","08.9","Добыча полезных ископаемых, не включенных в другие группировки"]
[{"$f":"IF('Отрасли ОКВЭД'!$C257<>\"\",'Отрасли ОКВЭД'!$C257,'Отрасли ОКВЭД'!$B257)","v":"08.91"},"B","08.91","Добыча минерального сырья для химической промышленности и производства минеральных удобрений"]
[{"$f":"IF('Отрасли ОКВЭД'!$C258<>\"\",'Отрасли ОКВЭД'!$C258,'Отрасли ОКВЭД'!$B258)","v":"08.92"},"B","08.92","Добыча и агломерация торфа"]
[{"$f":"IF('Отрасли ОКВЭД'!$C259<>\"\",'Отрасли ОКВЭД'!$C259,'Отрасли ОКВЭД'!$B259)","v":"08.92.1"},"B","08.92.1","Добыча торфа"]
[{"$f":"IF('Отрасли ОКВЭД'!$C260<>\"\",'Отрасли ОКВЭД'!$C260,'Отрасли ОКВЭД'!$B260)","v":"08.92.2"},"B","08.92.2","Агломерация торфа"]
[{"$f":"IF('Отрасли ОКВЭД'!$C261<>\"\",'Отрасли ОКВЭД'!$C261,'Отрасли ОКВЭД'!$B261)","v":"08.93"},"B","08.93","Добыча соли"]
[{"$f":"IF('Отрасли ОКВЭД'!$C262<>\"\",'Отрасли ОКВЭД'!$C262,'Отрасли ОКВЭД'!$B262)","v":"08.99"},"B","08.99","Добыча прочих полезных ископаемых, не включенных в другие группировки"]
[{"$f":"IF('Отрасли ОКВЭД'!$C263<>\"\",'Отрасли ОКВЭД'!$C263,'Отрасли ОКВЭД'!$B263)","v":"08.99.1"},"B","08.99.1","Добыча природного асфальта, асфальтитов и битумных пород"]
[{"$f":"IF('Отрасли ОКВЭД'!$C264<>\"\",'Отрасли ОКВЭД'!$C264,'Отрасли ОКВЭД'!$B264)","v":"08.99.2"},"B","08.99.2","Добыча абразивных материалов, асбеста, кремнеземистой каменной муки, природных графитов, мыльного камня (талька), полевого шпата и т. д."]
[{"$f":"IF('Отрасли ОКВЭД'!$C265<>\"\",'Отрасли ОКВЭД'!$C265,'Отрасли ОКВЭД'!$B265)","v":"08.99.21"},"B","08.99.21","Добыча природных абразивов, кроме алмазов"]
[{"$f":"IF('Отрасли ОКВЭД'!$C266<>\"\",'Отрасли ОКВЭД'!$C266,'Отрасли ОКВЭД'!$B266)","v":"08.99.22"},"B","08.99.22","Добыча вермикулита"]
[{"$f":"IF('Отрасли ОКВЭД'!$C267<>\"\",'Отрасли ОКВЭД'!$C267,'Отрасли ОКВЭД'!$B267)","v":"08.99.23"},"B","08.99.23","Добыча асбеста"]
[{"$f":"IF('Отрасли ОКВЭД'!$C268<>\"\",'Отрасли ОКВЭД'!$C268,'Отрасли ОКВЭД'!$B268)","v":"08.99.3"},"B","08.99.3","Добыча драгоценных камней, кварца, слюды, мусковита и т. д."]
[{"$f":"IF('Отрасли ОКВЭД'!$C269<>\"\",'Отрасли ОКВЭД'!$C269,'Отрасли ОКВЭД'!$B269)","v":"08.99.31"},"B","08.99.31","Добыча драгоценных и полудрагоценных камней, кроме алмазов"]
[{"$f":"IF('Отрасли ОКВЭД'!$C270<>\"\",'Отрасли ОКВЭД'!$C270,'Отрасли ОКВЭД'!$B270)","v":"08.99.32"},"B","08.99.32","Добыча алмазов"]
[{"$f":"IF('Отрасли ОКВЭД'!$C271<>\"\",'Отрасли ОКВЭД'!$C271,'Отрасли ОКВЭД'!$B271)","v":"08.99.33"},"B","08.99.33","Добыча мусковита"]
[{"$f":"IF('Отрасли ОКВЭД'!$C272<>\"\",'Отрасли ОКВЭД'!$C272,'Отрасли ОКВЭД'!$B272)","v":"08.99.34"},"B","08.99.34","Добыча пьезокварца"]
[{"$f":"IF('Отрасли ОКВЭД'!$C273<>\"\",'Отрасли ОКВЭД'!$C273,'Отрасли ОКВЭД'!$B273)","v":"08.99.35"},"B","08.99.35","Добыча гранулированного кварца"]
[{"$f":"IF('Отрасли ОКВЭД'!$C274<>\"\",'Отрасли ОКВЭД'!$C274,'Отрасли ОКВЭД'!$B274)","v":"08.99.36"},"B","08.99.36","Добыча слюды"]
[{"$f":"IF('Отрасли ОКВЭД'!$C275<>\"\",'Отрасли ОКВЭД'!$C275,'Отрасли ОКВЭД'!$B275)","v":"09"},"B","09","Предоставление услуг в области добычи полезных ископаемых"]
[{"$f":"IF('Отрасли ОКВЭД'!$C276<>\"\",'Отрасли ОКВЭД'!$C276,'Отрасли ОКВЭД'!$B276)","v":"09.1"},"B","09.1","Предоставление услуг в области добычи нефти и природного газа"]
[{"$f":"IF('Отрасли ОКВЭД'!$C277<>\"\",'Отрасли ОКВЭД'!$C277,'Отрасли ОКВЭД'!$B277)","v":"09.10"},"B","09.10","Предоставление услуг в области добычи нефти и природного газа"]
[{"$f":"IF('Отрасли ОКВЭД'!$C278<>\"\",'Отрасли ОКВЭД'!$C278,'Отрасли ОКВЭД'!$B278)","v":"09.10.1"},"B","09.10.1","Предоставление услуг по бурению, связанному с добычей нефти, газа и газового конденсата"]
[{"$f":"IF('Отрасли ОКВЭД'!$C279<>\"\",'Отрасли ОКВЭД'!$C279,'Отрасли ОКВЭД'!$B279)","v":"09.10.2"},"B","09.10.2","Предоставление услуг по монтажу, ремонту и демонтажу буровых вышек"]
[{"$f":"IF('Отрасли ОКВЭД'!$C280<>\"\",'Отрасли ОКВЭД'!$C280,'Отрасли ОКВЭД'!$B280)","v":"09.10.3"},"B","09.10.3","Предоставление услуг по доразведке месторождений нефти и газа на особых экономических условиях (по соглашению о разделе продукции - СРП)"]
[{"$f":"IF('Отрасли ОКВЭД'!$C281<>\"\",'Отрасли ОКВЭД'!$C281,'Отрасли ОКВЭД'!$B281)","v":"09.10.4"},"B","09.10.4","Сжижение и обогащение природного газа на месте добычи для последующей транспортировки"]
[{"$f":"IF('Отрасли ОКВЭД'!$C282<>\"\",'Отрасли ОКВЭД'!$C282,'Отрасли ОКВЭД'!$B282)","v":"09.10.9"},"B","09.10.9","Предоставление прочих услуг в области добычи нефти и природного газа"]
[{"$f":"IF('Отрасли ОКВЭД'!$C283<>\"\",'Отрасли ОКВЭД'!$C283,'Отрасли ОКВЭД'!$B283)","v":"09.9"},"B","09.9","Предоставление услуг в других областях добычи полезных ископаемых"]
[{"$f":"IF('Отрасли ОКВЭД'!$C284<>\"\",'Отрасли ОКВЭД'!$C284,'Отрасли ОКВЭД'!$B284)","v":"09.90"},"B","09.90","Предоставление услуг в других областях добычи полезных ископаемых"]
[{"$f":"IF('Отрасли ОКВЭД'!$C285<>\"\",'Отрасли ОКВЭД'!$C285,'Отрасли ОКВЭД'!$B285)","v":"C"},"C","","ОБРАБАТЫВАЮЩИЕ ПРОИЗВОДСТВА"]
[{"$f":"IF('Отрасли ОКВЭД'!$C286<>\"\",'Отрасли ОКВЭД'!$C286,'Отрасли ОКВЭД'!$B286)","v":"10"},"C","10","Производство пищевых продуктов"]
[{"$f":"IF('Отрасли ОКВЭД'!$C287<>\"\",'Отрасли ОКВЭД'!$C287,'Отрасли ОКВЭД'!$B287)","v":"10.1"},"C","10.1","Переработка и консервирование мяса и мясной пищевой продукции"]
[{"$f":"IF('Отрасли ОКВЭД'!$C288<>\"\",'Отрасли ОКВЭД'!$C288,'Отрасли ОКВЭД'!$B288)","v":"10.11"},"C","10.11","Переработка и консервирование мяса"]
[{"$f":"IF('Отрасли ОКВЭД'!$C289<>\"\",'Отрасли ОКВЭД'!$C289,'Отрасли ОКВЭД'!$B289)","v":"10.11.1"},"C","10.11.1","Производство мяса в охлажденном виде"]
[{"$f":"IF('Отрасли ОКВЭД'!$C290<>\"\",'Отрасли ОКВЭД'!$C290,'Отрасли ОКВЭД'!$B290)","v":"10.11.2"},"C","10.11.2","Производство пищевых субпродуктов в охлажденном виде"]
[{"$f":"IF('Отрасли ОКВЭД'!$C291<>\"\",'Отрасли ОКВЭД'!$C291,'Отрасли ОКВЭД'!$B291)","v":"10.11.3"},"C","10.11.3","Производство мяса и пищевых субпродуктов в замороженном виде"]
[{"$f":"IF('Отрасли ОКВЭД'!$C292<>\"\",'Отрасли ОКВЭД'!$C292,'Отрасли ОКВЭД'!$B292)","v":"10.11.4"},"C","10.11.4","Производство щипаной шерсти, сырых шкур и кож крупного рогатого скота, животных семейств лошадиных и оленевых, овец и коз"]
[{"$f":"IF('Отрасли ОКВЭД'!$C293<>\"\",'Отрасли ОКВЭД'!$C293,'Отрасли ОКВЭД'!$B293)","v":"10.11.5"},"C","10.11.5","Производство животных жиров"]
[{"$f":"IF('Отрасли ОКВЭД'!$C294<>\"\",'Отрасли ОКВЭД'!$C294,'Отрасли ОКВЭД'!$B294)","v":"10.11.6"},"C","10.11.6","Производство субпродуктов, непригодных для употребления в пищу"]
[{"$f":"IF('Отрасли ОКВЭД'!$C295<>\"\",'Отрасли ОКВЭД'!$C295,'Отрасли ОКВЭД'!$B295)","v":"10.12"},"C","10.12","Производство и консервирование мяса птицы"]
[{"$f":"IF('Отрасли ОКВЭД'!$C296<>\"\",'Отрасли ОКВЭД'!$C296,'Отрасли ОКВЭД'!$B296)","v":"10.12.1"},"C","10.12.1","Производство мяса птицы в охлажденном виде"]
[{"$f":"IF('Отрасли ОКВЭД'!$C297<>\"\",'Отрасли ОКВЭД'!$C297,'Отрасли ОКВЭД'!$B297)","v":"10.12.2"},"C","10.12.2","Производство мяса птицы в замороженном виде"]
[{"$f":"IF('Отрасли ОКВЭД'!$C298<>\"\",'Отрасли ОКВЭД'!$C298,'Отрасли ОКВЭД'!$B298)","v":"10.12.3"},"C","10.12.3","Производство жиров домашней птицы"]
[{"$f":"IF('Отрасли ОКВЭД'!$C299<>\"\",'Отрасли ОКВЭД'!$C299,'Отрасли ОКВЭД'!$B299)","v":"10.12.4"},"C","10.12.4","Производство субпродуктов домашней птицы, пригодных для употребления в пищу"]
[{"$f":"IF('Отрасли ОКВЭД'!$C300<>\"\",'Отрасли ОКВЭД'!$C300,'Отрасли ОКВЭД'!$B300)","v":"10.12.5"},"C","10.12.5","Производство пера и пуха"]
[{"$f":"IF('Отрасли ОКВЭД'!$C301<>\"\",'Отрасли ОКВЭД'!$C301,'Отрасли ОКВЭД'!$B301)","v":"10.13"},"C","10.13","Производство продукции из мяса убойных животных и мяса птицы"]
[{"$f":"IF('Отрасли ОКВЭД'!$C302<>\"\",'Отрасли ОКВЭД'!$C302,'Отрасли ОКВЭД'!$B302)","v":"10.13.1"},"C","10.13.1","Производство соленого, вареного, запеченого, копченого, вяленого и прочего мяса"]
[{"$f":"IF('Отрасли ОКВЭД'!$C303<>\"\",'Отрасли ОКВЭД'!$C303,'Отрасли ОКВЭД'!$B303)","v":"10.13.2"},"C","10.13.2","Производство колбасных изделий"]
[{"$f":"IF('Отрасли ОКВЭД'!$C304<>\"\",'Отрасли ОКВЭД'!$C304,'Отрасли ОКВЭД'!$B304)","v":"10.13.3"},"C","10.13.3","Производство мясных (мясосодержащих) консервов"]
[{"$f":"IF('Отрасли ОКВЭД'!$C305<>\"\",'Отрасли ОКВЭД'!$C305,'Отрасли ОКВЭД'!$B305)","v":"10.13.4"},"C","10.13.4","Производство мясных (мясосодержащих) полуфабрикатов"]
[{"$f":"IF('Отрасли ОКВЭД'!$C306<>\"\",'Отрасли ОКВЭД'!$C306,'Отрасли ОКВЭД'!$B306)","v":"10.13.5"},"C","10.13.5","Производство кулинарных мясных (мясосодержащих) изделий"]
[{"$f":"IF('Отрасли ОКВЭД'!$C307<>\"\",'Отрасли ОКВЭД'!$C307,'Отрасли ОКВЭД'!$B307)","v":"10.13.6"},"C","10.13.6","Производство прочей пищевой продукции из мяса или мясных пищевых субпродуктов"]
[{"$f":"IF('Отрасли ОКВЭД'!$C308<>\"\",'Отрасли ОКВЭД'!$C308,'Отрасли ОКВЭД'!$B308)","v":"10.13.7"},"C","10.13.7","Производство муки и гранул из мяса и мясных субпродуктов, непригодных для употребления в пищу"]
[{"$f":"IF('Отрасли ОКВЭД'!$C309<>\"\",'Отрасли ОКВЭД'!$C309,'Отрасли ОКВЭД'!$B309)","v":"10.13.9"},"C","10.13.9","Предоставление услуг по тепловой обработке и прочим способам переработки мясных продуктов"]
[{"$f":"IF('Отрасли ОКВЭД'!$C310<>\"\",'Отрасли ОКВЭД'!$C310,'Отрасли ОКВЭД'!$B310)","v":"10.2"},"C","10.2","Переработка и консервирование рыбы, ракообразных и моллюсков"]
[{"$f":"IF('Отрасли ОКВЭД'!$C311<>\"\",'Отрасли ОКВЭД'!$C311,'Отрасли ОКВЭД'!$B311)","v":"10.20"},"C","10.20","Переработка и консервирование рыбы, ракообразных и моллюсков"]
[{"$f":"IF('Отрасли ОКВЭД'!$C312<>\"\",'Отрасли ОКВЭД'!$C312,'Отрасли ОКВЭД'!$B312)","v":"10.20.1"},"C","10.20.1","Переработка и консервирование рыбы"]
[{"$f":"IF('Отрасли ОКВЭД'!$C313<>\"\",'Отрасли ОКВЭД'!$C313,'Отрасли ОКВЭД'!$B313)","v":"10.20.2"},"C","10.20.2","Переработка и консервирование ракообразных и моллюсков"]
[{"$f":"IF('Отрасли ОКВЭД'!$C314<>\"\",'Отрасли ОКВЭД'!$C314,'Отрасли ОКВЭД'!$B314)","v":"10.20.3"},"C","10.20.3","Производство пищевой рыбной муки или муки для корма животных"]
[{"$f":"IF('Отрасли ОКВЭД'!$C315<>\"\",'Отрасли ОКВЭД'!$C315,'Отрасли ОКВЭД'!$B315)","v":"10.20.4"},"C","10.20.4","Производство муки грубого помола и растворимых компонентов из рыбы и прочих водных животных, непригодных для потребления человеком"]
[{"$f":"IF('Отрасли ОКВЭД'!$C316<>\"\",'Отрасли ОКВЭД'!$C316,'Отрасли ОКВЭД'!$B316)","v":"10.20.5"},"C","10.20.5","Деятельность по обработке морских водорослей, в том числе морской капусты"]
[{"$f":"IF('Отрасли ОКВЭД'!$C317<>\"\",'Отрасли ОКВЭД'!$C317,'Отрасли ОКВЭД'!$B317)","v":"10.20.9"},"C","10.20.9","Производство прочих продуктов из рыбы, ракообразных, моллюсков и прочих водных беспозвоночных, непригодных для употребления в пищу"]
[{"$f":"IF('Отрасли ОКВЭД'!$C318<>\"\",'Отрасли ОКВЭД'!$C318,'Отрасли ОКВЭД'!$B318)","v":"10.3"},"C","10.3","Переработка и консервирование фруктов и овощей"]
[{"$f":"IF('Отрасли ОКВЭД'!$C319<>\"\",'Отрасли ОКВЭД'!$C319,'Отрасли ОКВЭД'!$B319)","v":"10.31"},"C","10.31","Переработка и консервирование картофеля"]
[{"$f":"IF('Отрасли ОКВЭД'!$C320<>\"\",'Отрасли ОКВЭД'!$C320,'Отрасли ОКВЭД'!$B320)","v":"10.32"},"C","10.32","Производство соковой продукции из фруктов и овощей"]
[{"$f":"IF('Отрасли ОКВЭД'!$C321<>\"\",'Отрасли ОКВЭД'!$C321,'Отрасли ОКВЭД'!$B321)","v":"10.39"},"C","10.39","Прочие виды переработки и консервирования фруктов и овощей"]
[{"$f":"IF('Отрасли ОКВЭД'!$C322<>\"\",'Отрасли ОКВЭД'!$C322,'Отрасли ОКВЭД'!$B322)","v":"10.39.1"},"C","10.39.1","Переработка и консервирование овощей (кроме картофеля) и грибов"]
[{"$f":"IF('Отрасли ОКВЭД'!$C323<>\"\",'Отрасли ОКВЭД'!$C323,'Отрасли ОКВЭД'!$B323)","v":"10.39.2"},"C","10.39.2","Переработка и консервирование фруктов и орехов"]
[{"$f":"IF('Отрасли ОКВЭД'!$C324<>\"\",'Отрасли ОКВЭД'!$C324,'Отрасли ОКВЭД'!$B324)","v":"10.39.9"},"C","10.39.9","Предоставление услуг по тепловой обработке и прочим способам подготовки овощей и фруктов для консервирования"]
[{"$f":"IF('Отрасли ОКВЭД'!$C325<>\"\",'Отрасли ОКВЭД'!$C325,'Отрасли ОКВЭД'!$B325)","v":"10.4"},"C","10.4","Производство растительных и животных масел и жиров"]
[{"$f":"IF('Отрасли ОКВЭД'!$C326<>\"\",'Отрасли ОКВЭД'!$C326,'Отрасли ОКВЭД'!$B326)","v":"10.41"},"C","10.41","Производство масел и жиров"]
[{"$f":"IF('Отрасли ОКВЭД'!$C327<>\"\",'Отрасли ОКВЭД'!$C327,'Отрасли ОКВЭД'!$B327)","v":"10.41.1"},"C","10.41.1","Производство нерафинированных животных масел и жиров, их фракций"]
[{"$f":"IF('Отрасли ОКВЭД'!$C328<>\"\",'Отрасли ОКВЭД'!$C328,'Отрасли ОКВЭД'!$B328)","v":"10.41.2"},"C","10.41.2","Производство нерафинированных растительных масел и их фракций"]
[{"$f":"IF('Отрасли ОКВЭД'!$C329<>\"\",'Отрасли ОКВЭД'!$C329,'Отрасли ОКВЭД'!$B329)","v":"10.41.21"},"C","10.41.21","Производство нерафинированного соевого масла и его фракций"]
[{"$f":"IF('Отрасли ОКВЭД'!$C330<>\"\",'Отрасли ОКВЭД'!$C330,'Отрасли ОКВЭД'!$B330)","v":"10.41.22"},"C","10.41.22","Производство нерафинированного арахисового масла и его фракций"]
[{"$f":"IF('Отрасли ОКВЭД'!$C331<>\"\",'Отрасли ОКВЭД'!$C331,'Отрасли ОКВЭД'!$B331)","v":"10.41.23"},"C","10.41.23","Производство нерафинированного оливкового масла и его фракций"]
[{"$f":"IF('Отрасли ОКВЭД'!$C332<>\"\",'Отрасли ОКВЭД'!$C332,'Отрасли ОКВЭД'!$B332)","v":"10.41.24"},"C","10.41.24","Производство нерафинированного подсолнечного масла и его фракций"]
[{"$f":"IF('Отрасли ОКВЭД'!$C333<>\"\",'Отрасли ОКВЭД'!$C333,'Отрасли ОКВЭД'!$B333)","v":"10.41.25"},"C","10.41.25","Производство нерафинированного хлопкового масла и его фракций"]
[{"$f":"IF('Отрасли ОКВЭД'!$C334<>\"\",'Отрасли ОКВЭД'!$C334,'Отрасли ОКВЭД'!$B334)","v":"10.41.26"},"C","10.41.26","Производство нерафинированного рапсового сурепного и горчичного масла и их фракций"]
[{"$f":"IF('Отрасли ОКВЭД'!$C335<>\"\",'Отрасли ОКВЭД'!$C335,'Отрасли ОКВЭД'!$B335)","v":"10.41.27"},"C","10.41.27","Производство нерафинированного пальмового масла и его фракций"]
[{"$f":"IF('Отрасли ОКВЭД'!$C336<>\"\",'Отрасли ОКВЭД'!$C336,'Отрасли ОКВЭД'!$B336)","v":"10.41.28"},"C","10.41.28","Производство нерафинированного кокосового масла и его фракций"]
[{"$f":"IF('Отрасли ОКВЭД'!$C337<>\"\",'Отрасли ОКВЭД'!$C337,'Отрасли ОКВЭД'!$B337)","v":"10.41.29"},"C","10.41.29","Производство прочих нерафинированных растительных масел и их фракций"]
[{"$f":"IF('Отрасли ОКВЭД'!$C338<>\"\",'Отрасли ОКВЭД'!$C338,'Отрасли ОКВЭД'!$B338)","v":"10.41.3"},"C","10.41.3","Производство хлопкового линта"]
[{"$f":"IF('Отрасли ОКВЭД'!$C339<>\"\",'Отрасли ОКВЭД'!$C339,'Отрасли ОКВЭД'!$B339)","v":"10.41.4"},"C","10.41.4","Производство жмыха и муки тонкого и грубого помола из семян или плодов масличных культур"]
[{"$f":"IF('Отрасли ОКВЭД'!$C340<>\"\",'Отрасли ОКВЭД'!$C340,'Отрасли ОКВЭД'!$B340)","v":"10.41.5"},"C","10.41.5","Производство рафинированных растительных масел и их фракций"]
[{"$f":"IF('Отрасли ОКВЭД'!$C341<>\"\",'Отрасли ОКВЭД'!$C341,'Отрасли ОКВЭД'!$B341)","v":"10.41.51"},"C","10.41.51","Производство рафинированного соевого масла и его фракций"]
[{"$f":"IF('Отрасли ОКВЭД'!$C342<>\"\",'Отрасли ОКВЭД'!$C342,'Отрасли ОКВЭД'!$B342)","v":"10.41.52"},"C","10.41.52","Производство рафинированного арахисового масла и его фракций"]
[{"$f":"IF('Отрасли ОКВЭД'!$C343<>\"\",'Отрасли ОКВЭД'!$C343,'Отрасли ОКВЭД'!$B343)","v":"10.41.53"},"C","10.41.53","Производство рафинированного оливкового масла и его фракций"]
[{"$f":"IF('Отрасли ОКВЭД'!$C344<>\"\",'Отрасли ОКВЭД'!$C344,'Отрасли ОКВЭД'!$B344)","v":"10.41.54"},"C","10.41.54","Производство рафинированного подсолнечного масла и его фракций"]
[{"$f":"IF('Отрасли ОКВЭД'!$C345<>\"\",'Отрасли ОКВЭД'!$C345,'Отрасли ОКВЭД'!$B345)","v":"10.41.55"},"C","10.41.55","Производство рафинированного хлопкового масла и его фракций"]
[{"$f":"IF('Отрасли ОКВЭД'!$C346<>\"\",'Отрасли ОКВЭД'!$C346,'Отрасли ОКВЭД'!$B346)","v":"10.41.56"},"C","10.41.56","Производство рафинированного рапсового, сурепного, горчичного масел и их фракций"]
[{"$f":"IF('Отрасли ОКВЭД'!$C347<>\"\",'Отрасли ОКВЭД'!$C347,'Отрасли ОКВЭД'!$B347)","v":"10.41.57"},"C","10.41.57","Производство рафинированного пальмового масла и его фракций"]
[{"$f":"IF('Отрасли ОКВЭД'!$C348<>\"\",'Отрасли ОКВЭД'!$C348,'Отрасли ОКВЭД'!$B348)","v":"10.41.58"},"C","10.41.58","Производство рафинированного кокосового масла и его фракций"]
[{"$f":"IF('Отрасли ОКВЭД'!$C349<>\"\",'Отрасли ОКВЭД'!$C349,'Отрасли ОКВЭД'!$B349)","v":"10.41.59"},"C","10.41.59","Производство прочих рафинированных растительных масел и их фракций"]
[{"$f":"IF('Отрасли ОКВЭД'!$C350<>\"\",'Отрасли ОКВЭД'!$C350,'Отрасли ОКВЭД'!$B350)","v":"10.41.6"},"C","10.41.6","Производство гидрогенизированных и переэтерифицированных животных и растительных жиров и масел и их фракций"]
[{"$f":"IF('Отрасли ОКВЭД'!$C351<>\"\",'Отрасли ОКВЭД'!$C351,'Отрасли ОКВЭД'!$B351)","v":"10.41.7"},"C","10.41.7","Производство растительных восков и дегры"]
[{"$f":"IF('Отрасли ОКВЭД'!$C352<>\"\",'Отрасли ОКВЭД'!$C352,'Отрасли ОКВЭД'!$B352)","v":"10.42"},"C","10.42","Производство маргариновой продукции"]
[{"$f":"IF('Отрасли ОКВЭД'!$C353<>\"\",'Отрасли ОКВЭД'!$C353,'Отрасли ОКВЭД'!$B353)","v":"10.5"},"C","10.5","Производство молочной продукции"]
[{"$f":"IF('Отрасли ОКВЭД'!$C354<>\"\",'Отрасли ОКВЭД'!$C354,'Отрасли ОКВЭД'!$B354)","v":"10.51"},"C","10.51","Производство молока (кроме сырого) и молочной продукции"]
[{"$f":"IF('Отрасли ОКВЭД'!$C355<>\"\",'Отрасли ОКВЭД'!$C355,'Отрасли ОКВЭД'!$B355)","v":"10.51.1"},"C","10.51.1","Производство питьевого молока и питьевых сливок"]
[{"$f":"IF('Отрасли ОКВЭД'!$C356<>\"\",'Отрасли ОКВЭД'!$C356,'Отрасли ОКВЭД'!$B356)","v":"10.51.2"},"C","10.51.2","Производство сливочного масла, топленого масла, масляной пасты, молочного жира, спредов и топленых сливочно-растительных смесей"]
[{"$f":"IF('Отрасли ОКВЭД'!$C357<>\"\",'Отрасли ОКВЭД'!$C357,'Отрасли ОКВЭД'!$B357)","v":"10.51.3"},"C","10.51.3","Производство сыра и сырных продуктов"]
[{"$f":"IF('Отрасли ОКВЭД'!$C358<>\"\",'Отрасли ОКВЭД'!$C358,'Отрасли ОКВЭД'!$B358)","v":"10.51.4"},"C","10.51.4","Производство молока и сливок в твердой форме"]
[{"$f":"IF('Отрасли ОКВЭД'!$C359<>\"\",'Отрасли ОКВЭД'!$C359,'Отрасли ОКВЭД'!$B359)","v":"10.51.9"},"C","10.51.9","Производство прочей молочной продукции"]
[{"$f":"IF('Отрасли ОКВЭД'!$C360<>\"\",'Отрасли ОКВЭД'!$C360,'Отрасли ОКВЭД'!$B360)","v":"10.52"},"C","10.52","Производство мороженого"]
[{"$f":"IF('Отрасли ОКВЭД'!$C361<>\"\",'Отрасли ОКВЭД'!$C361,'Отрасли ОКВЭД'!$B361)","v":"10.6"},"C","10.6","Производство продуктов мукомольной и крупяной промышленности, крахмала и крахмалосодержащих продуктов"]
[{"$f":"IF('Отрасли ОКВЭД'!$C362<>\"\",'Отрасли ОКВЭД'!$C362,'Отрасли ОКВЭД'!$B362)","v":"10.61"},"C","10.61","Производство продуктов мукомольной и крупяной промышленности"]
[{"$f":"IF('Отрасли ОКВЭД'!$C363<>\"\",'Отрасли ОКВЭД'!$C363,'Отрасли ОКВЭД'!$B363)","v":"10.61.1"},"C","10.61.1","Производство обработанного риса"]
[{"$f":"IF('Отрасли ОКВЭД'!$C364<>\"\",'Отрасли ОКВЭД'!$C364,'Отрасли ОКВЭД'!$B364)","v":"10.61.2"},"C","10.61.2","Производство муки из зерновых культур"]
[{"$f":"IF('Отрасли ОКВЭД'!$C365<>\"\",'Отрасли ОКВЭД'!$C365,'Отрасли ОКВЭД'!$B365)","v":"10.61.3"},"C","10.61.3","Производство крупы и гранул из зерновых культур"]
[{"$f":"IF('Отрасли ОКВЭД'!$C366<>\"\",'Отрасли ОКВЭД'!$C366,'Отрасли ОКВЭД'!$B366)","v":"10.61.4"},"C","10.61.4","Производство мучных смесей и приготовление мучных смесей или теста для хлеба, тортов, бисквитов и блинов"]
[{"$f":"IF('Отрасли ОКВЭД'!$C367<>\"\",'Отрасли ОКВЭД'!$C367,'Отрасли ОКВЭД'!$B367)","v":"10.62"},"C","10.62","Производство крахмала и крахмалосодержащих продуктов"]
[{"$f":"IF('Отрасли ОКВЭД'!$C368<>\"\",'Отрасли ОКВЭД'!$C368,'Отрасли ОКВЭД'!$B368)","v":"10.62.1"},"C","10.62.1","Производство крахмала"]
[{"$f":"IF('Отрасли ОКВЭД'!$C369<>\"\",'Отрасли ОКВЭД'!$C369,'Отрасли ОКВЭД'!$B369)","v":"10.62.2"},"C","10.62.2","Производство нерафинированного кукурузного масла и его фракций"]
[{"$f":"IF('Отрасли ОКВЭД'!$C370<>\"\",'Отрасли ОКВЭД'!$C370,'Отрасли ОКВЭД'!$B370)","v":"10.62.3"},"C","10.62.3","Производство рафинированного кукурузного масла и его фракций"]
[{"$f":"IF('Отрасли ОКВЭД'!$C371<>\"\",'Отрасли ОКВЭД'!$C371,'Отрасли ОКВЭД'!$B371)","v":"10.62.9"},"C","10.62.9","Производство прочих крахмалосодержащих продуктов"]
[{"$f":"IF('Отрасли ОКВЭД'!$C372<>\"\",'Отрасли ОКВЭД'!$C372,'Отрасли ОКВЭД'!$B372)","v":"10.7"},"C","10.7","Производство хлебобулочных и мучных кондитерских изделий"]
[{"$f":"IF('Отрасли ОКВЭД'!$C373<>\"\",'Отрасли ОКВЭД'!$C373,'Отрасли ОКВЭД'!$B373)","v":"10.71"},"C","10.71","Производство хлеба и мучных кондитерских изделий, тортов и пирожных недлительного хранения"]
[{"$f":"IF('Отрасли ОКВЭД'!$C374<>\"\",'Отрасли ОКВЭД'!$C374,'Отрасли ОКВЭД'!$B374)","v":"10.71.1"},"C","10.71.1","Производство хлеба и хлебобулочных изделий недлительного хранения"]
[{"$f":"IF('Отрасли ОКВЭД'!$C375<>\"\",'Отрасли ОКВЭД'!$C375,'Отрасли ОКВЭД'!$B375)","v":"10.71.2"},"C","10.71.2","Производство мучных кондитерских изделий, тортов и пирожных недлительного хранения"]
[{"$f":"IF('Отрасли ОКВЭД'!$C376<>\"\",'Отрасли ОКВЭД'!$C376,'Отрасли ОКВЭД'!$B376)","v":"10.71.3"},"C","10.71.3","Производство охлажденных хлебобулочных полуфабрикатов"]
[{"$f":"IF('Отрасли ОКВЭД'!$C377<>\"\",'Отрасли ОКВЭД'!$C377,'Отрасли ОКВЭД'!$B377)","v":"10.72"},"C","10.72","Производство сухарей, печенья и прочих сухарных хлебобулочных изделий, производство мучных кондитерских изделий, тортов, пирожных, пирогов и бисквитов, предназначенных для длительного хранения"]
[{"$f":"IF('Отрасли ОКВЭД'!$C378<>\"\",'Отрасли ОКВЭД'!$C378,'Отрасли ОКВЭД'!$B378)","v":"10.72.1"},"C","10.72.1","Производство хрустящих хлебцев, сухарей и прочих сухарных хлебобулочных изделий"]
[{"$f":"IF('Отрасли ОКВЭД'!$C379<>\"\",'Отрасли ОКВЭД'!$C379,'Отрасли ОКВЭД'!$B379)","v":"10.72.2"},"C","10.72.2","Производство тортов и пирожных длительного хранения"]
[{"$f":"IF('Отрасли ОКВЭД'!$C380<>\"\",'Отрасли ОКВЭД'!$C380,'Отрасли ОКВЭД'!$B380)","v":"10.72.3"},"C","10.72.3","Производство прочих мучных кондитерских изделий длительного хранения"]
[{"$f":"IF('Отрасли ОКВЭД'!$C381<>\"\",'Отрасли ОКВЭД'!$C381,'Отрасли ОКВЭД'!$B381)","v":"10.72.31"},"C","10.72.31","Производство печенья"]
[{"$f":"IF('Отрасли ОКВЭД'!$C382<>\"\",'Отрасли ОКВЭД'!$C382,'Отрасли ОКВЭД'!$B382)","v":"10.72.32"},"C","10.72.32","Производство пряников и коврижек"]
[{"$f":"IF('Отрасли ОКВЭД'!$C383<>\"\",'Отрасли ОКВЭД'!$C383,'Отрасли ОКВЭД'!$B383)","v":"10.72.33"},"C","10.72.33","Производство вафель"]
[{"$f":"IF('Отрасли ОКВЭД'!$C384<>\"\",'Отрасли ОКВЭД'!$C384,'Отрасли ОКВЭД'!$B384)","v":"10.72.34"},"C","10.72.34","Производство галет и крекеров"]
[{"$f":"IF('Отрасли ОКВЭД'!$C385<>\"\",'Отрасли ОКВЭД'!$C385,'Отрасли ОКВЭД'!$B385)","v":"10.72.35"},"C","10.72.35","Производство кексов, рулетов и аналогичных изделий длительного хранения"]
[{"$f":"IF('Отрасли ОКВЭД'!$C386<>\"\",'Отрасли ОКВЭД'!$C386,'Отрасли ОКВЭД'!$B386)","v":"10.72.39"},"C","10.72.39","Производство восточных сладостей и прочих мучных кондитерских изделий"]
[{"$f":"IF('Отрасли ОКВЭД'!$C387<>\"\",'Отрасли ОКВЭД'!$C387,'Отрасли ОКВЭД'!$B387)","v":"10.72.4"},"C","10.72.4","Производство замороженных хлебобулочных полуфабрикатов"]
[{"$f":"IF('Отрасли ОКВЭД'!$C388<>\"\",'Отрасли ОКВЭД'!$C388,'Отрасли ОКВЭД'!$B388)","v":"10.73"},"C","10.73","Производство макаронных изделий кускуса и аналогичных мучных изделий"]
[{"$f":"IF('Отрасли ОКВЭД'!$C389<>\"\",'Отрасли ОКВЭД'!$C389,'Отрасли ОКВЭД'!$B389)","v":"10.73.1"},"C","10.73.1","Производство макаронных изделий"]
[{"$f":"IF('Отрасли ОКВЭД'!$C390<>\"\",'Отрасли ОКВЭД'!$C390,'Отрасли ОКВЭД'!$B390)","v":"10.73.2"},"C","10.73.2","Производство кускуса"]
[{"$f":"IF('Отрасли ОКВЭД'!$C391<>\"\",'Отрасли ОКВЭД'!$C391,'Отрасли ОКВЭД'!$B391)","v":"10.73.3"},"C","10.73.3","Производство консервированных или замороженных макаронных изделий"]
[{"$f":"IF('Отрасли ОКВЭД'!$C392<>\"\",'Отрасли ОКВЭД'!$C392,'Отрасли ОКВЭД'!$B392)","v":"10.8"},"C","10.8","Производство прочих пищевых продуктов"]
[{"$f":"IF('Отрасли ОКВЭД'!$C393<>\"\",'Отрасли ОКВЭД'!$C393,'Отрасли ОКВЭД'!$B393)","v":"10.81"},"C","10.81","Производство сахара"]
[{"$f":"IF('Отрасли ОКВЭД'!$C394<>\"\",'Отрасли ОКВЭД'!$C394,'Отрасли ОКВЭД'!$B394)","v":"10.81.1"},"C","10.81.1","Производство сахара из сахарной свеклы и тростникового сырца"]
[{"$f":"IF('Отрасли ОКВЭД'!$C395<>\"\",'Отрасли ОКВЭД'!$C395,'Отрасли ОКВЭД'!$B395)","v":"10.81.11"},"C","10.81.11","Производство сахара из сахарной свеклы"]
[{"$f":"IF('Отрасли ОКВЭД'!$C396<>\"\",'Отрасли ОКВЭД'!$C396,'Отрасли ОКВЭД'!$B396)","v":"10.81.12"},"C","10.81.12","Производство сахара из тростникового сырца"]
[{"$f":"IF('Отрасли ОКВЭД'!$C397<>\"\",'Отрасли ОКВЭД'!$C397,'Отрасли ОКВЭД'!$B397)","v":"10.81.2"},"C","10.81.2","Производство сахарного сиропа"]
[{"$f":"IF('Отрасли ОКВЭД'!$C398<>\"\",'Отрасли ОКВЭД'!$C398,'Отрасли ОКВЭД'!$B398)","v":"10.81.3"},"C","10.81.3","Производство мелассы"]
[{"$f":"IF('Отрасли ОКВЭД'!$C399<>\"\",'Отрасли ОКВЭД'!$C399,'Отрасли ОКВЭД'!$B399)","v":"10.82"},"C","10.82","Производство какао, шоколада и сахаристых кондитерских изделий"]
[{"$f":"IF('Отрасли ОКВЭД'!$C400<>\"\",'Отрасли ОКВЭД'!$C400,'Отрасли ОКВЭД'!$B400)","v":"10.82.1"},"C","10.82.1","Производство какао, масла какао, жира какао, растительного масла какао, порошка какао"]
[{"$f":"IF('Отрасли ОКВЭД'!$C401<>\"\",'Отрасли ОКВЭД'!$C401,'Отрасли ОКВЭД'!$B401)","v":"10.82.2"},"C","10.82.2","Производство шоколада и сахаристых кондитерских изделий"]
[{"$f":"IF('Отрасли ОКВЭД'!$C402<>\"\",'Отрасли ОКВЭД'!$C402,'Отрасли ОКВЭД'!$B402)","v":"10.82.3"},"C","10.82.3","Производство кондитерских изделий из сахара"]
[{"$f":"IF('Отрасли ОКВЭД'!$C403<>\"\",'Отрасли ОКВЭД'!$C403,'Отрасли ОКВЭД'!$B403)","v":"10.82.4"},"C","10.82.4","Производство жевательной резинки"]
[{"$f":"IF('Отрасли ОКВЭД'!$C404<>\"\",'Отрасли ОКВЭД'!$C404,'Отрасли ОКВЭД'!$B404)","v":"10.82.5"},"C","10.82.5","Производство засахаренных фруктов, орехов, цукатов из кожуры и прочих частей растений"]
[{"$f":"IF('Отрасли ОКВЭД'!$C405<>\"\",'Отрасли ОКВЭД'!$C405,'Отрасли ОКВЭД'!$B405)","v":"10.82.6"},"C","10.82.6","Производство кондитерских леденцов и пастилок"]
[{"$f":"IF('Отрасли ОКВЭД'!$C406<>\"\",'Отрасли ОКВЭД'!$C406,'Отрасли ОКВЭД'!$B406)","v":"10.83"},"C","10.83","Производство чая и кофе"]
[{"$f":"IF('Отрасли ОКВЭД'!$C407<>\"\",'Отрасли ОКВЭД'!$C407,'Отрасли ОКВЭД'!$B407)","v":"10.84"},"C","10.84","Производство приправ и пряностей"]
[{"$f":"IF('Отрасли ОКВЭД'!$C408<>\"\",'Отрасли ОКВЭД'!$C408,'Отрасли ОКВЭД'!$B408)","v":"10.85"},"C","10.85","Производство готовых пищевых продуктов и блюд"]
[{"$f":"IF('Отрасли ОКВЭД'!$C409<>\"\",'Отрасли ОКВЭД'!$C409,'Отрасли ОКВЭД'!$B409)","v":"10.86"},"C","10.86","Производство детского питания и диетических пищевых продуктов"]
[{"$f":"IF('Отрасли ОКВЭД'!$C410<>\"\",'Отрасли ОКВЭД'!$C410,'Отрасли ОКВЭД'!$B410)","v":"10.86.1"},"C","10.86.1","Производство молока и молочных продуктов для детского питания"]
[{"$f":"IF('Отрасли ОКВЭД'!$C411<>\"\",'Отрасли ОКВЭД'!$C411,'Отрасли ОКВЭД'!$B411)","v":"10.86.11"},"C","10.86.11","Производство молока и молочных продуктов для детей раннего возраста"]
[{"$f":"IF('Отрасли ОКВЭД'!$C412<>\"\",'Отрасли ОКВЭД'!$C412,'Отрасли ОКВЭД'!$B412)","v":"10.86.12"},"C","10.86.12","Производство молока и молочных продуктов для детей дошкольного и школьного возраста"]
[{"$f":"IF('Отрасли ОКВЭД'!$C413<>\"\",'Отрасли ОКВЭД'!$C413,'Отрасли ОКВЭД'!$B413)","v":"10.86.2"},"C","10.86.2","Производство соковой продукции из фруктов и овощей для детского питания"]
[{"$f":"IF('Отрасли ОКВЭД'!$C414<>\"\",'Отрасли ОКВЭД'!$C414,'Отрасли ОКВЭД'!$B414)","v":"10.86.3"},"C","10.86.3","Производство мясной продукции для детского питания, в том числе из мяса птицы"]
[{"$f":"IF('Отрасли ОКВЭД'!$C415<>\"\",'Отрасли ОКВЭД'!$C415,'Отрасли ОКВЭД'!$B415)","v":"10.86.4"},"C","10.86.4","Производство продуктов на злаковой основе для детского питания"]
[{"$f":"IF('Отрасли ОКВЭД'!$C416<>\"\",'Отрасли ОКВЭД'!$C416,'Отрасли ОКВЭД'!$B416)","v":"10.86.5"},"C","10.86.5","Производство продуктов детского питания профилактического и лечебного назначения"]
[{"$f":"IF('Отрасли ОКВЭД'!$C417<>\"\",'Отрасли ОКВЭД'!$C417,'Отрасли ОКВЭД'!$B417)","v":"10.86.6"},"C","10.86.6","Производство специализированной пищевой продукции, в том числе диетических пищевых продуктов"]
[{"$f":"IF('Отрасли ОКВЭД'!$C418<>\"\",'Отрасли ОКВЭД'!$C418,'Отрасли ОКВЭД'!$B418)","v":"10.86.61"},"C","10.86.61","Производство пищевой продукции диетического и диабетического питания"]
[{"$f":"IF('Отрасли ОКВЭД'!$C419<>\"\",'Отрасли ОКВЭД'!$C419,'Отрасли ОКВЭД'!$B419)","v":"10.86.62"},"C","10.86.62","Производство пищевой продукции для питания спортсменов"]
[{"$f":"IF('Отрасли ОКВЭД'!$C420<>\"\",'Отрасли ОКВЭД'!$C420,'Отрасли ОКВЭД'!$B420)","v":"10.86.63"},"C","10.86.63","Производство пищевой продукции для питания беременных и кормящих женщин"]
[{"$f":"IF('Отрасли ОКВЭД'!$C421<>\"\",'Отрасли ОКВЭД'!$C421,'Отрасли ОКВЭД'!$B421)","v":"10.86.64"},"C","10.86.64","Производство пищевой продукции энтерального питания"]
[{"$f":"IF('Отрасли ОКВЭД'!$C422<>\"\",'Отрасли ОКВЭД'!$C422,'Отрасли ОКВЭД'!$B422)","v":"10.86.69"},"C","10.86.69","Производство прочих диетических пищевых продуктов"]
[{"$f":"IF('Отрасли ОКВЭД'!$C423<>\"\",'Отрасли ОКВЭД'!$C423,'Отрасли ОКВЭД'!$B423)","v":"10.86.7"},"C","10.86.7","Производство воды питьевой, напитков безалкогольных для детского питания"]
[{"$f":"IF('Отрасли ОКВЭД'!$C424<>\"\",'Отрасли ОКВЭД'!$C424,'Отрасли ОКВЭД'!$B424)","v":"10.86.8"},"C","10.86.8","Производство рыбной продукции для детского питания"]
[{"$f":"IF('Отрасли ОКВЭД'!$C425<>\"\",'Отрасли ОКВЭД'!$C425,'Отрасли ОКВЭД'!$B425)","v":"10.86.9"},"C","10.86.9","Производство хлебобулочных и кондитерских изделий для детского питания"]
[{"$f":"IF('Отрасли ОКВЭД'!$C426<>\"\",'Отрасли ОКВЭД'!$C426,'Отрасли ОКВЭД'!$B426)","v":"10.89"},"C","10.89","Производство прочих пищевых продуктов, не включенных в другие группировки"]
[{"$f":"IF('Отрасли ОКВЭД'!$C427<>\"\",'Отрасли ОКВЭД'!$C427,'Отрасли ОКВЭД'!$B427)","v":"10.89.1"},"C","10.89.1","Производство супов и бульонов"]
[{"$f":"IF('Отрасли ОКВЭД'!$C428<>\"\",'Отрасли ОКВЭД'!$C428,'Отрасли ОКВЭД'!$B428)","v":"10.89.2"},"C","10.89.2","Производство скоропортящихся продуктов, таких как: сэндвичи и свежая пицца (полуфабрикат)"]
[{"$f":"IF('Отрасли ОКВЭД'!$C429<>\"\",'Отрасли ОКВЭД'!$C429,'Отрасли ОКВЭД'!$B429)","v":"10.89.3"},"C","10.89.3","Производство растительных соков и экстрактов, пептических веществ, растительных клеев и загустителей"]
[{"$f":"IF('Отрасли ОКВЭД'!$C430<>\"\",'Отрасли ОКВЭД'!$C430,'Отрасли ОКВЭД'!$B430)","v":"10.89.4"},"C","10.89.4","Производство пищевых ферментов"]
[{"$f":"IF('Отрасли ОКВЭД'!$C431<>\"\",'Отрасли ОКВЭД'!$C431,'Отрасли ОКВЭД'!$B431)","v":"10.89.5"},"C","10.89.5","Производство искусственного меда и карамели"]
[{"$f":"IF('Отрасли ОКВЭД'!$C432<>\"\",'Отрасли ОКВЭД'!$C432,'Отрасли ОКВЭД'!$B432)","v":"10.89.6"},"C","10.89.6","Переработка меда (темперирование, фильтрация, декристаллизация и смешивание меда)"]
[{"$f":"IF('Отрасли ОКВЭД'!$C433<>\"\",'Отрасли ОКВЭД'!$C433,'Отрасли ОКВЭД'!$B433)","v":"10.89.7"},"C","10.89.7","Производство рационов питания и пайков"]
[{"$f":"IF('Отрасли ОКВЭД'!$C434<>\"\",'Отрасли ОКВЭД'!$C434,'Отрасли ОКВЭД'!$B434)","v":"10.89.8"},"C","10.89.8","Производство биологически активных добавок к пище"]
[{"$f":"IF('Отрасли ОКВЭД'!$C435<>\"\",'Отрасли ОКВЭД'!$C435,'Отрасли ОКВЭД'!$B435)","v":"10.89.9"},"C","10.89.9","Производство прочих продуктов питания, не включенных в другие группировки"]
[{"$f":"IF('Отрасли ОКВЭД'!$C436<>\"\",'Отрасли ОКВЭД'!$C436,'Отрасли ОКВЭД'!$B436)","v":"10.9"},"C","10.9","Производство готовых кормов для животных"]
[{"$f":"IF('Отрасли ОКВЭД'!$C437<>\"\",'Отрасли ОКВЭД'!$C437,'Отрасли ОКВЭД'!$B437)","v":"10.91"},"C","10.91","Производство готовых кормов для животных, содержащихся на фермах"]
[{"$f":"IF('Отрасли ОКВЭД'!$C438<>\"\",'Отрасли ОКВЭД'!$C438,'Отрасли ОКВЭД'!$B438)","v":"10.91.1"},"C","10.91.1","Производство готовых кормов (смешанных и несмешанных), кроме муки и гранул из люцерны, для животных, содержащихся на фермах"]
[{"$f":"IF('Отрасли ОКВЭД'!$C439<>\"\",'Отрасли ОКВЭД'!$C439,'Отрасли ОКВЭД'!$B439)","v":"10.91.2"},"C","10.91.2","Производство муки грубого помола и гранул из люцерны"]
[{"$f":"IF('Отрасли ОКВЭД'!$C440<>\"\",'Отрасли ОКВЭД'!$C440,'Отрасли ОКВЭД'!$B440)","v":"10.91.3"},"C","10.91.3","Производство кормового микробиологического белка, премиксов, кормовых витаминов, антибиотиков, аминокислот и ферментов"]
[{"$f":"IF('Отрасли ОКВЭД'!$C441<>\"\",'Отрасли ОКВЭД'!$C441,'Отрасли ОКВЭД'!$B441)","v":"10.92"},"C","10.92","Производство готовых кормов для непродуктивных животных"]
[{"$f":"IF('Отрасли ОКВЭД'!$C442<>\"\",'Отрасли ОКВЭД'!$C442,'Отрасли ОКВЭД'!$B442)","v":"11"},"C","11","Производство напитков"]
[{"$f":"IF('Отрасли ОКВЭД'!$C443<>\"\",'Отрасли ОКВЭД'!$C443,'Отрасли ОКВЭД'!$B443)","v":"11.0"},"C","11.0","Производство напитков"]
[{"$f":"IF('Отрасли ОКВЭД'!$C444<>\"\",'Отрасли ОКВЭД'!$C444,'Отрасли ОКВЭД'!$B444)","v":"11.01"},"C","11.01","Перегонка, очистка и смешивание спиртов"]
[{"$f":"IF('Отрасли ОКВЭД'!$C445<>\"\",'Отрасли ОКВЭД'!$C445,'Отрасли ОКВЭД'!$B445)","v":"11.01.1"},"C","11.01.1","Производство дистиллированных питьевых алкогольных напитков: водки, виски, бренди, джина, ликеров и т. п."]
[{"$f":"IF('Отрасли ОКВЭД'!$C446<>\"\",'Отрасли ОКВЭД'!$C446,'Отрасли ОКВЭД'!$B446)","v":"11.01.2"},"C","11.01.2","Производство напитков, смешанных с дистиллированными алкогольными напитками"]
[{"$f":"IF('Отрасли ОКВЭД'!$C447<>\"\",'Отрасли ОКВЭД'!$C447,'Отрасли ОКВЭД'!$B447)","v":"11.01.3"},"C","11.01.3","Смешивание дистиллированных спиртов"]
[{"$f":"IF('Отрасли ОКВЭД'!$C448<>\"\",'Отрасли ОКВЭД'!$C448,'Отрасли ОКВЭД'!$B448)","v":"11.01.4"},"C","11.01.4","Производство пищевого спирта"]
[{"$f":"IF('Отрасли ОКВЭД'!$C449<>\"\",'Отрасли ОКВЭД'!$C449,'Отрасли ОКВЭД'!$B449)","v":"11.02"},"C","11.02","Производство вина из винограда"]
[{"$f":"IF('Отрасли ОКВЭД'!$C450<>\"\",'Отрасли ОКВЭД'!$C450,'Отрасли ОКВЭД'!$B450)","v":"11.03"},"C","11.03","Производство сидра и прочих плодовых вин"]
[{"$f":"IF('Отрасли ОКВЭД'!$C451<>\"\",'Отрасли ОКВЭД'!$C451,'Отрасли ОКВЭД'!$B451)","v":"11.04"},"C","11.04","Производство прочих недистиллированных напитков из сброженных материалов"]
[{"$f":"IF('Отрасли ОКВЭД'!$C452<>\"\",'Отрасли ОКВЭД'!$C452,'Отрасли ОКВЭД'!$B452)","v":"11.05"},"C","11.05","Производство пива"]
[{"$f":"IF('Отрасли ОКВЭД'!$C453<>\"\",'Отрасли ОКВЭД'!$C453,'Отрасли ОКВЭД'!$B453)","v":"11.06"},"C","11.06","Производство солода"]
[{"$f":"IF('Отрасли ОКВЭД'!$C454<>\"\",'Отрасли ОКВЭД'!$C454,'Отрасли ОКВЭД'!$B454)","v":"11.07"},"C","11.07","Производство безалкогольных напитков; производство минеральных вод и прочих питьевых вод в бутылках"]
[{"$f":"IF('Отрасли ОКВЭД'!$C455<>\"\",'Отрасли ОКВЭД'!$C455,'Отрасли ОКВЭД'!$B455)","v":"11.07.1"},"C","11.07.1","Производство минеральных вод"]
[{"$f":"IF('Отрасли ОКВЭД'!$C456<>\"\",'Отрасли ОКВЭД'!$C456,'Отрасли ОКВЭД'!$B456)","v":"11.07.2"},"C","11.07.2","Производство безалкогольных напитков ароматизированных и/или с добавлением сахара, кроме минеральных вод"]
[{"$f":"IF('Отрасли ОКВЭД'!$C457<>\"\",'Отрасли ОКВЭД'!$C457,'Отрасли ОКВЭД'!$B457)","v":"12"},"C","12","Производство табачных изделий"]
[{"$f":"IF('Отрасли ОКВЭД'!$C458<>\"\",'Отрасли ОКВЭД'!$C458,'Отрасли ОКВЭД'!$B458)","v":"12.0"},"C","12.0","Производство табачных изделий"]
[{"$f":"IF('Отрасли ОКВЭД'!$C459<>\"\",'Отрасли ОКВЭД'!$C459,'Отрасли ОКВЭД'!$B459)","v":"12.00"},"C","12.00","Производство табачных изделий"]
[{"$f":"IF('Отрасли ОКВЭД'!$C460<>\"\",'Отрасли ОКВЭД'!$C460,'Отрасли ОКВЭД'!$B460)","v":"12.00.1"},"C","12.00.1","Производство изделий из табака и махорки: сигарет, папирос, сигар, сигарилл, курительного тонкорезаного табака, трубочного табака, жевательного табака, сосательного табака, нюхательного табака, табака для кальяна, курительной и нюхательной махорки"]
[{"$f":"IF('Отрасли ОКВЭД'!$C461<>\"\",'Отрасли ОКВЭД'!$C461,'Отрасли ОКВЭД'!$B461)","v":"12.00.2"},"C","12.00.2","Производство гомогенизированного или восстановленного табака"]
[{"$f":"IF('Отрасли ОКВЭД'!$C462<>\"\",'Отрасли ОКВЭД'!$C462,'Отрасли ОКВЭД'!$B462)","v":"12.00.3"},"C","12.00.3","Стрипсование (удаление главной жилки) и редраинг-обработка табака"]
[{"$f":"IF('Отрасли ОКВЭД'!$C463<>\"\",'Отрасли ОКВЭД'!$C463,'Отрасли ОКВЭД'!$B463)","v":"13"},"C","13","Производство текстильных изделий"]
[{"$f":"IF('Отрасли ОКВЭД'!$C464<>\"\",'Отрасли ОКВЭД'!$C464,'Отрасли ОКВЭД'!$B464)","v":"13.1"},"C","13.1","Подготовка и прядение текстильных волокон"]
[{"$f":"IF('Отрасли ОКВЭД'!$C465<>\"\",'Отрасли ОКВЭД'!$C465,'Отрасли ОКВЭД'!$B465)","v":"13.10"},"C","13.10","Подготовка и прядение текстильных волокон"]
[{"$f":"IF('Отрасли ОКВЭД'!$C466<>\"\",'Отрасли ОКВЭД'!$C466,'Отрасли ОКВЭД'!$B466)","v":"13.10.1"},"C","13.10.1","Прядение хлопчатобумажных волокон"]
[{"$f":"IF('Отрасли ОКВЭД'!$C467<>\"\",'Отрасли ОКВЭД'!$C467,'Отрасли ОКВЭД'!$B467)","v":"13.10.2"},"C","13.10.2","Прядение кардное шерстяных волокон"]
[{"$f":"IF('Отрасли ОКВЭД'!$C468<>\"\",'Отрасли ОКВЭД'!$C468,'Отрасли ОКВЭД'!$B468)","v":"13.10.3"},"C","13.10.3","Прядение гребенное шерстяных волокон"]
[{"$f":"IF('Отрасли ОКВЭД'!$C469<>\"\",'Отрасли ОКВЭД'!$C469,'Отрасли ОКВЭД'!$B469)","v":"13.10.4"},"C","13.10.4","Прядение льняных волокон"]
[{"$f":"IF('Отрасли ОКВЭД'!$C470<>\"\",'Отрасли ОКВЭД'!$C470,'Отрасли ОКВЭД'!$B470)","v":"13.10.5"},"C","13.10.5","Изготовление натуральных шелковых, искусственных и синтетических волокон"]
[{"$f":"IF('Отрасли ОКВЭД'!$C471<>\"\",'Отрасли ОКВЭД'!$C471,'Отрасли ОКВЭД'!$B471)","v":"13.10.6"},"C","13.10.6","Производство швейных ниток"]
[{"$f":"IF('Отрасли ОКВЭД'!$C472<>\"\",'Отрасли ОКВЭД'!$C472,'Отрасли ОКВЭД'!$B472)","v":"13.10.9"},"C","13.10.9","Подготовка и прядение прочих текстильных волокон"]
[{"$f":"IF('Отрасли ОКВЭД'!$C473<>\"\",'Отрасли ОКВЭД'!$C473,'Отрасли ОКВЭД'!$B473)","v":"13.2"},"C","13.2","Производство текстильных тканей"]
[{"$f":"IF('Отрасли ОКВЭД'!$C474<>\"\",'Отрасли ОКВЭД'!$C474,'Отрасли ОКВЭД'!$B474)","v":"13.20"},"C","13.20","Производство текстильных тканей"]
[{"$f":"IF('Отрасли ОКВЭД'!$C475<>\"\",'Отрасли ОКВЭД'!$C475,'Отрасли ОКВЭД'!$B475)","v":"13.20.1"},"C","13.20.1","Производство тканей (без специальных тканей) из натуральных волокон, кроме хлопка"]
[{"$f":"IF('Отрасли ОКВЭД'!$C476<>\"\",'Отрасли ОКВЭД'!$C476,'Отрасли ОКВЭД'!$B476)","v":"13.20.11"},"C","13.20.11","Производство шелковых тканей"]
[{"$f":"IF('Отрасли ОКВЭД'!$C477<>\"\",'Отрасли ОКВЭД'!$C477,'Отрасли ОКВЭД'!$B477)","v":"13.20.12"},"C","13.20.12","Производство шерстяных тканей"]
[{"$f":"IF('Отрасли ОКВЭД'!$C478<>\"\",'Отрасли ОКВЭД'!$C478,'Отрасли ОКВЭД'!$B478)","v":"13.20.13"},"C","13.20.13","Производство льняных тканей"]
[{"$f":"IF('Отрасли ОКВЭД'!$C479<>\"\",'Отрасли ОКВЭД'!$C479,'Отрасли ОКВЭД'!$B479)","v":"13.20.14"},"C","13.20.14","Производство тканей из джутовых и прочих лубяных текстильных волокон"]
[{"$f":"IF('Отрасли ОКВЭД'!$C480<>\"\",'Отрасли ОКВЭД'!$C480,'Отрасли ОКВЭД'!$B480)","v":"13.20.19"},"C","13.20.19","Производство ткани из прочих растительных текстильных волокон; ткани из бумажной пряжи"]
[{"$f":"IF('Отрасли ОКВЭД'!$C481<>\"\",'Отрасли ОКВЭД'!$C481,'Отрасли ОКВЭД'!$B481)","v":"13.20.2"},"C","13.20.2","Производство хлопчатобумажных тканей"]
[{"$f":"IF('Отрасли ОКВЭД'!$C482<>\"\",'Отрасли ОКВЭД'!$C482,'Отрасли ОКВЭД'!$B482)","v":"13.20.3"},"C","13.20.3","Производство тканей, за исключением специальных тканей, из химических комплексных нитей и штапельных волокон"]
[{"$f":"IF('Отрасли ОКВЭД'!$C483<>\"\",'Отрасли ОКВЭД'!$C483,'Отрасли ОКВЭД'!$B483)","v":"13.20.4"},"C","13.20.4","Производство ворсовых, махровых полотенечных тканей и прочих специальных тканей"]
[{"$f":"IF('Отрасли ОКВЭД'!$C484<>\"\",'Отрасли ОКВЭД'!$C484,'Отрасли ОКВЭД'!$B484)","v":"13.20.41"},"C","13.20.41","Производство ворсовых тканей и ткани из синели"]
[{"$f":"IF('Отрасли ОКВЭД'!$C485<>\"\",'Отрасли ОКВЭД'!$C485,'Отрасли ОКВЭД'!$B485)","v":"13.20.42"},"C","13.20.42","Производство хлопчатобумажных махровых полотенечных тканей"]
[{"$f":"IF('Отрасли ОКВЭД'!$C486<>\"\",'Отрасли ОКВЭД'!$C486,'Отрасли ОКВЭД'!$B486)","v":"13.20.43"},"C","13.20.43","Производство прочих махровых полотенечных и аналогичных махровых тканей"]
[{"$f":"IF('Отрасли ОКВЭД'!$C487<>\"\",'Отрасли ОКВЭД'!$C487,'Отрасли ОКВЭД'!$B487)","v":"13.20.44"},"C","13.20.44","Производство марли"]
[{"$f":"IF('Отрасли ОКВЭД'!$C488<>\"\",'Отрасли ОКВЭД'!$C488,'Отрасли ОКВЭД'!$B488)","v":"13.20.45"},"C","13.20.45","Производство ворсовых тканей"]
[{"$f":"IF('Отрасли ОКВЭД'!$C489<>\"\",'Отрасли ОКВЭД'!$C489,'Отрасли ОКВЭД'!$B489)","v":"13.20.46"},"C","13.20.46","Производство тканей из стекловолокна"]
[{"$f":"IF('Отрасли ОКВЭД'!$C490<>\"\",'Отрасли ОКВЭД'!$C490,'Отрасли ОКВЭД'!$B490)","v":"13.20.5"},"C","13.20.5","Производство искусственного меха ткацким способом"]
[{"$f":"IF('Отрасли ОКВЭД'!$C491<>\"\",'Отрасли ОКВЭД'!$C491,'Отрасли ОКВЭД'!$B491)","v":"13.20.6"},"C","13.20.6","Производство арамидных нитей и волокна"]
[{"$f":"IF('Отрасли ОКВЭД'!$C492<>\"\",'Отрасли ОКВЭД'!$C492,'Отрасли ОКВЭД'!$B492)","v":"13.3"},"C","13.3","Отделка тканей и текстильных изделий"]
[{"$f":"IF('Отрасли ОКВЭД'!$C493<>\"\",'Отрасли ОКВЭД'!$C493,'Отрасли ОКВЭД'!$B493)","v":"13.30"},"C","13.30","Отделка тканей и текстильных изделий"]
[{"$f":"IF('Отрасли ОКВЭД'!$C494<>\"\",'Отрасли ОКВЭД'!$C494,'Отрасли ОКВЭД'!$B494)","v":"13.30.1"},"C","13.30.1","Отбеливание и окрашивание текстиля, волокон, тканей и текстильных изделий, включая готовую одежду"]
[{"$f":"IF('Отрасли ОКВЭД'!$C495<>\"\",'Отрасли ОКВЭД'!$C495,'Отрасли ОКВЭД'!$B495)","v":"13.30.2"},"C","13.30.2","Аппретирование, сушка, обработка паром, декатировка, противоусадочная отделка, смягчение тканей и текстильных изделий, включая готовую одежду"]
[{"$f":"IF('Отрасли ОКВЭД'!$C496<>\"\",'Отрасли ОКВЭД'!$C496,'Отрасли ОКВЭД'!$B496)","v":"13.30.3"},"C","13.30.3","Плиссировка и подобные работы на текстильных материалах"]
[{"$f":"IF('Отрасли ОКВЭД'!$C497<>\"\",'Отрасли ОКВЭД'!$C497,'Отрасли ОКВЭД'!$B497)","v":"13.30.4"},"C","13.30.4","Нанесение водозащитного слоя, специальных покрытий, прорезинивание, пропитка приобретенной одежды"]
[{"$f":"IF('Отрасли ОКВЭД'!$C498<>\"\",'Отрасли ОКВЭД'!$C498,'Отрасли ОКВЭД'!$B498)","v":"13.30.5"},"C","13.30.5","Нанесение рисунка на текстильные изделия и готовую одежду"]
[{"$f":"IF('Отрасли ОКВЭД'!$C499<>\"\",'Отрасли ОКВЭД'!$C499,'Отрасли ОКВЭД'!$B499)","v":"13.9"},"C","13.9","Производство прочих текстильных изделий"]
[{"$f":"IF('Отрасли ОКВЭД'!$C500<>\"\",'Отрасли ОКВЭД'!$C500,'Отрасли ОКВЭД'!$B500)","v":"13.91"},"C","13.91","Производство трикотажного и вязаного полотна"]
[{"$f":"IF('Отрасли ОКВЭД'!$C501<>\"\",'Отрасли ОКВЭД'!$C501,'Отрасли ОКВЭД'!$B501)","v":"13.91.1"},"C","13.91.1","Производство и обработка трикотажного или вязаного полотна"]
[{"$f":"IF('Отрасли ОКВЭД'!$C502<>\"\",'Отрасли ОКВЭД'!$C502,'Отрасли ОКВЭД'!$B502)","v":"13.91.2"},"C","13.91.2","Производство искусственного меха методом вязания"]
[{"$f":"IF('Отрасли ОКВЭД'!$C503<>\"\",'Отрасли ОКВЭД'!$C503,'Отрасли ОКВЭД'!$B503)","v":"13.92"},"C","13.92","Производство готовых текстильных изделий, кроме одежды"]
[{"$f":"IF('Отрасли ОКВЭД'!$C504<>\"\",'Отрасли ОКВЭД'!$C504,'Отрасли ОКВЭД'!$B504)","v":"13.92.1"},"C","13.92.1","Производство готовых текстильных изделий, кроме одежды"]
[{"$f":"IF('Отрасли ОКВЭД'!$C505<>\"\",'Отрасли ОКВЭД'!$C505,'Отрасли ОКВЭД'!$B505)","v":"13.92.2"},"C","13.92.2","Пошив готовых текстильных изделий по индивидуальному заказу населения, кроме одежды"]
[{"$f":"IF('Отрасли ОКВЭД'!$C506<>\"\",'Отрасли ОКВЭД'!$C506,'Отрасли ОКВЭД'!$B506)","v":"13.93"},"C","13.93","Производство ковров и ковровых изделий"]
[{"$f":"IF('Отрасли ОКВЭД'!$C507<>\"\",'Отрасли ОКВЭД'!$C507,'Отрасли ОКВЭД'!$B507)","v":"13.94"},"C","13.94","Производство канатов, веревок, шпагата и сетей"]
[{"$f":"IF('Отрасли ОКВЭД'!$C508<>\"\",'Отрасли ОКВЭД'!$C508,'Отрасли ОКВЭД'!$B508)","v":"13.94.1"},"C","13.94.1","Производство шпагата, канатов, веревок и тросов из текстильных волокон и лент, с пропиткой и без пропитки, с покрытием, защищенных или не защищенных оболочкой из резины или пластмассы"]
[{"$f":"IF('Отрасли ОКВЭД'!$C509<>\"\",'Отрасли ОКВЭД'!$C509,'Отрасли ОКВЭД'!$B509)","v":"13.94.2"},"C","13.94.2","Производство изделий из веревки и сетного полотна: рыболовных сетей, предохранительных сеток на судах, защитных средств, используемых при погрузочно-разгрузочных работах, стропов, веревок или тросов с металлическими кольцами"]
[{"$f":"IF('Отрасли ОКВЭД'!$C510<>\"\",'Отрасли ОКВЭД'!$C510,'Отрасли ОКВЭД'!$B510)","v":"13.95"},"C","13.95","Производство нетканых текстильных материалов и изделий из них, кроме одежды"]
[{"$f":"IF('Отрасли ОКВЭД'!$C511<>\"\",'Отрасли ОКВЭД'!$C511,'Отрасли ОКВЭД'!$B511)","v":"13.96"},"C","13.96","Производство прочих технических и промышленных текстильных изделий"]
[{"$f":"IF('Отрасли ОКВЭД'!$C512<>\"\",'Отрасли ОКВЭД'!$C512,'Отрасли ОКВЭД'!$B512)","v":"13.96.1"},"C","13.96.1","Производство металлизированной пряжи или металлизированной позументной тесьмы"]
[{"$f":"IF('Отрасли ОКВЭД'!$C513<>\"\",'Отрасли ОКВЭД'!$C513,'Отрасли ОКВЭД'!$B513)","v":"13.96.2"},"C","13.96.2","Производство ткани из металлической нити и ткани из металлизированной пряжи"]
[{"$f":"IF('Отрасли ОКВЭД'!$C514<>\"\",'Отрасли ОКВЭД'!$C514,'Отрасли ОКВЭД'!$B514)","v":"13.96.3"},"C","13.96.3","Производство резиновых нитей и шнуров с текстильным покрытием; производство текстильных нитей и лент, пропитанных или с пластмассовым или резиновым покрытием"]
[{"$f":"IF('Отрасли ОКВЭД'!$C515<>\"\",'Отрасли ОКВЭД'!$C515,'Отрасли ОКВЭД'!$B515)","v":"13.96.4"},"C","13.96.4","Производство текстильных материалов, пропитанных или с покрытием"]
[{"$f":"IF('Отрасли ОКВЭД'!$C516<>\"\",'Отрасли ОКВЭД'!$C516,'Отрасли ОКВЭД'!$B516)","v":"13.96.5"},"C","13.96.5","Производство кордных тканей"]
[{"$f":"IF('Отрасли ОКВЭД'!$C517<>\"\",'Отрасли ОКВЭД'!$C517,'Отрасли ОКВЭД'!$B517)","v":"13.96.6"},"C","13.96.6","Производство текстильных материалов и изделий технического назначения (включая фитили, калильные сетки газовых фонарей, текстильные шланги, конвейерные ленты и приводные ремни, ситовые ткани и фильтровальные ткани)"]
[{"$f":"IF('Отрасли ОКВЭД'!$C518<>\"\",'Отрасли ОКВЭД'!$C518,'Отрасли ОКВЭД'!$B518)","v":"13.96.7"},"C","13.96.7","Производство узких текстильных тканей, в том числе состоящих из основы безуточного переплетения и соединяемых клеящим веществом"]
[{"$f":"IF('Отрасли ОКВЭД'!$C519<>\"\",'Отрасли ОКВЭД'!$C519,'Отрасли ОКВЭД'!$B519)","v":"13.99"},"C","13.99","Производство прочих текстильных изделий, не включенных в другие группировки"]
[{"$f":"IF('Отрасли ОКВЭД'!$C520<>\"\",'Отрасли ОКВЭД'!$C520,'Отрасли ОКВЭД'!$B520)","v":"13.99.1"},"C","13.99.1","Производство кружевного сетчатого и гардинно-тюлевого полотна, а также кружев и вышитых изделий, в кусках, в форме полос или отдельных вышивок"]
[{"$f":"IF('Отрасли ОКВЭД'!$C521<>\"\",'Отрасли ОКВЭД'!$C521,'Отрасли ОКВЭД'!$B521)","v":"13.99.2"},"C","13.99.2","Производство фетра и войлока"]
[{"$f":"IF('Отрасли ОКВЭД'!$C522<>\"\",'Отрасли ОКВЭД'!$C522,'Отрасли ОКВЭД'!$B522)","v":"13.99.3"},"C","13.99.3","Производство ваты из текстильных материалов"]
[{"$f":"IF('Отрасли ОКВЭД'!$C523<>\"\",'Отрасли ОКВЭД'!$C523,'Отрасли ОКВЭД'!$B523)","v":"13.99.4"},"C","13.99.4","Изготовление прочих текстильных изделий по индивидуальному заказу населения, не включенных в другие группировки"]
[{"$f":"IF('Отрасли ОКВЭД'!$C524<>\"\",'Отрасли ОКВЭД'!$C524,'Отрасли ОКВЭД'!$B524)","v":"13.99.9"},"C","13.99.9","Производство текстильных изделий различного назначения, не включенных в другие группировки"]
[{"$f":"IF('Отрасли ОКВЭД'!$C525<>\"\",'Отрасли ОКВЭД'!$C525,'Отрасли ОКВЭД'!$B525)","v":"14"},"C","14","Производство одежды"]
[{"$f":"IF('Отрасли ОКВЭД'!$C526<>\"\",'Отрасли ОКВЭД'!$C526,'Отрасли ОКВЭД'!$B526)","v":"14.1"},"C","14.1","Производство одежды, кроме одежды из меха"]
[{"$f":"IF('Отрасли ОКВЭД'!$C527<>\"\",'Отрасли ОКВЭД'!$C527,'Отрасли ОКВЭД'!$B527)","v":"14.11"},"C","14.11","Производство одежды из кожи"]
[{"$f":"IF('Отрасли ОКВЭД'!$C528<>\"\",'Отрасли ОКВЭД'!$C528,'Отрасли ОКВЭД'!$B528)","v":"14.11.1"},"C","14.11.1","Производство одежды из кожи, кроме изготовленных по индивидуальному заказу"]
[{"$f":"IF('Отрасли ОКВЭД'!$C529<>\"\",'Отрасли ОКВЭД'!$C529,'Отрасли ОКВЭД'!$B529)","v":"14.11.2"},"C","14.11.2","Пошив одежды из кожи по индивидуальному заказу населения"]
[{"$f":"IF('Отрасли ОКВЭД'!$C530<>\"\",'Отрасли ОКВЭД'!$C530,'Отрасли ОКВЭД'!$B530)","v":"14.12"},"C","14.12","Производство спецодежды"]
[{"$f":"IF('Отрасли ОКВЭД'!$C531<>\"\",'Отрасли ОКВЭД'!$C531,'Отрасли ОКВЭД'!$B531)","v":"14.12.1"},"C","14.12.1","Производство спецодежды, кроме изготовленных по индивидуальному заказу"]
[{"$f":"IF('Отрасли ОКВЭД'!$C532<>\"\",'Отрасли ОКВЭД'!$C532,'Отрасли ОКВЭД'!$B532)","v":"14.12.2"},"C","14.12.2","Пошив производственной одежды по индивидуальному заказу населения"]
[{"$f":"IF('Отрасли ОКВЭД'!$C533<>\"\",'Отрасли ОКВЭД'!$C533,'Отрасли ОКВЭД'!$B533)","v":"14.13"},"C","14.13","Производство прочей верхней одежды"]
[{"$f":"IF('Отрасли ОКВЭД'!$C534<>\"\",'Отрасли ОКВЭД'!$C534,'Отрасли ОКВЭД'!$B534)","v":"14.13.1"},"C","14.13.1","Производство верхней трикотажной или вязаной одежды"]
[{"$f":"IF('Отрасли ОКВЭД'!$C535<>\"\",'Отрасли ОКВЭД'!$C535,'Отрасли ОКВЭД'!$B535)","v":"14.13.11"},"C","14.13.11","Производство верхней трикотажной или вязаной одежды для мужчин или мальчиков"]
[{"$f":"IF('Отрасли ОКВЭД'!$C536<>\"\",'Отрасли ОКВЭД'!$C536,'Отрасли ОКВЭД'!$B536)","v":"14.13.12"},"C","14.13.12","Производство верхней трикотажной или вязаной одежды для женщин или девочек"]
[{"$f":"IF('Отрасли ОКВЭД'!$C537<>\"\",'Отрасли ОКВЭД'!$C537,'Отрасли ОКВЭД'!$B537)","v":"14.13.2"},"C","14.13.2","Производство верхней одежды из текстильных материалов, кроме трикотажных или вязаных"]
[{"$f":"IF('Отрасли ОКВЭД'!$C538<>\"\",'Отрасли ОКВЭД'!$C538,'Отрасли ОКВЭД'!$B538)","v":"14.13.21"},"C","14.13.21","Производство верхней одежды из текстильных материалов, кроме трикотажных или вязаных, для мужчин или мальчиков"]
[{"$f":"IF('Отрасли ОКВЭД'!$C539<>\"\",'Отрасли ОКВЭД'!$C539,'Отрасли ОКВЭД'!$B539)","v":"14.13.22"},"C","14.13.22","Производство верхней одежды из текстильных материалов, кроме трикотажных или вязаных, для женщин или девочек"]
[{"$f":"IF('Отрасли ОКВЭД'!$C540<>\"\",'Отрасли ОКВЭД'!$C540,'Отрасли ОКВЭД'!$B540)","v":"14.13.3"},"C","14.13.3","Пошив и вязание прочей верхней одежды по индивидуальному заказу населения"]
[{"$f":"IF('Отрасли ОКВЭД'!$C541<>\"\",'Отрасли ОКВЭД'!$C541,'Отрасли ОКВЭД'!$B541)","v":"14.14"},"C","14.14","Производство нательного белья"]
[{"$f":"IF('Отрасли ОКВЭД'!$C542<>\"\",'Отрасли ОКВЭД'!$C542,'Отрасли ОКВЭД'!$B542)","v":"14.14.1"},"C","14.14.1","Производство трикотажного и вязаного нательного белья"]
[{"$f":"IF('Отрасли ОКВЭД'!$C543<>\"\",'Отрасли ОКВЭД'!$C543,'Отрасли ОКВЭД'!$B543)","v":"14.14.11"},"C","14.14.11","Производство трикотажных или вязаных рубашек для мужчин или для мальчиков"]
[{"$f":"IF('Отрасли ОКВЭД'!$C544<>\"\",'Отрасли ОКВЭД'!$C544,'Отрасли ОКВЭД'!$B544)","v":"14.14.12"},"C","14.14.12","Производство маек и прочего трикотажного или вязаного нательного белья для мужчин или мальчиков"]
[{"$f":"IF('Отрасли ОКВЭД'!$C545<>\"\",'Отрасли ОКВЭД'!$C545,'Отрасли ОКВЭД'!$B545)","v":"14.14.13"},"C","14.14.13","Производство трикотажных или вязаных блузок, рубашек и батников для женщин или для девочек"]
[{"$f":"IF('Отрасли ОКВЭД'!$C546<>\"\",'Отрасли ОКВЭД'!$C546,'Отрасли ОКВЭД'!$B546)","v":"14.14.14"},"C","14.14.14","Производство маек и прочего трикотажного или вязаного нательного белья для женщин или для девочек"]
[{"$f":"IF('Отрасли ОКВЭД'!$C547<>\"\",'Отрасли ОКВЭД'!$C547,'Отрасли ОКВЭД'!$B547)","v":"14.14.2"},"C","14.14.2","Производство нательного белья из тканей"]
[{"$f":"IF('Отрасли ОКВЭД'!$C548<>\"\",'Отрасли ОКВЭД'!$C548,'Отрасли ОКВЭД'!$B548)","v":"14.14.21"},"C","14.14.21","Производство рубашек из текстильных материалов, кроме трикотажных или вязаных, для мужчин или для мальчиков"]
[{"$f":"IF('Отрасли ОКВЭД'!$C549<>\"\",'Отрасли ОКВЭД'!$C549,'Отрасли ОКВЭД'!$B549)","v":"14.14.22"},"C","14.14.22","Производство маек и прочего нательного белья из текстильных материалов, кроме трикотажных или вязаных, для мужчин или для мальчиков"]
[{"$f":"IF('Отрасли ОКВЭД'!$C550<>\"\",'Отрасли ОКВЭД'!$C550,'Отрасли ОКВЭД'!$B550)","v":"14.14.23"},"C","14.14.23","Производство блузок, рубашек и батников из текстильных материалов, кроме трикотажных или вязаных, для женщин или для девочек"]
[{"$f":"IF('Отрасли ОКВЭД'!$C551<>\"\",'Отрасли ОКВЭД'!$C551,'Отрасли ОКВЭД'!$B551)","v":"14.14.24"},"C","14.14.24","Производство маек и прочего нательного белья из текстильных материалов, кроме трикотажных или вязаных, для женщин или для девочек"]
[{"$f":"IF('Отрасли ОКВЭД'!$C552<>\"\",'Отрасли ОКВЭД'!$C552,'Отрасли ОКВЭД'!$B552)","v":"14.14.25"},"C","14.14.25","Производство бюстгальтеров, поясов, корсетов и аналогичных изделий, и их частей из любого текстильного материала, включая трикотажные или вязаные"]
[{"$f":"IF('Отрасли ОКВЭД'!$C553<>\"\",'Отрасли ОКВЭД'!$C553,'Отрасли ОКВЭД'!$B553)","v":"14.14.3"},"C","14.14.3","Производство трикотажных или вязаных футболок, маек и прочих нижних рубашек"]
[{"$f":"IF('Отрасли ОКВЭД'!$C554<>\"\",'Отрасли ОКВЭД'!$C554,'Отрасли ОКВЭД'!$B554)","v":"14.14.4"},"C","14.14.4","Пошив нательного белья по индивидуальному заказу населения"]
[{"$f":"IF('Отрасли ОКВЭД'!$C555<>\"\",'Отрасли ОКВЭД'!$C555,'Отрасли ОКВЭД'!$B555)","v":"14.19"},"C","14.19","Производство прочей одежды и аксессуаров одежды"]
[{"$f":"IF('Отрасли ОКВЭД'!$C556<>\"\",'Отрасли ОКВЭД'!$C556,'Отрасли ОКВЭД'!$B556)","v":"14.19.1"},"C","14.19.1","Производство трикотажной или вязаной одежды для детей младшего возраста, спортивной или прочей одежды, аксессуаров и деталей одежды"]
[{"$f":"IF('Отрасли ОКВЭД'!$C557<>\"\",'Отрасли ОКВЭД'!$C557,'Отрасли ОКВЭД'!$B557)","v":"14.19.11"},"C","14.19.11","Производство трикотажных или вязаных одежды и аксессуаров одежды для детей младшего возраста"]
[{"$f":"IF('Отрасли ОКВЭД'!$C558<>\"\",'Отрасли ОКВЭД'!$C558,'Отрасли ОКВЭД'!$B558)","v":"14.19.12"},"C","14.19.12","Производство спортивных костюмов, лыжных костюмов, купальных костюмов и прочей трикотажной или вязаной одежды"]
[{"$f":"IF('Отрасли ОКВЭД'!$C559<>\"\",'Отрасли ОКВЭД'!$C559,'Отрасли ОКВЭД'!$B559)","v":"14.19.13"},"C","14.19.13","Производство трикотажных или вязаных перчаток, рукавиц (варежек) и митенок"]
[{"$f":"IF('Отрасли ОКВЭД'!$C560<>\"\",'Отрасли ОКВЭД'!$C560,'Отрасли ОКВЭД'!$B560)","v":"14.19.19"},"C","14.19.19","Производство прочих трикотажных или вязаных аксессуаров одежды, в том числе платков, шарфов, галстуков и прочих аналогичных изделий"]
[{"$f":"IF('Отрасли ОКВЭД'!$C561<>\"\",'Отрасли ОКВЭД'!$C561,'Отрасли ОКВЭД'!$B561)","v":"14.19.2"},"C","14.19.2","Производство одежды для детей младшего возраста, спортивной или прочей одежды и аксессуаров одежды из текстильных материалов, кроме трикотажных или вязаных"]
[{"$f":"IF('Отрасли ОКВЭД'!$C562<>\"\",'Отрасли ОКВЭД'!$C562,'Отрасли ОКВЭД'!$B562)","v":"14.19.21"},"C","14.19.21","Производство одежды и аксессуаров одежды для детей младшего возраста из текстильных материалов, кроме трикотажных или вязаных"]
[{"$f":"IF('Отрасли ОКВЭД'!$C563<>\"\",'Отрасли ОКВЭД'!$C563,'Отрасли ОКВЭД'!$B563)","v":"14.19.22"},"C","14.19.22","Производство спортивных костюмов, лыжных костюмов, купальных костюмов и прочей одежды из текстильных материалов, кроме трикотажных или вязаных"]
[{"$f":"IF('Отрасли ОКВЭД'!$C564<>\"\",'Отрасли ОКВЭД'!$C564,'Отрасли ОКВЭД'!$B564)","v":"14.19.23"},"C","14.19.23","Производство аксессуаров одежды, в том числе платков, шарфов, галстуков, перчаток и прочих аналогичных изделий из текстильных материалов, кроме трикотажных или вязаных"]
[{"$f":"IF('Отрасли ОКВЭД'!$C565<>\"\",'Отрасли ОКВЭД'!$C565,'Отрасли ОКВЭД'!$B565)","v":"14.19.3"},"C","14.19.3","Производство аксессуаров одежды из кожи; производство одежды из фетра или нетканых материалов; производство одежды из текстильных материалов с покрытием"]
[{"$f":"IF('Отрасли ОКВЭД'!$C566<>\"\",'Отрасли ОКВЭД'!$C566,'Отрасли ОКВЭД'!$B566)","v":"14.19.31"},"C","14.19.31","Производство аксессуаров одежды из натуральной или композиционной кожи"]
[{"$f":"IF('Отрасли ОКВЭД'!$C567<>\"\",'Отрасли ОКВЭД'!$C567,'Отрасли ОКВЭД'!$B567)","v":"14.19.32"},"C","14.19.32","Производство одежды из фетра, нетканых материалов, из текстильных материалов с пропиткой или покрытием"]
[{"$f":"IF('Отрасли ОКВЭД'!$C568<>\"\",'Отрасли ОКВЭД'!$C568,'Отрасли ОКВЭД'!$B568)","v":"14.19.4"},"C","14.19.4","Производство головных уборов"]
[{"$f":"IF('Отрасли ОКВЭД'!$C569<>\"\",'Отрасли ОКВЭД'!$C569,'Отрасли ОКВЭД'!$B569)","v":"14.19.5"},"C","14.19.5","Пошив и вязание прочей одежды и аксессуаров одежды, головных уборов по индивидуальному заказу населения"]
[{"$f":"IF('Отрасли ОКВЭД'!$C570<>\"\",'Отрасли ОКВЭД'!$C570,'Отрасли ОКВЭД'!$B570)","v":"14.2"},"C","14.2","Производство меховых изделий"]
[{"$f":"IF('Отрасли ОКВЭД'!$C571<>\"\",'Отрасли ОКВЭД'!$C571,'Отрасли ОКВЭД'!$B571)","v":"14.20"},"C","14.20","Производство меховых изделий"]
[{"$f":"IF('Отрасли ОКВЭД'!$C572<>\"\",'Отрасли ОКВЭД'!$C572,'Отрасли ОКВЭД'!$B572)","v":"14.20.1"},"C","14.20.1","Производство меховых изделий, кроме изготовленных по индивидуальному заказу"]
[{"$f":"IF('Отрасли ОКВЭД'!$C573<>\"\",'Отрасли ОКВЭД'!$C573,'Отрасли ОКВЭД'!$B573)","v":"14.20.2"},"C","14.20.2","Пошив меховых изделий по индивидуальному заказу населения"]
[{"$f":"IF('Отрасли ОКВЭД'!$C574<>\"\",'Отрасли ОКВЭД'!$C574,'Отрасли ОКВЭД'!$B574)","v":"14.3"},"C","14.3","Производство вязаных и трикотажных изделий одежды"]
[{"$f":"IF('Отрасли ОКВЭД'!$C575<>\"\",'Отрасли ОКВЭД'!$C575,'Отрасли ОКВЭД'!$B575)","v":"14.31"},"C","14.31","Производство вязаных и трикотажных чулочно-носочных изделий"]
[{"$f":"IF('Отрасли ОКВЭД'!$C576<>\"\",'Отрасли ОКВЭД'!$C576,'Отрасли ОКВЭД'!$B576)","v":"14.31.1"},"C","14.31.1","Производство вязаных и трикотажных чулочно- носочных изделий, кроме изготовленных по индивидуальному заказу"]
[{"$f":"IF('Отрасли ОКВЭД'!$C577<>\"\",'Отрасли ОКВЭД'!$C577,'Отрасли ОКВЭД'!$B577)","v":"14.31.2"},"C","14.31.2","Изготовление вязаных и трикотажных чулочно- носочных изделий по индивидуальному заказу населения"]
[{"$f":"IF('Отрасли ОКВЭД'!$C578<>\"\",'Отрасли ОКВЭД'!$C578,'Отрасли ОКВЭД'!$B578)","v":"14.39"},"C","14.39","Производство прочих вязаных и трикотажных изделий"]
[{"$f":"IF('Отрасли ОКВЭД'!$C579<>\"\",'Отрасли ОКВЭД'!$C579,'Отрасли ОКВЭД'!$B579)","v":"14.39.1"},"C","14.39.1","Производство прочих вязаных и трикотажных изделий, не включенных в другие группировки"]
[{"$f":"IF('Отрасли ОКВЭД'!$C580<>\"\",'Отрасли ОКВЭД'!$C580,'Отрасли ОКВЭД'!$B580)","v":"14.39.2"},"C","14.39.2","Изготовление прочих вязаных и трикотажных изделий не включенных в другие группировки по индивидуальному заказу населения"]
[{"$f":"IF('Отрасли ОКВЭД'!$C581<>\"\",'Отрасли ОКВЭД'!$C581,'Отрасли ОКВЭД'!$B581)","v":"15"},"C","15","Производство кожи и изделий из кожи"]
[{"$f":"IF('Отрасли ОКВЭД'!$C582<>\"\",'Отрасли ОКВЭД'!$C582,'Отрасли ОКВЭД'!$B582)","v":"15.1"},"C","15.1","Дубление и отделка кожи, производство чемоданов, сумок, шорно-седельных изделий из кожи; выделка и крашение меха"]
[{"$f":"IF('Отрасли ОКВЭД'!$C583<>\"\",'Отрасли ОКВЭД'!$C583,'Отрасли ОКВЭД'!$B583)","v":"15.11"},"C","15.11","Дубление и выделка кожи, выделка и крашение меха"]
[{"$f":"IF('Отрасли ОКВЭД'!$C584<>\"\",'Отрасли ОКВЭД'!$C584,'Отрасли ОКВЭД'!$B584)","v":"15.11.1"},"C","15.11.1","Выделка и крашение меха"]
[{"$f":"IF('Отрасли ОКВЭД'!$C585<>\"\",'Отрасли ОКВЭД'!$C585,'Отрасли ОКВЭД'!$B585)","v":"15.11.2"},"C","15.11.2","Производство замши, пергаментной кожи, лакированной и металлизированной кожи"]
[{"$f":"IF('Отрасли ОКВЭД'!$C586<>\"\",'Отрасли ОКВЭД'!$C586,'Отрасли ОКВЭД'!$B586)","v":"15.11.3"},"C","15.11.3","Дубление, выделка и крашение кожи из шкур крупного рогатого скота или животных семейства лошадиных"]
[{"$f":"IF('Отрасли ОКВЭД'!$C587<>\"\",'Отрасли ОКВЭД'!$C587,'Отрасли ОКВЭД'!$B587)","v":"15.11.4"},"C","15.11.4","Дубление, выделка и крашение кожи из шкур овец, коз и свиней"]
[{"$f":"IF('Отрасли ОКВЭД'!$C588<>\"\",'Отрасли ОКВЭД'!$C588,'Отрасли ОКВЭД'!$B588)","v":"15.11.5"},"C","15.11.5","Дубление, выделка и крашение кожи из шкур прочих животных, производство композиционной кожи"]
[{"$f":"IF('Отрасли ОКВЭД'!$C589<>\"\",'Отрасли ОКВЭД'!$C589,'Отрасли ОКВЭД'!$B589)","v":"15.11.51"},"C","15.11.51","Дубление, выделка и крашение кожи из шкур прочих животных"]
[{"$f":"IF('Отрасли ОКВЭД'!$C590<>\"\",'Отрасли ОКВЭД'!$C590,'Отрасли ОКВЭД'!$B590)","v":"15.11.52"},"C","15.11.52","Производство композиционной кожи"]
[{"$f":"IF('Отрасли ОКВЭД'!$C591<>\"\",'Отрасли ОКВЭД'!$C591,'Отрасли ОКВЭД'!$B591)","v":"15.12"},"C","15.12","Производство чемоданов, дамских сумок и аналогичных изделий из кожи и других материалов; производство шорно-седельных и других изделий из кожи"]
[{"$f":"IF('Отрасли ОКВЭД'!$C592<>\"\",'Отрасли ОКВЭД'!$C592,'Отрасли ОКВЭД'!$B592)","v":"15.2"},"C","15.2","Производство обуви"]
[{"$f":"IF('Отрасли ОКВЭД'!$C593<>\"\",'Отрасли ОКВЭД'!$C593,'Отрасли ОКВЭД'!$B593)","v":"15.20"},"C","15.20","Производство обуви"]
[{"$f":"IF('Отрасли ОКВЭД'!$C594<>\"\",'Отрасли ОКВЭД'!$C594,'Отрасли ОКВЭД'!$B594)","v":"15.20.1"},"C","15.20.1","Производство обуви, кроме спортивной, защитной и ортопедической"]
[{"$f":"IF('Отрасли ОКВЭД'!$C595<>\"\",'Отрасли ОКВЭД'!$C595,'Отрасли ОКВЭД'!$B595)","v":"15.20.11"},"C","15.20.11","Производство водонепроницаемой обуви с верхом из резины или пластмассы"]
[{"$f":"IF('Отрасли ОКВЭД'!$C596<>\"\",'Отрасли ОКВЭД'!$C596,'Отрасли ОКВЭД'!$B596)","v":"15.20.12"},"C","15.20.12","Производство обуви с верхом из резины и пластмассы, кроме водопроницаемой"]
[{"$f":"IF('Отрасли ОКВЭД'!$C597<>\"\",'Отрасли ОКВЭД'!$C597,'Отрасли ОКВЭД'!$B597)","v":"15.20.13"},"C","15.20.13","Производство обуви с верхом из кожи, кроме спортивной обуви, обуви с защитным металлическим подноском и различной специальной обуви"]
[{"$f":"IF('Отрасли ОКВЭД'!$C598<>\"\",'Отрасли ОКВЭД'!$C598,'Отрасли ОКВЭД'!$B598)","v":"15.20.14"},"C","15.20.14","Производство обуви с верхом из текстильных материалов, кроме спортивной обуви"]
[{"$f":"IF('Отрасли ОКВЭД'!$C599<>\"\",'Отрасли ОКВЭД'!$C599,'Отрасли ОКВЭД'!$B599)","v":"15.20.2"},"C","15.20.2","Производство спортивной обуви"]
[{"$f":"IF('Отрасли ОКВЭД'!$C600<>\"\",'Отрасли ОКВЭД'!$C600,'Отрасли ОКВЭД'!$B600)","v":"15.20.3"},"C","15.20.3","Производство защитной обуви"]
[{"$f":"IF('Отрасли ОКВЭД'!$C601<>\"\",'Отрасли ОКВЭД'!$C601,'Отрасли ОКВЭД'!$B601)","v":"15.20.31"},"C","15.20.31","Производство обуви с защитным металлическим подноском"]
[{"$f":"IF('Отрасли ОКВЭД'!$C602<>\"\",'Отрасли ОКВЭД'!$C602,'Отрасли ОКВЭД'!$B602)","v":"15.20.32"},"C","15.20.32","Производство деревянной и различной специальной обуви"]
[{"$f":"IF('Отрасли ОКВЭД'!$C603<>\"\",'Отрасли ОКВЭД'!$C603,'Отрасли ОКВЭД'!$B603)","v":"15.20.4"},"C","15.20.4","Производство деталей обуви из кожи; вкладных стелек, подпяточников и аналогичных изделий; производство гетр, гамашей и аналогичных изделий"]
[{"$f":"IF('Отрасли ОКВЭД'!$C604<>\"\",'Отрасли ОКВЭД'!$C604,'Отрасли ОКВЭД'!$B604)","v":"15.20.41"},"C","15.20.41","Производство деталей обуви из кожи; вкладных стелек, подпяточников и аналогичных изделий"]
[{"$f":"IF('Отрасли ОКВЭД'!$C605<>\"\",'Отрасли ОКВЭД'!$C605,'Отрасли ОКВЭД'!$B605)","v":"15.20.42"},"C","15.20.42","Производство гетр, гамашей и аналогичных изделий"]
[{"$f":"IF('Отрасли ОКВЭД'!$C606<>\"\",'Отрасли ОКВЭД'!$C606,'Отрасли ОКВЭД'!$B606)","v":"15.20.5"},"C","15.20.5","Пошив обуви и различных дополнений к обуви по индивидуальному заказу населения"]
[{"$f":"IF('Отрасли ОКВЭД'!$C607<>\"\",'Отрасли ОКВЭД'!$C607,'Отрасли ОКВЭД'!$B607)","v":"16"},"C","16","Обработка древесины и производство изделий из дерева и пробки, кроме мебели, производство изделий из соломки и материалов для плетения"]
[{"$f":"IF('Отрасли ОКВЭД'!$C608<>\"\",'Отрасли ОКВЭД'!$C608,'Отрасли ОКВЭД'!$B608)","v":"16.1"},"C","16.1","Распиловка и строгание древесины"]
[{"$f":"IF('Отрасли ОКВЭД'!$C609<>\"\",'Отрасли ОКВЭД'!$C609,'Отрасли ОКВЭД'!$B609)","v":"16.10"},"C","16.10","Распиловка и строгание древесины"]
[{"$f":"IF('Отрасли ОКВЭД'!$C610<>\"\",'Отрасли ОКВЭД'!$C610,'Отрасли ОКВЭД'!$B610)","v":"16.10.1"},"C","16.10.1","Производство пиломатериалов, кроме профилированных, толщиной более 6 мм; производство непропитанных железнодорожных и трамвайных шпал из древесины"]
[{"$f":"IF('Отрасли ОКВЭД'!$C611<>\"\",'Отрасли ОКВЭД'!$C611,'Отрасли ОКВЭД'!$B611)","v":"16.10.2"},"C","16.10.2","Производство пиломатериалов, профилированных по кромке; производство древесного полотна, древесной муки; производство технологической щепы или стружки"]
[{"$f":"IF('Отрасли ОКВЭД'!$C612<>\"\",'Отрасли ОКВЭД'!$C612,'Отрасли ОКВЭД'!$B612)","v":"16.10.3"},"C","16.10.3","Производство древесины, пропитанной или обработанной защитными или другими веществами"]
[{"$f":"IF('Отрасли ОКВЭД'!$C613<>\"\",'Отрасли ОКВЭД'!$C613,'Отрасли ОКВЭД'!$B613)","v":"16.10.9"},"C","16.10.9","Предоставление услуг по пропитке древесины"]
[{"$f":"IF('Отрасли ОКВЭД'!$C614<>\"\",'Отрасли ОКВЭД'!$C614,'Отрасли ОКВЭД'!$B614)","v":"16.2"},"C","16.2","Производство изделий из дерева, пробки, соломки и материалов для плетения"]
[{"$f":"IF('Отрасли ОКВЭД'!$C615<>\"\",'Отрасли ОКВЭД'!$C615,'Отрасли ОКВЭД'!$B615)","v":"16.21"},"C","16.21","Производство шпона, фанеры, деревянных плит и панелей"]
[{"$f":"IF('Отрасли ОКВЭД'!$C616<>\"\",'Отрасли ОКВЭД'!$C616,'Отрасли ОКВЭД'!$B616)","v":"16.21.1"},"C","16.21.1","Производство фанеры, деревянных фанерованных панелей и аналогичных слоистых материалов, древесных плит из древесины и других одревесневших материалов"]
[{"$f":"IF('Отрасли ОКВЭД'!$C617<>\"\",'Отрасли ОКВЭД'!$C617,'Отрасли ОКВЭД'!$B617)","v":"16.21.11"},"C","16.21.11","Производство фанеры, деревянных фанерованных панелей и аналогичных слоистых материалов"]
[{"$f":"IF('Отрасли ОКВЭД'!$C618<>\"\",'Отрасли ОКВЭД'!$C618,'Отрасли ОКВЭД'!$B618)","v":"16.21.12"},"C","16.21.12","Производство древесно-стружечных плит из древесины или других одревесневших материалов"]
[{"$f":"IF('Отрасли ОКВЭД'!$C619<>\"\",'Отрасли ОКВЭД'!$C619,'Отрасли ОКВЭД'!$B619)","v":"16.21.13"},"C","16.21.13","Производство древесно-волокнистых плит из древесины или других одревесневших материалов"]
[{"$f":"IF('Отрасли ОКВЭД'!$C620<>\"\",'Отрасли ОКВЭД'!$C620,'Отрасли ОКВЭД'!$B620)","v":"16.21.2"},"C","16.21.2","Производство листов для облицовки, шпона для фанеры, производство прессованной древесины"]
[{"$f":"IF('Отрасли ОКВЭД'!$C621<>\"\",'Отрасли ОКВЭД'!$C621,'Отрасли ОКВЭД'!$B621)","v":"16.21.21"},"C","16.21.21","Производство листов для облицовки, шпона для фанеры"]
[{"$f":"IF('Отрасли ОКВЭД'!$C622<>\"\",'Отрасли ОКВЭД'!$C622,'Отрасли ОКВЭД'!$B622)","v":"16.21.22"},"C","16.21.22","Производство прессованной древесины"]
[{"$f":"IF('Отрасли ОКВЭД'!$C623<>\"\",'Отрасли ОКВЭД'!$C623,'Отрасли ОКВЭД'!$B623)","v":"16.22"},"C","16.22","Производство сборных паркетных покрытий"]
[{"$f":"IF('Отрасли ОКВЭД'!$C624<>\"\",'Отрасли ОКВЭД'!$C624,'Отрасли ОКВЭД'!$B624)","v":"16.23"},"C","16.23","Производство прочих деревянных строительных конструкций и столярных изделий"]
[{"$f":"IF('Отрасли ОКВЭД'!$C625<>\"\",'Отрасли ОКВЭД'!$C625,'Отрасли ОКВЭД'!$B625)","v":"16.23.1"},"C","16.23.1","Производство деревянных строительных конструкций и столярных изделий"]
[{"$f":"IF('Отрасли ОКВЭД'!$C626<>\"\",'Отрасли ОКВЭД'!$C626,'Отрасли ОКВЭД'!$B626)","v":"16.23.2"},"C","16.23.2","Производство сборных деревянных строений"]
[{"$f":"IF('Отрасли ОКВЭД'!$C627<>\"\",'Отрасли ОКВЭД'!$C627,'Отрасли ОКВЭД'!$B627)","v":"16.24"},"C","16.24","Производство деревянной тары"]
[{"$f":"IF('Отрасли ОКВЭД'!$C628<>\"\",'Отрасли ОКВЭД'!$C628,'Отрасли ОКВЭД'!$B628)","v":"16.29"},"C","16.29","Производство прочих деревянных изделий; производство изделий из пробки, соломки и материалов для плетения"]
[{"$f":"IF('Отрасли ОКВЭД'!$C629<>\"\",'Отрасли ОКВЭД'!$C629,'Отрасли ОКВЭД'!$B629)","v":"16.29.1"},"C","16.29.1","Производство прочих деревянных изделий"]
[{"$f":"IF('Отрасли ОКВЭД'!$C630<>\"\",'Отрасли ОКВЭД'!$C630,'Отрасли ОКВЭД'!$B630)","v":"16.29.11"},"C","16.29.11","Производство деревянных инструментов, корпусов и рукояток инструментов, рукояток щеток и метелок, обувных колодок и растяжек для обуви"]
[{"$f":"IF('Отрасли ОКВЭД'!$C631<>\"\",'Отрасли ОКВЭД'!$C631,'Отрасли ОКВЭД'!$B631)","v":"16.29.12"},"C","16.29.12","Производство деревянных столовых и кухонных принадлежностей"]
[{"$f":"IF('Отрасли ОКВЭД'!$C632<>\"\",'Отрасли ОКВЭД'!$C632,'Отрасли ОКВЭД'!$B632)","v":"16.29.13"},"C","16.29.13","Производство деревянных статуэток и украшений из дерева, мозаики и инкрустированного дерева, шкатулок, футляров для ювелирных изделий или ножей"]
[{"$f":"IF('Отрасли ОКВЭД'!$C633<>\"\",'Отрасли ОКВЭД'!$C633,'Отрасли ОКВЭД'!$B633)","v":"16.29.14"},"C","16.29.14","Производство деревянных рам для картин, фотографий, зеркал или аналогичных предметов и прочих изделий из дерева"]
[{"$f":"IF('Отрасли ОКВЭД'!$C634<>\"\",'Отрасли ОКВЭД'!$C634,'Отрасли ОКВЭД'!$B634)","v":"16.29.15"},"C","16.29.15","Производство топливных гранул и брикетов из отходов деревопереработки"]
[{"$f":"IF('Отрасли ОКВЭД'!$C635<>\"\",'Отрасли ОКВЭД'!$C635,'Отрасли ОКВЭД'!$B635)","v":"16.29.2"},"C","16.29.2","Производство изделий из пробки, соломки и материалов для плетения; производство корзиночных и плетеных изделий"]
[{"$f":"IF('Отрасли ОКВЭД'!$C636<>\"\",'Отрасли ОКВЭД'!$C636,'Отрасли ОКВЭД'!$B636)","v":"16.29.21"},"C","16.29.21","Производство изделий из пробки"]
[{"$f":"IF('Отрасли ОКВЭД'!$C637<>\"\",'Отрасли ОКВЭД'!$C637,'Отрасли ОКВЭД'!$B637)","v":"16.29.22"},"C","16.29.22","Производство изделий из соломки, эспарто (альфы) и прочих материалов для плетения"]
[{"$f":"IF('Отрасли ОКВЭД'!$C638<>\"\",'Отрасли ОКВЭД'!$C638,'Отрасли ОКВЭД'!$B638)","v":"16.29.23"},"C","16.29.23","Производство корзиночных и плетеных изделий"]
[{"$f":"IF('Отрасли ОКВЭД'!$C639<>\"\",'Отрасли ОКВЭД'!$C639,'Отрасли ОКВЭД'!$B639)","v":"16.29.3"},"C","16.29.3","Изготовление изделий из дерева, пробки, соломки и материалов для плетения, корзиночных и плетеных изделий по индивидуальному заказу населения"]
[{"$f":"IF('Отрасли ОКВЭД'!$C640<>\"\",'Отрасли ОКВЭД'!$C640,'Отрасли ОКВЭД'!$B640)","v":"17"},"C","17","Производство бумаги и бумажных изделий"]
[{"$f":"IF('Отрасли ОКВЭД'!$C641<>\"\",'Отрасли ОКВЭД'!$C641,'Отрасли ОКВЭД'!$B641)","v":"17.1"},"C","17.1","Производство целлюлозы, древесной массы, бумаги и картона"]
[{"$f":"IF('Отрасли ОКВЭД'!$C642<>\"\",'Отрасли ОКВЭД'!$C642,'Отрасли ОКВЭД'!$B642)","v":"17.11"},"C","17.11","Производство целлюлозы и древесной массы"]
[{"$f":"IF('Отрасли ОКВЭД'!$C643<>\"\",'Отрасли ОКВЭД'!$C643,'Отрасли ОКВЭД'!$B643)","v":"17.11.1"},"C","17.11.1","Производство целлюлозы"]
[{"$f":"IF('Отрасли ОКВЭД'!$C644<>\"\",'Отрасли ОКВЭД'!$C644,'Отрасли ОКВЭД'!$B644)","v":"17.11.2"},"C","17.11.2","Производство древесной массы"]
[{"$f":"IF('Отрасли ОКВЭД'!$C645<>\"\",'Отрасли ОКВЭД'!$C645,'Отрасли ОКВЭД'!$B645)","v":"17.11.9"},"C","17.11.9","Производство прочих волокнистых полуфабрикатов"]
[{"$f":"IF('Отрасли ОКВЭД'!$C646<>\"\",'Отрасли ОКВЭД'!$C646,'Отрасли ОКВЭД'!$B646)","v":"17.12"},"C","17.12","Производство бумаги и картона"]
[{"$f":"IF('Отрасли ОКВЭД'!$C647<>\"\",'Отрасли ОКВЭД'!$C647,'Отрасли ОКВЭД'!$B647)","v":"17.12.1"},"C","17.12.1","Производство бумаги"]
[{"$f":"IF('Отрасли ОКВЭД'!$C648<>\"\",'Отрасли ОКВЭД'!$C648,'Отрасли ОКВЭД'!$B648)","v":"17.12.2"},"C","17.12.2","Производство картона"]
[{"$f":"IF('Отрасли ОКВЭД'!$C649<>\"\",'Отрасли ОКВЭД'!$C649,'Отрасли ОКВЭД'!$B649)","v":"17.2"},"C","17.2","Производство изделий из бумаги и картона"]
[{"$f":"IF('Отрасли ОКВЭД'!$C650<>\"\",'Отрасли ОКВЭД'!$C650,'Отрасли ОКВЭД'!$B650)","v":"17.21"},"C","17.21","Производство гофрированной бумаги и картона, бумажной и картонной тары"]
[{"$f":"IF('Отрасли ОКВЭД'!$C651<>\"\",'Отрасли ОКВЭД'!$C651,'Отрасли ОКВЭД'!$B651)","v":"17.22"},"C","17.22","Производство бумажных изделий хозяйственно-бытового и санитарно-гигиенического назначения"]
[{"$f":"IF('Отрасли ОКВЭД'!$C652<>\"\",'Отрасли ОКВЭД'!$C652,'Отрасли ОКВЭД'!$B652)","v":"17.23"},"C","17.23","Производство бумажных канцелярских принадлежностей"]
[{"$f":"IF('Отрасли ОКВЭД'!$C653<>\"\",'Отрасли ОКВЭД'!$C653,'Отрасли ОКВЭД'!$B653)","v":"17.24"},"C","17.24","Производство обоев"]
[{"$f":"IF('Отрасли ОКВЭД'!$C654<>\"\",'Отрасли ОКВЭД'!$C654,'Отрасли ОКВЭД'!$B654)","v":"17.29"},"C","17.29","Производство прочих изделий из бумаги и картона"]
[{"$f":"IF('Отрасли ОКВЭД'!$C655<>\"\",'Отрасли ОКВЭД'!$C655,'Отрасли ОКВЭД'!$B655)","v":"18"},"C","18","Деятельность полиграфическая и копирование носителей информации"]
[{"$f":"IF('Отрасли ОКВЭД'!$C656<>\"\",'Отрасли ОКВЭД'!$C656,'Отрасли ОКВЭД'!$B656)","v":"18.1"},"C","18.1","Деятельность полиграфическая и предоставление услуг в этой области"]
[{"$f":"IF('Отрасли ОКВЭД'!$C657<>\"\",'Отрасли ОКВЭД'!$C657,'Отрасли ОКВЭД'!$B657)","v":"18.11"},"C","18.11","Печатание газет"]
[{"$f":"IF('Отрасли ОКВЭД'!$C658<>\"\",'Отрасли ОКВЭД'!$C658,'Отрасли ОКВЭД'!$B658)","v":"18.12"},"C","18.12","Прочие виды полиграфической деятельности"]
[{"$f":"IF('Отрасли ОКВЭД'!$C659<>\"\",'Отрасли ОКВЭД'!$C659,'Отрасли ОКВЭД'!$B659)","v":"18.13"},"C","18.13","Изготовление печатных форм и подготовительная деятельность"]
[{"$f":"IF('Отрасли ОКВЭД'!$C660<>\"\",'Отрасли ОКВЭД'!$C660,'Отрасли ОКВЭД'!$B660)","v":"18.14"},"C","18.14","Деятельность брошюровочно- переплетная и отделочная и сопутствующие услуги"]
[{"$f":"IF('Отрасли ОКВЭД'!$C661<>\"\",'Отрасли ОКВЭД'!$C661,'Отрасли ОКВЭД'!$B661)","v":"18.2"},"C","18.2","Копирование записанных носителей информации"]
[{"$f":"IF('Отрасли ОКВЭД'!$C662<>\"\",'Отрасли ОКВЭД'!$C662,'Отрасли ОКВЭД'!$B662)","v":"18.20"},"C","18.20","Копирование записанных носителей информации"]
[{"$f":"IF('Отрасли ОКВЭД'!$C663<>\"\",'Отрасли ОКВЭД'!$C663,'Отрасли ОКВЭД'!$B663)","v":"19"},"C","19","Производство кокса и нефтепродуктов"]
[{"$f":"IF('Отрасли ОКВЭД'!$C664<>\"\",'Отрасли ОКВЭД'!$C664,'Отрасли ОКВЭД'!$B664)","v":"19.1"},"C","19.1","Производство кокса"]
[{"$f":"IF('Отрасли ОКВЭД'!$C665<>\"\",'Отрасли ОКВЭД'!$C665,'Отрасли ОКВЭД'!$B665)","v":"19.10"},"C","19.10","Производство кокса"]
[{"$f":"IF('Отрасли ОКВЭД'!$C666<>\"\",'Отрасли ОКВЭД'!$C666,'Отрасли ОКВЭД'!$B666)","v":"19.2"},"C","19.2","Производство нефтепродуктов"]
[{"$f":"IF('Отрасли ОКВЭД'!$C667<>\"\",'Отрасли ОКВЭД'!$C667,'Отрасли ОКВЭД'!$B667)","v":"19.20"},"C","19.20","Производство нефтепродуктов"]
[{"$f":"IF('Отрасли ОКВЭД'!$C668<>\"\",'Отрасли ОКВЭД'!$C668,'Отрасли ОКВЭД'!$B668)","v":"19.20.1"},"C","19.20.1","Производство жидкого топлива"]
[{"$f":"IF('Отрасли ОКВЭД'!$C669<>\"\",'Отрасли ОКВЭД'!$C669,'Отрасли ОКВЭД'!$B669)","v":"19.20.2"},"C","19.20.2","Разделение и извлечение фракций из нефтяного (попутного) газа"]
[{"$f":"IF('Отрасли ОКВЭД'!$C670<>\"\",'Отрасли ОКВЭД'!$C670,'Отрасли ОКВЭД'!$B670)","v":"19.20.9"},"C","19.20.9","Производство прочих нефтепродуктов"]
[{"$f":"IF('Отрасли ОКВЭД'!$C671<>\"\",'Отрасли ОКВЭД'!$C671,'Отрасли ОКВЭД'!$B671)","v":"19.3"},"C","19.3","Агломерация угля, антрацита и бурого угля (лигнита) и производство термоуглей"]
[{"$f":"IF('Отрасли ОКВЭД'!$C672<>\"\",'Отрасли ОКВЭД'!$C672,'Отрасли ОКВЭД'!$B672)","v":"19.31"},"C","19.31","Агломерация антрацита"]
[{"$f":"IF('Отрасли ОКВЭД'!$C673<>\"\",'Отрасли ОКВЭД'!$C673,'Отрасли ОКВЭД'!$B673)","v":"19.32"},"C","19.32","Агломерация угля"]
[{"$f":"IF('Отрасли ОКВЭД'!$C674<>\"\",'Отрасли ОКВЭД'!$C674,'Отрасли ОКВЭД'!$B674)","v":"19.33"},"C","19.33","Агломерация бурого угля (лигнита)"]
[{"$f":"IF('Отрасли ОКВЭД'!$C675<>\"\",'Отрасли ОКВЭД'!$C675,'Отрасли ОКВЭД'!$B675)","v":"19.34"},"C","19.34","Производство термоуглей"]
[{"$f":"IF('Отрасли ОКВЭД'!$C676<>\"\",'Отрасли ОКВЭД'!$C676,'Отрасли ОКВЭД'!$B676)","v":"19.34.1"},"C","19.34.1","Производство термоуглей из антрацита"]
[{"$f":"IF('Отрасли ОКВЭД'!$C677<>\"\",'Отрасли ОКВЭД'!$C677,'Отрасли ОКВЭД'!$B677)","v":"19.34.2"},"C","19.34.2","Производство термоуглей из бурого угля (лигнита)"]
[{"$f":"IF('Отрасли ОКВЭД'!$C678<>\"\",'Отрасли ОКВЭД'!$C678,'Отрасли ОКВЭД'!$B678)","v":"19.34.3"},"C","19.34.3","Производство теромуглей из угля за исключением антрацитов, лигнитов и угля каменного коксующегося"]
[{"$f":"IF('Отрасли ОКВЭД'!$C679<>\"\",'Отрасли ОКВЭД'!$C679,'Отрасли ОКВЭД'!$B679)","v":"20"},"C","20","Производство химических веществ и химических продуктов"]
[{"$f":"IF('Отрасли ОКВЭД'!$C680<>\"\",'Отрасли ОКВЭД'!$C680,'Отрасли ОКВЭД'!$B680)","v":"20.1"},"C","20.1","Производство основных химических веществ, удобрений и азотных соединений, пластмасс и синтетического каучука в первичных формах"]
[{"$f":"IF('Отрасли ОКВЭД'!$C681<>\"\",'Отрасли ОКВЭД'!$C681,'Отрасли ОКВЭД'!$B681)","v":"20.11"},"C","20.11","Производство промышленных газов"]
[{"$f":"IF('Отрасли ОКВЭД'!$C682<>\"\",'Отрасли ОКВЭД'!$C682,'Отрасли ОКВЭД'!$B682)","v":"20.12"},"C","20.12","Производство красителей и пигментов"]
[{"$f":"IF('Отрасли ОКВЭД'!$C683<>\"\",'Отрасли ОКВЭД'!$C683,'Отрасли ОКВЭД'!$B683)","v":"20.13"},"C","20.13","Производство прочих основных неорганических химических веществ"]
[{"$f":"IF('Отрасли ОКВЭД'!$C684<>\"\",'Отрасли ОКВЭД'!$C684,'Отрасли ОКВЭД'!$B684)","v":"20.14"},"C","20.14","Производство прочих основных органических химических веществ"]
[{"$f":"IF('Отрасли ОКВЭД'!$C685<>\"\",'Отрасли ОКВЭД'!$C685,'Отрасли ОКВЭД'!$B685)","v":"20.14.1"},"C","20.14.1","Производство углеводородов и их производных"]
[{"$f":"IF('Отрасли ОКВЭД'!$C686<>\"\",'Отрасли ОКВЭД'!$C686,'Отрасли ОКВЭД'!$B686)","v":"20.14.2"},"C","20.14.2","Производство спиртов, фенолов, фенолоспиртов и их галогенированных, сульфированных, нитрованных или нитрозированных производных; производство жирных промышленных спиртов"]
[{"$f":"IF('Отрасли ОКВЭД'!$C687<>\"\",'Отрасли ОКВЭД'!$C687,'Отрасли ОКВЭД'!$B687)","v":"20.14.3"},"C","20.14.3","Производство промышленных монокарбоновых жирных кислот, карбоновых кислот и их производных"]
[{"$f":"IF('Отрасли ОКВЭД'!$C688<>\"\",'Отрасли ОКВЭД'!$C688,'Отрасли ОКВЭД'!$B688)","v":"20.14.4"},"C","20.14.4","Производство органических соединений с азотсодержащими функциональными группами"]
[{"$f":"IF('Отрасли ОКВЭД'!$C689<>\"\",'Отрасли ОКВЭД'!$C689,'Отрасли ОКВЭД'!$B689)","v":"20.14.5"},"C","20.14.5","Производство сераорганических соединений и прочих элементоорганических соединений"]
[{"$f":"IF('Отрасли ОКВЭД'!$C690<>\"\",'Отрасли ОКВЭД'!$C690,'Отрасли ОКВЭД'!$B690)","v":"20.14.6"},"C","20.14.6","Производство простых эфиров, органических пероксидов, эпоксидов, ацеталей и полуацеталей, прочих органических соединений"]
[{"$f":"IF('Отрасли ОКВЭД'!$C691<>\"\",'Отрасли ОКВЭД'!$C691,'Отрасли ОКВЭД'!$B691)","v":"20.14.7"},"C","20.14.7","Производство прочих химических органических основных веществ"]
[{"$f":"IF('Отрасли ОКВЭД'!$C692<>\"\",'Отрасли ОКВЭД'!$C692,'Отрасли ОКВЭД'!$B692)","v":"20.15"},"C","20.15","Производство удобрений и азотных соединений"]
[{"$f":"IF('Отрасли ОКВЭД'!$C693<>\"\",'Отрасли ОКВЭД'!$C693,'Отрасли ОКВЭД'!$B693)","v":"20.15.1"},"C","20.15.1","Производство азотных кислот, сульфоазотных кислот, аммиака"]
[{"$f":"IF('Отрасли ОКВЭД'!$C694<>\"\",'Отрасли ОКВЭД'!$C694,'Отрасли ОКВЭД'!$B694)","v":"20.15.2"},"C","20.15.2","Производство хлорида аммония, нитритов"]
[{"$f":"IF('Отрасли ОКВЭД'!$C695<>\"\",'Отрасли ОКВЭД'!$C695,'Отрасли ОКВЭД'!$B695)","v":"20.15.3"},"C","20.15.3","Производство азотных минеральных или химических удобрений"]
[{"$f":"IF('Отрасли ОКВЭД'!$C696<>\"\",'Отрасли ОКВЭД'!$C696,'Отрасли ОКВЭД'!$B696)","v":"20.15.4"},"C","20.15.4","Производство фосфорных минеральных или химических удобрений"]
[{"$f":"IF('Отрасли ОКВЭД'!$C697<>\"\",'Отрасли ОКВЭД'!$C697,'Отрасли ОКВЭД'!$B697)","v":"20.15.5"},"C","20.15.5","Производство калийных минеральных или химических удобрений"]
[{"$f":"IF('Отрасли ОКВЭД'!$C698<>\"\",'Отрасли ОКВЭД'!$C698,'Отрасли ОКВЭД'!$B698)","v":"20.15.6"},"C","20.15.6","Производство нитрата натрия"]
[{"$f":"IF('Отрасли ОКВЭД'!$C699<>\"\",'Отрасли ОКВЭД'!$C699,'Отрасли ОКВЭД'!$B699)","v":"20.15.7"},"C","20.15.7","Производство удобрений, не включенных в другие группировки"]
[{"$f":"IF('Отрасли ОКВЭД'!$C700<>\"\",'Отрасли ОКВЭД'!$C700,'Отрасли ОКВЭД'!$B700)","v":"20.15.8"},"C","20.15.8","Производство удобрений животного или растительного происхождения"]
[{"$f":"IF('Отрасли ОКВЭД'!$C701<>\"\",'Отрасли ОКВЭД'!$C701,'Отрасли ОКВЭД'!$B701)","v":"20.16"},"C","20.16","Производство пластмасс и синтетических смол в первичных формах"]
[{"$f":"IF('Отрасли ОКВЭД'!$C702<>\"\",'Отрасли ОКВЭД'!$C702,'Отрасли ОКВЭД'!$B702)","v":"20.17"},"C","20.17","Производство синтетического каучука в первичных формах"]
[{"$f":"IF('Отрасли ОКВЭД'!$C703<>\"\",'Отрасли ОКВЭД'!$C703,'Отрасли ОКВЭД'!$B703)","v":"20.2"},"C","20.2","Производство пестицидов и прочих агрохимических продуктов"]
[{"$f":"IF('Отрасли ОКВЭД'!$C704<>\"\",'Отрасли ОКВЭД'!$C704,'Отрасли ОКВЭД'!$B704)","v":"20.20"},"C","20.20","Производство пестицидов и прочих агрохимических продуктов"]
[{"$f":"IF('Отрасли ОКВЭД'!$C705<>\"\",'Отрасли ОКВЭД'!$C705,'Отрасли ОКВЭД'!$B705)","v":"20.3"},"C","20.3","Производство красок, лаков и аналогичных материалов для нанесения покрытий, полиграфических красок и мастик"]
[{"$f":"IF('Отрасли ОКВЭД'!$C706<>\"\",'Отрасли ОКВЭД'!$C706,'Отрасли ОКВЭД'!$B706)","v":"20.30"},"C","20.30","Производство красок, лаков и аналогичных материалов для нанесения покрытий, полиграфических красок и мастик"]
[{"$f":"IF('Отрасли ОКВЭД'!$C707<>\"\",'Отрасли ОКВЭД'!$C707,'Отрасли ОКВЭД'!$B707)","v":"20.30.1"},"C","20.30.1","Производство красок и лаков на основе полимеров"]
[{"$f":"IF('Отрасли ОКВЭД'!$C708<>\"\",'Отрасли ОКВЭД'!$C708,'Отрасли ОКВЭД'!$B708)","v":"20.30.2"},"C","20.30.2","Производство прочих красок, лаков, эмалей и аналогичных материалов для нанесения покрытий, художественных и полиграфических красок"]
[{"$f":"IF('Отрасли ОКВЭД'!$C709<>\"\",'Отрасли ОКВЭД'!$C709,'Отрасли ОКВЭД'!$B709)","v":"20.4"},"C","20.4","Производство мыла и моющих, чистящих и полирующих средств; парфюмерных и косметических средств"]
[{"$f":"IF('Отрасли ОКВЭД'!$C710<>\"\",'Отрасли ОКВЭД'!$C710,'Отрасли ОКВЭД'!$B710)","v":"20.41"},"C","20.41","Производство мыла и моющих, чистящих и полирующих средств"]
[{"$f":"IF('Отрасли ОКВЭД'!$C711<>\"\",'Отрасли ОКВЭД'!$C711,'Отрасли ОКВЭД'!$B711)","v":"20.41.1"},"C","20.41.1","Производство глицерина"]
[{"$f":"IF('Отрасли ОКВЭД'!$C712<>\"\",'Отрасли ОКВЭД'!$C712,'Отрасли ОКВЭД'!$B712)","v":"20.41.2"},"C","20.41.2","Производство органических поверхностно-активных веществ, кроме мыла"]
[{"$f":"IF('Отрасли ОКВЭД'!$C713<>\"\",'Отрасли ОКВЭД'!$C713,'Отрасли ОКВЭД'!$B713)","v":"20.41.3"},"C","20.41.3","Производство мыла и моющих средств, чистящих и полирующих средств"]
[{"$f":"IF('Отрасли ОКВЭД'!$C714<>\"\",'Отрасли ОКВЭД'!$C714,'Отрасли ОКВЭД'!$B714)","v":"20.41.4"},"C","20.41.4","Производство средств для ароматизации и дезодорирования воздуха и восков"]
[{"$f":"IF('Отрасли ОКВЭД'!$C715<>\"\",'Отрасли ОКВЭД'!$C715,'Отрасли ОКВЭД'!$B715)","v":"20.42"},"C","20.42","Производство парфюмерных и косметических средств"]
[{"$f":"IF('Отрасли ОКВЭД'!$C716<>\"\",'Отрасли ОКВЭД'!$C716,'Отрасли ОКВЭД'!$B716)","v":"20.5"},"C","20.5","Производство прочих химических продуктов"]
[{"$f":"IF('Отрасли ОКВЭД'!$C717<>\"\",'Отрасли ОКВЭД'!$C717,'Отрасли ОКВЭД'!$B717)","v":"20.51"},"C","20.51","Производство взрывчатых веществ"]
[{"$f":"IF('Отрасли ОКВЭД'!$C718<>\"\",'Отрасли ОКВЭД'!$C718,'Отрасли ОКВЭД'!$B718)","v":"20.52"},"C","20.52","Производство клеев"]
[{"$f":"IF('Отрасли ОКВЭД'!$C719<>\"\",'Отрасли ОКВЭД'!$C719,'Отрасли ОКВЭД'!$B719)","v":"20.53"},"C","20.53","Производство эфирных масел"]
[{"$f":"IF('Отрасли ОКВЭД'!$C720<>\"\",'Отрасли ОКВЭД'!$C720,'Отрасли ОКВЭД'!$B720)","v":"20.59"},"C","20.59","Производство прочих химических продуктов, не включенных в другие группировки"]
[{"$f":"IF('Отрасли ОКВЭД'!$C721<>\"\",'Отрасли ОКВЭД'!$C721,'Отрасли ОКВЭД'!$B721)","v":"20.59.1"},"C","20.59.1","Производство фотопластинок и фотопленок; фотопленок для моментальных фотоснимков; химических составов и несмешанных продуктов, используемых в фотографии"]
[{"$f":"IF('Отрасли ОКВЭД'!$C722<>\"\",'Отрасли ОКВЭД'!$C722,'Отрасли ОКВЭД'!$B722)","v":"20.59.2"},"C","20.59.2","Производство химически модифицированных животных или растительных жиров и масел (включая олифу), непищевых смесей животных или растительных жиров и масел"]
[{"$f":"IF('Отрасли ОКВЭД'!$C723<>\"\",'Отрасли ОКВЭД'!$C723,'Отрасли ОКВЭД'!$B723)","v":"20.59.3"},"C","20.59.3","Производство чернил для письма и рисования"]
[{"$f":"IF('Отрасли ОКВЭД'!$C724<>\"\",'Отрасли ОКВЭД'!$C724,'Отрасли ОКВЭД'!$B724)","v":"20.59.4"},"C","20.59.4","Производство смазочных материалов, присадок к смазочным материалам и антифризов"]
[{"$f":"IF('Отрасли ОКВЭД'!$C725<>\"\",'Отрасли ОКВЭД'!$C725,'Отрасли ОКВЭД'!$B725)","v":"20.59.5"},"C","20.59.5","Производство прочих химических продуктов, не включенных в другие группировки"]
[{"$f":"IF('Отрасли ОКВЭД'!$C726<>\"\",'Отрасли ОКВЭД'!$C726,'Отрасли ОКВЭД'!$B726)","v":"20.59.6"},"C","20.59.6","Производство желатина и его производных"]
[{"$f":"IF('Отрасли ОКВЭД'!$C727<>\"\",'Отрасли ОКВЭД'!$C727,'Отрасли ОКВЭД'!$B727)","v":"20.6"},"C","20.6","Производство химических волокон"]
[{"$f":"IF('Отрасли ОКВЭД'!$C728<>\"\",'Отрасли ОКВЭД'!$C728,'Отрасли ОКВЭД'!$B728)","v":"20.60"},"C","20.60","Производство химических волокон"]
[{"$f":"IF('Отрасли ОКВЭД'!$C729<>\"\",'Отрасли ОКВЭД'!$C729,'Отрасли ОКВЭД'!$B729)","v":"20.60.1"},"C","20.60.1","Производство синтетических волокон"]
[{"$f":"IF('Отрасли ОКВЭД'!$C730<>\"\",'Отрасли ОКВЭД'!$C730,'Отрасли ОКВЭД'!$B730)","v":"20.60.2"},"C","20.60.2","Производство искусственных волокон"]
[{"$f":"IF('Отрасли ОКВЭД'!$C731<>\"\",'Отрасли ОКВЭД'!$C731,'Отрасли ОКВЭД'!$B731)","v":"21"},"C","21","Производство лекарственных средств и материалов, применяемых в медицинских целях"]
[{"$f":"IF('Отрасли ОКВЭД'!$C732<>\"\",'Отрасли ОКВЭД'!$C732,'Отрасли ОКВЭД'!$B732)","v":"21.1"},"C","21.1","Производство фармацевтических субстанций"]
[{"$f":"IF('Отрасли ОКВЭД'!$C733<>\"\",'Отрасли ОКВЭД'!$C733,'Отрасли ОКВЭД'!$B733)","v":"21.10"},"C","21.10","Производство фармацевтических субстанций"]
[{"$f":"IF('Отрасли ОКВЭД'!$C734<>\"\",'Отрасли ОКВЭД'!$C734,'Отрасли ОКВЭД'!$B734)","v":"21.2"},"C","21.2","Производство лекарственных препаратов и материалов, применяемых в медицинских целях"]
[{"$f":"IF('Отрасли ОКВЭД'!$C735<>\"\",'Отрасли ОКВЭД'!$C735,'Отрасли ОКВЭД'!$B735)","v":"21.20"},"C","21.20","Производство лекарственных препаратов и материалов, применяемых в медицинских целях"]
[{"$f":"IF('Отрасли ОКВЭД'!$C736<>\"\",'Отрасли ОКВЭД'!$C736,'Отрасли ОКВЭД'!$B736)","v":"21.20.1"},"C","21.20.1","Производство лекарственных препаратов"]
[{"$f":"IF('Отрасли ОКВЭД'!$C737<>\"\",'Отрасли ОКВЭД'!$C737,'Отрасли ОКВЭД'!$B737)","v":"21.20.2"},"C","21.20.2","Производство материалов, применяемых в медицинских целях"]
[{"$f":"IF('Отрасли ОКВЭД'!$C738<>\"\",'Отрасли ОКВЭД'!$C738,'Отрасли ОКВЭД'!$B738)","v":"22"},"C","22","Производство резиновых и пластмассовых изделий"]
[{"$f":"IF('Отрасли ОКВЭД'!$C739<>\"\",'Отрасли ОКВЭД'!$C739,'Отрасли ОКВЭД'!$B739)","v":"22.1"},"C","22.1","Производство резиновых изделий"]
[{"$f":"IF('Отрасли ОКВЭД'!$C740<>\"\",'Отрасли ОКВЭД'!$C740,'Отрасли ОКВЭД'!$B740)","v":"22.11"},"C","22.11","Производство резиновых шин, покрышек и камер; восстановление резиновых шин и покрышек"]
[{"$f":"IF('Отрасли ОКВЭД'!$C741<>\"\",'Отрасли ОКВЭД'!$C741,'Отрасли ОКВЭД'!$B741)","v":"22.19"},"C","22.19","Производство прочих резиновых изделий"]
[{"$f":"IF('Отрасли ОКВЭД'!$C742<>\"\",'Отрасли ОКВЭД'!$C742,'Отрасли ОКВЭД'!$B742)","v":"22.19.1"},"C","22.19.1","Производство регенерированной резины в первичной форме или в виде пластин, листов или полос (лент)"]
[{"$f":"IF('Отрасли ОКВЭД'!$C743<>\"\",'Отрасли ОКВЭД'!$C743,'Отрасли ОКВЭД'!$B743)","v":"22.19.2"},"C","22.19.2","Производство резиновых смесей и изделий из них; производство вулканизированной резины в виде нити, корда, пластин, листов, полос, прутков и профилей"]
[{"$f":"IF('Отрасли ОКВЭД'!$C744<>\"\",'Отрасли ОКВЭД'!$C744,'Отрасли ОКВЭД'!$B744)","v":"22.19.3"},"C","22.19.3","Производство труб, трубок, рукавов и шлангов из вулканизированной резины"]
[{"$f":"IF('Отрасли ОКВЭД'!$C745<>\"\",'Отрасли ОКВЭД'!$C745,'Отрасли ОКВЭД'!$B745)","v":"22.19.4"},"C","22.19.4","Производство конвейерных лент и приводных ремней, бельтинга из вулканизированной резины"]
[{"$f":"IF('Отрасли ОКВЭД'!$C746<>\"\",'Отрасли ОКВЭД'!$C746,'Отрасли ОКВЭД'!$B746)","v":"22.19.5"},"C","22.19.5","Производство прорезиненных текстильных материалов, кроме кордных тканей"]
[{"$f":"IF('Отрасли ОКВЭД'!$C747<>\"\",'Отрасли ОКВЭД'!$C747,'Отрасли ОКВЭД'!$B747)","v":"22.19.6"},"C","22.19.6","Производство предметов одежды и ее аксессуаров из вулканизированной резины"]
[{"$f":"IF('Отрасли ОКВЭД'!$C748<>\"\",'Отрасли ОКВЭД'!$C748,'Отрасли ОКВЭД'!$B748)","v":"22.19.7"},"C","22.19.7","Производство изделий из вулканизированной резины, не включенных в другие группировки"]
[{"$f":"IF('Отрасли ОКВЭД'!$C749<>\"\",'Отрасли ОКВЭД'!$C749,'Отрасли ОКВЭД'!$B749)","v":"22.2"},"C","22.2","Производство изделий из пластмасс"]
[{"$f":"IF('Отрасли ОКВЭД'!$C750<>\"\",'Отрасли ОКВЭД'!$C750,'Отрасли ОКВЭД'!$B750)","v":"22.21"},"C","22.21","Производство пластмассовых плит, полос, труб и профилей"]
[{"$f":"IF('Отрасли ОКВЭД'!$C751<>\"\",'Отрасли ОКВЭД'!$C751,'Отрасли ОКВЭД'!$B751)","v":"22.22"},"C","22.22","Производство пластмассовых изделий для упаковывания товаров"]
[{"$f":"IF('Отрасли ОКВЭД'!$C752<>\"\",'Отрасли ОКВЭД'!$C752,'Отрасли ОКВЭД'!$B752)","v":"22.23"},"C","22.23","Производство пластмассовых изделий, используемых в строительстве"]
[{"$f":"IF('Отрасли ОКВЭД'!$C753<>\"\",'Отрасли ОКВЭД'!$C753,'Отрасли ОКВЭД'!$B753)","v":"22.29"},"C","22.29","Производство прочих пластмассовых изделий"]
[{"$f":"IF('Отрасли ОКВЭД'!$C754<>\"\",'Отрасли ОКВЭД'!$C754,'Отрасли ОКВЭД'!$B754)","v":"22.29.1"},"C","22.29.1","Производство предметов одежды и аксессуаров для нее, включая перчатки, из пластмасс"]
[{"$f":"IF('Отрасли ОКВЭД'!$C755<>\"\",'Отрасли ОКВЭД'!$C755,'Отрасли ОКВЭД'!$B755)","v":"22.29.2"},"C","22.29.2","Производство прочих изделий из пластмасс, не включенных в другие группировки, кроме устройств пломбировочных их пластика"]
[{"$f":"IF('Отрасли ОКВЭД'!$C756<>\"\",'Отрасли ОКВЭД'!$C756,'Отрасли ОКВЭД'!$B756)","v":"22.29.3"},"C","22.29.3","Производство устройств пломбировочных из пластика"]
[{"$f":"IF('Отрасли ОКВЭД'!$C757<>\"\",'Отрасли ОКВЭД'!$C757,'Отрасли ОКВЭД'!$B757)","v":"22.29.9"},"C","22.29.9","Предоставление услуг в области производства прочих пластмассовых изделий"]
[{"$f":"IF('Отрасли ОКВЭД'!$C758<>\"\",'Отрасли ОКВЭД'!$C758,'Отрасли ОКВЭД'!$B758)","v":"23"},"C","23","Производство прочей неметаллической минеральной продукции"]
[{"$f":"IF('Отрасли ОКВЭД'!$C759<>\"\",'Отрасли ОКВЭД'!$C759,'Отрасли ОКВЭД'!$B759)","v":"23.1"},"C","23.1","Производство стекла и изделий из стекла"]
[{"$f":"IF('Отрасли ОКВЭД'!$C760<>\"\",'Отрасли ОКВЭД'!$C760,'Отрасли ОКВЭД'!$B760)","v":"23.11"},"C","23.11","Производство листового стекла"]
[{"$f":"IF('Отрасли ОКВЭД'!$C761<>\"\",'Отрасли ОКВЭД'!$C761,'Отрасли ОКВЭД'!$B761)","v":"23.11.1"},"C","23.11.1","Производство необработанного листового стекла"]
[{"$f":"IF('Отрасли ОКВЭД'!$C762<>\"\",'Отрасли ОКВЭД'!$C762,'Отрасли ОКВЭД'!$B762)","v":"23.11.2"},"C","23.11.2","Производство листового армированного стекла"]
[{"$f":"IF('Отрасли ОКВЭД'!$C763<>\"\",'Отрасли ОКВЭД'!$C763,'Отрасли ОКВЭД'!$B763)","v":"23.11.3"},"C","23.11.3","Производство листового окрашенного стекла"]
[{"$f":"IF('Отрасли ОКВЭД'!$C764<>\"\",'Отрасли ОКВЭД'!$C764,'Отрасли ОКВЭД'!$B764)","v":"23.11.4"},"C","23.11.4","Производство листового матового стекла"]
[{"$f":"IF('Отрасли ОКВЭД'!$C765<>\"\",'Отрасли ОКВЭД'!$C765,'Отрасли ОКВЭД'!$B765)","v":"23.12"},"C","23.12","Формирование и обработка листового стекла"]
[{"$f":"IF('Отрасли ОКВЭД'!$C766<>\"\",'Отрасли ОКВЭД'!$C766,'Отрасли ОКВЭД'!$B766)","v":"23.12.1"},"C","23.12.1","Производство многослойного и закаленного стекла"]
[{"$f":"IF('Отрасли ОКВЭД'!$C767<>\"\",'Отрасли ОКВЭД'!$C767,'Отрасли ОКВЭД'!$B767)","v":"23.12.2"},"C","23.12.2","Производство стеклянных зеркал"]
[{"$f":"IF('Отрасли ОКВЭД'!$C768<>\"\",'Отрасли ОКВЭД'!$C768,'Отрасли ОКВЭД'!$B768)","v":"23.12.3"},"C","23.12.3","Производство многослойных изолирующих изделий из стекла"]
[{"$f":"IF('Отрасли ОКВЭД'!$C769<>\"\",'Отрасли ОКВЭД'!$C769,'Отрасли ОКВЭД'!$B769)","v":"23.13"},"C","23.13","Производство полых стеклянных изделий"]
[{"$f":"IF('Отрасли ОКВЭД'!$C770<>\"\",'Отрасли ОКВЭД'!$C770,'Отрасли ОКВЭД'!$B770)","v":"23.13.1"},"C","23.13.1","Производство бутылок и прочих емкостей из стекла или хрусталя"]
[{"$f":"IF('Отрасли ОКВЭД'!$C771<>\"\",'Отрасли ОКВЭД'!$C771,'Отрасли ОКВЭД'!$B771)","v":"23.13.2"},"C","23.13.2","Производство стаканов и прочих сосудов для питья из стекла или хрусталя"]
[{"$f":"IF('Отрасли ОКВЭД'!$C772<>\"\",'Отрасли ОКВЭД'!$C772,'Отрасли ОКВЭД'!$B772)","v":"23.13.3"},"C","23.13.3","Производство столовой и кухонной посуды из стекла или хрусталя"]
[{"$f":"IF('Отрасли ОКВЭД'!$C773<>\"\",'Отрасли ОКВЭД'!$C773,'Отрасли ОКВЭД'!$B773)","v":"23.13.4"},"C","23.13.4","Производство туалетных и канцелярских принадлежностей из стекла или хрусталя"]
[{"$f":"IF('Отрасли ОКВЭД'!$C774<>\"\",'Отрасли ОКВЭД'!$C774,'Отрасли ОКВЭД'!$B774)","v":"23.13.5"},"C","23.13.5","Производство украшений для интерьера и аналогичных изделий из стекла или хрусталя"]
[{"$f":"IF('Отрасли ОКВЭД'!$C775<>\"\",'Отрасли ОКВЭД'!$C775,'Отрасли ОКВЭД'!$B775)","v":"23.13.6"},"C","23.13.6","Производство стеклянных колб для вакуумных сосудов"]
[{"$f":"IF('Отрасли ОКВЭД'!$C776<>\"\",'Отрасли ОКВЭД'!$C776,'Отрасли ОКВЭД'!$B776)","v":"23.14"},"C","23.14","Производство стекловолокна"]
[{"$f":"IF('Отрасли ОКВЭД'!$C777<>\"\",'Отрасли ОКВЭД'!$C777,'Отрасли ОКВЭД'!$B777)","v":"23.19"},"C","23.19","Производство и обработка прочих стеклянных изделий, включая технические изделия из стекла"]
[{"$f":"IF('Отрасли ОКВЭД'!$C778<>\"\",'Отрасли ОКВЭД'!$C778,'Отрасли ОКВЭД'!$B778)","v":"23.19.1"},"C","23.19.1","Производство необработанного стекла в блоках, в виде шаров, прутков, труб или трубок"]
[{"$f":"IF('Отрасли ОКВЭД'!$C779<>\"\",'Отрасли ОКВЭД'!$C779,'Отрасли ОКВЭД'!$B779)","v":"23.19.2"},"C","23.19.2","Производство блоков для мощения, стеклоблоков, плит и прочих изделий из прессованного или отформованного стекла, используемых в строительстве; производство стекла для витражей; производство многоячеистого стекла или пеностекла в блоках, плитах и аналогичных формах"]
[{"$f":"IF('Отрасли ОКВЭД'!$C780<>\"\",'Отрасли ОКВЭД'!$C780,'Отрасли ОКВЭД'!$B780)","v":"23.19.3"},"C","23.19.3","Производство стеклянных колб для электрических ламп, электронно-лучевых приборов или аналогичных изделий"]
[{"$f":"IF('Отрасли ОКВЭД'!$C781<>\"\",'Отрасли ОКВЭД'!$C781,'Отрасли ОКВЭД'!$B781)","v":"23.19.4"},"C","23.19.4","Производство стекол для часов или очков, не подвергнутых оптической обработке"]
[{"$f":"IF('Отрасли ОКВЭД'!$C782<>\"\",'Отрасли ОКВЭД'!$C782,'Отрасли ОКВЭД'!$B782)","v":"23.19.5"},"C","23.19.5","Производство посуды для лабораторных, фармацевтических и гигиенических целей из стекла; производство ампул и прочих изделий из медицинского стекла"]
[{"$f":"IF('Отрасли ОКВЭД'!$C783<>\"\",'Отрасли ОКВЭД'!$C783,'Отрасли ОКВЭД'!$B783)","v":"23.19.6"},"C","23.19.6","Производство стеклянных деталей электрических ламп и осветительной арматуры, световых указателей, световых табло и аналогичных изделий"]
[{"$f":"IF('Отрасли ОКВЭД'!$C784<>\"\",'Отрасли ОКВЭД'!$C784,'Отрасли ОКВЭД'!$B784)","v":"23.19.7"},"C","23.19.7","Производство электрических изоляторов из стекла"]
[{"$f":"IF('Отрасли ОКВЭД'!$C785<>\"\",'Отрасли ОКВЭД'!$C785,'Отрасли ОКВЭД'!$B785)","v":"23.19.9"},"C","23.19.9","Производство прочих изделий из стекла, не включенных в другие группировки"]
[{"$f":"IF('Отрасли ОКВЭД'!$C786<>\"\",'Отрасли ОКВЭД'!$C786,'Отрасли ОКВЭД'!$B786)","v":"23.2"},"C","23.2","Производство огнеупорных изделий"]
[{"$f":"IF('Отрасли ОКВЭД'!$C787<>\"\",'Отрасли ОКВЭД'!$C787,'Отрасли ОКВЭД'!$B787)","v":"23.20"},"C","23.20","Производство огнеупорных изделий"]
[{"$f":"IF('Отрасли ОКВЭД'!$C788<>\"\",'Отрасли ОКВЭД'!$C788,'Отрасли ОКВЭД'!$B788)","v":"23.20.1"},"C","23.20.1","Производство огнеупорных кирпичей, блоков, плиток"]
[{"$f":"IF('Отрасли ОКВЭД'!$C789<>\"\",'Отрасли ОКВЭД'!$C789,'Отрасли ОКВЭД'!$B789)","v":"23.20.2"},"C","23.20.2","Производство огнеупорных цементов, растворов, бетонов и аналогичных составов"]
[{"$f":"IF('Отрасли ОКВЭД'!$C790<>\"\",'Отрасли ОКВЭД'!$C790,'Отрасли ОКВЭД'!$B790)","v":"23.20.3"},"C","23.20.3","Производство безобжиговых огнеупорных изделий"]
[{"$f":"IF('Отрасли ОКВЭД'!$C791<>\"\",'Отрасли ОКВЭД'!$C791,'Отрасли ОКВЭД'!$B791)","v":"23.20.9"},"C","23.20.9","Производство прочих огнеупорных керамических изделий"]
[{"$f":"IF('Отрасли ОКВЭД'!$C792<>\"\",'Отрасли ОКВЭД'!$C792,'Отрасли ОКВЭД'!$B792)","v":"23.3"},"C","23.3","Производство строительных керамических материалов"]
[{"$f":"IF('Отрасли ОКВЭД'!$C793<>\"\",'Отрасли ОКВЭД'!$C793,'Отрасли ОКВЭД'!$B793)","v":"23.31"},"C","23.31","Производство керамических плит и плиток"]
[{"$f":"IF('Отрасли ОКВЭД'!$C794<>\"\",'Отрасли ОКВЭД'!$C794,'Отрасли ОКВЭД'!$B794)","v":"23.32"},"C","23.32","Производство кирпича, черепицы и прочих строительных изделий из обожженной глины"]
[{"$f":"IF('Отрасли ОКВЭД'!$C795<>\"\",'Отрасли ОКВЭД'!$C795,'Отрасли ОКВЭД'!$B795)","v":"23.4"},"C","23.4","Производство прочих фарфоровых и керамических изделий"]
[{"$f":"IF('Отрасли ОКВЭД'!$C796<>\"\",'Отрасли ОКВЭД'!$C796,'Отрасли ОКВЭД'!$B796)","v":"23.41"},"C","23.41","Производство хозяйственных и декоративных керамических изделий"]
[{"$f":"IF('Отрасли ОКВЭД'!$C797<>\"\",'Отрасли ОКВЭД'!$C797,'Отрасли ОКВЭД'!$B797)","v":"23.41.1"},"C","23.41.1","Производство столовой и кухонной керамической посуды"]
[{"$f":"IF('Отрасли ОКВЭД'!$C798<>\"\",'Отрасли ОКВЭД'!$C798,'Отрасли ОКВЭД'!$B798)","v":"23.41.2"},"C","23.41.2","Производство прочих хозяйственных и туалетных керамических принадлежностей"]
[{"$f":"IF('Отрасли ОКВЭД'!$C799<>\"\",'Отрасли ОКВЭД'!$C799,'Отрасли ОКВЭД'!$B799)","v":"23.41.3"},"C","23.41.3","Производство статуэток и прочих декоративных керамических изделий"]
[{"$f":"IF('Отрасли ОКВЭД'!$C800<>\"\",'Отрасли ОКВЭД'!$C800,'Отрасли ОКВЭД'!$B800)","v":"23.42"},"C","23.42","Производство керамических санитарно-технических изделий"]
[{"$f":"IF('Отрасли ОКВЭД'!$C801<>\"\",'Отрасли ОКВЭД'!$C801,'Отрасли ОКВЭД'!$B801)","v":"23.43"},"C","23.43","Производство керамических изоляторов и изолирующей арматуры"]
[{"$f":"IF('Отрасли ОКВЭД'!$C802<>\"\",'Отрасли ОКВЭД'!$C802,'Отрасли ОКВЭД'!$B802)","v":"23.44"},"C","23.44","Производство прочих технических керамических изделий"]
[{"$f":"IF('Отрасли ОКВЭД'!$C803<>\"\",'Отрасли ОКВЭД'!$C803,'Отрасли ОКВЭД'!$B803)","v":"23.44.1"},"C","23.44.1","Производство керамических изделий лабораторного, химического и промышленного назначения"]
[{"$f":"IF('Отрасли ОКВЭД'!$C804<>\"\",'Отрасли ОКВЭД'!$C804,'Отрасли ОКВЭД'!$B804)","v":"23.44.2"},"C","23.44.2","Производство керамических и ферритовых магнитов"]
[{"$f":"IF('Отрасли ОКВЭД'!$C805<>\"\",'Отрасли ОКВЭД'!$C805,'Отрасли ОКВЭД'!$B805)","v":"23.49"},"C","23.49","Производство прочих керамических изделий"]
[{"$f":"IF('Отрасли ОКВЭД'!$C806<>\"\",'Отрасли ОКВЭД'!$C806,'Отрасли ОКВЭД'!$B806)","v":"23.49.1"},"C","23.49.1","Производство керамических горшков, банок, кувшинов и подобных изделий, используемых для транспортирования или упаковывания товаров"]
[{"$f":"IF('Отрасли ОКВЭД'!$C807<>\"\",'Отрасли ОКВЭД'!$C807,'Отрасли ОКВЭД'!$B807)","v":"23.49.9"},"C","23.49.9","Производство керамических изделий, не включенных в другие группировки"]
[{"$f":"IF('Отрасли ОКВЭД'!$C808<>\"\",'Отрасли ОКВЭД'!$C808,'Отрасли ОКВЭД'!$B808)","v":"23.5"},"C","23.5","Производство цемента, извести и гипса"]
[{"$f":"IF('Отрасли ОКВЭД'!$C809<>\"\",'Отрасли ОКВЭД'!$C809,'Отрасли ОКВЭД'!$B809)","v":"23.51"},"C","23.51","Производство цемента"]
[{"$f":"IF('Отрасли ОКВЭД'!$C810<>\"\",'Отрасли ОКВЭД'!$C810,'Отрасли ОКВЭД'!$B810)","v":"23.52"},"C","23.52","Производство извести и гипса"]
[{"$f":"IF('Отрасли ОКВЭД'!$C811<>\"\",'Отрасли ОКВЭД'!$C811,'Отрасли ОКВЭД'!$B811)","v":"23.52.1"},"C","23.52.1","Производство негашеной, гашеной и гидравлической извести"]
[{"$f":"IF('Отрасли ОКВЭД'!$C812<>\"\",'Отрасли ОКВЭД'!$C812,'Отрасли ОКВЭД'!$B812)","v":"23.52.2"},"C","23.52.2","Производство гипса"]
[{"$f":"IF('Отрасли ОКВЭД'!$C813<>\"\",'Отрасли ОКВЭД'!$C813,'Отрасли ОКВЭД'!$B813)","v":"23.52.3"},"C","23.52.3","Производство кальцинированного доломита"]
[{"$f":"IF('Отрасли ОКВЭД'!$C814<>\"\",'Отрасли ОКВЭД'!$C814,'Отрасли ОКВЭД'!$B814)","v":"23.6"},"C","23.6","Производство изделий из бетона, цемента и гипса"]
[{"$f":"IF('Отрасли ОКВЭД'!$C815<>\"\",'Отрасли ОКВЭД'!$C815,'Отрасли ОКВЭД'!$B815)","v":"23.61"},"C","23.61","Производство изделий из бетона для использования в строительстве"]
[{"$f":"IF('Отрасли ОКВЭД'!$C816<>\"\",'Отрасли ОКВЭД'!$C816,'Отрасли ОКВЭД'!$B816)","v":"23.61.1"},"C","23.61.1","Производство готовых строительных изделий из бетона, цемента и искусственного камня"]
[{"$f":"IF('Отрасли ОКВЭД'!$C817<>\"\",'Отрасли ОКВЭД'!$C817,'Отрасли ОКВЭД'!$B817)","v":"23.61.2"},"C","23.61.2","Производство сборных строительных конструкций из бетона, цемента и искусственного камня"]
[{"$f":"IF('Отрасли ОКВЭД'!$C818<>\"\",'Отрасли ОКВЭД'!$C818,'Отрасли ОКВЭД'!$B818)","v":"23.62"},"C","23.62","Производство гипсовых изделий для использования в строительстве"]
[{"$f":"IF('Отрасли ОКВЭД'!$C819<>\"\",'Отрасли ОКВЭД'!$C819,'Отрасли ОКВЭД'!$B819)","v":"23.63"},"C","23.63","Производство товарного бетона"]
[{"$f":"IF('Отрасли ОКВЭД'!$C820<>\"\",'Отрасли ОКВЭД'!$C820,'Отрасли ОКВЭД'!$B820)","v":"23.64"},"C","23.64","Производство сухих бетонных смесей"]
[{"$f":"IF('Отрасли ОКВЭД'!$C821<>\"\",'Отрасли ОКВЭД'!$C821,'Отрасли ОКВЭД'!$B821)","v":"23.65"},"C","23.65","Производство изделий из асбестоцемента и волокнистого цемента"]
[{"$f":"IF('Отрасли ОКВЭД'!$C822<>\"\",'Отрасли ОКВЭД'!$C822,'Отрасли ОКВЭД'!$B822)","v":"23.65.1"},"C","23.65.1","Производство строительных материалов из растительного сырья, смешанного с цементом, гипсом или прочими минеральными связующими веществами"]
[{"$f":"IF('Отрасли ОКВЭД'!$C823<>\"\",'Отрасли ОКВЭД'!$C823,'Отрасли ОКВЭД'!$B823)","v":"23.65.2"},"C","23.65.2","Производство изделий из асбестоцемента и волокнистого цемента с волокнами целлюлозы или аналогичных материалов"]
[{"$f":"IF('Отрасли ОКВЭД'!$C824<>\"\",'Отрасли ОКВЭД'!$C824,'Отрасли ОКВЭД'!$B824)","v":"23.69"},"C","23.69","Производство прочих изделий из гипса, бетона или цемента"]
[{"$f":"IF('Отрасли ОКВЭД'!$C825<>\"\",'Отрасли ОКВЭД'!$C825,'Отрасли ОКВЭД'!$B825)","v":"23.7"},"C","23.7","Резка, обработка и отделка камня"]
[{"$f":"IF('Отрасли ОКВЭД'!$C826<>\"\",'Отрасли ОКВЭД'!$C826,'Отрасли ОКВЭД'!$B826)","v":"23.70"},"C","23.70","Резка, обработка и отделка камня"]
[{"$f":"IF('Отрасли ОКВЭД'!$C827<>\"\",'Отрасли ОКВЭД'!$C827,'Отрасли ОКВЭД'!$B827)","v":"23.70.1"},"C","23.70.1","Резка, обработка и отделка камня для использования в строительстве в качестве дорожного покрытия"]
[{"$f":"IF('Отрасли ОКВЭД'!$C828<>\"\",'Отрасли ОКВЭД'!$C828,'Отрасли ОКВЭД'!$B828)","v":"23.70.2"},"C","23.70.2","Резка, обработка и отделка камня для памятников"]
[{"$f":"IF('Отрасли ОКВЭД'!$C829<>\"\",'Отрасли ОКВЭД'!$C829,'Отрасли ОКВЭД'!$B829)","v":"23.70.3"},"C","23.70.3","Производство гранул и порошков из природного камня"]
[{"$f":"IF('Отрасли ОКВЭД'!$C830<>\"\",'Отрасли ОКВЭД'!$C830,'Отрасли ОКВЭД'!$B830)","v":"23.9"},"C","23.9","Производство абразивных и неметаллических минеральных изделий, не включенных в другие группировки"]
[{"$f":"IF('Отрасли ОКВЭД'!$C831<>\"\",'Отрасли ОКВЭД'!$C831,'Отрасли ОКВЭД'!$B831)","v":"23.91"},"C","23.91","Производство абразивных изделий"]
[{"$f":"IF('Отрасли ОКВЭД'!$C832<>\"\",'Отрасли ОКВЭД'!$C832,'Отрасли ОКВЭД'!$B832)","v":"23.99"},"C","23.99","Производство прочей неметаллической минеральной продукции, не включенной в другие группировки"]
[{"$f":"IF('Отрасли ОКВЭД'!$C833<>\"\",'Отрасли ОКВЭД'!$C833,'Отрасли ОКВЭД'!$B833)","v":"23.99.1"},"C","23.99.1","Производство обработанных асбестовых волокон, смесей на основе асбеста и изделий из них"]
[{"$f":"IF('Отрасли ОКВЭД'!$C834<>\"\",'Отрасли ОКВЭД'!$C834,'Отрасли ОКВЭД'!$B834)","v":"23.99.2"},"C","23.99.2","Производство изделий из асфальта или аналогичных материалов"]
[{"$f":"IF('Отрасли ОКВЭД'!$C835<>\"\",'Отрасли ОКВЭД'!$C835,'Отрасли ОКВЭД'!$B835)","v":"23.99.3"},"C","23.99.3","Производство битуминозных смесей на основе природного асфальта или битума, нефтяного битума, минеральных смол или их пеков"]
[{"$f":"IF('Отрасли ОКВЭД'!$C836<>\"\",'Отрасли ОКВЭД'!$C836,'Отрасли ОКВЭД'!$B836)","v":"23.99.4"},"C","23.99.4","Производство искусственного графита, коллоидного или полуколлоидного графита, продуктов на основе графита или прочих форм углерода в виде полуфабрикатов"]
[{"$f":"IF('Отрасли ОКВЭД'!$C837<>\"\",'Отрасли ОКВЭД'!$C837,'Отрасли ОКВЭД'!$B837)","v":"23.99.5"},"C","23.99.5","Производство искусственного корунда"]
[{"$f":"IF('Отрасли ОКВЭД'!$C838<>\"\",'Отрасли ОКВЭД'!$C838,'Отрасли ОКВЭД'!$B838)","v":"23.99.6"},"C","23.99.6","Производство минеральных тепло- и звукоизоляционных материалов и изделий"]
[{"$f":"IF('Отрасли ОКВЭД'!$C839<>\"\",'Отрасли ОКВЭД'!$C839,'Отрасли ОКВЭД'!$B839)","v":"23.99.61"},"C","23.99.61","Производство минеральных теплоизоляционных материалов и изделий"]
[{"$f":"IF('Отрасли ОКВЭД'!$C840<>\"\",'Отрасли ОКВЭД'!$C840,'Отрасли ОКВЭД'!$B840)","v":"23.99.62"},"C","23.99.62","Производство минеральных звукоизоляционных материалов и изделий"]
[{"$f":"IF('Отрасли ОКВЭД'!$C841<>\"\",'Отрасли ОКВЭД'!$C841,'Отрасли ОКВЭД'!$B841)","v":"24"},"C","24","Производство металлургическое"]
[{"$f":"IF('Отрасли ОКВЭД'!$C842<>\"\",'Отрасли ОКВЭД'!$C842,'Отрасли ОКВЭД'!$B842)","v":"24.1"},"C","24.1","Производство чугуна, стали и ферросплавов"]
[{"$f":"IF('Отрасли ОКВЭД'!$C843<>\"\",'Отрасли ОКВЭД'!$C843,'Отрасли ОКВЭД'!$B843)","v":"24.10"},"C","24.10","Производство чугуна, стали и ферросплавов"]
[{"$f":"IF('Отрасли ОКВЭД'!$C844<>\"\",'Отрасли ОКВЭД'!$C844,'Отрасли ОКВЭД'!$B844)","v":"24.10.1"},"C","24.10.1","Производство основных продуктов из железа и стали"]
[{"$f":"IF('Отрасли ОКВЭД'!$C845<>\"\",'Отрасли ОКВЭД'!$C845,'Отрасли ОКВЭД'!$B845)","v":"24.10.11"},"C","24.10.11","Производство чугуна"]
[{"$f":"IF('Отрасли ОКВЭД'!$C846<>\"\",'Отрасли ОКВЭД'!$C846,'Отрасли ОКВЭД'!$B846)","v":"24.10.12"},"C","24.10.12","Производство ферросплавов"]
[{"$f":"IF('Отрасли ОКВЭД'!$C847<>\"\",'Отрасли ОКВЭД'!$C847,'Отрасли ОКВЭД'!$B847)","v":"24.10.13"},"C","24.10.13","Производство продуктов прямого восстановления железной руды и губчатого железа"]
[{"$f":"IF('Отрасли ОКВЭД'!$C848<>\"\",'Отрасли ОКВЭД'!$C848,'Отрасли ОКВЭД'!$B848)","v":"24.10.14"},"C","24.10.14","Производство гранул и порошков из чугуна или стали"]
[{"$f":"IF('Отрасли ОКВЭД'!$C849<>\"\",'Отрасли ОКВЭД'!$C849,'Отрасли ОКВЭД'!$B849)","v":"24.10.2"},"C","24.10.2","Производство стали в слитках"]
[{"$f":"IF('Отрасли ОКВЭД'!$C850<>\"\",'Отрасли ОКВЭД'!$C850,'Отрасли ОКВЭД'!$B850)","v":"24.10.3"},"C","24.10.3","Производство листового горячекатаного стального проката"]
[{"$f":"IF('Отрасли ОКВЭД'!$C851<>\"\",'Отрасли ОКВЭД'!$C851,'Отрасли ОКВЭД'!$B851)","v":"24.10.4"},"C","24.10.4","Производство листового холоднокатаного стального проката"]
[{"$f":"IF('Отрасли ОКВЭД'!$C852<>\"\",'Отрасли ОКВЭД'!$C852,'Отрасли ОКВЭД'!$B852)","v":"24.10.5"},"C","24.10.5","Производство листового холоднокатаного стального проката, плакированного, с гальваническим или иным покрытием"]
[{"$f":"IF('Отрасли ОКВЭД'!$C853<>\"\",'Отрасли ОКВЭД'!$C853,'Отрасли ОКВЭД'!$B853)","v":"24.10.6"},"C","24.10.6","Производство сортового горячекатаного проката и катанки"]
[{"$f":"IF('Отрасли ОКВЭД'!$C854<>\"\",'Отрасли ОКВЭД'!$C854,'Отрасли ОКВЭД'!$B854)","v":"24.10.7"},"C","24.10.7","Производство незамкнутых стальных профилей горячей обработки, листового проката в пакетах и стального рельсового профиля для железных дорог и трамвайных путей"]
[{"$f":"IF('Отрасли ОКВЭД'!$C855<>\"\",'Отрасли ОКВЭД'!$C855,'Отрасли ОКВЭД'!$B855)","v":"24.10.9"},"C","24.10.9","Производство прочего проката из черных металлов, не включенного в другие группировки"]
[{"$f":"IF('Отрасли ОКВЭД'!$C856<>\"\",'Отрасли ОКВЭД'!$C856,'Отрасли ОКВЭД'!$B856)","v":"24.2"},"C","24.2","Производство стальных труб, полых профилей и фитингов"]
[{"$f":"IF('Отрасли ОКВЭД'!$C857<>\"\",'Отрасли ОКВЭД'!$C857,'Отрасли ОКВЭД'!$B857)","v":"24.20"},"C","24.20","Производство стальных труб, полых профилей и фитингов"]
[{"$f":"IF('Отрасли ОКВЭД'!$C858<>\"\",'Отрасли ОКВЭД'!$C858,'Отрасли ОКВЭД'!$B858)","v":"24.20.1"},"C","24.20.1","Производство бесшовных труб и пустотелых профилей"]
[{"$f":"IF('Отрасли ОКВЭД'!$C859<>\"\",'Отрасли ОКВЭД'!$C859,'Отрасли ОКВЭД'!$B859)","v":"24.20.2"},"C","24.20.2","Производство сварных труб"]
[{"$f":"IF('Отрасли ОКВЭД'!$C860<>\"\",'Отрасли ОКВЭД'!$C860,'Отрасли ОКВЭД'!$B860)","v":"24.20.3"},"C","24.20.3","Производство стальных фитингов для труб, кроме литых"]
[{"$f":"IF('Отрасли ОКВЭД'!$C861<>\"\",'Отрасли ОКВЭД'!$C861,'Отрасли ОКВЭД'!$B861)","v":"24.3"},"C","24.3","Производство прочих стальных изделий первичной обработкой"]
[{"$f":"IF('Отрасли ОКВЭД'!$C862<>\"\",'Отрасли ОКВЭД'!$C862,'Отрасли ОКВЭД'!$B862)","v":"24.31"},"C","24.31","Производство стальных прутков и сплошных профилей методом холодного волочения"]
[{"$f":"IF('Отрасли ОКВЭД'!$C863<>\"\",'Отрасли ОКВЭД'!$C863,'Отрасли ОКВЭД'!$B863)","v":"24.32"},"C","24.32","Производство холоднотянутого штрипса"]
[{"$f":"IF('Отрасли ОКВЭД'!$C864<>\"\",'Отрасли ОКВЭД'!$C864,'Отрасли ОКВЭД'!$B864)","v":"24.33"},"C","24.33","Производство профилей с помощью холодной штамповки или гибки"]
[{"$f":"IF('Отрасли ОКВЭД'!$C865<>\"\",'Отрасли ОКВЭД'!$C865,'Отрасли ОКВЭД'!$B865)","v":"24.34"},"C","24.34","Производство проволоки методом холодного волочения"]
[{"$f":"IF('Отрасли ОКВЭД'!$C866<>\"\",'Отрасли ОКВЭД'!$C866,'Отрасли ОКВЭД'!$B866)","v":"24.4"},"C","24.4","Производство основных драгоценных металлов и прочих цветных металлов, производство ядерного топлива"]
[{"$f":"IF('Отрасли ОКВЭД'!$C867<>\"\",'Отрасли ОКВЭД'!$C867,'Отрасли ОКВЭД'!$B867)","v":"24.41"},"C","24.41","Производство драгоценных металлов"]
[{"$f":"IF('Отрасли ОКВЭД'!$C868<>\"\",'Отрасли ОКВЭД'!$C868,'Отрасли ОКВЭД'!$B868)","v":"24.42"},"C","24.42","Производство алюминия"]
[{"$f":"IF('Отрасли ОКВЭД'!$C869<>\"\",'Отрасли ОКВЭД'!$C869,'Отрасли ОКВЭД'!$B869)","v":"24.43"},"C","24.43","Производство свинца, цинка и олова"]
[{"$f":"IF('Отрасли ОКВЭД'!$C870<>\"\",'Отрасли ОКВЭД'!$C870,'Отрасли ОКВЭД'!$B870)","v":"24.43.1"},"C","24.43.1","Производство свинца"]
[{"$f":"IF('Отрасли ОКВЭД'!$C871<>\"\",'Отрасли ОКВЭД'!$C871,'Отрасли ОКВЭД'!$B871)","v":"24.43.2"},"C","24.43.2","Производство цинка"]
[{"$f":"IF('Отрасли ОКВЭД'!$C872<>\"\",'Отрасли ОКВЭД'!$C872,'Отрасли ОКВЭД'!$B872)","v":"24.43.3"},"C","24.43.3","Производство олова"]
[{"$f":"IF('Отрасли ОКВЭД'!$C873<>\"\",'Отрасли ОКВЭД'!$C873,'Отрасли ОКВЭД'!$B873)","v":"24.44"},"C","24.44","Производство меди"]
[{"$f":"IF('Отрасли ОКВЭД'!$C874<>\"\",'Отрасли ОКВЭД'!$C874,'Отрасли ОКВЭД'!$B874)","v":"24.45"},"C","24.45","Производство прочих цветных металлов"]
[{"$f":"IF('Отрасли ОКВЭД'!$C875<>\"\",'Отрасли ОКВЭД'!$C875,'Отрасли ОКВЭД'!$B875)","v":"24.45.1"},"C","24.45.1","Производство никеля"]
[{"$f":"IF('Отрасли ОКВЭД'!$C876<>\"\",'Отрасли ОКВЭД'!$C876,'Отрасли ОКВЭД'!$B876)","v":"24.45.2"},"C","24.45.2","Производство титана"]
[{"$f":"IF('Отрасли ОКВЭД'!$C877<>\"\",'Отрасли ОКВЭД'!$C877,'Отрасли ОКВЭД'!$B877)","v":"24.45.3"},"C","24.45.3","Производство магния"]
[{"$f":"IF('Отрасли ОКВЭД'!$C878<>\"\",'Отрасли ОКВЭД'!$C878,'Отрасли ОКВЭД'!$B878)","v":"24.45.4"},"C","24.45.4","Производство вольфрама"]
[{"$f":"IF('Отрасли ОКВЭД'!$C879<>\"\",'Отрасли ОКВЭД'!$C879,'Отрасли ОКВЭД'!$B879)","v":"24.45.5"},"C","24.45.5","Производство молибдена"]
[{"$f":"IF('Отрасли ОКВЭД'!$C880<>\"\",'Отрасли ОКВЭД'!$C880,'Отрасли ОКВЭД'!$B880)","v":"24.45.6"},"C","24.45.6","Производство кобальта"]
[{"$f":"IF('Отрасли ОКВЭД'!$C881<>\"\",'Отрасли ОКВЭД'!$C881,'Отрасли ОКВЭД'!$B881)","v":"24.45.7"},"C","24.45.7","Производство хрома"]
[{"$f":"IF('Отрасли ОКВЭД'!$C882<>\"\",'Отрасли ОКВЭД'!$C882,'Отрасли ОКВЭД'!$B882)","v":"24.45.8"},"C","24.45.8","Производство марганца"]
[{"$f":"IF('Отрасли ОКВЭД'!$C883<>\"\",'Отрасли ОКВЭД'!$C883,'Отрасли ОКВЭД'!$B883)","v":"24.45.9"},"C","24.45.9","Производство редких (тантал, ниобий, галлий, германий, иридий) и редкоземельных металлов"]
[{"$f":"IF('Отрасли ОКВЭД'!$C884<>\"\",'Отрасли ОКВЭД'!$C884,'Отрасли ОКВЭД'!$B884)","v":"24.46"},"C","24.46","Производство ядерного топлива"]
[{"$f":"IF('Отрасли ОКВЭД'!$C885<>\"\",'Отрасли ОКВЭД'!$C885,'Отрасли ОКВЭД'!$B885)","v":"24.5"},"C","24.5","Литье металлов"]
[{"$f":"IF('Отрасли ОКВЭД'!$C886<>\"\",'Отрасли ОКВЭД'!$C886,'Отрасли ОКВЭД'!$B886)","v":"24.51"},"C","24.51","Литье чугуна"]
[{"$f":"IF('Отрасли ОКВЭД'!$C887<>\"\",'Отрасли ОКВЭД'!$C887,'Отрасли ОКВЭД'!$B887)","v":"24.52"},"C","24.52","Литье стали"]
[{"$f":"IF('Отрасли ОКВЭД'!$C888<>\"\",'Отрасли ОКВЭД'!$C888,'Отрасли ОКВЭД'!$B888)","v":"24.53"},"C","24.53","Литье легких металлов"]
[{"$f":"IF('Отрасли ОКВЭД'!$C889<>\"\",'Отрасли ОКВЭД'!$C889,'Отрасли ОКВЭД'!$B889)","v":"24.54"},"C","24.54","Литье прочих цветных металлов"]
[{"$f":"IF('Отрасли ОКВЭД'!$C890<>\"\",'Отрасли ОКВЭД'!$C890,'Отрасли ОКВЭД'!$B890)","v":"25"},"C","25","Производство готовых металлических изделий, кроме машин и оборудования"]
[{"$f":"IF('Отрасли ОКВЭД'!$C891<>\"\",'Отрасли ОКВЭД'!$C891,'Отрасли ОКВЭД'!$B891)","v":"25.1"},"C","25.1","Производство строительных металлических конструкций и изделий"]
[{"$f":"IF('Отрасли ОКВЭД'!$C892<>\"\",'Отрасли ОКВЭД'!$C892,'Отрасли ОКВЭД'!$B892)","v":"25.11"},"C","25.11","Производство строительных металлических конструкций, изделий и их частей"]
[{"$f":"IF('Отрасли ОКВЭД'!$C893<>\"\",'Отрасли ОКВЭД'!$C893,'Отрасли ОКВЭД'!$B893)","v":"25.12"},"C","25.12","Производство металлических дверей и окон"]
[{"$f":"IF('Отрасли ОКВЭД'!$C894<>\"\",'Отрасли ОКВЭД'!$C894,'Отрасли ОКВЭД'!$B894)","v":"25.2"},"C","25.2","Производство металлических цистерн, резервуаров и прочих емкостей"]
[{"$f":"IF('Отрасли ОКВЭД'!$C895<>\"\",'Отрасли ОКВЭД'!$C895,'Отрасли ОКВЭД'!$B895)","v":"25.21"},"C","25.21","Производство радиаторов и котлов центрального отопления"]
[{"$f":"IF('Отрасли ОКВЭД'!$C896<>\"\",'Отрасли ОКВЭД'!$C896,'Отрасли ОКВЭД'!$B896)","v":"25.21.1"},"C","25.21.1","Производство радиаторов"]
[{"$f":"IF('Отрасли ОКВЭД'!$C897<>\"\",'Отрасли ОКВЭД'!$C897,'Отрасли ОКВЭД'!$B897)","v":"25.21.2"},"C","25.21.2","Производство котлов центрального отопления"]
[{"$f":"IF('Отрасли ОКВЭД'!$C898<>\"\",'Отрасли ОКВЭД'!$C898,'Отрасли ОКВЭД'!$B898)","v":"25.29"},"C","25.29","Производство прочих металлических цистерн, резервуаров и емкостей"]
[{"$f":"IF('Отрасли ОКВЭД'!$C899<>\"\",'Отрасли ОКВЭД'!$C899,'Отрасли ОКВЭД'!$B899)","v":"25.3"},"C","25.3","Производство паровых котлов, кроме котлов центрального отопления"]
[{"$f":"IF('Отрасли ОКВЭД'!$C900<>\"\",'Отрасли ОКВЭД'!$C900,'Отрасли ОКВЭД'!$B900)","v":"25.30"},"C","25.30","Производство паровых котлов, кроме котлов центрального отопления"]
[{"$f":"IF('Отрасли ОКВЭД'!$C901<>\"\",'Отрасли ОКВЭД'!$C901,'Отрасли ОКВЭД'!$B901)","v":"25.30.1"},"C","25.30.1","Производство паровых котлов и их частей"]
[{"$f":"IF('Отрасли ОКВЭД'!$C902<>\"\",'Отрасли ОКВЭД'!$C902,'Отрасли ОКВЭД'!$B902)","v":"25.30.2"},"C","25.30.2","Производство ядерных установок и их составных частей, в том числе для транспортных средств"]
[{"$f":"IF('Отрасли ОКВЭД'!$C903<>\"\",'Отрасли ОКВЭД'!$C903,'Отрасли ОКВЭД'!$B903)","v":"25.30.21"},"C","25.30.21","Производство ядерных установок, кроме устройств для разделения изотопов"]
[{"$f":"IF('Отрасли ОКВЭД'!$C904<>\"\",'Отрасли ОКВЭД'!$C904,'Отрасли ОКВЭД'!$B904)","v":"25.30.22"},"C","25.30.22","Производство частей ядерных установок, кроме устройств для разделения изотопов"]
[{"$f":"IF('Отрасли ОКВЭД'!$C905<>\"\",'Отрасли ОКВЭД'!$C905,'Отрасли ОКВЭД'!$B905)","v":"25.4"},"C","25.4","Производство оружия и боеприпасов"]
[{"$f":"IF('Отрасли ОКВЭД'!$C906<>\"\",'Отрасли ОКВЭД'!$C906,'Отрасли ОКВЭД'!$B906)","v":"25.40"},"C","25.40","Производство оружия и боеприпасов"]
[{"$f":"IF('Отрасли ОКВЭД'!$C907<>\"\",'Отрасли ОКВЭД'!$C907,'Отрасли ОКВЭД'!$B907)","v":"25.5"},"C","25.5","Ковка, прессование, штамповка и профилирование; изготовление изделий методом порошковой металлургии"]
[{"$f":"IF('Отрасли ОКВЭД'!$C908<>\"\",'Отрасли ОКВЭД'!$C908,'Отрасли ОКВЭД'!$B908)","v":"25.50"},"C","25.50","Ковка, прессование, штамповка и профилирование, изготовление изделий методом порошковой металлургии"]
[{"$f":"IF('Отрасли ОКВЭД'!$C909<>\"\",'Отрасли ОКВЭД'!$C909,'Отрасли ОКВЭД'!$B909)","v":"25.50.1"},"C","25.50.1","Предоставление услуг по ковке, прессованию, объемной и листовой штамповке и профилированию листового металла"]
[{"$f":"IF('Отрасли ОКВЭД'!$C910<>\"\",'Отрасли ОКВЭД'!$C910,'Отрасли ОКВЭД'!$B910)","v":"25.50.2"},"C","25.50.2","Предоставление услуг по производству изделий методом порошковой металлургии"]
[{"$f":"IF('Отрасли ОКВЭД'!$C911<>\"\",'Отрасли ОКВЭД'!$C911,'Отрасли ОКВЭД'!$B911)","v":"25.6"},"C","25.6","Обработка металлов и нанесение покрытий на металлы; механическая обработка металлов"]
[{"$f":"IF('Отрасли ОКВЭД'!$C912<>\"\",'Отрасли ОКВЭД'!$C912,'Отрасли ОКВЭД'!$B912)","v":"25.61"},"C","25.61","Обработка металлов и нанесение покрытий на металлы"]
[{"$f":"IF('Отрасли ОКВЭД'!$C913<>\"\",'Отрасли ОКВЭД'!$C913,'Отрасли ОКВЭД'!$B913)","v":"25.62"},"C","25.62","Обработка металлических изделий механическая"]
[{"$f":"IF('Отрасли ОКВЭД'!$C914<>\"\",'Отрасли ОКВЭД'!$C914,'Отрасли ОКВЭД'!$B914)","v":"25.7"},"C","25.7","Производство ножевых изделий и столовых приборов, инструментов и универсальных скобяных изделий"]
[{"$f":"IF('Отрасли ОКВЭД'!$C915<>\"\",'Отрасли ОКВЭД'!$C915,'Отрасли ОКВЭД'!$B915)","v":"25.71"},"C","25.71","Производство ножевых изделий и столовых приборов"]
[{"$f":"IF('Отрасли ОКВЭД'!$C916<>\"\",'Отрасли ОКВЭД'!$C916,'Отрасли ОКВЭД'!$B916)","v":"25.72"},"C","25.72","Производство замков, петель"]
[{"$f":"IF('Отрасли ОКВЭД'!$C917<>\"\",'Отрасли ОКВЭД'!$C917,'Отрасли ОКВЭД'!$B917)","v":"25.73"},"C","25.73","Производство инструмента"]
[{"$f":"IF('Отрасли ОКВЭД'!$C918<>\"\",'Отрасли ОКВЭД'!$C918,'Отрасли ОКВЭД'!$B918)","v":"25.9"},"C","25.9","Производство прочих готовых металлических изделий"]
[{"$f":"IF('Отрасли ОКВЭД'!$C919<>\"\",'Отрасли ОКВЭД'!$C919,'Отрасли ОКВЭД'!$B919)","v":"25.91"},"C","25.91","Производство металлических бочек и аналогичных емкостей"]
[{"$f":"IF('Отрасли ОКВЭД'!$C920<>\"\",'Отрасли ОКВЭД'!$C920,'Отрасли ОКВЭД'!$B920)","v":"25.92"},"C","25.92","Производство тары из легких металлов"]
[{"$f":"IF('Отрасли ОКВЭД'!$C921<>\"\",'Отрасли ОКВЭД'!$C921,'Отрасли ОКВЭД'!$B921)","v":"25.93"},"C","25.93","Производство изделий из проволоки, цепей и пружин"]
[{"$f":"IF('Отрасли ОКВЭД'!$C922<>\"\",'Отрасли ОКВЭД'!$C922,'Отрасли ОКВЭД'!$B922)","v":"25.93.1"},"C","25.93.1","Производство изделий из проволоки и пружин"]
[{"$f":"IF('Отрасли ОКВЭД'!$C923<>\"\",'Отрасли ОКВЭД'!$C923,'Отрасли ОКВЭД'!$B923)","v":"25.93.2"},"C","25.93.2","Производство цепей, кроме шарнирных, и составных частей к ним"]
[{"$f":"IF('Отрасли ОКВЭД'!$C924<>\"\",'Отрасли ОКВЭД'!$C924,'Отрасли ОКВЭД'!$B924)","v":"25.94"},"C","25.94","Производство крепежных изделий"]
[{"$f":"IF('Отрасли ОКВЭД'!$C925<>\"\",'Отрасли ОКВЭД'!$C925,'Отрасли ОКВЭД'!$B925)","v":"25.99"},"C","25.99","Производство прочих готовых металлических изделий, не включенных в другие группировки"]
[{"$f":"IF('Отрасли ОКВЭД'!$C926<>\"\",'Отрасли ОКВЭД'!$C926,'Отрасли ОКВЭД'!$B926)","v":"25.99.1"},"C","25.99.1","Производство металлических изделий для ванных комнат и кухни"]
[{"$f":"IF('Отрасли ОКВЭД'!$C927<>\"\",'Отрасли ОКВЭД'!$C927,'Отрасли ОКВЭД'!$B927)","v":"25.99.11"},"C","25.99.11","Производство раковин, моек, ванн и прочих санитарно-технических изделий и их составных частей из черных металлов, меди или алюминия"]
[{"$f":"IF('Отрасли ОКВЭД'!$C928<>\"\",'Отрасли ОКВЭД'!$C928,'Отрасли ОКВЭД'!$B928)","v":"25.99.12"},"C","25.99.12","Производство столовых, кухонных и прочих бытовых изделий, кроме столовых и кухонных приборов, и их составных частей из черных металлов, меди или алюминия"]
[{"$f":"IF('Отрасли ОКВЭД'!$C929<>\"\",'Отрасли ОКВЭД'!$C929,'Отрасли ОКВЭД'!$B929)","v":"25.99.2"},"C","25.99.2","Производство прочих металлических изделий"]
[{"$f":"IF('Отрасли ОКВЭД'!$C930<>\"\",'Отрасли ОКВЭД'!$C930,'Отрасли ОКВЭД'!$B930)","v":"25.99.21"},"C","25.99.21","Производство бронированных или армированных сейфов, несгораемых шкафов и дверей"]
[{"$f":"IF('Отрасли ОКВЭД'!$C931<>\"\",'Отрасли ОКВЭД'!$C931,'Отрасли ОКВЭД'!$B931)","v":"25.99.22"},"C","25.99.22","Производство канцелярского настольного оборудования (ящиков, картотек, лотков и т. п.) из недрагоценных металлов"]
[{"$f":"IF('Отрасли ОКВЭД'!$C932<>\"\",'Отрасли ОКВЭД'!$C932,'Отрасли ОКВЭД'!$B932)","v":"25.99.23"},"C","25.99.23","Производство деталей для скоросшивателей или папок; канцелярских принадлежностей и скоб в виде полос из недрагоценных металлов"]
[{"$f":"IF('Отрасли ОКВЭД'!$C933<>\"\",'Отрасли ОКВЭД'!$C933,'Отрасли ОКВЭД'!$B933)","v":"25.99.24"},"C","25.99.24","Производство статуэток, рам для фотографий, картин, зеркал и прочих декоративных изделий из недрагоценных металлов"]
[{"$f":"IF('Отрасли ОКВЭД'!$C934<>\"\",'Отрасли ОКВЭД'!$C934,'Отрасли ОКВЭД'!$B934)","v":"25.99.25"},"C","25.99.25","Производство фурнитуры из недрагоценных металлов для одежды, обуви, кожгалантереи и прочих изделий, в том числе крючков, пряжек, застежек, петелек, колечек, трубчатых и раздвоенных заклепок и др."]
[{"$f":"IF('Отрасли ОКВЭД'!$C935<>\"\",'Отрасли ОКВЭД'!$C935,'Отрасли ОКВЭД'!$B935)","v":"25.99.26"},"C","25.99.26","Производство судовых гребных винтов и гребных колес"]
[{"$f":"IF('Отрасли ОКВЭД'!$C936<>\"\",'Отрасли ОКВЭД'!$C936,'Отрасли ОКВЭД'!$B936)","v":"25.99.27"},"C","25.99.27","Производство металлических изделий для области использования атомной энергии"]
[{"$f":"IF('Отрасли ОКВЭД'!$C937<>\"\",'Отрасли ОКВЭД'!$C937,'Отрасли ОКВЭД'!$B937)","v":"25.99.29"},"C","25.99.29","Производство прочих изделий из недрагоценных металлов, не включенных в другие группировки"]
[{"$f":"IF('Отрасли ОКВЭД'!$C938<>\"\",'Отрасли ОКВЭД'!$C938,'Отрасли ОКВЭД'!$B938)","v":"25.99.3"},"C","25.99.3","Изготовление готовых металлических изделий хозяйственного назначения по индивидуальному заказу населения"]
[{"$f":"IF('Отрасли ОКВЭД'!$C939<>\"\",'Отрасли ОКВЭД'!$C939,'Отрасли ОКВЭД'!$B939)","v":"26"},"C","26","Производство компьютеров, электронных и оптических изделий"]
[{"$f":"IF('Отрасли ОКВЭД'!$C940<>\"\",'Отрасли ОКВЭД'!$C940,'Отрасли ОКВЭД'!$B940)","v":"26.1"},"C","26.1","Производство элементов электронной аппаратуры и печатных схем (плат)"]
[{"$f":"IF('Отрасли ОКВЭД'!$C941<>\"\",'Отрасли ОКВЭД'!$C941,'Отрасли ОКВЭД'!$B941)","v":"26.11"},"C","26.11","Производство элементов электронной аппаратуры"]
[{"$f":"IF('Отрасли ОКВЭД'!$C942<>\"\",'Отрасли ОКВЭД'!$C942,'Отрасли ОКВЭД'!$B942)","v":"26.11.1"},"C","26.11.1","Производство электронных вакуумных ламп и трубок и прочих электронных вакуумных приборов"]
[{"$f":"IF('Отрасли ОКВЭД'!$C943<>\"\",'Отрасли ОКВЭД'!$C943,'Отрасли ОКВЭД'!$B943)","v":"26.11.2"},"C","26.11.2","Производство диодов, транзисторов и прочих полупроводниковых приборов, включая светоизлучающие диоды, пьезоэлектрические приборы и их части"]
[{"$f":"IF('Отрасли ОКВЭД'!$C944<>\"\",'Отрасли ОКВЭД'!$C944,'Отрасли ОКВЭД'!$B944)","v":"26.11.3"},"C","26.11.3","Производство интегральных электронных схем"]
[{"$f":"IF('Отрасли ОКВЭД'!$C945<>\"\",'Отрасли ОКВЭД'!$C945,'Отрасли ОКВЭД'!$B945)","v":"26.11.9"},"C","26.11.9","Производство частей электронных ламп, трубок и прочих электронных компонентов, не включенных в другие группировки"]
[{"$f":"IF('Отрасли ОКВЭД'!$C946<>\"\",'Отрасли ОКВЭД'!$C946,'Отрасли ОКВЭД'!$B946)","v":"26.12"},"C","26.12","Производство электронных печатных плат"]
[{"$f":"IF('Отрасли ОКВЭД'!$C947<>\"\",'Отрасли ОКВЭД'!$C947,'Отрасли ОКВЭД'!$B947)","v":"26.2"},"C","26.2","Производство компьютеров и периферийного оборудования"]
[{"$f":"IF('Отрасли ОКВЭД'!$C948<>\"\",'Отрасли ОКВЭД'!$C948,'Отрасли ОКВЭД'!$B948)","v":"26.20"},"C","26.20","Производство компьютеров и периферийного оборудования"]
[{"$f":"IF('Отрасли ОКВЭД'!$C949<>\"\",'Отрасли ОКВЭД'!$C949,'Отрасли ОКВЭД'!$B949)","v":"26.20.1"},"C","26.20.1","Производство компьютеров"]
[{"$f":"IF('Отрасли ОКВЭД'!$C950<>\"\",'Отрасли ОКВЭД'!$C950,'Отрасли ОКВЭД'!$B950)","v":"26.20.2"},"C","26.20.2","Производство периферийного оборудования"]
[{"$f":"IF('Отрасли ОКВЭД'!$C951<>\"\",'Отрасли ОКВЭД'!$C951,'Отрасли ОКВЭД'!$B951)","v":"26.20.3"},"C","26.20.3","Производство запоминающих устройств и прочих устройств хранения данных"]
[{"$f":"IF('Отрасли ОКВЭД'!$C952<>\"\",'Отрасли ОКВЭД'!$C952,'Отрасли ОКВЭД'!$B952)","v":"26.20.4"},"C","26.20.4","Производство средств защиты информации, а также информационных и телекоммуникационных систем, защищенных с использованием средств защиты информации"]
[{"$f":"IF('Отрасли ОКВЭД'!$C953<>\"\",'Отрасли ОКВЭД'!$C953,'Отрасли ОКВЭД'!$B953)","v":"26.20.9"},"C","26.20.9","Производство прочих устройств автоматической обработки данных"]
[{"$f":"IF('Отрасли ОКВЭД'!$C954<>\"\",'Отрасли ОКВЭД'!$C954,'Отрасли ОКВЭД'!$B954)","v":"26.3"},"C","26.3","Производство коммуникационного оборудования"]
[{"$f":"IF('Отрасли ОКВЭД'!$C955<>\"\",'Отрасли ОКВЭД'!$C955,'Отрасли ОКВЭД'!$B955)","v":"26.30"},"C","26.30","Производство коммуникационного оборудования"]
[{"$f":"IF('Отрасли ОКВЭД'!$C956<>\"\",'Отрасли ОКВЭД'!$C956,'Отрасли ОКВЭД'!$B956)","v":"26.30.1"},"C","26.30.1","Производство коммуникационной аппаратуры, радио- и телевизионной передающей аппаратуры, телевизионных камер"]
[{"$f":"IF('Отрасли ОКВЭД'!$C957<>\"\",'Отрасли ОКВЭД'!$C957,'Отрасли ОКВЭД'!$B957)","v":"26.30.11"},"C","26.30.11","Производство средств связи, выполняющих функцию систем коммутации"]
[{"$f":"IF('Отрасли ОКВЭД'!$C958<>\"\",'Отрасли ОКВЭД'!$C958,'Отрасли ОКВЭД'!$B958)","v":"26.30.12"},"C","26.30.12","Производство средств связи, выполняющих функцию цифровых транспортных систем"]
[{"$f":"IF('Отрасли ОКВЭД'!$C959<>\"\",'Отрасли ОКВЭД'!$C959,'Отрасли ОКВЭД'!$B959)","v":"26.30.13"},"C","26.30.13","Производство средств связи, выполняющих функцию систем управления и мониторинга"]
[{"$f":"IF('Отрасли ОКВЭД'!$C960<>\"\",'Отрасли ОКВЭД'!$C960,'Отрасли ОКВЭД'!$B960)","v":"26.30.14"},"C","26.30.14","Производство оборудования, используемого для учета объема оказанных услуг связи"]
[{"$f":"IF('Отрасли ОКВЭД'!$C961<>\"\",'Отрасли ОКВЭД'!$C961,'Отрасли ОКВЭД'!$B961)","v":"26.30.15"},"C","26.30.15","Производство радиоэлектронных средств связи"]
[{"$f":"IF('Отрасли ОКВЭД'!$C962<>\"\",'Отрасли ОКВЭД'!$C962,'Отрасли ОКВЭД'!$B962)","v":"26.30.16"},"C","26.30.16","Производство оборудования средств связи, в том числе программное обеспечение, обеспечивающее выполнение установленных действий при проведении оперативно-розыскных мероприятий"]
[{"$f":"IF('Отрасли ОКВЭД'!$C963<>\"\",'Отрасли ОКВЭД'!$C963,'Отрасли ОКВЭД'!$B963)","v":"26.30.17"},"C","26.30.17","Производство радио- и телевизионной передающей аппаратуры"]
[{"$f":"IF('Отрасли ОКВЭД'!$C964<>\"\",'Отрасли ОКВЭД'!$C964,'Отрасли ОКВЭД'!$B964)","v":"26.30.18"},"C","26.30.18","Производство телевизионных камер"]
[{"$f":"IF('Отрасли ОКВЭД'!$C965<>\"\",'Отрасли ОКВЭД'!$C965,'Отрасли ОКВЭД'!$B965)","v":"26.30.19"},"C","26.30.19","Производство прочего коммуникационного оборудования"]
[{"$f":"IF('Отрасли ОКВЭД'!$C966<>\"\",'Отрасли ОКВЭД'!$C966,'Отрасли ОКВЭД'!$B966)","v":"26.30.2"},"C","26.30.2","Производство оконечного (пользовательского) оборудования телефонной или телеграфной связи, аппаратуры видеосвязи"]
[{"$f":"IF('Отрасли ОКВЭД'!$C967<>\"\",'Отрасли ОКВЭД'!$C967,'Отрасли ОКВЭД'!$B967)","v":"26.30.21"},"C","26.30.21","Производство пользовательского (оконечного) оборудования проводной телефонной связи с проводными или беспроводными телефонными трубками"]
[{"$f":"IF('Отрасли ОКВЭД'!$C968<>\"\",'Отрасли ОКВЭД'!$C968,'Отрасли ОКВЭД'!$B968)","v":"26.30.22"},"C","26.30.22","Производство телефонных аппаратов для работы в сотовых или иных беспроводных сетях связи"]
[{"$f":"IF('Отрасли ОКВЭД'!$C969<>\"\",'Отрасли ОКВЭД'!$C969,'Отрасли ОКВЭД'!$B969)","v":"26.30.29"},"C","26.30.29","Производство прочих телефонных аппаратов, устройств и аппаратуры для передачи и приема речи, изображений или других данных, включая оборудование коммуникационное для работы в проводных или беспроводных сетях связи (например, локальных и глобальных сетях)"]
[{"$f":"IF('Отрасли ОКВЭД'!$C970<>\"\",'Отрасли ОКВЭД'!$C970,'Отрасли ОКВЭД'!$B970)","v":"26.30.3"},"C","26.30.3","Производство запасных частей и комплектующих коммуникационного оборудования"]
[{"$f":"IF('Отрасли ОКВЭД'!$C971<>\"\",'Отрасли ОКВЭД'!$C971,'Отрасли ОКВЭД'!$B971)","v":"26.30.4"},"C","26.30.4","Производство антенн, антенных отражателей всех видов и их деталей"]
[{"$f":"IF('Отрасли ОКВЭД'!$C972<>\"\",'Отрасли ОКВЭД'!$C972,'Отрасли ОКВЭД'!$B972)","v":"26.30.5"},"C","26.30.5","Производство запасных частей и комплектующих радио- и телевизионной передающей аппаратуры и телевизионных камер"]
[{"$f":"IF('Отрасли ОКВЭД'!$C973<>\"\",'Отрасли ОКВЭД'!$C973,'Отрасли ОКВЭД'!$B973)","v":"26.30.6"},"C","26.30.6","Производство охранно-пожарной сигнализации и аналогичных приборов"]
[{"$f":"IF('Отрасли ОКВЭД'!$C974<>\"\",'Отрасли ОКВЭД'!$C974,'Отрасли ОКВЭД'!$B974)","v":"26.4"},"C","26.4","Производство бытовой электроники"]
[{"$f":"IF('Отрасли ОКВЭД'!$C975<>\"\",'Отрасли ОКВЭД'!$C975,'Отрасли ОКВЭД'!$B975)","v":"26.40"},"C","26.40","Производство бытовой электроники"]
[{"$f":"IF('Отрасли ОКВЭД'!$C976<>\"\",'Отрасли ОКВЭД'!$C976,'Отрасли ОКВЭД'!$B976)","v":"26.40.1"},"C","26.40.1","Производство радиоприемников"]
[{"$f":"IF('Отрасли ОКВЭД'!$C977<>\"\",'Отрасли ОКВЭД'!$C977,'Отрасли ОКВЭД'!$B977)","v":"26.40.2"},"C","26.40.2","Производство телевизионных приемников, включая видеомониторы и видеопроекторы"]
[{"$f":"IF('Отрасли ОКВЭД'!$C978<>\"\",'Отрасли ОКВЭД'!$C978,'Отрасли ОКВЭД'!$B978)","v":"26.40.21"},"C","26.40.21","Производство телевизоров с электронно-лучевой трубкой"]
[{"$f":"IF('Отрасли ОКВЭД'!$C979<>\"\",'Отрасли ОКВЭД'!$C979,'Отрасли ОКВЭД'!$B979)","v":"26.40.22"},"C","26.40.22","Производство телевизоров жидкокристаллических и плазменных"]
[{"$f":"IF('Отрасли ОКВЭД'!$C980<>\"\",'Отрасли ОКВЭД'!$C980,'Отрасли ОКВЭД'!$B980)","v":"26.40.23"},"C","26.40.23","Производство видеомониторов и видеопроекторов"]
[{"$f":"IF('Отрасли ОКВЭД'!$C981<>\"\",'Отрасли ОКВЭД'!$C981,'Отрасли ОКВЭД'!$B981)","v":"26.40.3"},"C","26.40.3","Производство аппаратуры для записи и воспроизведения звука и изображения"]
[{"$f":"IF('Отрасли ОКВЭД'!$C982<>\"\",'Отрасли ОКВЭД'!$C982,'Отрасли ОКВЭД'!$B982)","v":"26.40.4"},"C","26.40.4","Производство электроакустической аппаратуры"]
[{"$f":"IF('Отрасли ОКВЭД'!$C983<>\"\",'Отрасли ОКВЭД'!$C983,'Отрасли ОКВЭД'!$B983)","v":"26.40.5"},"C","26.40.5","Производство частей звукозаписывающей и звуковоспроизводящей аппаратуры и видеоаппаратуры"]
[{"$f":"IF('Отрасли ОКВЭД'!$C984<>\"\",'Отрасли ОКВЭД'!$C984,'Отрасли ОКВЭД'!$B984)","v":"26.5"},"C","26.5","Производство контрольно-измерительных и навигационных приборов и аппаратов; производство часов"]
[{"$f":"IF('Отрасли ОКВЭД'!$C985<>\"\",'Отрасли ОКВЭД'!$C985,'Отрасли ОКВЭД'!$B985)","v":"26.51"},"C","26.51","Производство инструментов и приборов для измерения, тестирования и навигации"]
[{"$f":"IF('Отрасли ОКВЭД'!$C986<>\"\",'Отрасли ОКВЭД'!$C986,'Отрасли ОКВЭД'!$B986)","v":"26.51.1"},"C","26.51.1","Производство навигационных, метеорологических, геодезических, геофизических и аналогичного типа приборов, аппаратуры и инструментов"]
[{"$f":"IF('Отрасли ОКВЭД'!$C987<>\"\",'Отрасли ОКВЭД'!$C987,'Отрасли ОКВЭД'!$B987)","v":"26.51.2"},"C","26.51.2","Производство радиолокационной, радионавигационной аппаратуры и радиоаппаратуры дистанционного управления"]
[{"$f":"IF('Отрасли ОКВЭД'!$C988<>\"\",'Отрасли ОКВЭД'!$C988,'Отрасли ОКВЭД'!$B988)","v":"26.51.3"},"C","26.51.3","Производство точных весов; производство ручных инструментов для черчения, разметки и математических расчетов; производство ручных инструментов для измерения линейных размеров, не включенных в другие группировки"]
[{"$f":"IF('Отрасли ОКВЭД'!$C989<>\"\",'Отрасли ОКВЭД'!$C989,'Отрасли ОКВЭД'!$B989)","v":"26.51.4"},"C","26.51.4","Производство приборов и аппаратуры для измерения электрических величин или ионизирующих излучений"]
[{"$f":"IF('Отрасли ОКВЭД'!$C990<>\"\",'Отрасли ОКВЭД'!$C990,'Отрасли ОКВЭД'!$B990)","v":"26.51.5"},"C","26.51.5","Производство приборов для контроля прочих физических величин"]
[{"$f":"IF('Отрасли ОКВЭД'!$C991<>\"\",'Отрасли ОКВЭД'!$C991,'Отрасли ОКВЭД'!$B991)","v":"26.51.6"},"C","26.51.6","Производство прочих приборов, датчиков, аппаратуры и инструментов для измерения, контроля и испытаний"]
[{"$f":"IF('Отрасли ОКВЭД'!$C992<>\"\",'Отрасли ОКВЭД'!$C992,'Отрасли ОКВЭД'!$B992)","v":"26.51.7"},"C","26.51.7","Производство приборов и аппаратуры для автоматического регулирования или управления"]
[{"$f":"IF('Отрасли ОКВЭД'!$C993<>\"\",'Отрасли ОКВЭД'!$C993,'Отрасли ОКВЭД'!$B993)","v":"26.51.8"},"C","26.51.8","Производство частей приборов и инструментов для навигации, управления, измерения, контроля, испытаний и прочих целей"]
[{"$f":"IF('Отрасли ОКВЭД'!$C994<>\"\",'Отрасли ОКВЭД'!$C994,'Отрасли ОКВЭД'!$B994)","v":"26.52"},"C","26.52","Производство часов"]
[{"$f":"IF('Отрасли ОКВЭД'!$C995<>\"\",'Отрасли ОКВЭД'!$C995,'Отрасли ОКВЭД'!$B995)","v":"26.52.1"},"C","26.52.1","Производство часов всех видов и прочих приборов времени"]
[{"$f":"IF('Отрасли ОКВЭД'!$C996<>\"\",'Отрасли ОКВЭД'!$C996,'Отрасли ОКВЭД'!$B996)","v":"26.52.2"},"C","26.52.2","Производство часовых механизмов, деталей и составных частей часов и приборов времени"]
[{"$f":"IF('Отрасли ОКВЭД'!$C997<>\"\",'Отрасли ОКВЭД'!$C997,'Отрасли ОКВЭД'!$B997)","v":"26.6"},"C","26.6","Производство облучающего и электротерапевтического оборудования, применяемого в медицинских целях"]
[{"$f":"IF('Отрасли ОКВЭД'!$C998<>\"\",'Отрасли ОКВЭД'!$C998,'Отрасли ОКВЭД'!$B998)","v":"26.60"},"C","26.60","Производство облучающего и электротерапевтического оборудования, применяемого в медицинских целях"]
[{"$f":"IF('Отрасли ОКВЭД'!$C999<>\"\",'Отрасли ОКВЭД'!$C999,'Отрасли ОКВЭД'!$B999)","v":"26.60.1"},"C","26.60.1","Производство аппаратов, применяемых в медицинских целях, основанных на использовании рентгеновского, альфа-, бета- и гамма-излучений"]
[{"$f":"IF('Отрасли ОКВЭД'!$C1000<>\"\",'Отрасли ОКВЭД'!$C1000,'Отрасли ОКВЭД'!$B1000)","v":"26.60.2"},"C","26.60.2","Производство гемодиализного, диатермического, наркозного оборудования, применяемого в медицинских целях"]
[{"$f":"IF('Отрасли ОКВЭД'!$C1001<>\"\",'Отрасли ОКВЭД'!$C1001,'Отрасли ОКВЭД'!$B1001)","v":"26.60.3"},"C","26.60.3","Производство оборудования для переливания крови"]
[{"$f":"IF('Отрасли ОКВЭД'!$C1002<>\"\",'Отрасли ОКВЭД'!$C1002,'Отрасли ОКВЭД'!$B1002)","v":"26.60.4"},"C","26.60.4","Производство инструмента, оборудования и приспособлений, применяемых в медицинских целях"]
[{"$f":"IF('Отрасли ОКВЭД'!$C1003<>\"\",'Отрасли ОКВЭД'!$C1003,'Отрасли ОКВЭД'!$B1003)","v":"26.60.5"},"C","26.60.5","Производство диагностического и терапевтического оборудования, применяемого в медицинских целях"]
[{"$f":"IF('Отрасли ОКВЭД'!$C1004<>\"\",'Отрасли ОКВЭД'!$C1004,'Отрасли ОКВЭД'!$B1004)","v":"26.60.6"},"C","26.60.6","Производство компьютерных томографов"]
[{"$f":"IF('Отрасли ОКВЭД'!$C1005<>\"\",'Отрасли ОКВЭД'!$C1005,'Отрасли ОКВЭД'!$B1005)","v":"26.60.7"},"C","26.60.7","Производство ультразвукового оборудования, применяемого в медицинских целях"]
[{"$f":"IF('Отрасли ОКВЭД'!$C1006<>\"\",'Отрасли ОКВЭД'!$C1006,'Отрасли ОКВЭД'!$B1006)","v":"26.60.9"},"C","26.60.9","Производство прочего оборудования, применяемого в медицинских целях"]
[{"$f":"IF('Отрасли ОКВЭД'!$C1007<>\"\",'Отрасли ОКВЭД'!$C1007,'Отрасли ОКВЭД'!$B1007)","v":"26.7"},"C","26.7","Производство оптических приборов, фото- и кинооборудования"]
[{"$f":"IF('Отрасли ОКВЭД'!$C1008<>\"\",'Отрасли ОКВЭД'!$C1008,'Отрасли ОКВЭД'!$B1008)","v":"26.70"},"C","26.70","Производство оптических приборов, фото- и кинооборудования"]
[{"$f":"IF('Отрасли ОКВЭД'!$C1009<>\"\",'Отрасли ОКВЭД'!$C1009,'Отрасли ОКВЭД'!$B1009)","v":"26.70.1"},"C","26.70.1","Производство фото- и кинооборудования"]
[{"$f":"IF('Отрасли ОКВЭД'!$C1010<>\"\",'Отрасли ОКВЭД'!$C1010,'Отрасли ОКВЭД'!$B1010)","v":"26.70.2"},"C","26.70.2","Производство микроскопов (кроме электронных и протонных)"]
[{"$f":"IF('Отрасли ОКВЭД'!$C1011<>\"\",'Отрасли ОКВЭД'!$C1011,'Отрасли ОКВЭД'!$B1011)","v":"26.70.3"},"C","26.70.3","Производство оптических систем обнаружения оружия"]
[{"$f":"IF('Отрасли ОКВЭД'!$C1012<>\"\",'Отрасли ОКВЭД'!$C1012,'Отрасли ОКВЭД'!$B1012)","v":"26.70.4"},"C","26.70.4","Производство оборудования оптического позиционирования на местности"]
[{"$f":"IF('Отрасли ОКВЭД'!$C1013<>\"\",'Отрасли ОКВЭД'!$C1013,'Отрасли ОКВЭД'!$B1013)","v":"26.70.5"},"C","26.70.5","Производство линз, оптических микроскопов, биноклей и телескопов"]
[{"$f":"IF('Отрасли ОКВЭД'!$C1014<>\"\",'Отрасли ОКВЭД'!$C1014,'Отрасли ОКВЭД'!$B1014)","v":"26.70.6"},"C","26.70.6","Производство оптических прицелов и приборов определения координат целей"]
[{"$f":"IF('Отрасли ОКВЭД'!$C1015<>\"\",'Отрасли ОКВЭД'!$C1015,'Отрасли ОКВЭД'!$B1015)","v":"26.70.7"},"C","26.70.7","Производство пленочных и цифровых фото- и кинокамер"]
[{"$f":"IF('Отрасли ОКВЭД'!$C1016<>\"\",'Отрасли ОКВЭД'!$C1016,'Отрасли ОКВЭД'!$B1016)","v":"26.8"},"C","26.8","Производство незаписанных магнитных и оптических технических носителей информации"]
[{"$f":"IF('Отрасли ОКВЭД'!$C1017<>\"\",'Отрасли ОКВЭД'!$C1017,'Отрасли ОКВЭД'!$B1017)","v":"26.80"},"C","26.80","Производство незаписанных магнитных и оптических технических носителей информации"]
[{"$f":"IF('Отрасли ОКВЭД'!$C1018<>\"\",'Отрасли ОКВЭД'!$C1018,'Отрасли ОКВЭД'!$B1018)","v":"27"},"C","27","Производство электрического оборудования"]
[{"$f":"IF('Отрасли ОКВЭД'!$C1019<>\"\",'Отрасли ОКВЭД'!$C1019,'Отрасли ОКВЭД'!$B1019)","v":"27.1"},"C","27.1","Производство электродвигателей, генераторов, трансформаторов и распределительных устройств, а также контрольно-измерительной аппаратуры"]
[{"$f":"IF('Отрасли ОКВЭД'!$C1020<>\"\",'Отрасли ОКВЭД'!$C1020,'Отрасли ОКВЭД'!$B1020)","v":"27.11"},"C","27.11","Производство электродвигателей, электрогенераторов и трансформаторов"]
[{"$f":"IF('Отрасли ОКВЭД'!$C1021<>\"\",'Отрасли ОКВЭД'!$C1021,'Отрасли ОКВЭД'!$B1021)","v":"27.11.1"},"C","27.11.1","Производство электродвигателей, генераторов и трансформаторов, кроме ремонта"]
[{"$f":"IF('Отрасли ОКВЭД'!$C1022<>\"\",'Отрасли ОКВЭД'!$C1022,'Отрасли ОКВЭД'!$B1022)","v":"27.11.11"},"C","27.11.11","Производство электродвигателей"]
[{"$f":"IF('Отрасли ОКВЭД'!$C1023<>\"\",'Отрасли ОКВЭД'!$C1023,'Отрасли ОКВЭД'!$B1023)","v":"27.11.12"},"C","27.11.12","Производство генераторов"]
[{"$f":"IF('Отрасли ОКВЭД'!$C1024<>\"\",'Отрасли ОКВЭД'!$C1024,'Отрасли ОКВЭД'!$B1024)","v":"27.11.13"},"C","27.11.13","Производство трансформаторов"]
[{"$f":"IF('Отрасли ОКВЭД'!$C1025<>\"\",'Отрасли ОКВЭД'!$C1025,'Отрасли ОКВЭД'!$B1025)","v":"27.12"},"C","27.12","Производство электрической распределительной и регулирующей аппаратуры"]
[{"$f":"IF('Отрасли ОКВЭД'!$C1026<>\"\",'Отрасли ОКВЭД'!$C1026,'Отрасли ОКВЭД'!$B1026)","v":"27.2"},"C","27.2","Производство электрических аккумуляторов и аккумуляторных батарей"]
[{"$f":"IF('Отрасли ОКВЭД'!$C1027<>\"\",'Отрасли ОКВЭД'!$C1027,'Отрасли ОКВЭД'!$B1027)","v":"27.20"},"C","27.20","Производство электрических аккумуляторов и аккумуляторных батарей"]
[{"$f":"IF('Отрасли ОКВЭД'!$C1028<>\"\",'Отрасли ОКВЭД'!$C1028,'Отрасли ОКВЭД'!$B1028)","v":"27.20.1"},"C","27.20.1","Производство первичных элементов, батарей первичных элементов и их частей"]
[{"$f":"IF('Отрасли ОКВЭД'!$C1029<>\"\",'Отрасли ОКВЭД'!$C1029,'Отрасли ОКВЭД'!$B1029)","v":"27.20.2"},"C","27.20.2","Производство аккумуляторов, в том числе для автомобилей, аккумуляторных батарей и их составных частей"]
[{"$f":"IF('Отрасли ОКВЭД'!$C1030<>\"\",'Отрасли ОКВЭД'!$C1030,'Отрасли ОКВЭД'!$B1030)","v":"27.20.21"},"C","27.20.21","Производство аккумуляторов для автомобилей"]
[{"$f":"IF('Отрасли ОКВЭД'!$C1031<>\"\",'Отрасли ОКВЭД'!$C1031,'Отрасли ОКВЭД'!$B1031)","v":"27.20.22"},"C","27.20.22","Производство аккумуляторных батарей и их частей"]
[{"$f":"IF('Отрасли ОКВЭД'!$C1032<>\"\",'Отрасли ОКВЭД'!$C1032,'Отрасли ОКВЭД'!$B1032)","v":"27.20.23"},"C","27.20.23","Производство прочих аккумуляторов"]
[{"$f":"IF('Отрасли ОКВЭД'!$C1033<>\"\",'Отрасли ОКВЭД'!$C1033,'Отрасли ОКВЭД'!$B1033)","v":"27.20.3"},"C","27.20.3","Производство солнечных батарей для наземного энергообеспечения и их составных частей"]
[{"$f":"IF('Отрасли ОКВЭД'!$C1034<>\"\",'Отрасли ОКВЭД'!$C1034,'Отрасли ОКВЭД'!$B1034)","v":"27.3"},"C","27.3","Производство кабелей и кабельной арматуры"]
[{"$f":"IF('Отрасли ОКВЭД'!$C1035<>\"\",'Отрасли ОКВЭД'!$C1035,'Отрасли ОКВЭД'!$B1035)","v":"27.31"},"C","27.31","Производство волоконно-оптических кабелей"]
[{"$f":"IF('Отрасли ОКВЭД'!$C1036<>\"\",'Отрасли ОКВЭД'!$C1036,'Отрасли ОКВЭД'!$B1036)","v":"27.32"},"C","27.32","Производство прочих проводов и кабелей для электронного и электрического оборудования"]
[{"$f":"IF('Отрасли ОКВЭД'!$C1037<>\"\",'Отрасли ОКВЭД'!$C1037,'Отрасли ОКВЭД'!$B1037)","v":"27.32.1"},"C","27.32.1","Производство кабелей для телефонной связи"]
[{"$f":"IF('Отрасли ОКВЭД'!$C1038<>\"\",'Отрасли ОКВЭД'!$C1038,'Отрасли ОКВЭД'!$B1038)","v":"27.32.2"},"C","27.32.2","Производство силовых кабелей"]
[{"$f":"IF('Отрасли ОКВЭД'!$C1039<>\"\",'Отрасли ОКВЭД'!$C1039,'Отрасли ОКВЭД'!$B1039)","v":"27.32.3"},"C","27.32.3","Производство обмоточных эмалированных кабелей"]
[{"$f":"IF('Отрасли ОКВЭД'!$C1040<>\"\",'Отрасли ОКВЭД'!$C1040,'Отрасли ОКВЭД'!$B1040)","v":"27.33"},"C","27.33","Производство электроустановочных изделий"]
[{"$f":"IF('Отрасли ОКВЭД'!$C1041<>\"\",'Отрасли ОКВЭД'!$C1041,'Отрасли ОКВЭД'!$B1041)","v":"27.4"},"C","27.4","Производство электрических ламп и осветительного оборудования"]
[{"$f":"IF('Отрасли ОКВЭД'!$C1042<>\"\",'Отрасли ОКВЭД'!$C1042,'Отрасли ОКВЭД'!$B1042)","v":"27.40"},"C","27.40","Производство электрических ламп и осветительного оборудования"]
[{"$f":"IF('Отрасли ОКВЭД'!$C1043<>\"\",'Отрасли ОКВЭД'!$C1043,'Отрасли ОКВЭД'!$B1043)","v":"27.5"},"C","27.5","Производство бытовых приборов"]
[{"$f":"IF('Отрасли ОКВЭД'!$C1044<>\"\",'Отрасли ОКВЭД'!$C1044,'Отрасли ОКВЭД'!$B1044)","v":"27.51"},"C","27.51","Производство бытовых электрических приборов"]
[{"$f":"IF('Отрасли ОКВЭД'!$C1045<>\"\",'Отрасли ОКВЭД'!$C1045,'Отрасли ОКВЭД'!$B1045)","v":"27.51.1"},"C","27.51.1","Производство стиральных машин"]
[{"$f":"IF('Отрасли ОКВЭД'!$C1046<>\"\",'Отрасли ОКВЭД'!$C1046,'Отрасли ОКВЭД'!$B1046)","v":"27.51.2"},"C","27.51.2","Производство холодильников и морозильников"]
[{"$f":"IF('Отрасли ОКВЭД'!$C1047<>\"\",'Отрасли ОКВЭД'!$C1047,'Отрасли ОКВЭД'!$B1047)","v":"27.51.3"},"C","27.51.3","Производство пылесосов"]
[{"$f":"IF('Отрасли ОКВЭД'!$C1048<>\"\",'Отрасли ОКВЭД'!$C1048,'Отрасли ОКВЭД'!$B1048)","v":"27.51.4"},"C","27.51.4","Производство посудомоечных машин"]
[{"$f":"IF('Отрасли ОКВЭД'!$C1049<>\"\",'Отрасли ОКВЭД'!$C1049,'Отрасли ОКВЭД'!$B1049)","v":"27.51.5"},"C","27.51.5","Производство электропечей"]
[{"$f":"IF('Отрасли ОКВЭД'!$C1050<>\"\",'Отрасли ОКВЭД'!$C1050,'Отрасли ОКВЭД'!$B1050)","v":"27.51.6"},"C","27.51.6","Производство микроволновых печей"]
[{"$f":"IF('Отрасли ОКВЭД'!$C1051<>\"\",'Отрасли ОКВЭД'!$C1051,'Отрасли ОКВЭД'!$B1051)","v":"27.52"},"C","27.52","Производство бытовых неэлектрических приборов"]
[{"$f":"IF('Отрасли ОКВЭД'!$C1052<>\"\",'Отрасли ОКВЭД'!$C1052,'Отрасли ОКВЭД'!$B1052)","v":"27.9"},"C","27.9","Производство прочего электрического оборудования"]
[{"$f":"IF('Отрасли ОКВЭД'!$C1053<>\"\",'Отрасли ОКВЭД'!$C1053,'Отрасли ОКВЭД'!$B1053)","v":"27.90"},"C","27.90","Производство прочего электрического оборудования"]
[{"$f":"IF('Отрасли ОКВЭД'!$C1054<>\"\",'Отрасли ОКВЭД'!$C1054,'Отрасли ОКВЭД'!$B1054)","v":"27.90.1"},"C","27.90.1","Производство ускорителей заряженных частиц"]
[{"$f":"IF('Отрасли ОКВЭД'!$C1055<>\"\",'Отрасли ОКВЭД'!$C1055,'Отрасли ОКВЭД'!$B1055)","v":"27.90.2"},"C","27.90.2","Производство радиационных аппаратов и радионуклидных энергетических устройств (РЭУ)"]
[{"$f":"IF('Отрасли ОКВЭД'!$C1056<>\"\",'Отрасли ОКВЭД'!$C1056,'Отрасли ОКВЭД'!$B1056)","v":"27.90.9"},"C","27.90.9","Производство электрического оборудования прочего, не включенного в другие группировки"]
[{"$f":"IF('Отрасли ОКВЭД'!$C1057<>\"\",'Отрасли ОКВЭД'!$C1057,'Отрасли ОКВЭД'!$B1057)","v":"28"},"C","28","Производство машин и оборудования, не включенных в другие группировки"]
[{"$f":"IF('Отрасли ОКВЭД'!$C1058<>\"\",'Отрасли ОКВЭД'!$C1058,'Отрасли ОКВЭД'!$B1058)","v":"28.1"},"C","28.1","Производство машин и оборудования общего назначения"]
[{"$f":"IF('Отрасли ОКВЭД'!$C1059<>\"\",'Отрасли ОКВЭД'!$C1059,'Отрасли ОКВЭД'!$B1059)","v":"28.11"},"C","28.11","Производство двигателей и турбин, кроме авиационных, автомобильных и мотоциклетных двигателей"]
[{"$f":"IF('Отрасли ОКВЭД'!$C1060<>\"\",'Отрасли ОКВЭД'!$C1060,'Отрасли ОКВЭД'!$B1060)","v":"28.11.1"},"C","28.11.1","Производство двигателей, кроме авиационных, автомобильных и мотоциклетных"]
[{"$f":"IF('Отрасли ОКВЭД'!$C1061<>\"\",'Отрасли ОКВЭД'!$C1061,'Отрасли ОКВЭД'!$B1061)","v":"28.11.2"},"C","28.11.2","Производство турбин"]
[{"$f":"IF('Отрасли ОКВЭД'!$C1062<>\"\",'Отрасли ОКВЭД'!$C1062,'Отрасли ОКВЭД'!$B1062)","v":"28.11.21"},"C","28.11.21","Производство паровых турбин"]
[{"$f":"IF('Отрасли ОКВЭД'!$C1063<>\"\",'Отрасли ОКВЭД'!$C1063,'Отрасли ОКВЭД'!$B1063)","v":"28.11.22"},"C","28.11.22","Производство гидравлических турбин и водяных колес"]
[{"$f":"IF('Отрасли ОКВЭД'!$C1064<>\"\",'Отрасли ОКВЭД'!$C1064,'Отрасли ОКВЭД'!$B1064)","v":"28.11.23"},"C","28.11.23","Производство газовых турбин, кроме турбореактивных и турбовинтовых"]
[{"$f":"IF('Отрасли ОКВЭД'!$C1065<>\"\",'Отрасли ОКВЭД'!$C1065,'Отрасли ОКВЭД'!$B1065)","v":"28.12"},"C","28.12","Производство гидравлического и пневматического силового оборудования"]
[{"$f":"IF('Отрасли ОКВЭД'!$C1066<>\"\",'Отрасли ОКВЭД'!$C1066,'Отрасли ОКВЭД'!$B1066)","v":"28.12.1"},"C","28.12.1","Производство гидравлических и пневматических силовых установок и двигателей"]
[{"$f":"IF('Отрасли ОКВЭД'!$C1067<>\"\",'Отрасли ОКВЭД'!$C1067,'Отрасли ОКВЭД'!$B1067)","v":"28.12.2"},"C","28.12.2","Производство гидравлических насосов"]
[{"$f":"IF('Отрасли ОКВЭД'!$C1068<>\"\",'Отрасли ОКВЭД'!$C1068,'Отрасли ОКВЭД'!$B1068)","v":"28.13"},"C","28.13","Производство прочих насосов и компрессоров"]
[{"$f":"IF('Отрасли ОКВЭД'!$C1069<>\"\",'Отрасли ОКВЭД'!$C1069,'Отрасли ОКВЭД'!$B1069)","v":"28.14"},"C","28.14","Производство прочих кранов и клапанов"]
[{"$f":"IF('Отрасли ОКВЭД'!$C1070<>\"\",'Отрасли ОКВЭД'!$C1070,'Отрасли ОКВЭД'!$B1070)","v":"28.15"},"C","28.15","Производство подшипников, зубчатых передач, элементов механических передач и приводов"]
[{"$f":"IF('Отрасли ОКВЭД'!$C1071<>\"\",'Отрасли ОКВЭД'!$C1071,'Отрасли ОКВЭД'!$B1071)","v":"28.15.1"},"C","28.15.1","Производство шариковых и роликовых подшипников"]
[{"$f":"IF('Отрасли ОКВЭД'!$C1072<>\"\",'Отрасли ОКВЭД'!$C1072,'Отрасли ОКВЭД'!$B1072)","v":"28.15.2"},"C","28.15.2","Производство корпусов подшипников и подшипников скольжения, зубчатых колес, зубчатых передач и элементов приводов"]
[{"$f":"IF('Отрасли ОКВЭД'!$C1073<>\"\",'Отрасли ОКВЭД'!$C1073,'Отрасли ОКВЭД'!$B1073)","v":"28.15.9"},"C","28.15.9","Производство прочих подшипников"]
[{"$f":"IF('Отрасли ОКВЭД'!$C1074<>\"\",'Отрасли ОКВЭД'!$C1074,'Отрасли ОКВЭД'!$B1074)","v":"28.2"},"C","28.2","Производство прочих машин и оборудования общего назначения"]
[{"$f":"IF('Отрасли ОКВЭД'!$C1075<>\"\",'Отрасли ОКВЭД'!$C1075,'Отрасли ОКВЭД'!$B1075)","v":"28.21"},"C","28.21","Производство печей, термокамер и печных горелок"]
[{"$f":"IF('Отрасли ОКВЭД'!$C1076<>\"\",'Отрасли ОКВЭД'!$C1076,'Отрасли ОКВЭД'!$B1076)","v":"28.21.1"},"C","28.21.1","Производство неэлектрических печей, горелок и устройств для них"]
[{"$f":"IF('Отрасли ОКВЭД'!$C1077<>\"\",'Отрасли ОКВЭД'!$C1077,'Отрасли ОКВЭД'!$B1077)","v":"28.21.2"},"C","28.21.2","Производство электрических печей"]
[{"$f":"IF('Отрасли ОКВЭД'!$C1078<>\"\",'Отрасли ОКВЭД'!$C1078,'Отрасли ОКВЭД'!$B1078)","v":"28.22"},"C","28.22","Производство подъемно-транспортного оборудования"]
[{"$f":"IF('Отрасли ОКВЭД'!$C1079<>\"\",'Отрасли ОКВЭД'!$C1079,'Отрасли ОКВЭД'!$B1079)","v":"28.22.1"},"C","28.22.1","Производство талей и подъемников"]
[{"$f":"IF('Отрасли ОКВЭД'!$C1080<>\"\",'Отрасли ОКВЭД'!$C1080,'Отрасли ОКВЭД'!$B1080)","v":"28.22.2"},"C","28.22.2","Производство лебедок и кабестанов"]
[{"$f":"IF('Отрасли ОКВЭД'!$C1081<>\"\",'Отрасли ОКВЭД'!$C1081,'Отрасли ОКВЭД'!$B1081)","v":"28.22.3"},"C","28.22.3","Производство домкратов и подъемных механизмов для транспортных средств"]
[{"$f":"IF('Отрасли ОКВЭД'!$C1082<>\"\",'Отрасли ОКВЭД'!$C1082,'Отрасли ОКВЭД'!$B1082)","v":"28.22.4"},"C","28.22.4","Производство подъемных кранов"]
[{"$f":"IF('Отрасли ОКВЭД'!$C1083<>\"\",'Отрасли ОКВЭД'!$C1083,'Отрасли ОКВЭД'!$B1083)","v":"28.22.41"},"C","28.22.41","Производство подъемных кранов для строительства"]
[{"$f":"IF('Отрасли ОКВЭД'!$C1084<>\"\",'Отрасли ОКВЭД'!$C1084,'Отрасли ОКВЭД'!$B1084)","v":"28.22.42"},"C","28.22.42","Производство прочих подъемных кранов"]
[{"$f":"IF('Отрасли ОКВЭД'!$C1085<>\"\",'Отрасли ОКВЭД'!$C1085,'Отрасли ОКВЭД'!$B1085)","v":"28.22.5"},"C","28.22.5","Производство автопогрузчиков и тягачей, используемых на железнодорожных платформах"]
[{"$f":"IF('Отрасли ОКВЭД'!$C1086<>\"\",'Отрасли ОКВЭД'!$C1086,'Отрасли ОКВЭД'!$B1086)","v":"28.22.6"},"C","28.22.6","Производство лифтов, скриповых подъемников, эскалаторов и движущихся пешеходных дорожек"]
[{"$f":"IF('Отрасли ОКВЭД'!$C1087<>\"\",'Отрасли ОКВЭД'!$C1087,'Отрасли ОКВЭД'!$B1087)","v":"28.22.7"},"C","28.22.7","Производство пневматических подъемников и конвейеров и прочего оборудования непрерывного действия для товаров или материалов"]
[{"$f":"IF('Отрасли ОКВЭД'!$C1088<>\"\",'Отрасли ОКВЭД'!$C1088,'Отрасли ОКВЭД'!$B1088)","v":"28.22.9"},"C","28.22.9","Производство прочего грузоподъемного, транспортирующего и погрузочно-разгрузочного оборудования"]
[{"$f":"IF('Отрасли ОКВЭД'!$C1089<>\"\",'Отрасли ОКВЭД'!$C1089,'Отрасли ОКВЭД'!$B1089)","v":"28.23"},"C","28.23","Производство офисной техники и оборудования (кроме компьютеров и периферийного оборудования)"]
[{"$f":"IF('Отрасли ОКВЭД'!$C1090<>\"\",'Отрасли ОКВЭД'!$C1090,'Отрасли ОКВЭД'!$B1090)","v":"28.23.1"},"C","28.23.1","Производство пишущих машин, машин для обработки текста, калькуляторов, счетных машин и их частей"]
[{"$f":"IF('Отрасли ОКВЭД'!$C1091<>\"\",'Отрасли ОКВЭД'!$C1091,'Отрасли ОКВЭД'!$B1091)","v":"28.23.2"},"C","28.23.2","Производство фотокопировальных машин, офисных машин для офсетной печати и прочих офисных машин и оборудования и их составных частей"]
[{"$f":"IF('Отрасли ОКВЭД'!$C1092<>\"\",'Отрасли ОКВЭД'!$C1092,'Отрасли ОКВЭД'!$B1092)","v":"28.24"},"C","28.24","Производство ручных инструментов с механизированным приводом"]
[{"$f":"IF('Отрасли ОКВЭД'!$C1093<>\"\",'Отрасли ОКВЭД'!$C1093,'Отрасли ОКВЭД'!$B1093)","v":"28.25"},"C","28.25","Производство промышленного холодильного и вентиляционного оборудования"]
[{"$f":"IF('Отрасли ОКВЭД'!$C1094<>\"\",'Отрасли ОКВЭД'!$C1094,'Отрасли ОКВЭД'!$B1094)","v":"28.25.1"},"C","28.25.1","Производство теплообменных устройств, оборудования для кондиционирования воздуха промышленного холодильного и морозильного оборудования, производство оборудования для фильтрования и очистки газов"]
[{"$f":"IF('Отрасли ОКВЭД'!$C1095<>\"\",'Отрасли ОКВЭД'!$C1095,'Отрасли ОКВЭД'!$B1095)","v":"28.25.11"},"C","28.25.11","Производство теплообменных устройств и машин для сжижения воздуха или прочих газов"]
[{"$f":"IF('Отрасли ОКВЭД'!$C1096<>\"\",'Отрасли ОКВЭД'!$C1096,'Отрасли ОКВЭД'!$B1096)","v":"28.25.12"},"C","28.25.12","Производство оборудования для кондиционирования воздуха"]
[{"$f":"IF('Отрасли ОКВЭД'!$C1097<>\"\",'Отрасли ОКВЭД'!$C1097,'Отрасли ОКВЭД'!$B1097)","v":"28.25.13"},"C","28.25.13","Производство промышленного холодильного и морозильного оборудования"]
[{"$f":"IF('Отрасли ОКВЭД'!$C1098<>\"\",'Отрасли ОКВЭД'!$C1098,'Отрасли ОКВЭД'!$B1098)","v":"28.25.14"},"C","28.25.14","Производство оборудования для фильтрования и очистки газов"]
[{"$f":"IF('Отрасли ОКВЭД'!$C1099<>\"\",'Отрасли ОКВЭД'!$C1099,'Отрасли ОКВЭД'!$B1099)","v":"28.25.2"},"C","28.25.2","Производство вентиляторов"]
[{"$f":"IF('Отрасли ОКВЭД'!$C1100<>\"\",'Отрасли ОКВЭД'!$C1100,'Отрасли ОКВЭД'!$B1100)","v":"28.29"},"C","28.29","Производство прочих машин и оборудования общего назначения, не включенного в другие группировки"]
[{"$f":"IF('Отрасли ОКВЭД'!$C1101<>\"\",'Отрасли ОКВЭД'!$C1101,'Отрасли ОКВЭД'!$B1101)","v":"28.29.1"},"C","28.29.1","Производство газогенераторов, аппаратов для дистилляции и фильтрования"]
[{"$f":"IF('Отрасли ОКВЭД'!$C1102<>\"\",'Отрасли ОКВЭД'!$C1102,'Отрасли ОКВЭД'!$B1102)","v":"28.29.11"},"C","28.29.11","Производство генераторов для получения генераторного или водяного газа, ацетиленовых и аналогичных газогенераторов, установок для дистилляции или очистки"]
[{"$f":"IF('Отрасли ОКВЭД'!$C1103<>\"\",'Отрасли ОКВЭД'!$C1103,'Отрасли ОКВЭД'!$B1103)","v":"28.29.12"},"C","28.29.12","Производство оборудования и установок для фильтрования или очистки жидкостей"]
[{"$f":"IF('Отрасли ОКВЭД'!$C1104<>\"\",'Отрасли ОКВЭД'!$C1104,'Отрасли ОКВЭД'!$B1104)","v":"28.29.13"},"C","28.29.13","Производство масляных, бензиновых и всасывающих воздушных фильтров для двигателей внутреннего сгорания"]
[{"$f":"IF('Отрасли ОКВЭД'!$C1105<>\"\",'Отрасли ОКВЭД'!$C1105,'Отрасли ОКВЭД'!$B1105)","v":"28.29.2"},"C","28.29.2","Производство оборудования для мойки, заполнения, закупоривания или упаковывания бутылок или прочих емкостей, огнетушителей, распылителей, пароструйных или пескоструйных машин, прокладок"]
[{"$f":"IF('Отрасли ОКВЭД'!$C1106<>\"\",'Отрасли ОКВЭД'!$C1106,'Отрасли ОКВЭД'!$B1106)","v":"28.29.21"},"C","28.29.21","Производство оборудования для мойки, заполнения, закупоривания или упаковывания бутылок или прочих емкостей"]
[{"$f":"IF('Отрасли ОКВЭД'!$C1107<>\"\",'Отрасли ОКВЭД'!$C1107,'Отрасли ОКВЭД'!$B1107)","v":"28.29.22"},"C","28.29.22","Производство огнетушителей, распылителей, пароструйных или пескоструйных машин"]
[{"$f":"IF('Отрасли ОКВЭД'!$C1108<>\"\",'Отрасли ОКВЭД'!$C1108,'Отрасли ОКВЭД'!$B1108)","v":"28.29.3"},"C","28.29.3","Производство промышленного, бытового и прочего оборудования для взвешивания и дозировки"]
[{"$f":"IF('Отрасли ОКВЭД'!$C1109<>\"\",'Отрасли ОКВЭД'!$C1109,'Отрасли ОКВЭД'!$B1109)","v":"28.29.31"},"C","28.29.31","Производство промышленного оборудования для взвешивания и дозировки"]
[{"$f":"IF('Отрасли ОКВЭД'!$C1110<>\"\",'Отрасли ОКВЭД'!$C1110,'Отрасли ОКВЭД'!$B1110)","v":"28.29.32"},"C","28.29.32","Производство бытового оборудования для взвешивания"]
[{"$f":"IF('Отрасли ОКВЭД'!$C1111<>\"\",'Отрасли ОКВЭД'!$C1111,'Отрасли ОКВЭД'!$B1111)","v":"28.29.39"},"C","28.29.39","Производство прочего оборудования для взвешивания и дозировки"]
[{"$f":"IF('Отрасли ОКВЭД'!$C1112<>\"\",'Отрасли ОКВЭД'!$C1112,'Отрасли ОКВЭД'!$B1112)","v":"28.29.4"},"C","28.29.4","Производство центрифуг, каландров и торговых автоматов"]
[{"$f":"IF('Отрасли ОКВЭД'!$C1113<>\"\",'Отрасли ОКВЭД'!$C1113,'Отрасли ОКВЭД'!$B1113)","v":"28.29.41"},"C","28.29.41","Производство центрифуг"]
[{"$f":"IF('Отрасли ОКВЭД'!$C1114<>\"\",'Отрасли ОКВЭД'!$C1114,'Отрасли ОКВЭД'!$B1114)","v":"28.29.42"},"C","28.29.42","Производство каландров или прочих валковых машин, кроме машин для обработки металлов или стекла"]
[{"$f":"IF('Отрасли ОКВЭД'!$C1115<>\"\",'Отрасли ОКВЭД'!$C1115,'Отрасли ОКВЭД'!$B1115)","v":"28.29.43"},"C","28.29.43","Производство торговых автоматов"]
[{"$f":"IF('Отрасли ОКВЭД'!$C1116<>\"\",'Отрасли ОКВЭД'!$C1116,'Отрасли ОКВЭД'!$B1116)","v":"28.29.5"},"C","28.29.5","Производство посудомоечных машин промышленного типа"]
[{"$f":"IF('Отрасли ОКВЭД'!$C1117<>\"\",'Отрасли ОКВЭД'!$C1117,'Отрасли ОКВЭД'!$B1117)","v":"28.29.6"},"C","28.29.6","Производство оборудования для обработки материалов с использованием процессов, включающих изменение температуры, не включенного в другие группировки"]
[{"$f":"IF('Отрасли ОКВЭД'!$C1118<>\"\",'Отрасли ОКВЭД'!$C1118,'Отрасли ОКВЭД'!$B1118)","v":"28.29.7"},"C","28.29.7","Производство неэлектрического оборудования и инструментов для пайки мягким и твердым припоем или сварки, машин и аппаратов для газотермического напыления"]
[{"$f":"IF('Отрасли ОКВЭД'!$C1119<>\"\",'Отрасли ОКВЭД'!$C1119,'Отрасли ОКВЭД'!$B1119)","v":"28.3"},"C","28.3","Производство машин и оборудования для сельского и лесного хозяйства"]
[{"$f":"IF('Отрасли ОКВЭД'!$C1120<>\"\",'Отрасли ОКВЭД'!$C1120,'Отрасли ОКВЭД'!$B1120)","v":"28.30"},"C","28.30","Производство машин и оборудования для сельского и лесного хозяйства"]
[{"$f":"IF('Отрасли ОКВЭД'!$C1121<>\"\",'Отрасли ОКВЭД'!$C1121,'Отрасли ОКВЭД'!$B1121)","v":"28.30.1"},"C","28.30.1","Производство тракторов, управляемых рядом идущим водителем"]
[{"$f":"IF('Отрасли ОКВЭД'!$C1122<>\"\",'Отрасли ОКВЭД'!$C1122,'Отрасли ОКВЭД'!$B1122)","v":"28.30.2"},"C","28.30.2","Производство тракторов для сельского хозяйства"]
[{"$f":"IF('Отрасли ОКВЭД'!$C1123<>\"\",'Отрасли ОКВЭД'!$C1123,'Отрасли ОКВЭД'!$B1123)","v":"28.30.21"},"C","28.30.21","Производство колесных тракторов для сельского хозяйства"]
[{"$f":"IF('Отрасли ОКВЭД'!$C1124<>\"\",'Отрасли ОКВЭД'!$C1124,'Отрасли ОКВЭД'!$B1124)","v":"28.30.22"},"C","28.30.22","Производство гусеничных тракторов для сельского хозяйства"]
[{"$f":"IF('Отрасли ОКВЭД'!$C1125<>\"\",'Отрасли ОКВЭД'!$C1125,'Отрасли ОКВЭД'!$B1125)","v":"28.30.3"},"C","28.30.3","Производство машин и сельскохозяйственного оборудования для обработки почвы"]
[{"$f":"IF('Отрасли ОКВЭД'!$C1126<>\"\",'Отрасли ОКВЭД'!$C1126,'Отрасли ОКВЭД'!$B1126)","v":"28.30.4"},"C","28.30.4","Производство косилок для газонов, парков или спортивных площадок"]
[{"$f":"IF('Отрасли ОКВЭД'!$C1127<>\"\",'Отрасли ОКВЭД'!$C1127,'Отрасли ОКВЭД'!$B1127)","v":"28.30.5"},"C","28.30.5","Производство машин для уборки урожая"]
[{"$f":"IF('Отрасли ОКВЭД'!$C1128<>\"\",'Отрасли ОКВЭД'!$C1128,'Отрасли ОКВЭД'!$B1128)","v":"28.30.51"},"C","28.30.51","Производство зерноуборочных комбайнов"]
[{"$f":"IF('Отрасли ОКВЭД'!$C1129<>\"\",'Отрасли ОКВЭД'!$C1129,'Отрасли ОКВЭД'!$B1129)","v":"28.30.52"},"C","28.30.52","Производство кормозаготовительных комбайнов"]
[{"$f":"IF('Отрасли ОКВЭД'!$C1130<>\"\",'Отрасли ОКВЭД'!$C1130,'Отрасли ОКВЭД'!$B1130)","v":"28.30.53"},"C","28.30.53","Производство корнеуборочных или клубнеуборочных машин"]
[{"$f":"IF('Отрасли ОКВЭД'!$C1131<>\"\",'Отрасли ОКВЭД'!$C1131,'Отрасли ОКВЭД'!$B1131)","v":"28.30.59"},"C","28.30.59","Производство прочих машин для уборки урожая"]
[{"$f":"IF('Отрасли ОКВЭД'!$C1132<>\"\",'Отрасли ОКВЭД'!$C1132,'Отрасли ОКВЭД'!$B1132)","v":"28.30.6"},"C","28.30.6","Производство механических устройств для разбрасывания или распыления жидкостей или порошков, используемых в сельском хозяйстве или садоводстве"]
[{"$f":"IF('Отрасли ОКВЭД'!$C1133<>\"\",'Отрасли ОКВЭД'!$C1133,'Отрасли ОКВЭД'!$B1133)","v":"28.30.7"},"C","28.30.7","Производство самозагружающихся или саморазгружающихся прицепов и полуприцепов для сельского хозяйства"]
[{"$f":"IF('Отрасли ОКВЭД'!$C1134<>\"\",'Отрасли ОКВЭД'!$C1134,'Отрасли ОКВЭД'!$B1134)","v":"28.30.8"},"C","28.30.8","Производство прочих сельскохозяйственных машин и оборудования"]
[{"$f":"IF('Отрасли ОКВЭД'!$C1135<>\"\",'Отрасли ОКВЭД'!$C1135,'Отрасли ОКВЭД'!$B1135)","v":"28.30.81"},"C","28.30.81","Производство машин для очистки, сортировки или калибровки яиц, фруктов или прочих сельскохозяйственных продуктов, кроме семян, зерна или сухих бобовых культур"]
[{"$f":"IF('Отрасли ОКВЭД'!$C1136<>\"\",'Отрасли ОКВЭД'!$C1136,'Отрасли ОКВЭД'!$B1136)","v":"28.30.82"},"C","28.30.82","Производство доильных аппаратов"]
[{"$f":"IF('Отрасли ОКВЭД'!$C1137<>\"\",'Отрасли ОКВЭД'!$C1137,'Отрасли ОКВЭД'!$B1137)","v":"28.30.83"},"C","28.30.83","Производство оборудования для приготовления кормов для животных"]
[{"$f":"IF('Отрасли ОКВЭД'!$C1138<>\"\",'Отрасли ОКВЭД'!$C1138,'Отрасли ОКВЭД'!$B1138)","v":"28.30.84"},"C","28.30.84","Производство инкубаторов и брудеров для птицеводства"]
[{"$f":"IF('Отрасли ОКВЭД'!$C1139<>\"\",'Отрасли ОКВЭД'!$C1139,'Отрасли ОКВЭД'!$B1139)","v":"28.30.85"},"C","28.30.85","Производство машин и оборудования для содержания птицы"]
[{"$f":"IF('Отрасли ОКВЭД'!$C1140<>\"\",'Отрасли ОКВЭД'!$C1140,'Отрасли ОКВЭД'!$B1140)","v":"28.30.89"},"C","28.30.89","Производство прочего оборудования для сельского хозяйства, садоводства, лесного хозяйства, птицеводства или пчеловодства, не включенного в другие группировки"]
[{"$f":"IF('Отрасли ОКВЭД'!$C1141<>\"\",'Отрасли ОКВЭД'!$C1141,'Отрасли ОКВЭД'!$B1141)","v":"28.4"},"C","28.4","Производство станков, машин и оборудования для обработки металлов и прочих твердых материалов"]
[{"$f":"IF('Отрасли ОКВЭД'!$C1142<>\"\",'Отрасли ОКВЭД'!$C1142,'Отрасли ОКВЭД'!$B1142)","v":"28.41"},"C","28.41","Производство металлообрабатывающего оборудования"]
[{"$f":"IF('Отрасли ОКВЭД'!$C1143<>\"\",'Отрасли ОКВЭД'!$C1143,'Отрасли ОКВЭД'!$B1143)","v":"28.41.1"},"C","28.41.1","Производство металлообрабатывающих станков"]
[{"$f":"IF('Отрасли ОКВЭД'!$C1144<>\"\",'Отрасли ОКВЭД'!$C1144,'Отрасли ОКВЭД'!$B1144)","v":"28.41.2"},"C","28.41.2","Производство кузнечно-прессового оборудования"]
[{"$f":"IF('Отрасли ОКВЭД'!$C1145<>\"\",'Отрасли ОКВЭД'!$C1145,'Отрасли ОКВЭД'!$B1145)","v":"28.49"},"C","28.49","Производство прочих станков"]
[{"$f":"IF('Отрасли ОКВЭД'!$C1146<>\"\",'Отрасли ОКВЭД'!$C1146,'Отрасли ОКВЭД'!$B1146)","v":"28.49.1"},"C","28.49.1","Производство станков для обработки камня, дерева и аналогичных твердых материалов"]
[{"$f":"IF('Отрасли ОКВЭД'!$C1147<>\"\",'Отрасли ОКВЭД'!$C1147,'Отрасли ОКВЭД'!$B1147)","v":"28.49.11"},"C","28.49.11","Производство станков для обработки камня, керамики, бетона или аналогичных минеральных материалов или для холодной обработки стекла"]
[{"$f":"IF('Отрасли ОКВЭД'!$C1148<>\"\",'Отрасли ОКВЭД'!$C1148,'Отрасли ОКВЭД'!$B1148)","v":"28.49.12"},"C","28.49.12","Производство деревообрабатывающих станков"]
[{"$f":"IF('Отрасли ОКВЭД'!$C1149<>\"\",'Отрасли ОКВЭД'!$C1149,'Отрасли ОКВЭД'!$B1149)","v":"28.49.13"},"C","28.49.13","Производство станков для обработки кости, твердой резины, твердых пластмасс или аналогичных твердых материалов"]
[{"$f":"IF('Отрасли ОКВЭД'!$C1150<>\"\",'Отрасли ОКВЭД'!$C1150,'Отрасли ОКВЭД'!$B1150)","v":"28.49.2"},"C","28.49.2","Производство оборудования для нанесения гальванического покрытия"]
[{"$f":"IF('Отрасли ОКВЭД'!$C1151<>\"\",'Отрасли ОКВЭД'!$C1151,'Отрасли ОКВЭД'!$B1151)","v":"28.49.3"},"C","28.49.3","Производство оправок для крепления инструмента"]
[{"$f":"IF('Отрасли ОКВЭД'!$C1152<>\"\",'Отрасли ОКВЭД'!$C1152,'Отрасли ОКВЭД'!$B1152)","v":"28.49.4"},"C","28.49.4","Производство делительных головок и прочих специальных приспособлений для станков"]
[{"$f":"IF('Отрасли ОКВЭД'!$C1153<>\"\",'Отрасли ОКВЭД'!$C1153,'Отрасли ОКВЭД'!$B1153)","v":"28.9"},"C","28.9","Производство прочих машин специального назначения"]
[{"$f":"IF('Отрасли ОКВЭД'!$C1154<>\"\",'Отрасли ОКВЭД'!$C1154,'Отрасли ОКВЭД'!$B1154)","v":"28.91"},"C","28.91","Производство машин и оборудования для металлургии"]
[{"$f":"IF('Отрасли ОКВЭД'!$C1155<>\"\",'Отрасли ОКВЭД'!$C1155,'Отрасли ОКВЭД'!$B1155)","v":"28.91.1"},"C","28.91.1","Производство конвертеров, ковшей, изложниц и литейных машин"]
[{"$f":"IF('Отрасли ОКВЭД'!$C1156<>\"\",'Отрасли ОКВЭД'!$C1156,'Отрасли ОКВЭД'!$B1156)","v":"28.91.2"},"C","28.91.2","Производство прокатных станов"]
[{"$f":"IF('Отрасли ОКВЭД'!$C1157<>\"\",'Отрасли ОКВЭД'!$C1157,'Отрасли ОКВЭД'!$B1157)","v":"28.91.3"},"C","28.91.3","Производство валков для прокатных станов"]
[{"$f":"IF('Отрасли ОКВЭД'!$C1158<>\"\",'Отрасли ОКВЭД'!$C1158,'Отрасли ОКВЭД'!$B1158)","v":"28.92"},"C","28.92","Производство машин и оборудования для добычи полезных ископаемых и строительства"]
[{"$f":"IF('Отрасли ОКВЭД'!$C1159<>\"\",'Отрасли ОКВЭД'!$C1159,'Отрасли ОКВЭД'!$B1159)","v":"28.92.1"},"C","28.92.1","Производство оборудования для добычи полезных ископаемых подземным способом"]
[{"$f":"IF('Отрасли ОКВЭД'!$C1160<>\"\",'Отрасли ОКВЭД'!$C1160,'Отрасли ОКВЭД'!$B1160)","v":"28.92.11"},"C","28.92.11","Производство подъемников и конвейеров непрерывного действия для подземных работ"]
[{"$f":"IF('Отрасли ОКВЭД'!$C1161<>\"\",'Отрасли ОКВЭД'!$C1161,'Отрасли ОКВЭД'!$B1161)","v":"28.92.12"},"C","28.92.12","Производство врубовых машин и оборудования для проходки тоннелей"]
[{"$f":"IF('Отрасли ОКВЭД'!$C1162<>\"\",'Отрасли ОКВЭД'!$C1162,'Отрасли ОКВЭД'!$B1162)","v":"28.92.2"},"C","28.92.2","Производство прочих машин для перемещения, грейдерных работ, планирования, скреперных работ, выемки, трамбовки, уплотнения или добычи, самоходных, для грунта, минералов или руд"]
[{"$f":"IF('Отрасли ОКВЭД'!$C1163<>\"\",'Отрасли ОКВЭД'!$C1163,'Отрасли ОКВЭД'!$B1163)","v":"28.92.21"},"C","28.92.21","Производство бульдозеров"]
[{"$f":"IF('Отрасли ОКВЭД'!$C1164<>\"\",'Отрасли ОКВЭД'!$C1164,'Отрасли ОКВЭД'!$B1164)","v":"28.92.22"},"C","28.92.22","Производство самоходных грейдеров и планировщиков"]
[{"$f":"IF('Отрасли ОКВЭД'!$C1165<>\"\",'Отрасли ОКВЭД'!$C1165,'Отрасли ОКВЭД'!$B1165)","v":"28.92.23"},"C","28.92.23","Производство самоходных скреперов"]
[{"$f":"IF('Отрасли ОКВЭД'!$C1166<>\"\",'Отрасли ОКВЭД'!$C1166,'Отрасли ОКВЭД'!$B1166)","v":"28.92.24"},"C","28.92.24","Производство трамбовочных машин и дорожных самоходных катков"]
[{"$f":"IF('Отрасли ОКВЭД'!$C1167<>\"\",'Отрасли ОКВЭД'!$C1167,'Отрасли ОКВЭД'!$B1167)","v":"28.92.25"},"C","28.92.25","Производство самоходных фронтальных одноковшовых погрузчиков"]
[{"$f":"IF('Отрасли ОКВЭД'!$C1168<>\"\",'Отрасли ОКВЭД'!$C1168,'Отрасли ОКВЭД'!$B1168)","v":"28.92.26"},"C","28.92.26","Производство одноковшовых полноповоротных экскаваторов и погрузчиков"]
[{"$f":"IF('Отрасли ОКВЭД'!$C1169<>\"\",'Отрасли ОКВЭД'!$C1169,'Отрасли ОКВЭД'!$B1169)","v":"28.92.27"},"C","28.92.27","Производство прочих экскаваторов и самоходных ковшовых погрузчиков"]
[{"$f":"IF('Отрасли ОКВЭД'!$C1170<>\"\",'Отрасли ОКВЭД'!$C1170,'Отрасли ОКВЭД'!$B1170)","v":"28.92.28"},"C","28.92.28","Производство отвалов бульдозеров"]
[{"$f":"IF('Отрасли ОКВЭД'!$C1171<>\"\",'Отрасли ОКВЭД'!$C1171,'Отрасли ОКВЭД'!$B1171)","v":"28.92.29"},"C","28.92.29","Производство автомобилей-самосвалов, предназначенных для использования в условиях бездорожья"]
[{"$f":"IF('Отрасли ОКВЭД'!$C1172<>\"\",'Отрасли ОКВЭД'!$C1172,'Отрасли ОКВЭД'!$B1172)","v":"28.92.3"},"C","28.92.3","Производство прочих машин для выемки грунта"]
[{"$f":"IF('Отрасли ОКВЭД'!$C1173<>\"\",'Отрасли ОКВЭД'!$C1173,'Отрасли ОКВЭД'!$B1173)","v":"28.92.4"},"C","28.92.4","Производство машин для сортировки, дробления, смешивания и аналогичной обработки грунта, камня, руды и прочих минеральных веществ"]
[{"$f":"IF('Отрасли ОКВЭД'!$C1174<>\"\",'Отрасли ОКВЭД'!$C1174,'Отрасли ОКВЭД'!$B1174)","v":"28.92.5"},"C","28.92.5","Производство гусеничных тракторов"]
[{"$f":"IF('Отрасли ОКВЭД'!$C1175<>\"\",'Отрасли ОКВЭД'!$C1175,'Отрасли ОКВЭД'!$B1175)","v":"28.93"},"C","28.93","Производство машин и оборудования для производства пищевых продуктов, напитков и табачных изделий"]
[{"$f":"IF('Отрасли ОКВЭД'!$C1176<>\"\",'Отрасли ОКВЭД'!$C1176,'Отрасли ОКВЭД'!$B1176)","v":"28.94"},"C","28.94","Производство машин и оборудования для изготовления текстильных, швейных, меховых и кожаных изделий"]
[{"$f":"IF('Отрасли ОКВЭД'!$C1177<>\"\",'Отрасли ОКВЭД'!$C1177,'Отрасли ОКВЭД'!$B1177)","v":"28.94.1"},"C","28.94.1","Производство оборудования для подготовки, прядения текстильных волокон, производства тканых и трикотажных текстильных изделий"]
[{"$f":"IF('Отрасли ОКВЭД'!$C1178<>\"\",'Отрасли ОКВЭД'!$C1178,'Отрасли ОКВЭД'!$B1178)","v":"28.94.2"},"C","28.94.2","Производство прочего оборудования для текстильной и швейной промышленности, в том числе промышленных швейных машин"]
[{"$f":"IF('Отрасли ОКВЭД'!$C1179<>\"\",'Отрасли ОКВЭД'!$C1179,'Отрасли ОКВЭД'!$B1179)","v":"28.94.3"},"C","28.94.3","Производство оборудования для обработки шкур, сырых кож и выделанной кожи и для изготовления или ремонта обуви и прочих изделий"]
[{"$f":"IF('Отрасли ОКВЭД'!$C1180<>\"\",'Отрасли ОКВЭД'!$C1180,'Отрасли ОКВЭД'!$B1180)","v":"28.94.4"},"C","28.94.4","Производство бытовых швейных машин"]
[{"$f":"IF('Отрасли ОКВЭД'!$C1181<>\"\",'Отрасли ОКВЭД'!$C1181,'Отрасли ОКВЭД'!$B1181)","v":"28.94.5"},"C","28.94.5","Производство составных частей и принадлежностей машин для текстильного и швейного производства и для обработки кож"]
[{"$f":"IF('Отрасли ОКВЭД'!$C1182<>\"\",'Отрасли ОКВЭД'!$C1182,'Отрасли ОКВЭД'!$B1182)","v":"28.95"},"C","28.95","Производство машин и оборудования для изготовления бумаги и картона"]
[{"$f":"IF('Отрасли ОКВЭД'!$C1183<>\"\",'Отрасли ОКВЭД'!$C1183,'Отрасли ОКВЭД'!$B1183)","v":"28.96"},"C","28.96","Производство машин и оборудования для переработки пластмасс и резины"]
[{"$f":"IF('Отрасли ОКВЭД'!$C1184<>\"\",'Отрасли ОКВЭД'!$C1184,'Отрасли ОКВЭД'!$B1184)","v":"28.99"},"C","28.99","Производство прочих машин и оборудования специального назначения, не включенных в другие группировки"]
[{"$f":"IF('Отрасли ОКВЭД'!$C1185<>\"\",'Отрасли ОКВЭД'!$C1185,'Отрасли ОКВЭД'!$B1185)","v":"28.99.1"},"C","28.99.1","Производство переплетного, наборного, включая фотонаборные машины, печатного оборудования и его составных частей"]
[{"$f":"IF('Отрасли ОКВЭД'!$C1186<>\"\",'Отрасли ОКВЭД'!$C1186,'Отрасли ОКВЭД'!$B1186)","v":"28.99.2"},"C","28.99.2","Производство оборудования и аппаратуры для производства полупроводниковых слитков или пластин, полупроводниковых устройств, электронных интегральных микросхем или плоскопанельных дисплеев"]
[{"$f":"IF('Отрасли ОКВЭД'!$C1187<>\"\",'Отрасли ОКВЭД'!$C1187,'Отрасли ОКВЭД'!$B1187)","v":"28.99.3"},"C","28.99.3","Производство пусковых устройств для воздушных судов, катапультирующих устройств для воздушных судов и т. п. оборудования"]
[{"$f":"IF('Отрасли ОКВЭД'!$C1188<>\"\",'Отрасли ОКВЭД'!$C1188,'Отрасли ОКВЭД'!$B1188)","v":"28.99.4"},"C","28.99.4","Производство оборудования технологического специального для объектов использования атомной энергии"]
[{"$f":"IF('Отрасли ОКВЭД'!$C1189<>\"\",'Отрасли ОКВЭД'!$C1189,'Отрасли ОКВЭД'!$B1189)","v":"28.99.41"},"C","28.99.41","Производство оборудования и устройств по разделению изотопов"]
[{"$f":"IF('Отрасли ОКВЭД'!$C1190<>\"\",'Отрасли ОКВЭД'!$C1190,'Отрасли ОКВЭД'!$B1190)","v":"28.99.42"},"C","28.99.42","Производство оборудования и устройств для транспортировки продуктов"]
[{"$f":"IF('Отрасли ОКВЭД'!$C1191<>\"\",'Отрасли ОКВЭД'!$C1191,'Отрасли ОКВЭД'!$B1191)","v":"28.99.43"},"C","28.99.43","Производство оборудования для автоматизированных систем управления технологическим процессом атомных электростанций"]
[{"$f":"IF('Отрасли ОКВЭД'!$C1192<>\"\",'Отрасли ОКВЭД'!$C1192,'Отрасли ОКВЭД'!$B1192)","v":"28.99.49"},"C","28.99.49","Производство оборудования технологического специального прочего для объектов использования атомной энергии, не включенного в другие группировки"]
[{"$f":"IF('Отрасли ОКВЭД'!$C1193<>\"\",'Отрасли ОКВЭД'!$C1193,'Отрасли ОКВЭД'!$B1193)","v":"28.99.9"},"C","28.99.9","Производство оборудования специального назначения, не включенного в другие группировки"]
[{"$f":"IF('Отрасли ОКВЭД'!$C1194<>\"\",'Отрасли ОКВЭД'!$C1194,'Отрасли ОКВЭД'!$B1194)","v":"29"},"C","29","Производство автотранспортных средств, прицепов и полуприцепов"]
[{"$f":"IF('Отрасли ОКВЭД'!$C1195<>\"\",'Отрасли ОКВЭД'!$C1195,'Отрасли ОКВЭД'!$B1195)","v":"29.1"},"C","29.1","Производство автотранспортных средств"]
[{"$f":"IF('Отрасли ОКВЭД'!$C1196<>\"\",'Отрасли ОКВЭД'!$C1196,'Отрасли ОКВЭД'!$B1196)","v":"29.10"},"C","29.10","Производство автотранспортных средств"]
[{"$f":"IF('Отрасли ОКВЭД'!$C1197<>\"\",'Отрасли ОКВЭД'!$C1197,'Отрасли ОКВЭД'!$B1197)","v":"29.10.1"},"C","29.10.1","Производство двигателей внутреннего сгорания автотранспортных средств"]
[{"$f":"IF('Отрасли ОКВЭД'!$C1198<>\"\",'Отрасли ОКВЭД'!$C1198,'Отрасли ОКВЭД'!$B1198)","v":"29.10.11"},"C","29.10.11","Производство двигателей внутреннего сгорания с искровым зажиганием с рабочим объемом цилиндров не более 1000 см3"]
[{"$f":"IF('Отрасли ОКВЭД'!$C1199<>\"\",'Отрасли ОКВЭД'!$C1199,'Отрасли ОКВЭД'!$B1199)","v":"29.10.12"},"C","29.10.12","Производство двигателей внутреннего сгорания с рабочим объемом цилиндров более 1000 см3"]
[{"$f":"IF('Отрасли ОКВЭД'!$C1200<>\"\",'Отрасли ОКВЭД'!$C1200,'Отрасли ОКВЭД'!$B1200)","v":"29.10.13"},"C","29.10.13","Производство двигателей внутреннего сгорания с воспламенением от сжатия"]
[{"$f":"IF('Отрасли ОКВЭД'!$C1201<>\"\",'Отрасли ОКВЭД'!$C1201,'Отрасли ОКВЭД'!$B1201)","v":"29.10.2"},"C","29.10.2","Производство легковых автомобилей"]
[{"$f":"IF('Отрасли ОКВЭД'!$C1202<>\"\",'Отрасли ОКВЭД'!$C1202,'Отрасли ОКВЭД'!$B1202)","v":"29.10.3"},"C","29.10.3","Производство автобусов и троллейбусов"]
[{"$f":"IF('Отрасли ОКВЭД'!$C1203<>\"\",'Отрасли ОКВЭД'!$C1203,'Отрасли ОКВЭД'!$B1203)","v":"29.10.31"},"C","29.10.31","Производство автобусов"]
[{"$f":"IF('Отрасли ОКВЭД'!$C1204<>\"\",'Отрасли ОКВЭД'!$C1204,'Отрасли ОКВЭД'!$B1204)","v":"29.10.32"},"C","29.10.32","Производство троллейбусов"]
[{"$f":"IF('Отрасли ОКВЭД'!$C1205<>\"\",'Отрасли ОКВЭД'!$C1205,'Отрасли ОКВЭД'!$B1205)","v":"29.10.4"},"C","29.10.4","Производство грузовых автомобилей"]
[{"$f":"IF('Отрасли ОКВЭД'!$C1206<>\"\",'Отрасли ОКВЭД'!$C1206,'Отрасли ОКВЭД'!$B1206)","v":"29.10.5"},"C","29.10.5","Производство автомобилей специального назначения"]
[{"$f":"IF('Отрасли ОКВЭД'!$C1207<>\"\",'Отрасли ОКВЭД'!$C1207,'Отрасли ОКВЭД'!$B1207)","v":"29.2"},"C","29.2","Производство кузовов для автотранспортных средств; производство прицепов и полуприцепов"]
[{"$f":"IF('Отрасли ОКВЭД'!$C1208<>\"\",'Отрасли ОКВЭД'!$C1208,'Отрасли ОКВЭД'!$B1208)","v":"29.20"},"C","29.20","Производство кузовов для автотранспортных средств; производство прицепов и полуприцепов"]
[{"$f":"IF('Отрасли ОКВЭД'!$C1209<>\"\",'Отрасли ОКВЭД'!$C1209,'Отрасли ОКВЭД'!$B1209)","v":"29.20.1"},"C","29.20.1","Производство кузовов для легковых автомобилей"]
[{"$f":"IF('Отрасли ОКВЭД'!$C1210<>\"\",'Отрасли ОКВЭД'!$C1210,'Отрасли ОКВЭД'!$B1210)","v":"29.20.2"},"C","29.20.2","Производство кузовов для грузовых автомобилей"]
[{"$f":"IF('Отрасли ОКВЭД'!$C1211<>\"\",'Отрасли ОКВЭД'!$C1211,'Отрасли ОКВЭД'!$B1211)","v":"29.20.3"},"C","29.20.3","Производство кузовов для автобусов"]
[{"$f":"IF('Отрасли ОКВЭД'!$C1212<>\"\",'Отрасли ОКВЭД'!$C1212,'Отрасли ОКВЭД'!$B1212)","v":"29.20.4"},"C","29.20.4","Производство прицепов и полуприцепов"]
[{"$f":"IF('Отрасли ОКВЭД'!$C1213<>\"\",'Отрасли ОКВЭД'!$C1213,'Отрасли ОКВЭД'!$B1213)","v":"29.20.5"},"C","29.20.5","Производство грузовых контейнеров"]
[{"$f":"IF('Отрасли ОКВЭД'!$C1214<>\"\",'Отрасли ОКВЭД'!$C1214,'Отрасли ОКВЭД'!$B1214)","v":"29.3"},"C","29.3","Производство комплектующих и принадлежностей для автотранспортных средств"]
[{"$f":"IF('Отрасли ОКВЭД'!$C1215<>\"\",'Отрасли ОКВЭД'!$C1215,'Отрасли ОКВЭД'!$B1215)","v":"29.31"},"C","29.31","Производство электрического и электронного оборудования для автотранспортных средств"]
[{"$f":"IF('Отрасли ОКВЭД'!$C1216<>\"\",'Отрасли ОКВЭД'!$C1216,'Отрасли ОКВЭД'!$B1216)","v":"29.32"},"C","29.32","Производство прочих комплектующих и принадлежностей для автотранспортных средств"]
[{"$f":"IF('Отрасли ОКВЭД'!$C1217<>\"\",'Отрасли ОКВЭД'!$C1217,'Отрасли ОКВЭД'!$B1217)","v":"29.32.1"},"C","29.32.1","Производство сидений для автотранспортных средств"]
[{"$f":"IF('Отрасли ОКВЭД'!$C1218<>\"\",'Отрасли ОКВЭД'!$C1218,'Отрасли ОКВЭД'!$B1218)","v":"29.32.2"},"C","29.32.2","Производство ремней безопасности, подушек безопасности, их частей и принадлежностей кузовов"]
[{"$f":"IF('Отрасли ОКВЭД'!$C1219<>\"\",'Отрасли ОКВЭД'!$C1219,'Отрасли ОКВЭД'!$B1219)","v":"29.32.3"},"C","29.32.3","Производство частей и принадлежностей для автотранспортных средств, не включенных в другие группировки"]
[{"$f":"IF('Отрасли ОКВЭД'!$C1220<>\"\",'Отрасли ОКВЭД'!$C1220,'Отрасли ОКВЭД'!$B1220)","v":"30"},"C","30","Производство прочих транспортных средств и оборудования"]
[{"$f":"IF('Отрасли ОКВЭД'!$C1221<>\"\",'Отрасли ОКВЭД'!$C1221,'Отрасли ОКВЭД'!$B1221)","v":"30.1"},"C","30.1","Строительство кораблей, судов и лодок"]
[{"$f":"IF('Отрасли ОКВЭД'!$C1222<>\"\",'Отрасли ОКВЭД'!$C1222,'Отрасли ОКВЭД'!$B1222)","v":"30.11"},"C","30.11","Строительство кораблей, судов и плавучих конструкций"]
[{"$f":"IF('Отрасли ОКВЭД'!$C1223<>\"\",'Отрасли ОКВЭД'!$C1223,'Отрасли ОКВЭД'!$B1223)","v":"30.12"},"C","30.12","Строительство прогулочных и спортивных судов"]
[{"$f":"IF('Отрасли ОКВЭД'!$C1224<>\"\",'Отрасли ОКВЭД'!$C1224,'Отрасли ОКВЭД'!$B1224)","v":"30.2"},"C","30.2","Производство железнодорожных локомотивов и подвижного состава"]
[{"$f":"IF('Отрасли ОКВЭД'!$C1225<>\"\",'Отрасли ОКВЭД'!$C1225,'Отрасли ОКВЭД'!$B1225)","v":"30.20"},"C","30.20","Производство железнодорожных локомотивов и подвижного состава"]
[{"$f":"IF('Отрасли ОКВЭД'!$C1226<>\"\",'Отрасли ОКВЭД'!$C1226,'Отрасли ОКВЭД'!$B1226)","v":"30.20.1"},"C","30.20.1","Производство железнодорожных локомотивов"]
[{"$f":"IF('Отрасли ОКВЭД'!$C1227<>\"\",'Отрасли ОКВЭД'!$C1227,'Отрасли ОКВЭД'!$B1227)","v":"30.20.11"},"C","30.20.11","Производство магистральных электровозов"]
[{"$f":"IF('Отрасли ОКВЭД'!$C1228<>\"\",'Отрасли ОКВЭД'!$C1228,'Отрасли ОКВЭД'!$B1228)","v":"30.20.12"},"C","30.20.12","Производство магистральных тепловозов"]
[{"$f":"IF('Отрасли ОКВЭД'!$C1229<>\"\",'Отрасли ОКВЭД'!$C1229,'Отрасли ОКВЭД'!$B1229)","v":"30.20.13"},"C","30.20.13","Производство маневровых тепловозов"]
[{"$f":"IF('Отрасли ОКВЭД'!$C1230<>\"\",'Отрасли ОКВЭД'!$C1230,'Отрасли ОКВЭД'!$B1230)","v":"30.20.2"},"C","30.20.2","Производство моторных железнодорожных, трамвайных вагонов и вагонов метро, автодрезин, кроме транспортных средств для ремонта и технического обслуживания железнодорожных и трамвайных путей"]
[{"$f":"IF('Отрасли ОКВЭД'!$C1231<>\"\",'Отрасли ОКВЭД'!$C1231,'Отрасли ОКВЭД'!$B1231)","v":"30.20.3"},"C","30.20.3","Производство прочего подвижного состава"]
[{"$f":"IF('Отрасли ОКВЭД'!$C1232<>\"\",'Отрасли ОКВЭД'!$C1232,'Отрасли ОКВЭД'!$B1232)","v":"30.20.31"},"C","30.20.31","Производство транспортных средств для ремонта и технического обслуживания железнодорожных, трамвайных и прочих путей"]
[{"$f":"IF('Отрасли ОКВЭД'!$C1233<>\"\",'Отрасли ОКВЭД'!$C1233,'Отрасли ОКВЭД'!$B1233)","v":"30.20.32"},"C","30.20.32","Производство немоторных пассажирских железнодорожных, трамвайных вагонов и вагонов метро, багажных, почтовых и прочих вагонов специального назначения, кроме вагонов, предназначенных для ремонта и технического обслуживания путей"]
[{"$f":"IF('Отрасли ОКВЭД'!$C1234<>\"\",'Отрасли ОКВЭД'!$C1234,'Отрасли ОКВЭД'!$B1234)","v":"30.20.33"},"C","30.20.33","Производство несамоходных железнодорожных, трамвайных и прочих вагонов для перевозки грузов"]
[{"$f":"IF('Отрасли ОКВЭД'!$C1235<>\"\",'Отрасли ОКВЭД'!$C1235,'Отрасли ОКВЭД'!$B1235)","v":"30.20.4"},"C","30.20.4","Производство частей железнодорожных локомотивов, трамвайных и прочих моторных вагонов и подвижного состава; производство путевого оборудования и устройств для железнодорожных, трамвайных и прочих путей, механического и электромеханического оборудования для управления движением"]
[{"$f":"IF('Отрасли ОКВЭД'!$C1236<>\"\",'Отрасли ОКВЭД'!$C1236,'Отрасли ОКВЭД'!$B1236)","v":"30.20.9"},"C","30.20.9","Предоставление услуг по восстановлению и оснащению (завершению) железнодорожных локомотивов, трамвайных моторных вагонов и прочего подвижного состава"]
[{"$f":"IF('Отрасли ОКВЭД'!$C1237<>\"\",'Отрасли ОКВЭД'!$C1237,'Отрасли ОКВЭД'!$B1237)","v":"30.3"},"C","30.3","Производство летательных аппаратов, включая космические, и соответствующего оборудования"]
[{"$f":"IF('Отрасли ОКВЭД'!$C1238<>\"\",'Отрасли ОКВЭД'!$C1238,'Отрасли ОКВЭД'!$B1238)","v":"30.30"},"C","30.30","Производство летательных аппаратов, включая космические, и соответствующего оборудования"]
[{"$f":"IF('Отрасли ОКВЭД'!$C1239<>\"\",'Отрасли ОКВЭД'!$C1239,'Отрасли ОКВЭД'!$B1239)","v":"30.30.1"},"C","30.30.1","Производство силовых установок и двигателей для летательных аппаратов, включая космические; наземных тренажеров для летного состава; их частей"]
[{"$f":"IF('Отрасли ОКВЭД'!$C1240<>\"\",'Отрасли ОКВЭД'!$C1240,'Отрасли ОКВЭД'!$B1240)","v":"30.30.11"},"C","30.30.11","Производство двигателей летательных аппаратов с искровым зажиганием и их частей"]
[{"$f":"IF('Отрасли ОКВЭД'!$C1241<>\"\",'Отрасли ОКВЭД'!$C1241,'Отрасли ОКВЭД'!$B1241)","v":"30.30.12"},"C","30.30.12","Производство турбореактивных и турбовинтовых двигателей и их частей"]
[{"$f":"IF('Отрасли ОКВЭД'!$C1242<>\"\",'Отрасли ОКВЭД'!$C1242,'Отрасли ОКВЭД'!$B1242)","v":"30.30.13"},"C","30.30.13","Производство реактивных двигателей и их частей"]
[{"$f":"IF('Отрасли ОКВЭД'!$C1243<>\"\",'Отрасли ОКВЭД'!$C1243,'Отрасли ОКВЭД'!$B1243)","v":"30.30.14"},"C","30.30.14","Производство наземных тренажеров для летного состава и их частей"]
[{"$f":"IF('Отрасли ОКВЭД'!$C1244<>\"\",'Отрасли ОКВЭД'!$C1244,'Отрасли ОКВЭД'!$B1244)","v":"30.30.2"},"C","30.30.2","Производство аэростатов, дирижаблей, планеров, дельтапланов и прочих безмоторных летательных аппаратов"]
[{"$f":"IF('Отрасли ОКВЭД'!$C1245<>\"\",'Отрасли ОКВЭД'!$C1245,'Отрасли ОКВЭД'!$B1245)","v":"30.30.3"},"C","30.30.3","Производство вертолетов, самолетов и прочих летательных аппаратов"]
[{"$f":"IF('Отрасли ОКВЭД'!$C1246<>\"\",'Отрасли ОКВЭД'!$C1246,'Отрасли ОКВЭД'!$B1246)","v":"30.30.31"},"C","30.30.31","Производство вертолетов"]
[{"$f":"IF('Отрасли ОКВЭД'!$C1247<>\"\",'Отрасли ОКВЭД'!$C1247,'Отрасли ОКВЭД'!$B1247)","v":"30.30.32"},"C","30.30.32","Производство самолетов"]
[{"$f":"IF('Отрасли ОКВЭД'!$C1248<>\"\",'Отрасли ОКВЭД'!$C1248,'Отрасли ОКВЭД'!$B1248)","v":"30.30.39"},"C","30.30.39","Производство прочих летательных аппаратов"]
[{"$f":"IF('Отрасли ОКВЭД'!$C1249<>\"\",'Отрасли ОКВЭД'!$C1249,'Отрасли ОКВЭД'!$B1249)","v":"30.30.4"},"C","30.30.4","Производство космических аппаратов (в том числе спутников), ракет-носителей"]
[{"$f":"IF('Отрасли ОКВЭД'!$C1250<>\"\",'Отрасли ОКВЭД'!$C1250,'Отрасли ОКВЭД'!$B1250)","v":"30.30.41"},"C","30.30.41","Производство автоматических космических аппаратов"]
[{"$f":"IF('Отрасли ОКВЭД'!$C1251<>\"\",'Отрасли ОКВЭД'!$C1251,'Отрасли ОКВЭД'!$B1251)","v":"30.30.42"},"C","30.30.42","Производство пилотируемых и беспилотных космических кораблей и станций, включая орбитальные, межпланетные, многоразового использования"]
[{"$f":"IF('Отрасли ОКВЭД'!$C1252<>\"\",'Отрасли ОКВЭД'!$C1252,'Отрасли ОКВЭД'!$B1252)","v":"30.30.43"},"C","30.30.43","Производство ракет-носителей"]
[{"$f":"IF('Отрасли ОКВЭД'!$C1253<>\"\",'Отрасли ОКВЭД'!$C1253,'Отрасли ОКВЭД'!$B1253)","v":"30.30.44"},"C","30.30.44","Производство межконтинентальных баллистических ракет"]
[{"$f":"IF('Отрасли ОКВЭД'!$C1254<>\"\",'Отрасли ОКВЭД'!$C1254,'Отрасли ОКВЭД'!$B1254)","v":"30.30.5"},"C","30.30.5","Производство частей и принадлежностей летательных и космических аппаратов"]
[{"$f":"IF('Отрасли ОКВЭД'!$C1255<>\"\",'Отрасли ОКВЭД'!$C1255,'Отрасли ОКВЭД'!$B1255)","v":"30.4"},"C","30.4","Производство военных боевых машин"]
[{"$f":"IF('Отрасли ОКВЭД'!$C1256<>\"\",'Отрасли ОКВЭД'!$C1256,'Отрасли ОКВЭД'!$B1256)","v":"30.40"},"C","30.40","Производство военных боевых машин"]
[{"$f":"IF('Отрасли ОКВЭД'!$C1257<>\"\",'Отрасли ОКВЭД'!$C1257,'Отрасли ОКВЭД'!$B1257)","v":"30.9"},"C","30.9","Производство транспортных средств и оборудования, не включенных в другие группировки"]
[{"$f":"IF('Отрасли ОКВЭД'!$C1258<>\"\",'Отрасли ОКВЭД'!$C1258,'Отрасли ОКВЭД'!$B1258)","v":"30.91"},"C","30.91","Производство мотоциклов"]
[{"$f":"IF('Отрасли ОКВЭД'!$C1259<>\"\",'Отрасли ОКВЭД'!$C1259,'Отрасли ОКВЭД'!$B1259)","v":"30.92"},"C","30.92","Производство велосипедов и инвалидных колясок"]
[{"$f":"IF('Отрасли ОКВЭД'!$C1260<>\"\",'Отрасли ОКВЭД'!$C1260,'Отрасли ОКВЭД'!$B1260)","v":"30.92.1"},"C","30.92.1","Производство велосипедов"]
[{"$f":"IF('Отрасли ОКВЭД'!$C1261<>\"\",'Отрасли ОКВЭД'!$C1261,'Отрасли ОКВЭД'!$B1261)","v":"30.92.2"},"C","30.92.2","Производство инвалидных колясок"]
[{"$f":"IF('Отрасли ОКВЭД'!$C1262<>\"\",'Отрасли ОКВЭД'!$C1262,'Отрасли ОКВЭД'!$B1262)","v":"30.92.3"},"C","30.92.3","Производство частей и принадлежности велосипедов и инвалидных колясок"]
[{"$f":"IF('Отрасли ОКВЭД'!$C1263<>\"\",'Отрасли ОКВЭД'!$C1263,'Отрасли ОКВЭД'!$B1263)","v":"30.92.4"},"C","30.92.4","Производство детских колясок и их частей"]
[{"$f":"IF('Отрасли ОКВЭД'!$C1264<>\"\",'Отрасли ОКВЭД'!$C1264,'Отрасли ОКВЭД'!$B1264)","v":"30.99"},"C","30.99","Производство прочих транспортных средств и оборудования, не включенных в другие группировки"]
[{"$f":"IF('Отрасли ОКВЭД'!$C1265<>\"\",'Отрасли ОКВЭД'!$C1265,'Отрасли ОКВЭД'!$B1265)","v":"31"},"C","31","Производство мебели"]
[{"$f":"IF('Отрасли ОКВЭД'!$C1266<>\"\",'Отрасли ОКВЭД'!$C1266,'Отрасли ОКВЭД'!$B1266)","v":"31.0"},"C","31.0","Производство мебели"]
[{"$f":"IF('Отрасли ОКВЭД'!$C1267<>\"\",'Отрасли ОКВЭД'!$C1267,'Отрасли ОКВЭД'!$B1267)","v":"31.01"},"C","31.01","Производство мебели для офисов и предприятий торговли"]
[{"$f":"IF('Отрасли ОКВЭД'!$C1268<>\"\",'Отрасли ОКВЭД'!$C1268,'Отрасли ОКВЭД'!$B1268)","v":"31.02"},"C","31.02","Производство кухонной мебели"]
[{"$f":"IF('Отрасли ОКВЭД'!$C1269<>\"\",'Отрасли ОКВЭД'!$C1269,'Отрасли ОКВЭД'!$B1269)","v":"31.02.1"},"C","31.02.1","Производство кухонной мебели, кроме изготовленной по индивидуальному заказу населения"]
[{"$f":"IF('Отрасли ОКВЭД'!$C1270<>\"\",'Отрасли ОКВЭД'!$C1270,'Отрасли ОКВЭД'!$B1270)","v":"31.02.2"},"C","31.02.2","Изготовление кухонной мебели по индивидуальному заказу населения"]
[{"$f":"IF('Отрасли ОКВЭД'!$C1271<>\"\",'Отрасли ОКВЭД'!$C1271,'Отрасли ОКВЭД'!$B1271)","v":"31.03"},"C","31.03","Производство матрасов"]
[{"$f":"IF('Отрасли ОКВЭД'!$C1272<>\"\",'Отрасли ОКВЭД'!$C1272,'Отрасли ОКВЭД'!$B1272)","v":"31.09"},"C","31.09","Производство прочей мебели"]
[{"$f":"IF('Отрасли ОКВЭД'!$C1273<>\"\",'Отрасли ОКВЭД'!$C1273,'Отрасли ОКВЭД'!$B1273)","v":"31.09.1"},"C","31.09.1","Производство прочей мебели, кроме изготовленной по индивидуальному заказу населения"]
[{"$f":"IF('Отрасли ОКВЭД'!$C1274<>\"\",'Отрасли ОКВЭД'!$C1274,'Отрасли ОКВЭД'!$B1274)","v":"31.09.2"},"C","31.09.2","Изготовление прочей мебели и отдельных мебельных деталей, не включенных в другие группировки по индивидуальному заказу населения"]
[{"$f":"IF('Отрасли ОКВЭД'!$C1275<>\"\",'Отрасли ОКВЭД'!$C1275,'Отрасли ОКВЭД'!$B1275)","v":"32"},"C","32","Производство прочих готовых изделий"]
[{"$f":"IF('Отрасли ОКВЭД'!$C1276<>\"\",'Отрасли ОКВЭД'!$C1276,'Отрасли ОКВЭД'!$B1276)","v":"32.1"},"C","32.1","Производство ювелирных изделий, бижутерии и подобных товаров"]
[{"$f":"IF('Отрасли ОКВЭД'!$C1277<>\"\",'Отрасли ОКВЭД'!$C1277,'Отрасли ОКВЭД'!$B1277)","v":"32.11"},"C","32.11","Чеканка монет"]
[{"$f":"IF('Отрасли ОКВЭД'!$C1278<>\"\",'Отрасли ОКВЭД'!$C1278,'Отрасли ОКВЭД'!$B1278)","v":"32.12"},"C","32.12","Производство ювелирных изделий и аналогичных изделий"]
[{"$f":"IF('Отрасли ОКВЭД'!$C1279<>\"\",'Отрасли ОКВЭД'!$C1279,'Отрасли ОКВЭД'!$B1279)","v":"32.12.1"},"C","32.12.1","Производство изделий технического назначения из драгоценных металлов"]
[{"$f":"IF('Отрасли ОКВЭД'!$C1280<>\"\",'Отрасли ОКВЭД'!$C1280,'Отрасли ОКВЭД'!$B1280)","v":"32.12.2"},"C","32.12.2","Производство изделий технического назначения из драгоценных камней"]
[{"$f":"IF('Отрасли ОКВЭД'!$C1281<>\"\",'Отрасли ОКВЭД'!$C1281,'Отрасли ОКВЭД'!$B1281)","v":"32.12.3"},"C","32.12.3","Обработка алмазов"]
[{"$f":"IF('Отрасли ОКВЭД'!$C1282<>\"\",'Отрасли ОКВЭД'!$C1282,'Отрасли ОКВЭД'!$B1282)","v":"32.12.4"},"C","32.12.4","Обработка драгоценных, полудрагоценных, поделочных и синтетических камней, кроме алмазов и янтаря; производство изделий из полудрагоценных, поделочных и синтетических камней, кроме янтаря"]
[{"$f":"IF('Отрасли ОКВЭД'!$C1283<>\"\",'Отрасли ОКВЭД'!$C1283,'Отрасли ОКВЭД'!$B1283)","v":"32.12.5"},"C","32.12.5","Производство ювелирных изделий, медалей из драгоценных металлов и драгоценных камней"]
[{"$f":"IF('Отрасли ОКВЭД'!$C1284<>\"\",'Отрасли ОКВЭД'!$C1284,'Отрасли ОКВЭД'!$B1284)","v":"32.12.6"},"C","32.12.6","Изготовление ювелирных изделий и аналогичных изделий по индивидуальному заказу населения"]
[{"$f":"IF('Отрасли ОКВЭД'!$C1285<>\"\",'Отрасли ОКВЭД'!$C1285,'Отрасли ОКВЭД'!$B1285)","v":"32.12.7"},"C","32.12.7","Обработка янтаря и производство изделий из янтаря"]
[{"$f":"IF('Отрасли ОКВЭД'!$C1286<>\"\",'Отрасли ОКВЭД'!$C1286,'Отрасли ОКВЭД'!$B1286)","v":"32.13"},"C","32.13","Производство бижутерии и подобных товаров"]
[{"$f":"IF('Отрасли ОКВЭД'!$C1287<>\"\",'Отрасли ОКВЭД'!$C1287,'Отрасли ОКВЭД'!$B1287)","v":"32.13.1"},"C","32.13.1","Производство бижутерии и подобных товаров, кроме изготовленных по индивидуальному заказу"]
[{"$f":"IF('Отрасли ОКВЭД'!$C1288<>\"\",'Отрасли ОКВЭД'!$C1288,'Отрасли ОКВЭД'!$B1288)","v":"32.13.2"},"C","32.13.2","Изготовление бижутерии и подобных товаров по индивидуальному заказу населения"]
[{"$f":"IF('Отрасли ОКВЭД'!$C1289<>\"\",'Отрасли ОКВЭД'!$C1289,'Отрасли ОКВЭД'!$B1289)","v":"32.2"},"C","32.2","Производство музыкальных инструментов"]
[{"$f":"IF('Отрасли ОКВЭД'!$C1290<>\"\",'Отрасли ОКВЭД'!$C1290,'Отрасли ОКВЭД'!$B1290)","v":"32.20"},"C","32.20","Производство музыкальных инструментов"]
[{"$f":"IF('Отрасли ОКВЭД'!$C1291<>\"\",'Отрасли ОКВЭД'!$C1291,'Отрасли ОКВЭД'!$B1291)","v":"32.3"},"C","32.3","Производство спортивных товаров"]
[{"$f":"IF('Отрасли ОКВЭД'!$C1292<>\"\",'Отрасли ОКВЭД'!$C1292,'Отрасли ОКВЭД'!$B1292)","v":"32.30"},"C","32.30","Производство спортивных товаров"]
[{"$f":"IF('Отрасли ОКВЭД'!$C1293<>\"\",'Отрасли ОКВЭД'!$C1293,'Отрасли ОКВЭД'!$B1293)","v":"32.4"},"C","32.4","Производство игр и игрушек"]
[{"$f":"IF('Отрасли ОКВЭД'!$C1294<>\"\",'Отрасли ОКВЭД'!$C1294,'Отрасли ОКВЭД'!$B1294)","v":"32.40"},"C","32.40","Производство игр и игрушек"]
[{"$f":"IF('Отрасли ОКВЭД'!$C1295<>\"\",'Отрасли ОКВЭД'!$C1295,'Отрасли ОКВЭД'!$B1295)","v":"32.5"},"C","32.5","Производство медицинских инструментов и оборудования"]
[{"$f":"IF('Отрасли ОКВЭД'!$C1296<>\"\",'Отрасли ОКВЭД'!$C1296,'Отрасли ОКВЭД'!$B1296)","v":"32.50"},"C","32.50","Производство медицинских инструментов и оборудования"]
[{"$f":"IF('Отрасли ОКВЭД'!$C1297<>\"\",'Отрасли ОКВЭД'!$C1297,'Отрасли ОКВЭД'!$B1297)","v":"32.9"},"C","32.9","Производство изделий, не включенных в другие группировки"]
[{"$f":"IF('Отрасли ОКВЭД'!$C1298<>\"\",'Отрасли ОКВЭД'!$C1298,'Отрасли ОКВЭД'!$B1298)","v":"32.91"},"C","32.91","Производство метел и щеток"]
[{"$f":"IF('Отрасли ОКВЭД'!$C1299<>\"\",'Отрасли ОКВЭД'!$C1299,'Отрасли ОКВЭД'!$B1299)","v":"32.99"},"C","32.99","Производство прочих готовых изделий, не включенных в другие группировки"]
[{"$f":"IF('Отрасли ОКВЭД'!$C1300<>\"\",'Отрасли ОКВЭД'!$C1300,'Отрасли ОКВЭД'!$B1300)","v":"32.99.1"},"C","32.99.1","Производство головных защитных уборов и прочих средств защиты"]
[{"$f":"IF('Отрасли ОКВЭД'!$C1301<>\"\",'Отрасли ОКВЭД'!$C1301,'Отрасли ОКВЭД'!$B1301)","v":"32.99.2"},"C","32.99.2","Производство пишущих принадлежностей"]
[{"$f":"IF('Отрасли ОКВЭД'!$C1302<>\"\",'Отрасли ОКВЭД'!$C1302,'Отрасли ОКВЭД'!$B1302)","v":"32.99.3"},"C","32.99.3","Производство зонтов, тростей, пуговиц, кнопок, застежек-молний"]
[{"$f":"IF('Отрасли ОКВЭД'!$C1303<>\"\",'Отрасли ОКВЭД'!$C1303,'Отрасли ОКВЭД'!$B1303)","v":"32.99.4"},"C","32.99.4","Производство изделий из волоса человека или животных; производство аналогичных изделий из текстильных материалов"]
[{"$f":"IF('Отрасли ОКВЭД'!$C1304<>\"\",'Отрасли ОКВЭД'!$C1304,'Отрасли ОКВЭД'!$B1304)","v":"32.99.5"},"C","32.99.5","Производство зажигалок и прочих курительных принадлежностей"]
[{"$f":"IF('Отрасли ОКВЭД'!$C1305<>\"\",'Отрасли ОКВЭД'!$C1305,'Отрасли ОКВЭД'!$B1305)","v":"32.99.6"},"C","32.99.6","Производство изделий для праздников, карнавалов или прочих изделий для увеселения"]
[{"$f":"IF('Отрасли ОКВЭД'!$C1306<>\"\",'Отрасли ОКВЭД'!$C1306,'Отрасли ОКВЭД'!$B1306)","v":"32.99.7"},"C","32.99.7","Производство приборов, аппаратуры и моделей, предназначенных для демонстрационных целей"]
[{"$f":"IF('Отрасли ОКВЭД'!$C1307<>\"\",'Отрасли ОКВЭД'!$C1307,'Отрасли ОКВЭД'!$B1307)","v":"32.99.8"},"C","32.99.8","Производство изделий народных художественных промыслов"]
[{"$f":"IF('Отрасли ОКВЭД'!$C1308<>\"\",'Отрасли ОКВЭД'!$C1308,'Отрасли ОКВЭД'!$B1308)","v":"32.99.9"},"C","32.99.9","Производство прочих изделий, не включенных в другие группировки"]
[{"$f":"IF('Отрасли ОКВЭД'!$C1309<>\"\",'Отрасли ОКВЭД'!$C1309,'Отрасли ОКВЭД'!$B1309)","v":"33"},"C","33","Ремонт и монтаж машин и оборудования"]
[{"$f":"IF('Отрасли ОКВЭД'!$C1310<>\"\",'Отрасли ОКВЭД'!$C1310,'Отрасли ОКВЭД'!$B1310)","v":"33.1"},"C","33.1","Ремонт и монтаж металлических изделий, машин и оборудования"]
[{"$f":"IF('Отрасли ОКВЭД'!$C1311<>\"\",'Отрасли ОКВЭД'!$C1311,'Отрасли ОКВЭД'!$B1311)","v":"33.11"},"C","33.11","Ремонт металлоизделий"]
[{"$f":"IF('Отрасли ОКВЭД'!$C1312<>\"\",'Отрасли ОКВЭД'!$C1312,'Отрасли ОКВЭД'!$B1312)","v":"33.12"},"C","33.12","Ремонт машин и оборудования"]
[{"$f":"IF('Отрасли ОКВЭД'!$C1313<>\"\",'Отрасли ОКВЭД'!$C1313,'Отрасли ОКВЭД'!$B1313)","v":"33.13"},"C","33.13","Ремонт электронного и оптического оборудования"]
[{"$f":"IF('Отрасли ОКВЭД'!$C1314<>\"\",'Отрасли ОКВЭД'!$C1314,'Отрасли ОКВЭД'!$B1314)","v":"33.14"},"C","33.14","Ремонт электрического оборудования"]
[{"$f":"IF('Отрасли ОКВЭД'!$C1315<>\"\",'Отрасли ОКВЭД'!$C1315,'Отрасли ОКВЭД'!$B1315)","v":"33.15"},"C","33.15","Ремонт и техническое обслуживание судов и лодок"]
[{"$f":"IF('Отрасли ОКВЭД'!$C1316<>\"\",'Отрасли ОКВЭД'!$C1316,'Отрасли ОКВЭД'!$B1316)","v":"33.16"},"C","33.16","Ремонт и техническое обслуживание летательных аппаратов, включая космические"]
[{"$f":"IF('Отрасли ОКВЭД'!$C1317<>\"\",'Отрасли ОКВЭД'!$C1317,'Отрасли ОКВЭД'!$B1317)","v":"33.17"},"C","33.17","Ремонт и техническое обслуживание прочих транспортных средств и оборудования"]
[{"$f":"IF('Отрасли ОКВЭД'!$C1318<>\"\",'Отрасли ОКВЭД'!$C1318,'Отрасли ОКВЭД'!$B1318)","v":"33.19"},"C","33.19","Ремонт прочего оборудования"]
[{"$f":"IF('Отрасли ОКВЭД'!$C1319<>\"\",'Отрасли ОКВЭД'!$C1319,'Отрасли ОКВЭД'!$B1319)","v":"33.2"},"C","33.2","Монтаж промышленных машин и оборудования"]
[{"$f":"IF('Отрасли ОКВЭД'!$C1320<>\"\",'Отрасли ОКВЭД'!$C1320,'Отрасли ОКВЭД'!$B1320)","v":"33.20"},"C","33.20","Монтаж промышленных машин и оборудования"]
[{"$f":"IF('Отрасли ОКВЭД'!$C1321<>\"\",'Отрасли ОКВЭД'!$C1321,'Отрасли ОКВЭД'!$B1321)","v":"D"},"D","","ОБЕСПЕЧЕНИЕ ЭЛЕКТРИЧЕСКОЙ ЭНЕРГИЕЙ, ГАЗОМ И ПАРОМ; КОНДИЦИОНИРОВАНИЕ ВОЗДУХА"]
[{"$f":"IF('Отрасли ОКВЭД'!$C1322<>\"\",'Отрасли ОКВЭД'!$C1322,'Отрасли ОКВЭД'!$B1322)","v":"35"},"D","35","Обеспечение электрической энергией, газом и паром; кондиционирование воздуха"]
[{"$f":"IF('Отрасли ОКВЭД'!$C1323<>\"\",'Отрасли ОКВЭД'!$C1323,'Отрасли ОКВЭД'!$B1323)","v":"35.1"},"D","35.1","Производство, передача и распределение электроэнергии"]
[{"$f":"IF('Отрасли ОКВЭД'!$C1324<>\"\",'Отрасли ОКВЭД'!$C1324,'Отрасли ОКВЭД'!$B1324)","v":"35.11"},"D","35.11","Производство электроэнергии"]
[{"$f":"IF('Отрасли ОКВЭД'!$C1325<>\"\",'Отрасли ОКВЭД'!$C1325,'Отрасли ОКВЭД'!$B1325)","v":"35.11.1"},"D","35.11.1","Производство электроэнергии тепловыми электростанциями, в том числе деятельность по обеспечению работоспособности электростанций"]
[{"$f":"IF('Отрасли ОКВЭД'!$C1326<>\"\",'Отрасли ОКВЭД'!$C1326,'Отрасли ОКВЭД'!$B1326)","v":"35.11.2"},"D","35.11.2","Производство электроэнергии гидроэлектростанциями, в том числе деятельность по обеспечению работоспособности электростанций"]
[{"$f":"IF('Отрасли ОКВЭД'!$C1327<>\"\",'Отрасли ОКВЭД'!$C1327,'Отрасли ОКВЭД'!$B1327)","v":"35.11.3"},"D","35.11.3","Производство электроэнергии атомными электростанциями, в том числе деятельность по обеспечению работоспособности электростанций"]
[{"$f":"IF('Отрасли ОКВЭД'!$C1328<>\"\",'Отрасли ОКВЭД'!$C1328,'Отрасли ОКВЭД'!$B1328)","v":"35.11.4"},"D","35.11.4","Производство электроэнергии, получаемой из возобновляемых источников энергии, включая выработанную солнечными, ветровыми, геотермальными электростанциями, в том числе деятельность по обеспечению их работоспособности"]
[{"$f":"IF('Отрасли ОКВЭД'!$C1329<>\"\",'Отрасли ОКВЭД'!$C1329,'Отрасли ОКВЭД'!$B1329)","v":"35.12"},"D","35.12","Передача электроэнергии и технологическое присоединение к распределительным электросетям"]
[{"$f":"IF('Отрасли ОКВЭД'!$C1330<>\"\",'Отрасли ОКВЭД'!$C1330,'Отрасли ОКВЭД'!$B1330)","v":"35.12.1"},"D","35.12.1","Передача электроэнергии"]
[{"$f":"IF('Отрасли ОКВЭД'!$C1331<>\"\",'Отрасли ОКВЭД'!$C1331,'Отрасли ОКВЭД'!$B1331)","v":"35.12.2"},"D","35.12.2","Технологическое присоединение к распределительным электросетям"]
[{"$f":"IF('Отрасли ОКВЭД'!$C1332<>\"\",'Отрасли ОКВЭД'!$C1332,'Отрасли ОКВЭД'!$B1332)","v":"35.13"},"D","35.13","Распределение электроэнергии"]
[{"$f":"IF('Отрасли ОКВЭД'!$C1333<>\"\",'Отрасли ОКВЭД'!$C1333,'Отрасли ОКВЭД'!$B1333)","v":"35.14"},"D","35.14","Торговля электроэнергией"]
[{"$f":"IF('Отрасли ОКВЭД'!$C1334<>\"\",'Отрасли ОКВЭД'!$C1334,'Отрасли ОКВЭД'!$B1334)","v":"35.2"},"D","35.2","Производство и распределение газообразного топлива"]
[{"$f":"IF('Отрасли ОКВЭД'!$C1335<>\"\",'Отрасли ОКВЭД'!$C1335,'Отрасли ОКВЭД'!$B1335)","v":"35.21"},"D","35.21","Производство газа"]
[{"$f":"IF('Отрасли ОКВЭД'!$C1336<>\"\",'Отрасли ОКВЭД'!$C1336,'Отрасли ОКВЭД'!$B1336)","v":"35.21.1"},"D","35.21.1","Газификация угля"]
[{"$f":"IF('Отрасли ОКВЭД'!$C1337<>\"\",'Отрасли ОКВЭД'!$C1337,'Отрасли ОКВЭД'!$B1337)","v":"35.21.11"},"D","35.21.11","Газификация антрацита"]
[{"$f":"IF('Отрасли ОКВЭД'!$C1338<>\"\",'Отрасли ОКВЭД'!$C1338,'Отрасли ОКВЭД'!$B1338)","v":"35.21.12"},"D","35.21.12","Газификация каменного угля за исключением антрацита"]
[{"$f":"IF('Отрасли ОКВЭД'!$C1339<>\"\",'Отрасли ОКВЭД'!$C1339,'Отрасли ОКВЭД'!$B1339)","v":"35.21.13"},"D","35.21.13","Газификация бурого угля (лигнита)"]
[{"$f":"IF('Отрасли ОКВЭД'!$C1340<>\"\",'Отрасли ОКВЭД'!$C1340,'Отрасли ОКВЭД'!$B1340)","v":"35.21.2"},"D","35.21.2","Сжижение углей"]
[{"$f":"IF('Отрасли ОКВЭД'!$C1341<>\"\",'Отрасли ОКВЭД'!$C1341,'Отрасли ОКВЭД'!$B1341)","v":"35.21.21"},"D","35.21.21","Сжижение антрацита"]
[{"$f":"IF('Отрасли ОКВЭД'!$C1342<>\"\",'Отрасли ОКВЭД'!$C1342,'Отрасли ОКВЭД'!$B1342)","v":"35.21.22"},"D","35.21.22","Сжижение каменного угля за исключением антрацита"]
[{"$f":"IF('Отрасли ОКВЭД'!$C1343<>\"\",'Отрасли ОКВЭД'!$C1343,'Отрасли ОКВЭД'!$B1343)","v":"35.21.23"},"D","35.21.23","Сжижение бурого угля (лигнита)"]
[{"$f":"IF('Отрасли ОКВЭД'!$C1344<>\"\",'Отрасли ОКВЭД'!$C1344,'Отрасли ОКВЭД'!$B1344)","v":"35.22"},"D","35.22","Распределение газообразного топлива по газораспределительным сетям"]
[{"$f":"IF('Отрасли ОКВЭД'!$C1345<>\"\",'Отрасли ОКВЭД'!$C1345,'Отрасли ОКВЭД'!$B1345)","v":"35.22.1"},"D","35.22.1","Распределение природного, сухого (отбензиненного) газа по газораспределительным сетям"]
[{"$f":"IF('Отрасли ОКВЭД'!$C1346<>\"\",'Отрасли ОКВЭД'!$C1346,'Отрасли ОКВЭД'!$B1346)","v":"35.22.11"},"D","35.22.11","Распределение природного, сухого (отбензиненного) газа по газораспределительным сетям по тарифам, регулируемым государством"]
[{"$f":"IF('Отрасли ОКВЭД'!$C1347<>\"\",'Отрасли ОКВЭД'!$C1347,'Отрасли ОКВЭД'!$B1347)","v":"35.22.12"},"D","35.22.12","Распределение природного, сухого (отбензиненного) газа по газораспределительным сетям по тарифам, не регулируемым государством"]
[{"$f":"IF('Отрасли ОКВЭД'!$C1348<>\"\",'Отрасли ОКВЭД'!$C1348,'Отрасли ОКВЭД'!$B1348)","v":"35.22.2"},"D","35.22.2","Распределение сжиженных углеводородных газов по газораспределительным сетям"]
[{"$f":"IF('Отрасли ОКВЭД'!$C1349<>\"\",'Отрасли ОКВЭД'!$C1349,'Отрасли ОКВЭД'!$B1349)","v":"35.22.21"},"D","35.22.21","Распределение сжиженных углеводородных газов по газораспределительным сетям по тарифам, регулируемым государством"]
[{"$f":"IF('Отрасли ОКВЭД'!$C1350<>\"\",'Отрасли ОКВЭД'!$C1350,'Отрасли ОКВЭД'!$B1350)","v":"35.22.22"},"D","35.22.22","Распределение сжиженных углеводородных газов по газораспределительным сетям по тарифам, не регулируемым государством"]
[{"$f":"IF('Отрасли ОКВЭД'!$C1351<>\"\",'Отрасли ОКВЭД'!$C1351,'Отрасли ОКВЭД'!$B1351)","v":"35.23"},"D","35.23","Торговля газообразным топливом, подаваемым по распределительным сетям"]
[{"$f":"IF('Отрасли ОКВЭД'!$C1352<>\"\",'Отрасли ОКВЭД'!$C1352,'Отрасли ОКВЭД'!$B1352)","v":"35.23.1"},"D","35.23.1","Торговля природным, сухим (отбензиненным) газом, подаваемым по распределительным сетям"]
[{"$f":"IF('Отрасли ОКВЭД'!$C1353<>\"\",'Отрасли ОКВЭД'!$C1353,'Отрасли ОКВЭД'!$B1353)","v":"35.23.11"},"D","35.23.11","Торговля природным, сухим (отбензиненным) газом, подаваемым по распределительным сетям по регулируемым государством ценам (тарифам)"]
[{"$f":"IF('Отрасли ОКВЭД'!$C1354<>\"\",'Отрасли ОКВЭД'!$C1354,'Отрасли ОКВЭД'!$B1354)","v":"35.23.12"},"D","35.23.12","Торговля природным, сухим (отбензиненным) газом, подаваемым по распределительным сетям по не регулируемым государством ценам (тарифам)"]
[{"$f":"IF('Отрасли ОКВЭД'!$C1355<>\"\",'Отрасли ОКВЭД'!$C1355,'Отрасли ОКВЭД'!$B1355)","v":"35.23.2"},"D","35.23.2","Торговля сжиженными углеводородными газами, подаваемыми по распределительным сетям"]
[{"$f":"IF('Отрасли ОКВЭД'!$C1356<>\"\",'Отрасли ОКВЭД'!$C1356,'Отрасли ОКВЭД'!$B1356)","v":"35.23.21"},"D","35.23.21","Торговля сжиженными углеводородными газами, подаваемыми по распределительным сетям по регулируемым государством ценам (тарифам)"]
[{"$f":"IF('Отрасли ОКВЭД'!$C1357<>\"\",'Отрасли ОКВЭД'!$C1357,'Отрасли ОКВЭД'!$B1357)","v":"35.23.22"},"D","35.23.22","Торговля сжиженными углеводородными газами, подаваемыми по распределительным сетям по не регулируемым государством ценам (тарифам)"]
[{"$f":"IF('Отрасли ОКВЭД'!$C1358<>\"\",'Отрасли ОКВЭД'!$C1358,'Отрасли ОКВЭД'!$B1358)","v":"35.3"},"D","35.3","Производство, передача и распределение пара и горячей воды; кондиционирование воздуха"]
[{"$f":"IF('Отрасли ОКВЭД'!$C1359<>\"\",'Отрасли ОКВЭД'!$C1359,'Отрасли ОКВЭД'!$B1359)","v":"35.30"},"D","35.30","Производство, передача и распределение пара и горячей воды; кондиционирование воздуха"]
[{"$f":"IF('Отрасли ОКВЭД'!$C1360<>\"\",'Отрасли ОКВЭД'!$C1360,'Отрасли ОКВЭД'!$B1360)","v":"35.30.1"},"D","35.30.1","Производство пара и горячей воды (тепловой энергии)"]
[{"$f":"IF('Отрасли ОКВЭД'!$C1361<>\"\",'Отрасли ОКВЭД'!$C1361,'Отрасли ОКВЭД'!$B1361)","v":"35.30.11"},"D","35.30.11","Производство пара и горячей воды (тепловой энергии) тепловыми электростанциями"]
[{"$f":"IF('Отрасли ОКВЭД'!$C1362<>\"\",'Отрасли ОКВЭД'!$C1362,'Отрасли ОКВЭД'!$B1362)","v":"35.30.12"},"D","35.30.12","Производство пара и горячей воды (тепловой энергии) атомными электростанциями"]
[{"$f":"IF('Отрасли ОКВЭД'!$C1363<>\"\",'Отрасли ОКВЭД'!$C1363,'Отрасли ОКВЭД'!$B1363)","v":"35.30.13"},"D","35.30.13","Производство пара и горячей воды (тепловой энергии) прочими электростанциями и промышленными блок-станциями"]
[{"$f":"IF('Отрасли ОКВЭД'!$C1364<>\"\",'Отрасли ОКВЭД'!$C1364,'Отрасли ОКВЭД'!$B1364)","v":"35.30.14"},"D","35.30.14","Производство пара и горячей воды (тепловой энергии) котельными"]
[{"$f":"IF('Отрасли ОКВЭД'!$C1365<>\"\",'Отрасли ОКВЭД'!$C1365,'Отрасли ОКВЭД'!$B1365)","v":"35.30.15"},"D","35.30.15","Производство охлажденной воды или льда (натурального из воды) для целей охлаждения"]
[{"$f":"IF('Отрасли ОКВЭД'!$C1366<>\"\",'Отрасли ОКВЭД'!$C1366,'Отрасли ОКВЭД'!$B1366)","v":"35.30.2"},"D","35.30.2","Передача пара и горячей воды (тепловой энергии)"]
[{"$f":"IF('Отрасли ОКВЭД'!$C1367<>\"\",'Отрасли ОКВЭД'!$C1367,'Отрасли ОКВЭД'!$B1367)","v":"35.30.3"},"D","35.30.3","Распределение пара и горячей воды (тепловой энергии)"]
[{"$f":"IF('Отрасли ОКВЭД'!$C1368<>\"\",'Отрасли ОКВЭД'!$C1368,'Отрасли ОКВЭД'!$B1368)","v":"35.30.4"},"D","35.30.4","Обеспечение работоспособности котельных"]
[{"$f":"IF('Отрасли ОКВЭД'!$C1369<>\"\",'Отрасли ОКВЭД'!$C1369,'Отрасли ОКВЭД'!$B1369)","v":"35.30.5"},"D","35.30.5","Обеспечение работоспособности тепловых сетей"]
[{"$f":"IF('Отрасли ОКВЭД'!$C1370<>\"\",'Отрасли ОКВЭД'!$C1370,'Отрасли ОКВЭД'!$B1370)","v":"35.30.6"},"D","35.30.6","Торговля паром и горячей водой (тепловой энергией)"]
[{"$f":"IF('Отрасли ОКВЭД'!$C1371<>\"\",'Отрасли ОКВЭД'!$C1371,'Отрасли ОКВЭД'!$B1371)","v":"E"},"E","","ВОДОСНАБЖЕНИЕ; ВОДООТВЕДЕНИЕ, ОРГАНИЗАЦИЯ СБОРА И УТИЛИЗАЦИИ ОТХОДОВ, ДЕЯТЕЛЬНОСТЬ ПО ЛИКВИДАЦИИ ЗАГРЯЗНЕНИЙ"]
[{"$f":"IF('Отрасли ОКВЭД'!$C1372<>\"\",'Отрасли ОКВЭД'!$C1372,'Отрасли ОКВЭД'!$B1372)","v":"36"},"E","36","Забор, очистка и распределение воды"]
[{"$f":"IF('Отрасли ОКВЭД'!$C1373<>\"\",'Отрасли ОКВЭД'!$C1373,'Отрасли ОКВЭД'!$B1373)","v":"36.0"},"E","36.0","Забор, очистка и распределение воды"]
[{"$f":"IF('Отрасли ОКВЭД'!$C1374<>\"\",'Отрасли ОКВЭД'!$C1374,'Отрасли ОКВЭД'!$B1374)","v":"36.00"},"E","36.00","Забор, очистка и распределение воды"]
[{"$f":"IF('Отрасли ОКВЭД'!$C1375<>\"\",'Отрасли ОКВЭД'!$C1375,'Отрасли ОКВЭД'!$B1375)","v":"36.00.1"},"E","36.00.1","Забор и очистка воды для питьевых и промышленных нужд"]
[{"$f":"IF('Отрасли ОКВЭД'!$C1376<>\"\",'Отрасли ОКВЭД'!$C1376,'Отрасли ОКВЭД'!$B1376)","v":"36.00.2"},"E","36.00.2","Распределение воды для питьевых и промышленных нужд"]
[{"$f":"IF('Отрасли ОКВЭД'!$C1377<>\"\",'Отрасли ОКВЭД'!$C1377,'Отрасли ОКВЭД'!$B1377)","v":"37"},"E","37","Сбор и обработка сточных вод"]
[{"$f":"IF('Отрасли ОКВЭД'!$C1378<>\"\",'Отрасли ОКВЭД'!$C1378,'Отрасли ОКВЭД'!$B1378)","v":"37.0"},"E","37.0","Сбор и обработка сточных вод"]
[{"$f":"IF('Отрасли ОКВЭД'!$C1379<>\"\",'Отрасли ОКВЭД'!$C1379,'Отрасли ОКВЭД'!$B1379)","v":"37.00"},"E","37.00","Сбор и обработка сточных вод"]
[{"$f":"IF('Отрасли ОКВЭД'!$C1380<>\"\",'Отрасли ОКВЭД'!$C1380,'Отрасли ОКВЭД'!$B1380)","v":"38"},"E","38","Сбор, обработка и утилизация отходов; обработка вторичного сырья"]
[{"$f":"IF('Отрасли ОКВЭД'!$C1381<>\"\",'Отрасли ОКВЭД'!$C1381,'Отрасли ОКВЭД'!$B1381)","v":"38.1"},"E","38.1","Сбор отходов"]
[{"$f":"IF('Отрасли ОКВЭД'!$C1382<>\"\",'Отрасли ОКВЭД'!$C1382,'Отрасли ОКВЭД'!$B1382)","v":"38.11"},"E","38.11","Сбор неопасных отходов"]
[{"$f":"IF('Отрасли ОКВЭД'!$C1383<>\"\",'Отрасли ОКВЭД'!$C1383,'Отрасли ОКВЭД'!$B1383)","v":"38.12"},"E","38.12","Сбор опасных отходов"]
[{"$f":"IF('Отрасли ОКВЭД'!$C1384<>\"\",'Отрасли ОКВЭД'!$C1384,'Отрасли ОКВЭД'!$B1384)","v":"38.2"},"E","38.2","Обработка и утилизация отходов"]
[{"$f":"IF('Отрасли ОКВЭД'!$C1385<>\"\",'Отрасли ОКВЭД'!$C1385,'Отрасли ОКВЭД'!$B1385)","v":"38.21"},"E","38.21","Обработка и утилизация неопасных отходов"]
[{"$f":"IF('Отрасли ОКВЭД'!$C1386<>\"\",'Отрасли ОКВЭД'!$C1386,'Отрасли ОКВЭД'!$B1386)","v":"38.22"},"E","38.22","Обработка и утилизация опасных отходов"]
[{"$f":"IF('Отрасли ОКВЭД'!$C1387<>\"\",'Отрасли ОКВЭД'!$C1387,'Отрасли ОКВЭД'!$B1387)","v":"38.22.1"},"E","38.22.1","Обработка и утилизация радиоактивных отходов"]
[{"$f":"IF('Отрасли ОКВЭД'!$C1388<>\"\",'Отрасли ОКВЭД'!$C1388,'Отрасли ОКВЭД'!$B1388)","v":"38.22.11"},"E","38.22.11","Деятельность по обращению с отработавшим ядерным топливом"]
[{"$f":"IF('Отрасли ОКВЭД'!$C1389<>\"\",'Отрасли ОКВЭД'!$C1389,'Отрасли ОКВЭД'!$B1389)","v":"38.22.12"},"E","38.22.12","Деятельность по обращению с особыми радиоактивными отходами"]
[{"$f":"IF('Отрасли ОКВЭД'!$C1390<>\"\",'Отрасли ОКВЭД'!$C1390,'Отрасли ОКВЭД'!$B1390)","v":"38.22.13"},"E","38.22.13","Деятельность по обращению с удаляемыми радиоактивными отходами"]
[{"$f":"IF('Отрасли ОКВЭД'!$C1391<>\"\",'Отрасли ОКВЭД'!$C1391,'Отрасли ОКВЭД'!$B1391)","v":"38.22.9"},"E","38.22.9","Обработка и утилизация опасных отходов прочих, не включенных в другие группировки"]
[{"$f":"IF('Отрасли ОКВЭД'!$C1392<>\"\",'Отрасли ОКВЭД'!$C1392,'Отрасли ОКВЭД'!$B1392)","v":"38.3"},"E","38.3","Деятельность по обработке вторичного сырья"]
[{"$f":"IF('Отрасли ОКВЭД'!$C1393<>\"\",'Отрасли ОКВЭД'!$C1393,'Отрасли ОКВЭД'!$B1393)","v":"38.31"},"E","38.31","Демонтаж техники, не подлежащей восстановлению"]
[{"$f":"IF('Отрасли ОКВЭД'!$C1394<>\"\",'Отрасли ОКВЭД'!$C1394,'Отрасли ОКВЭД'!$B1394)","v":"38.32"},"E","38.32","Утилизация отсортированных материалов"]
[{"$f":"IF('Отрасли ОКВЭД'!$C1395<>\"\",'Отрасли ОКВЭД'!$C1395,'Отрасли ОКВЭД'!$B1395)","v":"38.32.1"},"E","38.32.1","Сортировка материалов для дальнейшего использования"]
[{"$f":"IF('Отрасли ОКВЭД'!$C1396<>\"\",'Отрасли ОКВЭД'!$C1396,'Отрасли ОКВЭД'!$B1396)","v":"38.32.11"},"E","38.32.11","Сортировка металлических материалов для дальнейшего использования"]
[{"$f":"IF('Отрасли ОКВЭД'!$C1397<>\"\",'Отрасли ОКВЭД'!$C1397,'Отрасли ОКВЭД'!$B1397)","v":"38.32.12"},"E","38.32.12","Сортировка неметаллических материалов для дальнейшего использования"]
[{"$f":"IF('Отрасли ОКВЭД'!$C1398<>\"\",'Отрасли ОКВЭД'!$C1398,'Отрасли ОКВЭД'!$B1398)","v":"38.32.2"},"E","38.32.2","Обработка отходов и лома драгоценных металлов"]
[{"$f":"IF('Отрасли ОКВЭД'!$C1399<>\"\",'Отрасли ОКВЭД'!$C1399,'Отрасли ОКВЭД'!$B1399)","v":"38.32.3"},"E","38.32.3","Обработка отходов и лома черных металлов"]
[{"$f":"IF('Отрасли ОКВЭД'!$C1400<>\"\",'Отрасли ОКВЭД'!$C1400,'Отрасли ОКВЭД'!$B1400)","v":"38.32.4"},"E","38.32.4","Обработка отходов и лома цветных металлов"]
[{"$f":"IF('Отрасли ОКВЭД'!$C1401<>\"\",'Отрасли ОКВЭД'!$C1401,'Отрасли ОКВЭД'!$B1401)","v":"38.32.41"},"E","38.32.41","Обработка отходов и лома металлов, содержащих медь"]
[{"$f":"IF('Отрасли ОКВЭД'!$C1402<>\"\",'Отрасли ОКВЭД'!$C1402,'Отрасли ОКВЭД'!$B1402)","v":"38.32.42"},"E","38.32.42","Обработка отходов и лома металлов, содержащих никель"]
[{"$f":"IF('Отрасли ОКВЭД'!$C1403<>\"\",'Отрасли ОКВЭД'!$C1403,'Отрасли ОКВЭД'!$B1403)","v":"38.32.43"},"E","38.32.43","Обработка отходов и лома металлов, содержащих алюминий"]
[{"$f":"IF('Отрасли ОКВЭД'!$C1404<>\"\",'Отрасли ОКВЭД'!$C1404,'Отрасли ОКВЭД'!$B1404)","v":"38.32.49"},"E","38.32.49","Обработка вторичного сырья, содержащего прочие цветные металлы"]
[{"$f":"IF('Отрасли ОКВЭД'!$C1405<>\"\",'Отрасли ОКВЭД'!$C1405,'Отрасли ОКВЭД'!$B1405)","v":"38.32.5"},"E","38.32.5","Обработка вторичного неметаллического сырья"]
[{"$f":"IF('Отрасли ОКВЭД'!$C1406<>\"\",'Отрасли ОКВЭД'!$C1406,'Отрасли ОКВЭД'!$B1406)","v":"38.32.51"},"E","38.32.51","Обработка отходов и лома стекла"]
[{"$f":"IF('Отрасли ОКВЭД'!$C1407<>\"\",'Отрасли ОКВЭД'!$C1407,'Отрасли ОКВЭД'!$B1407)","v":"38.32.52"},"E","38.32.52","Обработка отходов бумаги и картона"]
[{"$f":"IF('Отрасли ОКВЭД'!$C1408<>\"\",'Отрасли ОКВЭД'!$C1408,'Отрасли ОКВЭД'!$B1408)","v":"38.32.53"},"E","38.32.53","Обработка отходов и лома пластмасс"]
[{"$f":"IF('Отрасли ОКВЭД'!$C1409<>\"\",'Отрасли ОКВЭД'!$C1409,'Отрасли ОКВЭД'!$B1409)","v":"38.32.54"},"E","38.32.54","Обработка отходов резины"]
[{"$f":"IF('Отрасли ОКВЭД'!$C1410<>\"\",'Отрасли ОКВЭД'!$C1410,'Отрасли ОКВЭД'!$B1410)","v":"38.32.55"},"E","38.32.55","Обработка отходов текстильных материалов"]
[{"$f":"IF('Отрасли ОКВЭД'!$C1411<>\"\",'Отрасли ОКВЭД'!$C1411,'Отрасли ОКВЭД'!$B1411)","v":"38.32.59"},"E","38.32.59","Обработка прочего вторичного неметаллического сырья"]
[{"$f":"IF('Отрасли ОКВЭД'!$C1412<>\"\",'Отрасли ОКВЭД'!$C1412,'Отрасли ОКВЭД'!$B1412)","v":"39"},"E","39","Предоставление услуг в области ликвидации последствий загрязнений и прочих услуг, связанных с удалением отходов"]
[{"$f":"IF('Отрасли ОКВЭД'!$C1413<>\"\",'Отрасли ОКВЭД'!$C1413,'Отрасли ОКВЭД'!$B1413)","v":"39.0"},"E","39.0","Предоставление услуг в области ликвидации последствий загрязнений и прочих услуг, связанных с удалением отходов"]
[{"$f":"IF('Отрасли ОКВЭД'!$C1414<>\"\",'Отрасли ОКВЭД'!$C1414,'Отрасли ОКВЭД'!$B1414)","v":"39.00"},"E","39.00","Предоставление услуг в области ликвидации последствий загрязнений и прочих услуг, связанных с удалением отходов"]
[{"$f":"IF('Отрасли ОКВЭД'!$C1415<>\"\",'Отрасли ОКВЭД'!$C1415,'Отрасли ОКВЭД'!$B1415)","v":"F"},"F","","СТРОИТЕЛЬСТВО"]
[{"$f":"IF('Отрасли ОКВЭД'!$C1416<>\"\",'Отрасли ОКВЭД'!$C1416,'Отрасли ОКВЭД'!$B1416)","v":"41"},"F","41","Строительство зданий"]
[{"$f":"IF('Отрасли ОКВЭД'!$C1417<>\"\",'Отрасли ОКВЭД'!$C1417,'Отрасли ОКВЭД'!$B1417)","v":"41.1"},"F","41.1","Разработка строительных проектов"]
[{"$f":"IF('Отрасли ОКВЭД'!$C1418<>\"\",'Отрасли ОКВЭД'!$C1418,'Отрасли ОКВЭД'!$B1418)","v":"41.10"},"F","41.10","Разработка строительных проектов"]
[{"$f":"IF('Отрасли ОКВЭД'!$C1419<>\"\",'Отрасли ОКВЭД'!$C1419,'Отрасли ОКВЭД'!$B1419)","v":"41.2"},"F","41.2","Строительство жилых и нежилых зданий"]
[{"$f":"IF('Отрасли ОКВЭД'!$C1420<>\"\",'Отрасли ОКВЭД'!$C1420,'Отрасли ОКВЭД'!$B1420)","v":"41.20"},"F","41.20","Строительство жилых и нежилых зданий"]
[{"$f":"IF('Отрасли ОКВЭД'!$C1421<>\"\",'Отрасли ОКВЭД'!$C1421,'Отрасли ОКВЭД'!$B1421)","v":"42"},"F","42","Строительство инженерных сооружений"]
[{"$f":"IF('Отрасли ОКВЭД'!$C1422<>\"\",'Отрасли ОКВЭД'!$C1422,'Отрасли ОКВЭД'!$B1422)","v":"42.1"},"F","42.1","Строительство автомобильных и железных дорог"]
[{"$f":"IF('Отрасли ОКВЭД'!$C1423<>\"\",'Отрасли ОКВЭД'!$C1423,'Отрасли ОКВЭД'!$B1423)","v":"42.11"},"F","42.11","Строительство автомобильных дорог и автомагистралей"]
[{"$f":"IF('Отрасли ОКВЭД'!$C1424<>\"\",'Отрасли ОКВЭД'!$C1424,'Отрасли ОКВЭД'!$B1424)","v":"42.12"},"F","42.12","Строительство железных дорог и метро"]
[{"$f":"IF('Отрасли ОКВЭД'!$C1425<>\"\",'Отрасли ОКВЭД'!$C1425,'Отрасли ОКВЭД'!$B1425)","v":"42.13"},"F","42.13","Строительство мостов и тоннелей"]
[{"$f":"IF('Отрасли ОКВЭД'!$C1426<>\"\",'Отрасли ОКВЭД'!$C1426,'Отрасли ОКВЭД'!$B1426)","v":"42.2"},"F","42.2","Строительство инженерных коммуникаций"]
[{"$f":"IF('Отрасли ОКВЭД'!$C1427<>\"\",'Отрасли ОКВЭД'!$C1427,'Отрасли ОКВЭД'!$B1427)","v":"42.21"},"F","42.21","Строительство инженерных коммуникаций для водоснабжения и водоотведения, газоснабжения"]
[{"$f":"IF('Отрасли ОКВЭД'!$C1428<>\"\",'Отрасли ОКВЭД'!$C1428,'Отрасли ОКВЭД'!$B1428)","v":"42.22"},"F","42.22","Строительство коммунальных объектов для обеспечения электроэнергией и телекоммуникациями"]
[{"$f":"IF('Отрасли ОКВЭД'!$C1429<>\"\",'Отрасли ОКВЭД'!$C1429,'Отрасли ОКВЭД'!$B1429)","v":"42.22.1"},"F","42.22.1","Строительство междугородних линий электропередачи и связи"]
[{"$f":"IF('Отрасли ОКВЭД'!$C1430<>\"\",'Отрасли ОКВЭД'!$C1430,'Отрасли ОКВЭД'!$B1430)","v":"42.22.2"},"F","42.22.2","Строительство местных линий электропередачи и связи"]
[{"$f":"IF('Отрасли ОКВЭД'!$C1431<>\"\",'Отрасли ОКВЭД'!$C1431,'Отрасли ОКВЭД'!$B1431)","v":"42.22.3"},"F","42.22.3","Строительство электростанций"]
[{"$f":"IF('Отрасли ОКВЭД'!$C1432<>\"\",'Отрасли ОКВЭД'!$C1432,'Отрасли ОКВЭД'!$B1432)","v":"42.9"},"F","42.9","Строительство прочих инженерных сооружений"]
[{"$f":"IF('Отрасли ОКВЭД'!$C1433<>\"\",'Отрасли ОКВЭД'!$C1433,'Отрасли ОКВЭД'!$B1433)","v":"42.91"},"F","42.91","Строительство водных сооружений"]
[{"$f":"IF('Отрасли ОКВЭД'!$C1434<>\"\",'Отрасли ОКВЭД'!$C1434,'Отрасли ОКВЭД'!$B1434)","v":"42.91.1"},"F","42.91.1","Строительство портовых сооружений"]
[{"$f":"IF('Отрасли ОКВЭД'!$C1435<>\"\",'Отрасли ОКВЭД'!$C1435,'Отрасли ОКВЭД'!$B1435)","v":"42.91.2"},"F","42.91.2","Строительство гидротехнических сооружений"]
[{"$f":"IF('Отрасли ОКВЭД'!$C1436<>\"\",'Отрасли ОКВЭД'!$C1436,'Отрасли ОКВЭД'!$B1436)","v":"42.91.3"},"F","42.91.3","Строительство ирригационных систем"]
[{"$f":"IF('Отрасли ОКВЭД'!$C1437<>\"\",'Отрасли ОКВЭД'!$C1437,'Отрасли ОКВЭД'!$B1437)","v":"42.91.4"},"F","42.91.4","Производство дноочистительных, дноуглубительных и берегоукрепительных работ"]
[{"$f":"IF('Отрасли ОКВЭД'!$C1438<>\"\",'Отрасли ОКВЭД'!$C1438,'Отрасли ОКВЭД'!$B1438)","v":"42.91.5"},"F","42.91.5","Производство подводных работ, включая водолазные"]
[{"$f":"IF('Отрасли ОКВЭД'!$C1439<>\"\",'Отрасли ОКВЭД'!$C1439,'Отрасли ОКВЭД'!$B1439)","v":"42.99"},"F","42.99","Строительство прочих инженерных сооружений, не включенных в другие группировки"]
[{"$f":"IF('Отрасли ОКВЭД'!$C1440<>\"\",'Отрасли ОКВЭД'!$C1440,'Отрасли ОКВЭД'!$B1440)","v":"43"},"F","43","Работы строительные специализированные"]
[{"$f":"IF('Отрасли ОКВЭД'!$C1441<>\"\",'Отрасли ОКВЭД'!$C1441,'Отрасли ОКВЭД'!$B1441)","v":"43.1"},"F","43.1","Разборка и снос зданий, подготовка строительного участка"]
[{"$f":"IF('Отрасли ОКВЭД'!$C1442<>\"\",'Отрасли ОКВЭД'!$C1442,'Отрасли ОКВЭД'!$B1442)","v":"43.11"},"F","43.11","Разборка и снос зданий"]
[{"$f":"IF('Отрасли ОКВЭД'!$C1443<>\"\",'Отрасли ОКВЭД'!$C1443,'Отрасли ОКВЭД'!$B1443)","v":"43.12"},"F","43.12","Подготовка строительной площадки"]
[{"$f":"IF('Отрасли ОКВЭД'!$C1444<>\"\",'Отрасли ОКВЭД'!$C1444,'Отрасли ОКВЭД'!$B1444)","v":"43.12.1"},"F","43.12.1","Расчистка территории строительной площадки"]
[{"$f":"IF('Отрасли ОКВЭД'!$C1445<>\"\",'Отрасли ОКВЭД'!$C1445,'Отрасли ОКВЭД'!$B1445)","v":"43.12.2"},"F","43.12.2","Производство дренажных работ на сельскохозяйственных землях, землях лесных территорий, а также на строительных площадках"]
[{"$f":"IF('Отрасли ОКВЭД'!$C1446<>\"\",'Отрасли ОКВЭД'!$C1446,'Отрасли ОКВЭД'!$B1446)","v":"43.12.3"},"F","43.12.3","Производство земляных работ"]
[{"$f":"IF('Отрасли ОКВЭД'!$C1447<>\"\",'Отрасли ОКВЭД'!$C1447,'Отрасли ОКВЭД'!$B1447)","v":"43.12.4"},"F","43.12.4","Подготовка участка к разработке и добыче полезных ископаемых, за исключением нефтяных и газовых участков"]
[{"$f":"IF('Отрасли ОКВЭД'!$C1448<>\"\",'Отрасли ОКВЭД'!$C1448,'Отрасли ОКВЭД'!$B1448)","v":"43.13"},"F","43.13","Разведочное бурение"]
[{"$f":"IF('Отрасли ОКВЭД'!$C1449<>\"\",'Отрасли ОКВЭД'!$C1449,'Отрасли ОКВЭД'!$B1449)","v":"43.2"},"F","43.2","Производство электромонтажных, санитарно-технических и прочих строительно-монтажных работ"]
[{"$f":"IF('Отрасли ОКВЭД'!$C1450<>\"\",'Отрасли ОКВЭД'!$C1450,'Отрасли ОКВЭД'!$B1450)","v":"43.21"},"F","43.21","Производство электромонтажных работ"]
[{"$f":"IF('Отрасли ОКВЭД'!$C1451<>\"\",'Отрасли ОКВЭД'!$C1451,'Отрасли ОКВЭД'!$B1451)","v":"43.22"},"F","43.22","Производство санитарно-технических работ, монтаж отопительных систем и систем кондиционирования воздуха"]
[{"$f":"IF('Отрасли ОКВЭД'!$C1452<>\"\",'Отрасли ОКВЭД'!$C1452,'Отрасли ОКВЭД'!$B1452)","v":"43.29"},"F","43.29","Производство прочих строительно-монтажных работ"]
[{"$f":"IF('Отрасли ОКВЭД'!$C1453<>\"\",'Отрасли ОКВЭД'!$C1453,'Отрасли ОКВЭД'!$B1453)","v":"43.3"},"F","43.3","Работы строительные отделочные"]
[{"$f":"IF('Отрасли ОКВЭД'!$C1454<>\"\",'Отрасли ОКВЭД'!$C1454,'Отрасли ОКВЭД'!$B1454)","v":"43.31"},"F","43.31","Производство штукатурных работ"]
[{"$f":"IF('Отрасли ОКВЭД'!$C1455<>\"\",'Отрасли ОКВЭД'!$C1455,'Отрасли ОКВЭД'!$B1455)","v":"43.32"},"F","43.32","Работы столярные и плотничные"]
[{"$f":"IF('Отрасли ОКВЭД'!$C1456<>\"\",'Отрасли ОКВЭД'!$C1456,'Отрасли ОКВЭД'!$B1456)","v":"43.32.1"},"F","43.32.1","Установка дверей (кроме автоматических и вращающихся), окон, дверных и оконных рам из дерева или прочих материалов"]
[{"$f":"IF('Отрасли ОКВЭД'!$C1457<>\"\",'Отрасли ОКВЭД'!$C1457,'Отрасли ОКВЭД'!$B1457)","v":"43.32.2"},"F","43.32.2","Работы по установке внутренних лестниц, встроенных шкафов, встроенного кухонного оборудования"]
[{"$f":"IF('Отрасли ОКВЭД'!$C1458<>\"\",'Отрасли ОКВЭД'!$C1458,'Отрасли ОКВЭД'!$B1458)","v":"43.32.3"},"F","43.32.3","Производство работ по внутренней отделке зданий (включая потолки, раздвижные и съемные перегородки и т.д.)"]
[{"$f":"IF('Отрасли ОКВЭД'!$C1459<>\"\",'Отрасли ОКВЭД'!$C1459,'Отрасли ОКВЭД'!$B1459)","v":"43.33"},"F","43.33","Работы по устройству покрытий полов и облицовке стен"]
[{"$f":"IF('Отрасли ОКВЭД'!$C1460<>\"\",'Отрасли ОКВЭД'!$C1460,'Отрасли ОКВЭД'!$B1460)","v":"43.34"},"F","43.34","Производство малярных и стекольных работ"]
[{"$f":"IF('Отрасли ОКВЭД'!$C1461<>\"\",'Отрасли ОКВЭД'!$C1461,'Отрасли ОКВЭД'!$B1461)","v":"43.34.1"},"F","43.34.1","Производство малярных работ"]
[{"$f":"IF('Отрасли ОКВЭД'!$C1462<>\"\",'Отрасли ОКВЭД'!$C1462,'Отрасли ОКВЭД'!$B1462)","v":"43.34.2"},"F","43.34.2","Производство стекольных работ"]
[{"$f":"IF('Отрасли ОКВЭД'!$C1463<>\"\",'Отрасли ОКВЭД'!$C1463,'Отрасли ОКВЭД'!$B1463)","v":"43.39"},"F","43.39","Производство прочих отделочных и завершающих работ"]
[{"$f":"IF('Отрасли ОКВЭД'!$C1464<>\"\",'Отрасли ОКВЭД'!$C1464,'Отрасли ОКВЭД'!$B1464)","v":"43.9"},"F","43.9","Работы строительные специализированные прочие"]
[{"$f":"IF('Отрасли ОКВЭД'!$C1465<>\"\",'Отрасли ОКВЭД'!$C1465,'Отрасли ОКВЭД'!$B1465)","v":"43.91"},"F","43.91","Производство кровельных работ"]
[{"$f":"IF('Отрасли ОКВЭД'!$C1466<>\"\",'Отрасли ОКВЭД'!$C1466,'Отрасли ОКВЭД'!$B1466)","v":"43.99"},"F","43.99","Работы строительные специализированные прочие, не включенные в другие группировки"]
[{"$f":"IF('Отрасли ОКВЭД'!$C1467<>\"\",'Отрасли ОКВЭД'!$C1467,'Отрасли ОКВЭД'!$B1467)","v":"43.99.1"},"F","43.99.1","Работы гидроизоляционные"]
[{"$f":"IF('Отрасли ОКВЭД'!$C1468<>\"\",'Отрасли ОКВЭД'!$C1468,'Отрасли ОКВЭД'!$B1468)","v":"43.99.2"},"F","43.99.2","Работы по установке строительных лесов и подмостей"]
[{"$f":"IF('Отрасли ОКВЭД'!$C1469<>\"\",'Отрасли ОКВЭД'!$C1469,'Отрасли ОКВЭД'!$B1469)","v":"43.99.3"},"F","43.99.3","Работы свайные и работы по строительству фундаментов"]
[{"$f":"IF('Отрасли ОКВЭД'!$C1470<>\"\",'Отрасли ОКВЭД'!$C1470,'Отрасли ОКВЭД'!$B1470)","v":"43.99.4"},"F","43.99.4","Работы бетонные и железобетонные"]
[{"$f":"IF('Отрасли ОКВЭД'!$C1471<>\"\",'Отрасли ОКВЭД'!$C1471,'Отрасли ОКВЭД'!$B1471)","v":"43.99.5"},"F","43.99.5","Работы по монтажу стальных строительных конструкций"]
[{"$f":"IF('Отрасли ОКВЭД'!$C1472<>\"\",'Отрасли ОКВЭД'!$C1472,'Отрасли ОКВЭД'!$B1472)","v":"43.99.6"},"F","43.99.6","Работы каменные и кирпичные"]
[{"$f":"IF('Отрасли ОКВЭД'!$C1473<>\"\",'Отрасли ОКВЭД'!$C1473,'Отрасли ОКВЭД'!$B1473)","v":"43.99.7"},"F","43.99.7","Работы по сборке и монтажу сборных конструкций"]
[{"$f":"IF('Отрасли ОКВЭД'!$C1474<>\"\",'Отрасли ОКВЭД'!$C1474,'Отрасли ОКВЭД'!$B1474)","v":"43.99.9"},"F","43.99.9","Работы строительные специализированные, не включенные в другие группировки"]
[{"$f":"IF('Отрасли ОКВЭД'!$C1475<>\"\",'Отрасли ОКВЭД'!$C1475,'Отрасли ОКВЭД'!$B1475)","v":"G"},"G","","ТОРГОВЛЯ ОПТОВАЯ И РОЗНИЧНАЯ; РЕМОНТ АВТОТРАНСПОРТНЫХ СРЕДСТВ И МОТОЦИКЛОВ"]
[{"$f":"IF('Отрасли ОКВЭД'!$C1476<>\"\",'Отрасли ОКВЭД'!$C1476,'Отрасли ОКВЭД'!$B1476)","v":"45"},"G","45","Торговля оптовая и розничная автотранспортными средствами и мотоциклами и их ремонт"]
[{"$f":"IF('Отрасли ОКВЭД'!$C1477<>\"\",'Отрасли ОКВЭД'!$C1477,'Отрасли ОКВЭД'!$B1477)","v":"45.1"},"G","45.1","Торговля автотранспортными средствами"]
[{"$f":"IF('Отрасли ОКВЭД'!$C1478<>\"\",'Отрасли ОКВЭД'!$C1478,'Отрасли ОКВЭД'!$B1478)","v":"45.11"},"G","45.11","Торговля легковыми автомобилями и грузовыми автомобилями малой грузоподъемности"]
[{"$f":"IF('Отрасли ОКВЭД'!$C1479<>\"\",'Отрасли ОКВЭД'!$C1479,'Отрасли ОКВЭД'!$B1479)","v":"45.11.1"},"G","45.11.1","Торговля оптовая легковыми автомобилями и легкими автотранспортными средствами"]
[{"$f":"IF('Отрасли ОКВЭД'!$C1480<>\"\",'Отрасли ОКВЭД'!$C1480,'Отрасли ОКВЭД'!$B1480)","v":"45.11.2"},"G","45.11.2","Торговля розничная легковыми автомобилями и легкими автотранспортными средствами в специализированных магазинах"]
[{"$f":"IF('Отрасли ОКВЭД'!$C1481<>\"\",'Отрасли ОКВЭД'!$C1481,'Отрасли ОКВЭД'!$B1481)","v":"45.11.3"},"G","45.11.3","Торговля розничная легковыми автомобилями и легкими автотранспортными средствами прочая"]
[{"$f":"IF('Отрасли ОКВЭД'!$C1482<>\"\",'Отрасли ОКВЭД'!$C1482,'Отрасли ОКВЭД'!$B1482)","v":"45.11.31"},"G","45.11.31","Торговля розничная легковыми автомобилями и легкими автотранспортными средствами через информационно-коммуникационную сеть Интернет"]
[{"$f":"IF('Отрасли ОКВЭД'!$C1483<>\"\",'Отрасли ОКВЭД'!$C1483,'Отрасли ОКВЭД'!$B1483)","v":"45.11.39"},"G","45.11.39","Торговля розничная легковыми автомобилями и легкими автотранспортными средствами прочая, не включенная в другие группировки"]
[{"$f":"IF('Отрасли ОКВЭД'!$C1484<>\"\",'Отрасли ОКВЭД'!$C1484,'Отрасли ОКВЭД'!$B1484)","v":"45.11.4"},"G","45.11.4","Торговля оптовая легковыми автомобилями и легкими автотранспортными средствами за вознаграждение или на договорной основе"]
[{"$f":"IF('Отрасли ОКВЭД'!$C1485<>\"\",'Отрасли ОКВЭД'!$C1485,'Отрасли ОКВЭД'!$B1485)","v":"45.11.41"},"G","45.11.41","Торговля оптовая легковыми автомобилями и легкими автотранспортными средствами через информационно-коммуникационную сеть Интернет за вознаграждение или на договорной основе"]
[{"$f":"IF('Отрасли ОКВЭД'!$C1486<>\"\",'Отрасли ОКВЭД'!$C1486,'Отрасли ОКВЭД'!$B1486)","v":"45.11.49"},"G","45.11.49","Торговля оптовая легковыми автомобилями и легкими автотранспортными средствами за вознаграждение или на договорной основе прочая"]
[{"$f":"IF('Отрасли ОКВЭД'!$C1487<>\"\",'Отрасли ОКВЭД'!$C1487,'Отрасли ОКВЭД'!$B1487)","v":"45.19"},"G","45.19","Торговля прочими автотранспортными средствами"]
[{"$f":"IF('Отрасли ОКВЭД'!$C1488<>\"\",'Отрасли ОКВЭД'!$C1488,'Отрасли ОКВЭД'!$B1488)","v":"45.19.1"},"G","45.19.1","Торговля оптовая прочими автотранспортными средствами, кроме пассажирских"]
[{"$f":"IF('Отрасли ОКВЭД'!$C1489<>\"\",'Отрасли ОКВЭД'!$C1489,'Отрасли ОКВЭД'!$B1489)","v":"45.19.2"},"G","45.19.2","Торговля розничная прочими автотранспортными средствами, кроме пассажирских, в специализированных магазинах"]
[{"$f":"IF('Отрасли ОКВЭД'!$C1490<>\"\",'Отрасли ОКВЭД'!$C1490,'Отрасли ОКВЭД'!$B1490)","v":"45.19.3"},"G","45.19.3","Торговля розничная прочими автотранспортными средствами, кроме пассажирских, прочая"]
[{"$f":"IF('Отрасли ОКВЭД'!$C1491<>\"\",'Отрасли ОКВЭД'!$C1491,'Отрасли ОКВЭД'!$B1491)","v":"45.19.31"},"G","45.19.31","Торговля розничная прочими автотранспортными средствами, кроме пассажирских, через информационно-коммуникационную сеть Интернет"]
[{"$f":"IF('Отрасли ОКВЭД'!$C1492<>\"\",'Отрасли ОКВЭД'!$C1492,'Отрасли ОКВЭД'!$B1492)","v":"45.19.39"},"G","45.19.39","Торговля розничная прочими автотранспортными средствами, кроме пассажирских, прочая, не включенная в другие группировки"]
[{"$f":"IF('Отрасли ОКВЭД'!$C1493<>\"\",'Отрасли ОКВЭД'!$C1493,'Отрасли ОКВЭД'!$B1493)","v":"45.19.4"},"G","45.19.4","Торговля оптовая прочими автотранспортными средствами, кроме пассажирских, за вознаграждение или на договорной основе"]
[{"$f":"IF('Отрасли ОКВЭД'!$C1494<>\"\",'Отрасли ОКВЭД'!$C1494,'Отрасли ОКВЭД'!$B1494)","v":"45.19.41"},"G","45.19.41","Торговля оптовая прочими автотранспортными средствами, кроме пассажирских, через информационно-коммуникационную сеть Интернет за вознаграждение или на договорной основе"]
[{"$f":"IF('Отрасли ОКВЭД'!$C1495<>\"\",'Отрасли ОКВЭД'!$C1495,'Отрасли ОКВЭД'!$B1495)","v":"45.19.49"},"G","45.19.49","Торговля оптовая прочими автотранспортными средствами, кроме пассажирских, за вознаграждение или на договорной основе прочая"]
[{"$f":"IF('Отрасли ОКВЭД'!$C1496<>\"\",'Отрасли ОКВЭД'!$C1496,'Отрасли ОКВЭД'!$B1496)","v":"45.2"},"G","45.2","Техническое обслуживание и ремонт автотранспортных средств"]
[{"$f":"IF('Отрасли ОКВЭД'!$C1497<>\"\",'Отрасли ОКВЭД'!$C1497,'Отрасли ОКВЭД'!$B1497)","v":"45.20"},"G","45.20","Техническое обслуживание и ремонт автотранспортных средств"]
[{"$f":"IF('Отрасли ОКВЭД'!$C1498<>\"\",'Отрасли ОКВЭД'!$C1498,'Отрасли ОКВЭД'!$B1498)","v":"45.20.1"},"G","45.20.1","Техническое обслуживание и ремонт легковых автомобилей и легких грузовых автотранспортных средств"]
[{"$f":"IF('Отрасли ОКВЭД'!$C1499<>\"\",'Отрасли ОКВЭД'!$C1499,'Отрасли ОКВЭД'!$B1499)","v":"45.20.2"},"G","45.20.2","Техническое обслуживание и ремонт прочих автотранспортных средств"]
[{"$f":"IF('Отрасли ОКВЭД'!$C1500<>\"\",'Отрасли ОКВЭД'!$C1500,'Отрасли ОКВЭД'!$B1500)","v":"45.20.3"},"G","45.20.3","Мойка автотранспортных средств, полирование и предоставление аналогичных услуг"]
[{"$f":"IF('Отрасли ОКВЭД'!$C1501<>\"\",'Отрасли ОКВЭД'!$C1501,'Отрасли ОКВЭД'!$B1501)","v":"45.20.4"},"G","45.20.4","Техническая помощь на дорогах и транспортирование неисправных автотранспортных средств к месту их ремонта или стоянки"]
[{"$f":"IF('Отрасли ОКВЭД'!$C1502<>\"\",'Отрасли ОКВЭД'!$C1502,'Отрасли ОКВЭД'!$B1502)","v":"45.3"},"G","45.3","Торговля автомобильными деталями, узлами и принадлежностями"]
[{"$f":"IF('Отрасли ОКВЭД'!$C1503<>\"\",'Отрасли ОКВЭД'!$C1503,'Отрасли ОКВЭД'!$B1503)","v":"45.31"},"G","45.31","Торговля оптовая автомобильными деталями, узлами и принадлежностями"]
[{"$f":"IF('Отрасли ОКВЭД'!$C1504<>\"\",'Отрасли ОКВЭД'!$C1504,'Отрасли ОКВЭД'!$B1504)","v":"45.31.1"},"G","45.31.1","Торговля оптовая автомобильными деталями, узлами и принадлежностями, кроме деятельности агентов"]
[{"$f":"IF('Отрасли ОКВЭД'!$C1505<>\"\",'Отрасли ОКВЭД'!$C1505,'Отрасли ОКВЭД'!$B1505)","v":"45.31.2"},"G","45.31.2","Деятельность агентов по оптовой торговле автомобильными деталями, узлами и принадлежностями"]
[{"$f":"IF('Отрасли ОКВЭД'!$C1506<>\"\",'Отрасли ОКВЭД'!$C1506,'Отрасли ОКВЭД'!$B1506)","v":"45.32"},"G","45.32","Торговля розничная автомобильными деталями, узлами и принадлежностями"]
[{"$f":"IF('Отрасли ОКВЭД'!$C1507<>\"\",'Отрасли ОКВЭД'!$C1507,'Отрасли ОКВЭД'!$B1507)","v":"45.32.1"},"G","45.32.1","Торговля розничная автомобильными деталями, узлами и принадлежностями в специализированных магазинах"]
[{"$f":"IF('Отрасли ОКВЭД'!$C1508<>\"\",'Отрасли ОКВЭД'!$C1508,'Отрасли ОКВЭД'!$B1508)","v":"45.32.2"},"G","45.32.2","Торговля розничная автомобильными деталями, узлами и принадлежностями прочая"]
[{"$f":"IF('Отрасли ОКВЭД'!$C1509<>\"\",'Отрасли ОКВЭД'!$C1509,'Отрасли ОКВЭД'!$B1509)","v":"45.32.21"},"G","45.32.21","Торговля розничная автомобильными деталями, узлами и принадлежностями через информационно-коммуникационную сеть Интернет"]
[{"$f":"IF('Отрасли ОКВЭД'!$C1510<>\"\",'Отрасли ОКВЭД'!$C1510,'Отрасли ОКВЭД'!$B1510)","v":"45.32.22"},"G","45.32.22","Торговля розничная автомобильными деталями, узлами и принадлежностями по почтовым заказам"]
[{"$f":"IF('Отрасли ОКВЭД'!$C1511<>\"\",'Отрасли ОКВЭД'!$C1511,'Отрасли ОКВЭД'!$B1511)","v":"45.32.29"},"G","45.32.29","Торговля розничная автомобильными деталями, узлами и принадлежностями прочая, не включенная в другие группировки"]
[{"$f":"IF('Отрасли ОКВЭД'!$C1512<>\"\",'Отрасли ОКВЭД'!$C1512,'Отрасли ОКВЭД'!$B1512)","v":"45.4"},"G","45.4","Торговля мотоциклами, их деталями, узлами и принадлежностями; техническое обслуживание и ремонт мотоциклов"]
[{"$f":"IF('Отрасли ОКВЭД'!$C1513<>\"\",'Отрасли ОКВЭД'!$C1513,'Отрасли ОКВЭД'!$B1513)","v":"45.40"},"G","45.40","Торговля мотоциклами, их деталями, узлами и принадлежностями; техническое обслуживание и ремонт мотоциклов"]
[{"$f":"IF('Отрасли ОКВЭД'!$C1514<>\"\",'Отрасли ОКВЭД'!$C1514,'Отрасли ОКВЭД'!$B1514)","v":"45.40.1"},"G","45.40.1","Торговля оптовая мотоциклами, их деталями, узлами и принадлежностями"]
[{"$f":"IF('Отрасли ОКВЭД'!$C1515<>\"\",'Отрасли ОКВЭД'!$C1515,'Отрасли ОКВЭД'!$B1515)","v":"45.40.2"},"G","45.40.2","Торговля розничная мотоциклами, их деталями, составными частями и принадлежностями в специализированных магазинах"]
[{"$f":"IF('Отрасли ОКВЭД'!$C1516<>\"\",'Отрасли ОКВЭД'!$C1516,'Отрасли ОКВЭД'!$B1516)","v":"45.40.3"},"G","45.40.3","Торговля розничная мотоциклами, их деталями, узлами и принадлежностями прочая"]
[{"$f":"IF('Отрасли ОКВЭД'!$C1517<>\"\",'Отрасли ОКВЭД'!$C1517,'Отрасли ОКВЭД'!$B1517)","v":"45.40.4"},"G","45.40.4","Деятельность агентов по оптовой торговле мотоциклами, их деталями, узлами и принадлежностями"]
[{"$f":"IF('Отрасли ОКВЭД'!$C1518<>\"\",'Отрасли ОКВЭД'!$C1518,'Отрасли ОКВЭД'!$B1518)","v":"45.40.5"},"G","45.40.5","Техническое обслуживание и ремонт мотоциклов и мототранспортных средств"]
[{"$f":"IF('Отрасли ОКВЭД'!$C1519<>\"\",'Отрасли ОКВЭД'!$C1519,'Отрасли ОКВЭД'!$B1519)","v":"46"},"G","46","Торговля оптовая, кроме оптовой торговли автотранспортными средствами и мотоциклами"]
[{"$f":"IF('Отрасли ОКВЭД'!$C1520<>\"\",'Отрасли ОКВЭД'!$C1520,'Отрасли ОКВЭД'!$B1520)","v":"46.1"},"G","46.1","Торговля оптовая за вознаграждение или на договорной основе"]
[{"$f":"IF('Отрасли ОКВЭД'!$C1521<>\"\",'Отрасли ОКВЭД'!$C1521,'Отрасли ОКВЭД'!$B1521)","v":"46.11"},"G","46.11","Деятельность агентов по оптовой торговле сельскохозяйственным сырьем, живыми животными, текстильным сырьем и полуфабрикатами"]
[{"$f":"IF('Отрасли ОКВЭД'!$C1522<>\"\",'Отрасли ОКВЭД'!$C1522,'Отрасли ОКВЭД'!$B1522)","v":"46.11.1"},"G","46.11.1","Деятельность агентов по оптовой торговле живыми животными"]
[{"$f":"IF('Отрасли ОКВЭД'!$C1523<>\"\",'Отрасли ОКВЭД'!$C1523,'Отрасли ОКВЭД'!$B1523)","v":"46.11.2"},"G","46.11.2","Деятельность агентов по оптовой торговле цветами и растениями"]
[{"$f":"IF('Отрасли ОКВЭД'!$C1524<>\"\",'Отрасли ОКВЭД'!$C1524,'Отрасли ОКВЭД'!$B1524)","v":"46.11.3"},"G","46.11.3","Деятельность агентов по оптовой торговле прочим сельскохозяйственным сырьем, текстильным сырьем и полуфабрикатами"]
[{"$f":"IF('Отрасли ОКВЭД'!$C1525<>\"\",'Отрасли ОКВЭД'!$C1525,'Отрасли ОКВЭД'!$B1525)","v":"46.11.31"},"G","46.11.31","Деятельность агентов по оптовой торговле зерном"]
[{"$f":"IF('Отрасли ОКВЭД'!$C1526<>\"\",'Отрасли ОКВЭД'!$C1526,'Отрасли ОКВЭД'!$B1526)","v":"46.11.32"},"G","46.11.32","Деятельность агентов по оптовой торговле семенами, кроме семян масличных культур"]
[{"$f":"IF('Отрасли ОКВЭД'!$C1527<>\"\",'Отрасли ОКВЭД'!$C1527,'Отрасли ОКВЭД'!$B1527)","v":"46.11.33"},"G","46.11.33","Деятельность агентов по оптовой торговле семенами масличных культур"]
[{"$f":"IF('Отрасли ОКВЭД'!$C1528<>\"\",'Отрасли ОКВЭД'!$C1528,'Отрасли ОКВЭД'!$B1528)","v":"46.11.34"},"G","46.11.34","Деятельность агентов по оптовой торговле кормами для сельскохозяйственных животных"]
[{"$f":"IF('Отрасли ОКВЭД'!$C1529<>\"\",'Отрасли ОКВЭД'!$C1529,'Отрасли ОКВЭД'!$B1529)","v":"46.11.35"},"G","46.11.35","Деятельность агентов по оптовой торговле текстильным сырьем и полуфабрикатами"]
[{"$f":"IF('Отрасли ОКВЭД'!$C1530<>\"\",'Отрасли ОКВЭД'!$C1530,'Отрасли ОКВЭД'!$B1530)","v":"46.11.39"},"G","46.11.39","Деятельность агентов по оптовой торговле прочими сельскохозяйственным сырьем и сельскохозяйственными полуфабрикатами, не включенными в другие группировки"]
[{"$f":"IF('Отрасли ОКВЭД'!$C1531<>\"\",'Отрасли ОКВЭД'!$C1531,'Отрасли ОКВЭД'!$B1531)","v":"46.12"},"G","46.12","Деятельность агентов по оптовой торговле топливом, рудами, металлами и химическими веществами"]
[{"$f":"IF('Отрасли ОКВЭД'!$C1532<>\"\",'Отрасли ОКВЭД'!$C1532,'Отрасли ОКВЭД'!$B1532)","v":"46.12.1"},"G","46.12.1","Деятельность агентов по оптовой торговле твердым, жидким и газообразным топливом и связанными продуктами"]
[{"$f":"IF('Отрасли ОКВЭД'!$C1533<>\"\",'Отрасли ОКВЭД'!$C1533,'Отрасли ОКВЭД'!$B1533)","v":"46.12.2"},"G","46.12.2","Деятельность агентов по оптовой торговле рудами и металлами в первичных формах"]
[{"$f":"IF('Отрасли ОКВЭД'!$C1534<>\"\",'Отрасли ОКВЭД'!$C1534,'Отрасли ОКВЭД'!$B1534)","v":"46.12.21"},"G","46.12.21","Деятельность агентов по оптовой торговле рудами"]
[{"$f":"IF('Отрасли ОКВЭД'!$C1535<>\"\",'Отрасли ОКВЭД'!$C1535,'Отрасли ОКВЭД'!$B1535)","v":"46.12.22"},"G","46.12.22","Деятельность агентов по оптовой торговле металлами в первичных формах"]
[{"$f":"IF('Отрасли ОКВЭД'!$C1536<>\"\",'Отрасли ОКВЭД'!$C1536,'Отрасли ОКВЭД'!$B1536)","v":"46.12.3"},"G","46.12.3","Деятельность агентов по оптовой торговле промышленными и техническими химическими веществами, удобрениями и агрохимикатами"]
[{"$f":"IF('Отрасли ОКВЭД'!$C1537<>\"\",'Отрасли ОКВЭД'!$C1537,'Отрасли ОКВЭД'!$B1537)","v":"46.12.31"},"G","46.12.31","Деятельность агентов по оптовой торговле промышленными и техническими химическими веществами"]
[{"$f":"IF('Отрасли ОКВЭД'!$C1538<>\"\",'Отрасли ОКВЭД'!$C1538,'Отрасли ОКВЭД'!$B1538)","v":"46.12.32"},"G","46.12.32","Деятельность агентов по оптовой торговле удобрениями и агрохимикатами"]
[{"$f":"IF('Отрасли ОКВЭД'!$C1539<>\"\",'Отрасли ОКВЭД'!$C1539,'Отрасли ОКВЭД'!$B1539)","v":"46.13"},"G","46.13","Деятельность агентов по оптовой торговле лесоматериалами и строительными материалами"]
[{"$f":"IF('Отрасли ОКВЭД'!$C1540<>\"\",'Отрасли ОКВЭД'!$C1540,'Отрасли ОКВЭД'!$B1540)","v":"46.13.1"},"G","46.13.1","Деятельность агентов по оптовой торговле лесоматериалами"]
[{"$f":"IF('Отрасли ОКВЭД'!$C1541<>\"\",'Отрасли ОКВЭД'!$C1541,'Отрасли ОКВЭД'!$B1541)","v":"46.13.2"},"G","46.13.2","Деятельность агентов по оптовой торговле строительными материалами"]
[{"$f":"IF('Отрасли ОКВЭД'!$C1542<>\"\",'Отрасли ОКВЭД'!$C1542,'Отрасли ОКВЭД'!$B1542)","v":"46.14"},"G","46.14","Деятельность агентов по оптовой торговле машинами, промышленным оборудованием, судами и летательными аппаратами"]
[{"$f":"IF('Отрасли ОКВЭД'!$C1543<>\"\",'Отрасли ОКВЭД'!$C1543,'Отрасли ОКВЭД'!$B1543)","v":"46.14.1"},"G","46.14.1","Деятельность агентов по оптовой торговле вычислительной техникой, телекоммуникационным оборудованием и прочим офисным оборудованием"]
[{"$f":"IF('Отрасли ОКВЭД'!$C1544<>\"\",'Отрасли ОКВЭД'!$C1544,'Отрасли ОКВЭД'!$B1544)","v":"46.14.2"},"G","46.14.2","Деятельность агентов по оптовой торговле судами, летательными аппаратами и прочими транспортными средствами, не включенными в другие группировки"]
[{"$f":"IF('Отрасли ОКВЭД'!$C1545<>\"\",'Отрасли ОКВЭД'!$C1545,'Отрасли ОКВЭД'!$B1545)","v":"46.14.9"},"G","46.14.9","Деятельность агентов по оптовой торговле прочими видами машин и промышленным оборудованием"]
[{"$f":"IF('Отрасли ОКВЭД'!$C1546<>\"\",'Отрасли ОКВЭД'!$C1546,'Отрасли ОКВЭД'!$B1546)","v":"46.15"},"G","46.15","Деятельность агентов по оптовой торговле мебелью, бытовыми товарами, скобяными, ножевыми и прочими металлическими изделиями"]
[{"$f":"IF('Отрасли ОКВЭД'!$C1547<>\"\",'Отрасли ОКВЭД'!$C1547,'Отрасли ОКВЭД'!$B1547)","v":"46.15.1"},"G","46.15.1","Деятельность агентов по оптовой торговле мебелью"]
[{"$f":"IF('Отрасли ОКВЭД'!$C1548<>\"\",'Отрасли ОКВЭД'!$C1548,'Отрасли ОКВЭД'!$B1548)","v":"46.15.2"},"G","46.15.2","Деятельность агентов по оптовой торговле скобяными, ножевыми и прочими бытовыми металлическими изделиями"]
[{"$f":"IF('Отрасли ОКВЭД'!$C1549<>\"\",'Отрасли ОКВЭД'!$C1549,'Отрасли ОКВЭД'!$B1549)","v":"46.15.3"},"G","46.15.3","Деятельность агентов по оптовой торговле электротоварами и бытовыми электроустановочными изделиями"]
[{"$f":"IF('Отрасли ОКВЭД'!$C1550<>\"\",'Отрасли ОКВЭД'!$C1550,'Отрасли ОКВЭД'!$B1550)","v":"46.15.4"},"G","46.15.4","Деятельность агентов по оптовой торговле радио- и телеаппаратурой, техническими носителями информации"]
[{"$f":"IF('Отрасли ОКВЭД'!$C1551<>\"\",'Отрасли ОКВЭД'!$C1551,'Отрасли ОКВЭД'!$B1551)","v":"46.15.9"},"G","46.15.9","Деятельность агентов по оптовой торговле прочими бытовыми товарами, не включенными в другие группировки"]
[{"$f":"IF('Отрасли ОКВЭД'!$C1552<>\"\",'Отрасли ОКВЭД'!$C1552,'Отрасли ОКВЭД'!$B1552)","v":"46.16"},"G","46.16","Деятельность агентов по оптовой торговле текстильными изделиями, одеждой, обувью, изделиями из кожи и меха"]
[{"$f":"IF('Отрасли ОКВЭД'!$C1553<>\"\",'Отрасли ОКВЭД'!$C1553,'Отрасли ОКВЭД'!$B1553)","v":"46.16.1"},"G","46.16.1","Деятельность агентов по оптовой торговле текстильными изделиями"]
[{"$f":"IF('Отрасли ОКВЭД'!$C1554<>\"\",'Отрасли ОКВЭД'!$C1554,'Отрасли ОКВЭД'!$B1554)","v":"46.16.2"},"G","46.16.2","Деятельность агентов по оптовой торговле одеждой, изделиями из меха и обувью"]
[{"$f":"IF('Отрасли ОКВЭД'!$C1555<>\"\",'Отрасли ОКВЭД'!$C1555,'Отрасли ОКВЭД'!$B1555)","v":"46.16.3"},"G","46.16.3","Деятельность агентов по оптовой торговле изделиями из кожи и дорожными принадлежностями"]
[{"$f":"IF('Отрасли ОКВЭД'!$C1556<>\"\",'Отрасли ОКВЭД'!$C1556,'Отрасли ОКВЭД'!$B1556)","v":"46.17"},"G","46.17","Деятельность агентов по оптовой торговле пищевыми продуктами, напитками и табачными изделиями"]
[{"$f":"IF('Отрасли ОКВЭД'!$C1557<>\"\",'Отрасли ОКВЭД'!$C1557,'Отрасли ОКВЭД'!$B1557)","v":"46.17.1"},"G","46.17.1","Деятельность агентов по оптовой торговле пищевыми продуктами"]
[{"$f":"IF('Отрасли ОКВЭД'!$C1558<>\"\",'Отрасли ОКВЭД'!$C1558,'Отрасли ОКВЭД'!$B1558)","v":"46.17.2"},"G","46.17.2","Деятельность агентов по оптовой торговле напитками"]
[{"$f":"IF('Отрасли ОКВЭД'!$C1559<>\"\",'Отрасли ОКВЭД'!$C1559,'Отрасли ОКВЭД'!$B1559)","v":"46.17.21"},"G","46.17.21","Деятельность агентов по оптовой торговле безалкогольными напитками"]
[{"$f":"IF('Отрасли ОКВЭД'!$C1560<>\"\",'Отрасли ОКВЭД'!$C1560,'Отрасли ОКВЭД'!$B1560)","v":"46.17.22"},"G","46.17.22","Деятельность агентов по оптовой торговле алкогольными напитками, кроме пива"]
[{"$f":"IF('Отрасли ОКВЭД'!$C1561<>\"\",'Отрасли ОКВЭД'!$C1561,'Отрасли ОКВЭД'!$B1561)","v":"46.17.23"},"G","46.17.23","Деятельность агентов по оптовой торговле пивом"]
[{"$f":"IF('Отрасли ОКВЭД'!$C1562<>\"\",'Отрасли ОКВЭД'!$C1562,'Отрасли ОКВЭД'!$B1562)","v":"46.17.3"},"G","46.17.3","Деятельность агентов по оптовой торговле табачными изделиями"]
[{"$f":"IF('Отрасли ОКВЭД'!$C1563<>\"\",'Отрасли ОКВЭД'!$C1563,'Отрасли ОКВЭД'!$B1563)","v":"46.18"},"G","46.18","Деятельность агентов, специализирующихся на оптовой торговле прочими отдельными видами товаров"]
[{"$f":"IF('Отрасли ОКВЭД'!$C1564<>\"\",'Отрасли ОКВЭД'!$C1564,'Отрасли ОКВЭД'!$B1564)","v":"46.18.1"},"G","46.18.1","Деятельность агентов, специализирующихся на оптовой торговле фармацевтической продукцией, изделиями, применяемыми в медицинских целях, парфюмерными и косметическими товарами, включая мыло, и чистящими средствами"]
[{"$f":"IF('Отрасли ОКВЭД'!$C1565<>\"\",'Отрасли ОКВЭД'!$C1565,'Отрасли ОКВЭД'!$B1565)","v":"46.18.11"},"G","46.18.11","Деятельность агентов, специализирующихся на оптовой торговле фармацевтической продукцией"]
[{"$f":"IF('Отрасли ОКВЭД'!$C1566<>\"\",'Отрасли ОКВЭД'!$C1566,'Отрасли ОКВЭД'!$B1566)","v":"46.18.12"},"G","46.18.12","Деятельность агентов, специализирующихся на оптовой торговле изделиями, применяемыми в медицинских целях"]
[{"$f":"IF('Отрасли ОКВЭД'!$C1567<>\"\",'Отрасли ОКВЭД'!$C1567,'Отрасли ОКВЭД'!$B1567)","v":"46.18.13"},"G","46.18.13","Деятельность агентов, специализирующихся на оптовой торговле парфюмерными и косметическими товарами, включая мыло"]
[{"$f":"IF('Отрасли ОКВЭД'!$C1568<>\"\",'Отрасли ОКВЭД'!$C1568,'Отрасли ОКВЭД'!$B1568)","v":"46.18.14"},"G","46.18.14","Деятельность агентов, специализирующихся на оптовой торговле чистящими средствами"]
[{"$f":"IF('Отрасли ОКВЭД'!$C1569<>\"\",'Отрасли ОКВЭД'!$C1569,'Отрасли ОКВЭД'!$B1569)","v":"46.18.2"},"G","46.18.2","Деятельность агентов, специализирующихся на оптовой торговле играми и игрушками, спортивными товарами, велосипедами, книгами, газетами, журналами, писчебумажными и канцелярскими товарами, музыкальными инструментами, часами и ювелирными изделиями, фототоварами и оптическими товарами"]
[{"$f":"IF('Отрасли ОКВЭД'!$C1570<>\"\",'Отрасли ОКВЭД'!$C1570,'Отрасли ОКВЭД'!$B1570)","v":"46.18.3"},"G","46.18.3","Деятельность агентов, специализирующихся на оптовой торговле техникой, оборудованием и инструментами, применяемыми в медицинских целях"]
[{"$f":"IF('Отрасли ОКВЭД'!$C1571<>\"\",'Отрасли ОКВЭД'!$C1571,'Отрасли ОКВЭД'!$B1571)","v":"46.18.9"},"G","46.18.9","Деятельность агентов, специализирующихся на оптовой торговле товарами, не включенными в другие группировки"]
[{"$f":"IF('Отрасли ОКВЭД'!$C1572<>\"\",'Отрасли ОКВЭД'!$C1572,'Отрасли ОКВЭД'!$B1572)","v":"46.18.91"},"G","46.18.91","Деятельность агентов, специализирующихся на оптовой торговле бумагой и картоном"]
[{"$f":"IF('Отрасли ОКВЭД'!$C1573<>\"\",'Отрасли ОКВЭД'!$C1573,'Отрасли ОКВЭД'!$B1573)","v":"46.18.92"},"G","46.18.92","Деятельность агентов, специализирующихся на оптовой торговле древесным сырьем и необработанными лесоматериалами"]
[{"$f":"IF('Отрасли ОКВЭД'!$C1574<>\"\",'Отрасли ОКВЭД'!$C1574,'Отрасли ОКВЭД'!$B1574)","v":"46.18.93"},"G","46.18.93","Деятельность агентов, специализирующихся на оптовой торговле отходами, ломом и материалами для переработки"]
[{"$f":"IF('Отрасли ОКВЭД'!$C1575<>\"\",'Отрасли ОКВЭД'!$C1575,'Отрасли ОКВЭД'!$B1575)","v":"46.18.99"},"G","46.18.99","Деятельность агентов, специализирующихся на оптовой торговле прочими товарами, не включенными в другие группировки"]
[{"$f":"IF('Отрасли ОКВЭД'!$C1576<>\"\",'Отрасли ОКВЭД'!$C1576,'Отрасли ОКВЭД'!$B1576)","v":"46.19"},"G","46.19","Деятельность агентов по оптовой торговле универсальным ассортиментом товаров"]
[{"$f":"IF('Отрасли ОКВЭД'!$C1577<>\"\",'Отрасли ОКВЭД'!$C1577,'Отрасли ОКВЭД'!$B1577)","v":"46.2"},"G","46.2","Торговля оптовая сельскохозяйственным сырьем и живыми животными"]
[{"$f":"IF('Отрасли ОКВЭД'!$C1578<>\"\",'Отрасли ОКВЭД'!$C1578,'Отрасли ОКВЭД'!$B1578)","v":"46.21"},"G","46.21","Торговля оптовая зерном, необработанным табаком, семенами и кормами для сельскохозяйственных животных"]
[{"$f":"IF('Отрасли ОКВЭД'!$C1579<>\"\",'Отрасли ОКВЭД'!$C1579,'Отрасли ОКВЭД'!$B1579)","v":"46.21.1"},"G","46.21.1","Торговля оптовая зерном, семенами и кормами для животных"]
[{"$f":"IF('Отрасли ОКВЭД'!$C1580<>\"\",'Отрасли ОКВЭД'!$C1580,'Отрасли ОКВЭД'!$B1580)","v":"46.21.11"},"G","46.21.11","Торговля оптовая зерном"]
[{"$f":"IF('Отрасли ОКВЭД'!$C1581<>\"\",'Отрасли ОКВЭД'!$C1581,'Отрасли ОКВЭД'!$B1581)","v":"46.21.12"},"G","46.21.12","Торговля оптовая семенами, кроме семян масличных культур"]
[{"$f":"IF('Отрасли ОКВЭД'!$C1582<>\"\",'Отрасли ОКВЭД'!$C1582,'Отрасли ОКВЭД'!$B1582)","v":"46.21.13"},"G","46.21.13","Торговля оптовая масличными семенами и маслосодержащими плодами"]
[{"$f":"IF('Отрасли ОКВЭД'!$C1583<>\"\",'Отрасли ОКВЭД'!$C1583,'Отрасли ОКВЭД'!$B1583)","v":"46.21.14"},"G","46.21.14","Торговля оптовая кормами для сельскохозяйственных животных"]
[{"$f":"IF('Отрасли ОКВЭД'!$C1584<>\"\",'Отрасли ОКВЭД'!$C1584,'Отрасли ОКВЭД'!$B1584)","v":"46.21.19"},"G","46.21.19","Торговля оптовая сельскохозяйственным сырьем, не включенным в другие группировки"]
[{"$f":"IF('Отрасли ОКВЭД'!$C1585<>\"\",'Отрасли ОКВЭД'!$C1585,'Отрасли ОКВЭД'!$B1585)","v":"46.21.2"},"G","46.21.2","Торговля оптовая необработанным табаком"]
[{"$f":"IF('Отрасли ОКВЭД'!$C1586<>\"\",'Отрасли ОКВЭД'!$C1586,'Отрасли ОКВЭД'!$B1586)","v":"46.22"},"G","46.22","Торговля оптовая цветами и растениями"]
[{"$f":"IF('Отрасли ОКВЭД'!$C1587<>\"\",'Отрасли ОКВЭД'!$C1587,'Отрасли ОКВЭД'!$B1587)","v":"46.23"},"G","46.23","Торговля оптовая живыми животными"]
[{"$f":"IF('Отрасли ОКВЭД'!$C1588<>\"\",'Отрасли ОКВЭД'!$C1588,'Отрасли ОКВЭД'!$B1588)","v":"46.24"},"G","46.24","Торговля оптовая шкурами и кожей"]
[{"$f":"IF('Отрасли ОКВЭД'!$C1589<>\"\",'Отрасли ОКВЭД'!$C1589,'Отрасли ОКВЭД'!$B1589)","v":"46.3"},"G","46.3","Торговля оптовая пищевыми продуктами, напитками и табачными изделиями"]
[{"$f":"IF('Отрасли ОКВЭД'!$C1590<>\"\",'Отрасли ОКВЭД'!$C1590,'Отрасли ОКВЭД'!$B1590)","v":"46.31"},"G","46.31","Торговля оптовая фруктами и овощами"]
[{"$f":"IF('Отрасли ОКВЭД'!$C1591<>\"\",'Отрасли ОКВЭД'!$C1591,'Отрасли ОКВЭД'!$B1591)","v":"46.31.1"},"G","46.31.1","Торговля оптовая свежими овощами, фруктами и орехами"]
[{"$f":"IF('Отрасли ОКВЭД'!$C1592<>\"\",'Отрасли ОКВЭД'!$C1592,'Отрасли ОКВЭД'!$B1592)","v":"46.31.11"},"G","46.31.11","Торговля оптовая свежим картофелем"]
[{"$f":"IF('Отрасли ОКВЭД'!$C1593<>\"\",'Отрасли ОКВЭД'!$C1593,'Отрасли ОКВЭД'!$B1593)","v":"46.31.12"},"G","46.31.12","Торговля оптовая прочими свежими овощами"]
[{"$f":"IF('Отрасли ОКВЭД'!$C1594<>\"\",'Отрасли ОКВЭД'!$C1594,'Отрасли ОКВЭД'!$B1594)","v":"46.31.13"},"G","46.31.13","Торговля оптовая свежими фруктами и орехами"]
[{"$f":"IF('Отрасли ОКВЭД'!$C1595<>\"\",'Отрасли ОКВЭД'!$C1595,'Отрасли ОКВЭД'!$B1595)","v":"46.31.2"},"G","46.31.2","Торговля оптовая консервированными овощами, фруктами и орехами"]
[{"$f":"IF('Отрасли ОКВЭД'!$C1596<>\"\",'Отрасли ОКВЭД'!$C1596,'Отрасли ОКВЭД'!$B1596)","v":"46.32"},"G","46.32","Торговля оптовая мясом и мясными продуктами"]
[{"$f":"IF('Отрасли ОКВЭД'!$C1597<>\"\",'Отрасли ОКВЭД'!$C1597,'Отрасли ОКВЭД'!$B1597)","v":"46.32.1"},"G","46.32.1","Торговля оптовая мясом и мясом птицы, включая субпродукты"]
[{"$f":"IF('Отрасли ОКВЭД'!$C1598<>\"\",'Отрасли ОКВЭД'!$C1598,'Отрасли ОКВЭД'!$B1598)","v":"46.32.2"},"G","46.32.2","Торговля оптовая продуктами из мяса и мяса птицы"]
[{"$f":"IF('Отрасли ОКВЭД'!$C1599<>\"\",'Отрасли ОКВЭД'!$C1599,'Отрасли ОКВЭД'!$B1599)","v":"46.32.3"},"G","46.32.3","Торговля оптовая консервами из мяса и мяса птицы"]
[{"$f":"IF('Отрасли ОКВЭД'!$C1600<>\"\",'Отрасли ОКВЭД'!$C1600,'Отрасли ОКВЭД'!$B1600)","v":"46.33"},"G","46.33","Торговля оптовая молочными продуктами, яйцами и пищевыми маслами и жирами"]
[{"$f":"IF('Отрасли ОКВЭД'!$C1601<>\"\",'Отрасли ОКВЭД'!$C1601,'Отрасли ОКВЭД'!$B1601)","v":"46.33.1"},"G","46.33.1","Торговля оптовая молочными продуктами"]
[{"$f":"IF('Отрасли ОКВЭД'!$C1602<>\"\",'Отрасли ОКВЭД'!$C1602,'Отрасли ОКВЭД'!$B1602)","v":"46.33.2"},"G","46.33.2","Торговля оптовая яйцами"]
[{"$f":"IF('Отрасли ОКВЭД'!$C1603<>\"\",'Отрасли ОКВЭД'!$C1603,'Отрасли ОКВЭД'!$B1603)","v":"46.33.3"},"G","46.33.3","Торговля оптовая пищевыми маслами и жирами"]
[{"$f":"IF('Отрасли ОКВЭД'!$C1604<>\"\",'Отрасли ОКВЭД'!$C1604,'Отрасли ОКВЭД'!$B1604)","v":"46.34"},"G","46.34","Торговля оптовая напитками"]
[{"$f":"IF('Отрасли ОКВЭД'!$C1605<>\"\",'Отрасли ОКВЭД'!$C1605,'Отрасли ОКВЭД'!$B1605)","v":"46.34.1"},"G","46.34.1","Торговля оптовая соками, минеральной водой и прочими безалкогольными напитками"]
[{"$f":"IF('Отрасли ОКВЭД'!$C1606<>\"\",'Отрасли ОКВЭД'!$C1606,'Отрасли ОКВЭД'!$B1606)","v":"46.34.2"},"G","46.34.2","Торговля оптовая алкогольными напитками, включая пиво и пищевой этиловый спирт"]
[{"$f":"IF('Отрасли ОКВЭД'!$C1607<>\"\",'Отрасли ОКВЭД'!$C1607,'Отрасли ОКВЭД'!$B1607)","v":"46.34.21"},"G","46.34.21","Торговля оптовая алкогольными напитками, кроме пива и пищевого этилового спирта"]
[{"$f":"IF('Отрасли ОКВЭД'!$C1608<>\"\",'Отрасли ОКВЭД'!$C1608,'Отрасли ОКВЭД'!$B1608)","v":"46.34.22"},"G","46.34.22","Торговля оптовая пищевым этиловым спиртом"]
[{"$f":"IF('Отрасли ОКВЭД'!$C1609<>\"\",'Отрасли ОКВЭД'!$C1609,'Отрасли ОКВЭД'!$B1609)","v":"46.34.23"},"G","46.34.23","Торговля оптовая пивом"]
[{"$f":"IF('Отрасли ОКВЭД'!$C1610<>\"\",'Отрасли ОКВЭД'!$C1610,'Отрасли ОКВЭД'!$B1610)","v":"46.34.3"},"G","46.34.3","Закупка вина в больших емкостях с последующим розливом в мелкую тару без переработки"]
[{"$f":"IF('Отрасли ОКВЭД'!$C1611<>\"\",'Отрасли ОКВЭД'!$C1611,'Отрасли ОКВЭД'!$B1611)","v":"46.35"},"G","46.35","Торговля оптовая табачными изделиями"]
[{"$f":"IF('Отрасли ОКВЭД'!$C1612<>\"\",'Отрасли ОКВЭД'!$C1612,'Отрасли ОКВЭД'!$B1612)","v":"46.36"},"G","46.36","Торговля оптовая сахаром, шоколадом и сахаристыми кондитерскими изделиями"]
[{"$f":"IF('Отрасли ОКВЭД'!$C1613<>\"\",'Отрасли ОКВЭД'!$C1613,'Отрасли ОКВЭД'!$B1613)","v":"46.36.1"},"G","46.36.1","Торговля оптовая сахаром"]
[{"$f":"IF('Отрасли ОКВЭД'!$C1614<>\"\",'Отрасли ОКВЭД'!$C1614,'Отрасли ОКВЭД'!$B1614)","v":"46.36.2"},"G","46.36.2","Торговля оптовая шоколадом и сахаристыми кондитерскими изделиями"]
[{"$f":"IF('Отрасли ОКВЭД'!$C1615<>\"\",'Отрасли ОКВЭД'!$C1615,'Отрасли ОКВЭД'!$B1615)","v":"46.36.3"},"G","46.36.3","Торговля оптовая мучными кондитерскими изделиями"]
[{"$f":"IF('Отрасли ОКВЭД'!$C1616<>\"\",'Отрасли ОКВЭД'!$C1616,'Отрасли ОКВЭД'!$B1616)","v":"46.36.4"},"G","46.36.4","Торговля оптовая хлебобулочными изделиями"]
[{"$f":"IF('Отрасли ОКВЭД'!$C1617<>\"\",'Отрасли ОКВЭД'!$C1617,'Отрасли ОКВЭД'!$B1617)","v":"46.37"},"G","46.37","Торговля оптовая кофе, чаем, какао и пряностями"]
[{"$f":"IF('Отрасли ОКВЭД'!$C1618<>\"\",'Отрасли ОКВЭД'!$C1618,'Отрасли ОКВЭД'!$B1618)","v":"46.38"},"G","46.38","Торговля оптовая прочими пищевыми продуктами, включая рыбу, ракообразных и моллюсков"]
[{"$f":"IF('Отрасли ОКВЭД'!$C1619<>\"\",'Отрасли ОКВЭД'!$C1619,'Отрасли ОКВЭД'!$B1619)","v":"46.38.1"},"G","46.38.1","Торговля оптовая рыбой, ракообразными и моллюсками, консервами и пресервами из рыбы и морепродуктов"]
[{"$f":"IF('Отрасли ОКВЭД'!$C1620<>\"\",'Отрасли ОКВЭД'!$C1620,'Отрасли ОКВЭД'!$B1620)","v":"46.38.2"},"G","46.38.2","Торговля оптовая прочими пищевыми продуктами"]
[{"$f":"IF('Отрасли ОКВЭД'!$C1621<>\"\",'Отрасли ОКВЭД'!$C1621,'Отрасли ОКВЭД'!$B1621)","v":"46.38.21"},"G","46.38.21","Торговля оптовая гомогенизированными пищевыми продуктами, детским и диетическим питанием"]
[{"$f":"IF('Отрасли ОКВЭД'!$C1622<>\"\",'Отрасли ОКВЭД'!$C1622,'Отрасли ОКВЭД'!$B1622)","v":"46.38.22"},"G","46.38.22","Торговля оптовая кормами для домашних животных"]
[{"$f":"IF('Отрасли ОКВЭД'!$C1623<>\"\",'Отрасли ОКВЭД'!$C1623,'Отрасли ОКВЭД'!$B1623)","v":"46.38.23"},"G","46.38.23","Торговля оптовая мукой и макаронными изделиями"]
[{"$f":"IF('Отрасли ОКВЭД'!$C1624<>\"\",'Отрасли ОКВЭД'!$C1624,'Отрасли ОКВЭД'!$B1624)","v":"46.38.24"},"G","46.38.24","Торговля оптовая крупами"]
[{"$f":"IF('Отрасли ОКВЭД'!$C1625<>\"\",'Отрасли ОКВЭД'!$C1625,'Отрасли ОКВЭД'!$B1625)","v":"46.38.25"},"G","46.38.25","Торговля оптовая солью"]
[{"$f":"IF('Отрасли ОКВЭД'!$C1626<>\"\",'Отрасли ОКВЭД'!$C1626,'Отрасли ОКВЭД'!$B1626)","v":"46.38.26"},"G","46.38.26","Торговля оптовая мороженым и замороженными десертами"]
[{"$f":"IF('Отрасли ОКВЭД'!$C1627<>\"\",'Отрасли ОКВЭД'!$C1627,'Отрасли ОКВЭД'!$B1627)","v":"46.38.29"},"G","46.38.29","Торговля оптовая прочими пищевыми продуктами, не включенными в другие группировки"]
[{"$f":"IF('Отрасли ОКВЭД'!$C1628<>\"\",'Отрасли ОКВЭД'!$C1628,'Отрасли ОКВЭД'!$B1628)","v":"46.39"},"G","46.39","Торговля оптовая неспециализированная пищевыми продуктами, напитками и табачными изделиями"]
[{"$f":"IF('Отрасли ОКВЭД'!$C1629<>\"\",'Отрасли ОКВЭД'!$C1629,'Отрасли ОКВЭД'!$B1629)","v":"46.39.1"},"G","46.39.1","Торговля оптовая неспециализированная замороженными пищевыми продуктами"]
[{"$f":"IF('Отрасли ОКВЭД'!$C1630<>\"\",'Отрасли ОКВЭД'!$C1630,'Отрасли ОКВЭД'!$B1630)","v":"46.39.2"},"G","46.39.2","Торговля оптовая неспециализированная незамороженными пищевыми продуктами, напитками и табачными изделиями"]
[{"$f":"IF('Отрасли ОКВЭД'!$C1631<>\"\",'Отрасли ОКВЭД'!$C1631,'Отрасли ОКВЭД'!$B1631)","v":"46.4"},"G","46.4","Торговля оптовая непродовольственными потребительскими товарами"]
[{"$f":"IF('Отрасли ОКВЭД'!$C1632<>\"\",'Отрасли ОКВЭД'!$C1632,'Отрасли ОКВЭД'!$B1632)","v":"46.41"},"G","46.41","Торговля оптовая текстильными изделиями"]
[{"$f":"IF('Отрасли ОКВЭД'!$C1633<>\"\",'Отрасли ОКВЭД'!$C1633,'Отрасли ОКВЭД'!$B1633)","v":"46.41.1"},"G","46.41.1","Торговля оптовая текстильными изделиями, кроме текстильных галантерейных изделий"]
[{"$f":"IF('Отрасли ОКВЭД'!$C1634<>\"\",'Отрасли ОКВЭД'!$C1634,'Отрасли ОКВЭД'!$B1634)","v":"46.41.2"},"G","46.41.2","Торговля оптовая галантерейными изделиями"]
[{"$f":"IF('Отрасли ОКВЭД'!$C1635<>\"\",'Отрасли ОКВЭД'!$C1635,'Отрасли ОКВЭД'!$B1635)","v":"46.42"},"G","46.42","Торговля оптовая одеждой и обувью"]
[{"$f":"IF('Отрасли ОКВЭД'!$C1636<>\"\",'Отрасли ОКВЭД'!$C1636,'Отрасли ОКВЭД'!$B1636)","v":"46.42.1"},"G","46.42.1","Торговля оптовая одеждой"]
[{"$f":"IF('Отрасли ОКВЭД'!$C1637<>\"\",'Отрасли ОКВЭД'!$C1637,'Отрасли ОКВЭД'!$B1637)","v":"46.42.11"},"G","46.42.11","Торговля оптовая одеждой, включая спортивную, кроме нательного белья"]
[{"$f":"IF('Отрасли ОКВЭД'!$C1638<>\"\",'Отрасли ОКВЭД'!$C1638,'Отрасли ОКВЭД'!$B1638)","v":"46.42.12"},"G","46.42.12","Торговля оптовая нательным бельем"]
[{"$f":"IF('Отрасли ОКВЭД'!$C1639<>\"\",'Отрасли ОКВЭД'!$C1639,'Отрасли ОКВЭД'!$B1639)","v":"46.42.13"},"G","46.42.13","Торговля оптовая изделиями из меха"]
[{"$f":"IF('Отрасли ОКВЭД'!$C1640<>\"\",'Отрасли ОКВЭД'!$C1640,'Отрасли ОКВЭД'!$B1640)","v":"46.42.14"},"G","46.42.14","Торговля оптовая аксессуарами одежды и головными уборами, кроме меховых"]
[{"$f":"IF('Отрасли ОКВЭД'!$C1641<>\"\",'Отрасли ОКВЭД'!$C1641,'Отрасли ОКВЭД'!$B1641)","v":"46.42.2"},"G","46.42.2","Торговля оптовая обувью"]
[{"$f":"IF('Отрасли ОКВЭД'!$C1642<>\"\",'Отрасли ОКВЭД'!$C1642,'Отрасли ОКВЭД'!$B1642)","v":"46.43"},"G","46.43","Торговля оптовая бытовыми электротоварами"]
[{"$f":"IF('Отрасли ОКВЭД'!$C1643<>\"\",'Отрасли ОКВЭД'!$C1643,'Отрасли ОКВЭД'!$B1643)","v":"46.43.1"},"G","46.43.1","Торговля оптовая электрической бытовой техникой"]
[{"$f":"IF('Отрасли ОКВЭД'!$C1644<>\"\",'Отрасли ОКВЭД'!$C1644,'Отрасли ОКВЭД'!$B1644)","v":"46.43.2"},"G","46.43.2","Торговля оптовая радио-, теле- и видеоаппаратурой и аппаратурой для цифровых видеодисков (DVD)"]
[{"$f":"IF('Отрасли ОКВЭД'!$C1645<>\"\",'Отрасли ОКВЭД'!$C1645,'Отрасли ОКВЭД'!$B1645)","v":"46.43.3"},"G","46.43.3","Торговля оптовая грампластинками, аудио- и видеомагнитными лентами, компакт-дисками (CD) и цифровыми видеодисками (DVD) (кроме носителей без записей)"]
[{"$f":"IF('Отрасли ОКВЭД'!$C1646<>\"\",'Отрасли ОКВЭД'!$C1646,'Отрасли ОКВЭД'!$B1646)","v":"46.43.4"},"G","46.43.4","Торговля оптовая фототоварами и оптическими товарами"]
[{"$f":"IF('Отрасли ОКВЭД'!$C1647<>\"\",'Отрасли ОКВЭД'!$C1647,'Отрасли ОКВЭД'!$B1647)","v":"46.44"},"G","46.44","Торговля оптовая изделиями из керамики и стекла и чистящими средствами"]
[{"$f":"IF('Отрасли ОКВЭД'!$C1648<>\"\",'Отрасли ОКВЭД'!$C1648,'Отрасли ОКВЭД'!$B1648)","v":"46.44.1"},"G","46.44.1","Торговля оптовая изделиями из керамики и стекла"]
[{"$f":"IF('Отрасли ОКВЭД'!$C1649<>\"\",'Отрасли ОКВЭД'!$C1649,'Отрасли ОКВЭД'!$B1649)","v":"46.44.2"},"G","46.44.2","Торговля оптовая чистящими средствами"]
[{"$f":"IF('Отрасли ОКВЭД'!$C1650<>\"\",'Отрасли ОКВЭД'!$C1650,'Отрасли ОКВЭД'!$B1650)","v":"46.45"},"G","46.45","Торговля оптовая парфюмерными и косметическими товарами"]
[{"$f":"IF('Отрасли ОКВЭД'!$C1651<>\"\",'Отрасли ОКВЭД'!$C1651,'Отрасли ОКВЭД'!$B1651)","v":"46.45.1"},"G","46.45.1","Торговля оптовая парфюмерными и косметическими товарами, кроме мыла"]
[{"$f":"IF('Отрасли ОКВЭД'!$C1652<>\"\",'Отрасли ОКВЭД'!$C1652,'Отрасли ОКВЭД'!$B1652)","v":"46.45.2"},"G","46.45.2","Торговля оптовая туалетным и хозяйственным мылом"]
[{"$f":"IF('Отрасли ОКВЭД'!$C1653<>\"\",'Отрасли ОКВЭД'!$C1653,'Отрасли ОКВЭД'!$B1653)","v":"46.46"},"G","46.46","Торговля оптовая фармацевтической продукцией"]
[{"$f":"IF('Отрасли ОКВЭД'!$C1654<>\"\",'Отрасли ОКВЭД'!$C1654,'Отрасли ОКВЭД'!$B1654)","v":"46.46.1"},"G","46.46.1","Торговля оптовая фармацевтической продукцией"]
[{"$f":"IF('Отрасли ОКВЭД'!$C1655<>\"\",'Отрасли ОКВЭД'!$C1655,'Отрасли ОКВЭД'!$B1655)","v":"46.46.2"},"G","46.46.2","Торговля оптовая изделиями, применяемыми в медицинских целях"]
[{"$f":"IF('Отрасли ОКВЭД'!$C1656<>\"\",'Отрасли ОКВЭД'!$C1656,'Отрасли ОКВЭД'!$B1656)","v":"46.47"},"G","46.47","Торговля оптовая мебелью, коврами и осветительным оборудованием"]
[{"$f":"IF('Отрасли ОКВЭД'!$C1657<>\"\",'Отрасли ОКВЭД'!$C1657,'Отрасли ОКВЭД'!$B1657)","v":"46.47.1"},"G","46.47.1","Торговля оптовая бытовой мебелью"]
[{"$f":"IF('Отрасли ОКВЭД'!$C1658<>\"\",'Отрасли ОКВЭД'!$C1658,'Отрасли ОКВЭД'!$B1658)","v":"46.47.2"},"G","46.47.2","Торговля оптовая осветительным оборудованием"]
[{"$f":"IF('Отрасли ОКВЭД'!$C1659<>\"\",'Отрасли ОКВЭД'!$C1659,'Отрасли ОКВЭД'!$B1659)","v":"46.47.3"},"G","46.47.3","Торговля оптовая коврами и ковровыми изделиями"]
[{"$f":"IF('Отрасли ОКВЭД'!$C1660<>\"\",'Отрасли ОКВЭД'!$C1660,'Отрасли ОКВЭД'!$B1660)","v":"46.48"},"G","46.48","Торговля оптовая часами и ювелирными изделиями"]
[{"$f":"IF('Отрасли ОКВЭД'!$C1661<>\"\",'Отрасли ОКВЭД'!$C1661,'Отрасли ОКВЭД'!$B1661)","v":"46.48.1"},"G","46.48.1","Торговля оптовая часами"]
[{"$f":"IF('Отрасли ОКВЭД'!$C1662<>\"\",'Отрасли ОКВЭД'!$C1662,'Отрасли ОКВЭД'!$B1662)","v":"46.48.2"},"G","46.48.2","Торговля оптовая ювелирными изделиями"]
[{"$f":"IF('Отрасли ОКВЭД'!$C1663<>\"\",'Отрасли ОКВЭД'!$C1663,'Отрасли ОКВЭД'!$B1663)","v":"46.49"},"G","46.49","Торговля оптовая прочими бытовыми товарами"]
[{"$f":"IF('Отрасли ОКВЭД'!$C1664<>\"\",'Отрасли ОКВЭД'!$C1664,'Отрасли ОКВЭД'!$B1664)","v":"46.49.1"},"G","46.49.1","Торговля оптовая ножевыми изделиями и бытовой металлической посудой"]
[{"$f":"IF('Отрасли ОКВЭД'!$C1665<>\"\",'Отрасли ОКВЭД'!$C1665,'Отрасли ОКВЭД'!$B1665)","v":"46.49.2"},"G","46.49.2","Торговля оптовая плетеными изделиями, изделиями из пробки, бондарными изделиями и прочими бытовыми деревянными изделиями"]
[{"$f":"IF('Отрасли ОКВЭД'!$C1666<>\"\",'Отрасли ОКВЭД'!$C1666,'Отрасли ОКВЭД'!$B1666)","v":"46.49.3"},"G","46.49.3","Торговля оптовая книгами, газетами и журналами, писчебумажными и канцелярскими товарами"]
[{"$f":"IF('Отрасли ОКВЭД'!$C1667<>\"\",'Отрасли ОКВЭД'!$C1667,'Отрасли ОКВЭД'!$B1667)","v":"46.49.31"},"G","46.49.31","Торговля оптовая книгами"]
[{"$f":"IF('Отрасли ОКВЭД'!$C1668<>\"\",'Отрасли ОКВЭД'!$C1668,'Отрасли ОКВЭД'!$B1668)","v":"46.49.32"},"G","46.49.32","Торговля оптовая газетами и журналами"]
[{"$f":"IF('Отрасли ОКВЭД'!$C1669<>\"\",'Отрасли ОКВЭД'!$C1669,'Отрасли ОКВЭД'!$B1669)","v":"46.49.33"},"G","46.49.33","Торговля оптовая писчебумажными и канцелярскими товарами"]
[{"$f":"IF('Отрасли ОКВЭД'!$C1670<>\"\",'Отрасли ОКВЭД'!$C1670,'Отрасли ОКВЭД'!$B1670)","v":"46.49.4"},"G","46.49.4","Торговля оптовая прочими потребительскими товарами"]
[{"$f":"IF('Отрасли ОКВЭД'!$C1671<>\"\",'Отрасли ОКВЭД'!$C1671,'Отрасли ОКВЭД'!$B1671)","v":"46.49.41"},"G","46.49.41","Торговля оптовая музыкальными инструментами и нотными изданиями"]
[{"$f":"IF('Отрасли ОКВЭД'!$C1672<>\"\",'Отрасли ОКВЭД'!$C1672,'Отрасли ОКВЭД'!$B1672)","v":"46.49.42"},"G","46.49.42","Торговля оптовая играми и игрушками"]
[{"$f":"IF('Отрасли ОКВЭД'!$C1673<>\"\",'Отрасли ОКВЭД'!$C1673,'Отрасли ОКВЭД'!$B1673)","v":"46.49.43"},"G","46.49.43","Торговля оптовая спортивными товарами, включая велосипеды"]
[{"$f":"IF('Отрасли ОКВЭД'!$C1674<>\"\",'Отрасли ОКВЭД'!$C1674,'Отрасли ОКВЭД'!$B1674)","v":"46.49.44"},"G","46.49.44","Торговля оптовая изделиями из кожи и дорожными аксессуарами"]
[{"$f":"IF('Отрасли ОКВЭД'!$C1675<>\"\",'Отрасли ОКВЭД'!$C1675,'Отрасли ОКВЭД'!$B1675)","v":"46.49.49"},"G","46.49.49","Торговля оптовая прочими потребительскими товарами, не включенными в другие группировки"]
[{"$f":"IF('Отрасли ОКВЭД'!$C1676<>\"\",'Отрасли ОКВЭД'!$C1676,'Отрасли ОКВЭД'!$B1676)","v":"46.49.5"},"G","46.49.5","Торговля оптовая неэлектрическими бытовыми приборами"]
[{"$f":"IF('Отрасли ОКВЭД'!$C1677<>\"\",'Отрасли ОКВЭД'!$C1677,'Отрасли ОКВЭД'!$B1677)","v":"46.5"},"G","46.5","Торговля оптовая информационным и коммуникационным оборудованием"]
[{"$f":"IF('Отрасли ОКВЭД'!$C1678<>\"\",'Отрасли ОКВЭД'!$C1678,'Отрасли ОКВЭД'!$B1678)","v":"46.51"},"G","46.51","Торговля оптовая компьютерами, периферийными устройствами к компьютерам и программным обеспечением"]
[{"$f":"IF('Отрасли ОКВЭД'!$C1679<>\"\",'Отрасли ОКВЭД'!$C1679,'Отрасли ОКВЭД'!$B1679)","v":"46.51.1"},"G","46.51.1","Торговля оптовая компьютерами и периферийными устройствами"]
[{"$f":"IF('Отрасли ОКВЭД'!$C1680<>\"\",'Отрасли ОКВЭД'!$C1680,'Отрасли ОКВЭД'!$B1680)","v":"46.51.2"},"G","46.51.2","Торговля оптовая программным обеспечением"]
[{"$f":"IF('Отрасли ОКВЭД'!$C1681<>\"\",'Отрасли ОКВЭД'!$C1681,'Отрасли ОКВЭД'!$B1681)","v":"46.52"},"G","46.52","Торговля оптовая электронным и телекоммуникационным оборудованием и его запасными частями"]
[{"$f":"IF('Отрасли ОКВЭД'!$C1682<>\"\",'Отрасли ОКВЭД'!$C1682,'Отрасли ОКВЭД'!$B1682)","v":"46.52.1"},"G","46.52.1","Торговля оптовая телекоммуникационным оборудованием и его запасными частями"]
[{"$f":"IF('Отрасли ОКВЭД'!$C1683<>\"\",'Отрасли ОКВЭД'!$C1683,'Отрасли ОКВЭД'!$B1683)","v":"46.52.2"},"G","46.52.2","Торговля оптовая электронным оборудованием и его запасными частями"]
[{"$f":"IF('Отрасли ОКВЭД'!$C1684<>\"\",'Отрасли ОКВЭД'!$C1684,'Отрасли ОКВЭД'!$B1684)","v":"46.52.3"},"G","46.52.3","Торговля оптовая аудио- и видеомагнитными лентами и дискетами, магнитными и оптическими дисками, компакт-дисками (CD), цифровыми видеодисками (DVD) и прочими техническими носителями информации без записей"]
[{"$f":"IF('Отрасли ОКВЭД'!$C1685<>\"\",'Отрасли ОКВЭД'!$C1685,'Отрасли ОКВЭД'!$B1685)","v":"46.6"},"G","46.6","Торговля оптовая прочими машинами, оборудованием и принадлежностями"]
[{"$f":"IF('Отрасли ОКВЭД'!$C1686<>\"\",'Отрасли ОКВЭД'!$C1686,'Отрасли ОКВЭД'!$B1686)","v":"46.61"},"G","46.61","Торговля оптовая машинами, оборудованием и инструментами для сельского хозяйства"]
[{"$f":"IF('Отрасли ОКВЭД'!$C1687<>\"\",'Отрасли ОКВЭД'!$C1687,'Отрасли ОКВЭД'!$B1687)","v":"46.61.1"},"G","46.61.1","Торговля оптовая сельскохозяйственными и лесохозяйственными машинами, оборудованием и инструментами, включая тракторы"]
[{"$f":"IF('Отрасли ОКВЭД'!$C1688<>\"\",'Отрасли ОКВЭД'!$C1688,'Отрасли ОКВЭД'!$B1688)","v":"46.61.2"},"G","46.61.2","Торговля оптовая садово-огородной техникой и инвентарем"]
[{"$f":"IF('Отрасли ОКВЭД'!$C1689<>\"\",'Отрасли ОКВЭД'!$C1689,'Отрасли ОКВЭД'!$B1689)","v":"46.62"},"G","46.62","Торговля оптовая станками"]
[{"$f":"IF('Отрасли ОКВЭД'!$C1690<>\"\",'Отрасли ОКВЭД'!$C1690,'Отрасли ОКВЭД'!$B1690)","v":"46.62.1"},"G","46.62.1","Торговля оптовая деревообрабатывающими станками"]
[{"$f":"IF('Отрасли ОКВЭД'!$C1691<>\"\",'Отрасли ОКВЭД'!$C1691,'Отрасли ОКВЭД'!$B1691)","v":"46.62.2"},"G","46.62.2","Торговля оптовая металлообрабатывающими станками"]
[{"$f":"IF('Отрасли ОКВЭД'!$C1692<>\"\",'Отрасли ОКВЭД'!$C1692,'Отрасли ОКВЭД'!$B1692)","v":"46.62.3"},"G","46.62.3","Торговля оптовая станками для обработки прочих материалов"]
[{"$f":"IF('Отрасли ОКВЭД'!$C1693<>\"\",'Отрасли ОКВЭД'!$C1693,'Отрасли ОКВЭД'!$B1693)","v":"46.63"},"G","46.63","Торговля оптовая машинами и оборудованием для добычи полезных ископаемых и строительства"]
[{"$f":"IF('Отрасли ОКВЭД'!$C1694<>\"\",'Отрасли ОКВЭД'!$C1694,'Отрасли ОКВЭД'!$B1694)","v":"46.64"},"G","46.64","Торговля оптовая машинами и оборудованием для текстильного, швейного и трикотажного производств"]
[{"$f":"IF('Отрасли ОКВЭД'!$C1695<>\"\",'Отрасли ОКВЭД'!$C1695,'Отрасли ОКВЭД'!$B1695)","v":"46.65"},"G","46.65","Торговля оптовая офисной мебелью"]
[{"$f":"IF('Отрасли ОКВЭД'!$C1696<>\"\",'Отрасли ОКВЭД'!$C1696,'Отрасли ОКВЭД'!$B1696)","v":"46.66"},"G","46.66","Торговля оптовая прочей офисной техникой и оборудованием"]
[{"$f":"IF('Отрасли ОКВЭД'!$C1697<>\"\",'Отрасли ОКВЭД'!$C1697,'Отрасли ОКВЭД'!$B1697)","v":"46.69"},"G","46.69","Торговля оптовая прочими машинами и оборудованием"]
[{"$f":"IF('Отрасли ОКВЭД'!$C1698<>\"\",'Отрасли ОКВЭД'!$C1698,'Отрасли ОКВЭД'!$B1698)","v":"46.69.1"},"G","46.69.1","Торговля оптовая транспортными средствами, кроме автомобилей, мотоциклов и велосипедов"]
[{"$f":"IF('Отрасли ОКВЭД'!$C1699<>\"\",'Отрасли ОКВЭД'!$C1699,'Отрасли ОКВЭД'!$B1699)","v":"46.69.2"},"G","46.69.2","Торговля оптовая эксплуатационными материалами и принадлежностями машин"]
[{"$f":"IF('Отрасли ОКВЭД'!$C1700<>\"\",'Отрасли ОКВЭД'!$C1700,'Отрасли ОКВЭД'!$B1700)","v":"46.69.3"},"G","46.69.3","Торговля оптовая подъемно-транспортными машинами и оборудованием"]
[{"$f":"IF('Отрасли ОКВЭД'!$C1701<>\"\",'Отрасли ОКВЭД'!$C1701,'Отрасли ОКВЭД'!$B1701)","v":"46.69.4"},"G","46.69.4","Торговля оптовая машинами и оборудованием для производства пищевых продуктов, напитков и табачных изделий"]
[{"$f":"IF('Отрасли ОКВЭД'!$C1702<>\"\",'Отрасли ОКВЭД'!$C1702,'Отрасли ОКВЭД'!$B1702)","v":"46.69.5"},"G","46.69.5","Торговля оптовая производственным электротехническим оборудованием, машинами, аппаратурой и материалами"]
[{"$f":"IF('Отрасли ОКВЭД'!$C1703<>\"\",'Отрасли ОКВЭД'!$C1703,'Отрасли ОКВЭД'!$B1703)","v":"46.69.6"},"G","46.69.6","Торговля оптовая оружием и боеприпасами"]
[{"$f":"IF('Отрасли ОКВЭД'!$C1704<>\"\",'Отрасли ОКВЭД'!$C1704,'Отрасли ОКВЭД'!$B1704)","v":"46.69.7"},"G","46.69.7","Торговля оптовая измерительными приборами и оборудованием"]
[{"$f":"IF('Отрасли ОКВЭД'!$C1705<>\"\",'Отрасли ОКВЭД'!$C1705,'Отрасли ОКВЭД'!$B1705)","v":"46.69.8"},"G","46.69.8","Торговля оптовая техникой, оборудованием и инструментами, применяемыми в медицинских целях"]
[{"$f":"IF('Отрасли ОКВЭД'!$C1706<>\"\",'Отрасли ОКВЭД'!$C1706,'Отрасли ОКВЭД'!$B1706)","v":"46.69.9"},"G","46.69.9","Торговля оптовая прочими машинами, приборами, аппаратурой и оборудованием общепромышленного и специального назначения"]
[{"$f":"IF('Отрасли ОКВЭД'!$C1707<>\"\",'Отрасли ОКВЭД'!$C1707,'Отрасли ОКВЭД'!$B1707)","v":"46.7"},"G","46.7","Торговля оптовая специализированная прочая"]
[{"$f":"IF('Отрасли ОКВЭД'!$C1708<>\"\",'Отрасли ОКВЭД'!$C1708,'Отрасли ОКВЭД'!$B1708)","v":"46.71"},"G","46.71","Торговля оптовая твердым, жидким и газообразным топливом и подобными продуктами"]
[{"$f":"IF('Отрасли ОКВЭД'!$C1709<>\"\",'Отрасли ОКВЭД'!$C1709,'Отрасли ОКВЭД'!$B1709)","v":"46.71.1"},"G","46.71.1","Торговля оптовая твердым топливом"]
[{"$f":"IF('Отрасли ОКВЭД'!$C1710<>\"\",'Отрасли ОКВЭД'!$C1710,'Отрасли ОКВЭД'!$B1710)","v":"46.71.2"},"G","46.71.2","Торговля оптовая моторным топливом, включая авиационный бензин"]
[{"$f":"IF('Отрасли ОКВЭД'!$C1711<>\"\",'Отрасли ОКВЭД'!$C1711,'Отрасли ОКВЭД'!$B1711)","v":"46.71.3"},"G","46.71.3","Торговля оптовая сырой нефтью"]
[{"$f":"IF('Отрасли ОКВЭД'!$C1712<>\"\",'Отрасли ОКВЭД'!$C1712,'Отрасли ОКВЭД'!$B1712)","v":"46.71.4"},"G","46.71.4","Торговля оптовая природным (естественным) газом"]
[{"$f":"IF('Отрасли ОКВЭД'!$C1713<>\"\",'Отрасли ОКВЭД'!$C1713,'Отрасли ОКВЭД'!$B1713)","v":"46.71.5"},"G","46.71.5","Торговля оптовая сжиженными углеводородными газами"]
[{"$f":"IF('Отрасли ОКВЭД'!$C1714<>\"\",'Отрасли ОКВЭД'!$C1714,'Отрасли ОКВЭД'!$B1714)","v":"46.71.51"},"G","46.71.51","Торговля оптовая сжиженными углеводородными газами по регулируемым государством ценам (тарифам)"]
[{"$f":"IF('Отрасли ОКВЭД'!$C1715<>\"\",'Отрасли ОКВЭД'!$C1715,'Отрасли ОКВЭД'!$B1715)","v":"46.71.52"},"G","46.71.52","Торговля оптовая сжиженными углеводородными газами по не регулируемым государством ценам (тарифам)"]
[{"$f":"IF('Отрасли ОКВЭД'!$C1716<>\"\",'Отрасли ОКВЭД'!$C1716,'Отрасли ОКВЭД'!$B1716)","v":"46.71.9"},"G","46.71.9","Торговля оптовая прочим топливом и подобными продуктами"]
[{"$f":"IF('Отрасли ОКВЭД'!$C1717<>\"\",'Отрасли ОКВЭД'!$C1717,'Отрасли ОКВЭД'!$B1717)","v":"46.72"},"G","46.72","Торговля оптовая металлами и металлическими рудами"]
[{"$f":"IF('Отрасли ОКВЭД'!$C1718<>\"\",'Отрасли ОКВЭД'!$C1718,'Отрасли ОКВЭД'!$B1718)","v":"46.72.1"},"G","46.72.1","Торговля оптовая металлическими рудами"]
[{"$f":"IF('Отрасли ОКВЭД'!$C1719<>\"\",'Отрасли ОКВЭД'!$C1719,'Отрасли ОКВЭД'!$B1719)","v":"46.72.11"},"G","46.72.11","Торговля оптовая железными рудами"]
[{"$f":"IF('Отрасли ОКВЭД'!$C1720<>\"\",'Отрасли ОКВЭД'!$C1720,'Отрасли ОКВЭД'!$B1720)","v":"46.72.12"},"G","46.72.12","Торговля оптовая рудами цветных металлов"]
[{"$f":"IF('Отрасли ОКВЭД'!$C1721<>\"\",'Отрасли ОКВЭД'!$C1721,'Отрасли ОКВЭД'!$B1721)","v":"46.72.2"},"G","46.72.2","Торговля оптовая металлами в первичных формах"]
[{"$f":"IF('Отрасли ОКВЭД'!$C1722<>\"\",'Отрасли ОКВЭД'!$C1722,'Отрасли ОКВЭД'!$B1722)","v":"46.72.21"},"G","46.72.21","Торговля оптовая черными металлами в первичных формах"]
[{"$f":"IF('Отрасли ОКВЭД'!$C1723<>\"\",'Отрасли ОКВЭД'!$C1723,'Отрасли ОКВЭД'!$B1723)","v":"46.72.22"},"G","46.72.22","Торговля оптовая цветными металлами в первичных формах, кроме драгоценных"]
[{"$f":"IF('Отрасли ОКВЭД'!$C1724<>\"\",'Отрасли ОКВЭД'!$C1724,'Отрасли ОКВЭД'!$B1724)","v":"46.72.23"},"G","46.72.23","Торговля оптовая золотом и другими драгоценными металлами"]
[{"$f":"IF('Отрасли ОКВЭД'!$C1725<>\"\",'Отрасли ОКВЭД'!$C1725,'Отрасли ОКВЭД'!$B1725)","v":"46.73"},"G","46.73","Торговля оптовая лесоматериалами, строительными материалами и санитарно-техническим оборудованием"]
[{"$f":"IF('Отрасли ОКВЭД'!$C1726<>\"\",'Отрасли ОКВЭД'!$C1726,'Отрасли ОКВЭД'!$B1726)","v":"46.73.1"},"G","46.73.1","Торговля оптовая древесным сырьем и необработанными лесоматериалами"]
[{"$f":"IF('Отрасли ОКВЭД'!$C1727<>\"\",'Отрасли ОКВЭД'!$C1727,'Отрасли ОКВЭД'!$B1727)","v":"46.73.2"},"G","46.73.2","Торговля оптовая пиломатериалами"]
[{"$f":"IF('Отрасли ОКВЭД'!$C1728<>\"\",'Отрасли ОКВЭД'!$C1728,'Отрасли ОКВЭД'!$B1728)","v":"46.73.3"},"G","46.73.3","Торговля оптовая санитарно-техническим оборудованием"]
[{"$f":"IF('Отрасли ОКВЭД'!$C1729<>\"\",'Отрасли ОКВЭД'!$C1729,'Отрасли ОКВЭД'!$B1729)","v":"46.73.4"},"G","46.73.4","Торговля оптовая лакокрасочными материалами"]
[{"$f":"IF('Отрасли ОКВЭД'!$C1730<>\"\",'Отрасли ОКВЭД'!$C1730,'Отрасли ОКВЭД'!$B1730)","v":"46.73.5"},"G","46.73.5","Торговля оптовая листовым стеклом"]
[{"$f":"IF('Отрасли ОКВЭД'!$C1731<>\"\",'Отрасли ОКВЭД'!$C1731,'Отрасли ОКВЭД'!$B1731)","v":"46.73.6"},"G","46.73.6","Торговля оптовая прочими строительными материалами и изделиями"]
[{"$f":"IF('Отрасли ОКВЭД'!$C1732<>\"\",'Отрасли ОКВЭД'!$C1732,'Отрасли ОКВЭД'!$B1732)","v":"46.73.7"},"G","46.73.7","Торговля оптовая обоями"]
[{"$f":"IF('Отрасли ОКВЭД'!$C1733<>\"\",'Отрасли ОКВЭД'!$C1733,'Отрасли ОКВЭД'!$B1733)","v":"46.73.8"},"G","46.73.8","Торговля оптовая напольными покрытиями (кроме ковров)"]
[{"$f":"IF('Отрасли ОКВЭД'!$C1734<>\"\",'Отрасли ОКВЭД'!$C1734,'Отрасли ОКВЭД'!$B1734)","v":"46.74"},"G","46.74","Торговля оптовая скобяными изделиями, водопроводным и отопительным оборудованием и принадлежностями"]
[{"$f":"IF('Отрасли ОКВЭД'!$C1735<>\"\",'Отрасли ОКВЭД'!$C1735,'Отрасли ОКВЭД'!$B1735)","v":"46.74.1"},"G","46.74.1","Торговля оптовая скобяными изделиями"]
[{"$f":"IF('Отрасли ОКВЭД'!$C1736<>\"\",'Отрасли ОКВЭД'!$C1736,'Отрасли ОКВЭД'!$B1736)","v":"46.74.2"},"G","46.74.2","Торговля оптовая водопроводным и отопительным оборудованием и санитарно-технической арматурой"]
[{"$f":"IF('Отрасли ОКВЭД'!$C1737<>\"\",'Отрасли ОКВЭД'!$C1737,'Отрасли ОКВЭД'!$B1737)","v":"46.74.3"},"G","46.74.3","Торговля оптовая ручными инструментами"]
[{"$f":"IF('Отрасли ОКВЭД'!$C1738<>\"\",'Отрасли ОКВЭД'!$C1738,'Отрасли ОКВЭД'!$B1738)","v":"46.75"},"G","46.75","Торговля оптовая химическими продуктами"]
[{"$f":"IF('Отрасли ОКВЭД'!$C1739<>\"\",'Отрасли ОКВЭД'!$C1739,'Отрасли ОКВЭД'!$B1739)","v":"46.75.1"},"G","46.75.1","Торговля оптовая удобрениями и агрохимическими продуктами"]
[{"$f":"IF('Отрасли ОКВЭД'!$C1740<>\"\",'Отрасли ОКВЭД'!$C1740,'Отрасли ОКВЭД'!$B1740)","v":"46.75.2"},"G","46.75.2","Торговля оптовая промышленными химикатами"]
[{"$f":"IF('Отрасли ОКВЭД'!$C1741<>\"\",'Отрасли ОКВЭД'!$C1741,'Отрасли ОКВЭД'!$B1741)","v":"46.76"},"G","46.76","Торговля оптовая прочими промежуточными продуктами"]
[{"$f":"IF('Отрасли ОКВЭД'!$C1742<>\"\",'Отрасли ОКВЭД'!$C1742,'Отрасли ОКВЭД'!$B1742)","v":"46.76.1"},"G","46.76.1","Торговля оптовая бумагой и картоном"]
[{"$f":"IF('Отрасли ОКВЭД'!$C1743<>\"\",'Отрасли ОКВЭД'!$C1743,'Отрасли ОКВЭД'!$B1743)","v":"46.76.2"},"G","46.76.2","Торговля оптовая текстильными волокнами"]
[{"$f":"IF('Отрасли ОКВЭД'!$C1744<>\"\",'Отрасли ОКВЭД'!$C1744,'Отрасли ОКВЭД'!$B1744)","v":"46.76.3"},"G","46.76.3","Торговля оптовая пластмассами и резиной в первичных формах"]
[{"$f":"IF('Отрасли ОКВЭД'!$C1745<>\"\",'Отрасли ОКВЭД'!$C1745,'Отрасли ОКВЭД'!$B1745)","v":"46.76.4"},"G","46.76.4","Торговля оптовая драгоценными камнями"]
[{"$f":"IF('Отрасли ОКВЭД'!$C1746<>\"\",'Отрасли ОКВЭД'!$C1746,'Отрасли ОКВЭД'!$B1746)","v":"46.77"},"G","46.77","Торговля оптовая отходами и ломом"]
[{"$f":"IF('Отрасли ОКВЭД'!$C1747<>\"\",'Отрасли ОКВЭД'!$C1747,'Отрасли ОКВЭД'!$B1747)","v":"46.9"},"G","46.9","Торговля оптовая неспециализированная"]
[{"$f":"IF('Отрасли ОКВЭД'!$C1748<>\"\",'Отрасли ОКВЭД'!$C1748,'Отрасли ОКВЭД'!$B1748)","v":"46.90"},"G","46.90","Торговля оптовая неспециализированная"]
[{"$f":"IF('Отрасли ОКВЭД'!$C1749<>\"\",'Отрасли ОКВЭД'!$C1749,'Отрасли ОКВЭД'!$B1749)","v":"47"},"G","47","Торговля розничная, кроме торговли автотранспортными средствами и мотоциклами"]
[{"$f":"IF('Отрасли ОКВЭД'!$C1750<>\"\",'Отрасли ОКВЭД'!$C1750,'Отрасли ОКВЭД'!$B1750)","v":"47.1"},"G","47.1","Торговля розничная в неспециализированных магазинах"]
[{"$f":"IF('Отрасли ОКВЭД'!$C1751<>\"\",'Отрасли ОКВЭД'!$C1751,'Отрасли ОКВЭД'!$B1751)","v":"47.11"},"G","47.11","Торговля розничная преимущественно пищевыми продуктами, включая напитки, и табачными изделиями в неспециализированных магазинах"]
[{"$f":"IF('Отрасли ОКВЭД'!$C1752<>\"\",'Отрасли ОКВЭД'!$C1752,'Отрасли ОКВЭД'!$B1752)","v":"47.11.1"},"G","47.11.1","Торговля розничная замороженными продуктами в неспециализированных магазинах"]
[{"$f":"IF('Отрасли ОКВЭД'!$C1753<>\"\",'Отрасли ОКВЭД'!$C1753,'Отрасли ОКВЭД'!$B1753)","v":"47.11.2"},"G","47.11.2","Торговля розничная незамороженными продуктами, включая напитки и табачные изделия, в неспециализированных магазинах"]
[{"$f":"IF('Отрасли ОКВЭД'!$C1754<>\"\",'Отрасли ОКВЭД'!$C1754,'Отрасли ОКВЭД'!$B1754)","v":"47.11.3"},"G","47.11.3","Деятельность по розничной торговле большим товарным ассортиментом с преобладанием продовольственных товаров в неспециализированных магазинах"]
[{"$f":"IF('Отрасли ОКВЭД'!$C1755<>\"\",'Отрасли ОКВЭД'!$C1755,'Отрасли ОКВЭД'!$B1755)","v":"47.19"},"G","47.19","Торговля розничная прочая в неспециализированных магазинах"]
[{"$f":"IF('Отрасли ОКВЭД'!$C1756<>\"\",'Отрасли ОКВЭД'!$C1756,'Отрасли ОКВЭД'!$B1756)","v":"47.19.1"},"G","47.19.1","Торговля розничная большим товарным ассортиментом с преобладанием непродовольственных товаров в неспециализированных магазинах"]
[{"$f":"IF('Отрасли ОКВЭД'!$C1757<>\"\",'Отрасли ОКВЭД'!$C1757,'Отрасли ОКВЭД'!$B1757)","v":"47.19.2"},"G","47.19.2","Деятельность универсальных магазинов, торгующих товарами общего ассортимента"]
[{"$f":"IF('Отрасли ОКВЭД'!$C1758<>\"\",'Отрасли ОКВЭД'!$C1758,'Отрасли ОКВЭД'!$B1758)","v":"47.2"},"G","47.2","Торговля розничная пищевыми продуктами, напитками и табачными изделиями в специализированных магазинах"]
[{"$f":"IF('Отрасли ОКВЭД'!$C1759<>\"\",'Отрасли ОКВЭД'!$C1759,'Отрасли ОКВЭД'!$B1759)","v":"47.21"},"G","47.21","Торговля розничная фруктами и овощами в специализированных магазинах"]
[{"$f":"IF('Отрасли ОКВЭД'!$C1760<>\"\",'Отрасли ОКВЭД'!$C1760,'Отрасли ОКВЭД'!$B1760)","v":"47.21.1"},"G","47.21.1","Торговля розничная свежими фруктами, овощами, картофелем и орехами в специализированных магазинах"]
[{"$f":"IF('Отрасли ОКВЭД'!$C1761<>\"\",'Отрасли ОКВЭД'!$C1761,'Отрасли ОКВЭД'!$B1761)","v":"47.21.2"},"G","47.21.2","Торговля розничная консервированными фруктами, овощами и орехами в специализированных магазинах"]
[{"$f":"IF('Отрасли ОКВЭД'!$C1762<>\"\",'Отрасли ОКВЭД'!$C1762,'Отрасли ОКВЭД'!$B1762)","v":"47.22"},"G","47.22","Торговля розничная мясом и мясными продуктами в специализированных магазинах"]
[{"$f":"IF('Отрасли ОКВЭД'!$C1763<>\"\",'Отрасли ОКВЭД'!$C1763,'Отрасли ОКВЭД'!$B1763)","v":"47.22.1"},"G","47.22.1","Торговля розничная мясом и мясом птицы, включая субпродукты в специализированных магазинах"]
[{"$f":"IF('Отрасли ОКВЭД'!$C1764<>\"\",'Отрасли ОКВЭД'!$C1764,'Отрасли ОКВЭД'!$B1764)","v":"47.22.2"},"G","47.22.2","Торговля розничная продуктами из мяса и мяса птицы в специализированных магазинах"]
[{"$f":"IF('Отрасли ОКВЭД'!$C1765<>\"\",'Отрасли ОКВЭД'!$C1765,'Отрасли ОКВЭД'!$B1765)","v":"47.22.3"},"G","47.22.3","Торговля розничная консервами из мяса и мяса птицы в специализированных магазинах"]
[{"$f":"IF('Отрасли ОКВЭД'!$C1766<>\"\",'Отрасли ОКВЭД'!$C1766,'Отрасли ОКВЭД'!$B1766)","v":"47.23"},"G","47.23","Торговля розничная рыбой, ракообразными и моллюсками в специализированных магазинах"]
[{"$f":"IF('Отрасли ОКВЭД'!$C1767<>\"\",'Отрасли ОКВЭД'!$C1767,'Отрасли ОКВЭД'!$B1767)","v":"47.23.1"},"G","47.23.1","Торговля розничная рыбой и морепродуктами в специализированных магазинах"]
[{"$f":"IF('Отрасли ОКВЭД'!$C1768<>\"\",'Отрасли ОКВЭД'!$C1768,'Отрасли ОКВЭД'!$B1768)","v":"47.23.2"},"G","47.23.2","Торговля розничная консервами из рыбы и морепродуктов в специализированных магазинах"]
[{"$f":"IF('Отрасли ОКВЭД'!$C1769<>\"\",'Отрасли ОКВЭД'!$C1769,'Отрасли ОКВЭД'!$B1769)","v":"47.24"},"G","47.24","Торговля розничная хлебом и хлебобулочными изделиями и кондитерскими изделиями в специализированных магазинах"]
[{"$f":"IF('Отрасли ОКВЭД'!$C1770<>\"\",'Отрасли ОКВЭД'!$C1770,'Отрасли ОКВЭД'!$B1770)","v":"47.24.1"},"G","47.24.1","Торговля розничная хлебом и хлебобулочными изделиями в специализированных магазинах"]
[{"$f":"IF('Отрасли ОКВЭД'!$C1771<>\"\",'Отрасли ОКВЭД'!$C1771,'Отрасли ОКВЭД'!$B1771)","v":"47.24.2"},"G","47.24.2","Торговля розничная кондитерскими изделиями в специализированных магазинах"]
[{"$f":"IF('Отрасли ОКВЭД'!$C1772<>\"\",'Отрасли ОКВЭД'!$C1772,'Отрасли ОКВЭД'!$B1772)","v":"47.24.21"},"G","47.24.21","Торговля розничная мучными кондитерскими изделиями в специализированных магазинах"]
[{"$f":"IF('Отрасли ОКВЭД'!$C1773<>\"\",'Отрасли ОКВЭД'!$C1773,'Отрасли ОКВЭД'!$B1773)","v":"47.24.22"},"G","47.24.22","Торговля розничная кондитерскими изделиями, включая шоколад, в специализированных магазинах"]
[{"$f":"IF('Отрасли ОКВЭД'!$C1774<>\"\",'Отрасли ОКВЭД'!$C1774,'Отрасли ОКВЭД'!$B1774)","v":"47.24.3"},"G","47.24.3","Торговля розничная мороженым и замороженными десертами в специализированных магазинах"]
[{"$f":"IF('Отрасли ОКВЭД'!$C1775<>\"\",'Отрасли ОКВЭД'!$C1775,'Отрасли ОКВЭД'!$B1775)","v":"47.25"},"G","47.25","Торговля розничная напитками в специализированных магазинах"]
[{"$f":"IF('Отрасли ОКВЭД'!$C1776<>\"\",'Отрасли ОКВЭД'!$C1776,'Отрасли ОКВЭД'!$B1776)","v":"47.25.1"},"G","47.25.1","Торговля розничная алкогольными напитками, включая пиво, в специализированных магазинах"]
[{"$f":"IF('Отрасли ОКВЭД'!$C1777<>\"\",'Отрасли ОКВЭД'!$C1777,'Отрасли ОКВЭД'!$B1777)","v":"47.25.11"},"G","47.25.11","Торговля розничная алкогольными напитками, кроме пива, в специализированных магазинах"]
[{"$f":"IF('Отрасли ОКВЭД'!$C1778<>\"\",'Отрасли ОКВЭД'!$C1778,'Отрасли ОКВЭД'!$B1778)","v":"47.25.12"},"G","47.25.12","Торговля розничная пивом в специализированных магазинах"]
[{"$f":"IF('Отрасли ОКВЭД'!$C1779<>\"\",'Отрасли ОКВЭД'!$C1779,'Отрасли ОКВЭД'!$B1779)","v":"47.25.2"},"G","47.25.2","Торговля розничная безалкогольными напитками в специализированных магазинах"]
[{"$f":"IF('Отрасли ОКВЭД'!$C1780<>\"\",'Отрасли ОКВЭД'!$C1780,'Отрасли ОКВЭД'!$B1780)","v":"47.26"},"G","47.26","Торговля розничная табачными изделиями в специализированных магазинах"]
[{"$f":"IF('Отрасли ОКВЭД'!$C1781<>\"\",'Отрасли ОКВЭД'!$C1781,'Отрасли ОКВЭД'!$B1781)","v":"47.29"},"G","47.29","Торговля розничная прочими пищевыми продуктами в специализированных магазинах"]
[{"$f":"IF('Отрасли ОКВЭД'!$C1782<>\"\",'Отрасли ОКВЭД'!$C1782,'Отрасли ОКВЭД'!$B1782)","v":"47.29.1"},"G","47.29.1","Торговля розничная молочными продуктами и яйцами в специализированных магазинах"]
[{"$f":"IF('Отрасли ОКВЭД'!$C1783<>\"\",'Отрасли ОКВЭД'!$C1783,'Отрасли ОКВЭД'!$B1783)","v":"47.29.11"},"G","47.29.11","Торговля розничная молочными продуктами в специализированных магазинах"]
[{"$f":"IF('Отрасли ОКВЭД'!$C1784<>\"\",'Отрасли ОКВЭД'!$C1784,'Отрасли ОКВЭД'!$B1784)","v":"47.29.12"},"G","47.29.12","Торговля розничная яйцами в специализированных магазинах"]
[{"$f":"IF('Отрасли ОКВЭД'!$C1785<>\"\",'Отрасли ОКВЭД'!$C1785,'Отрасли ОКВЭД'!$B1785)","v":"47.29.2"},"G","47.29.2","Торговля розничная пищевыми маслами и жирами в специализированных магазинах"]
[{"$f":"IF('Отрасли ОКВЭД'!$C1786<>\"\",'Отрасли ОКВЭД'!$C1786,'Отрасли ОКВЭД'!$B1786)","v":"47.29.21"},"G","47.29.21","Торговля розничная животными маслами и жирами в специализированных магазинах"]
[{"$f":"IF('Отрасли ОКВЭД'!$C1787<>\"\",'Отрасли ОКВЭД'!$C1787,'Отрасли ОКВЭД'!$B1787)","v":"47.29.22"},"G","47.29.22","Торговля розничная растительными маслами в специализированных магазинах"]
[{"$f":"IF('Отрасли ОКВЭД'!$C1788<>\"\",'Отрасли ОКВЭД'!$C1788,'Отрасли ОКВЭД'!$B1788)","v":"47.29.3"},"G","47.29.3","Торговля розничная прочими пищевыми продуктами в специализированных магазинах"]
[{"$f":"IF('Отрасли ОКВЭД'!$C1789<>\"\",'Отрасли ОКВЭД'!$C1789,'Отрасли ОКВЭД'!$B1789)","v":"47.29.31"},"G","47.29.31","Торговля розничная мукой и макаронными изделиями в специализированных магазинах"]
[{"$f":"IF('Отрасли ОКВЭД'!$C1790<>\"\",'Отрасли ОКВЭД'!$C1790,'Отрасли ОКВЭД'!$B1790)","v":"47.29.32"},"G","47.29.32","Торговля розничная крупами в специализированных магазинах"]
[{"$f":"IF('Отрасли ОКВЭД'!$C1791<>\"\",'Отрасли ОКВЭД'!$C1791,'Отрасли ОКВЭД'!$B1791)","v":"47.29.33"},"G","47.29.33","Торговля розничная сахаром в специализированных магазинах"]
[{"$f":"IF('Отрасли ОКВЭД'!$C1792<>\"\",'Отрасли ОКВЭД'!$C1792,'Отрасли ОКВЭД'!$B1792)","v":"47.29.34"},"G","47.29.34","Торговля розничная солью в специализированных магазинах"]
[{"$f":"IF('Отрасли ОКВЭД'!$C1793<>\"\",'Отрасли ОКВЭД'!$C1793,'Отрасли ОКВЭД'!$B1793)","v":"47.29.35"},"G","47.29.35","Торговля розничная чаем, кофе, какао в специализированных магазинах"]
[{"$f":"IF('Отрасли ОКВЭД'!$C1794<>\"\",'Отрасли ОКВЭД'!$C1794,'Отрасли ОКВЭД'!$B1794)","v":"47.29.36"},"G","47.29.36","Торговля розничная гомогенизированными пищевыми продуктами, детским и диетическим питанием в специализированных магазинах"]
[{"$f":"IF('Отрасли ОКВЭД'!$C1795<>\"\",'Отрасли ОКВЭД'!$C1795,'Отрасли ОКВЭД'!$B1795)","v":"47.29.39"},"G","47.29.39","Торговля розничная прочими пищевыми продуктами в специализированных магазинах, не включенными в другие группировки"]
[{"$f":"IF('Отрасли ОКВЭД'!$C1796<>\"\",'Отрасли ОКВЭД'!$C1796,'Отрасли ОКВЭД'!$B1796)","v":"47.3"},"G","47.3","Торговля розничная моторным топливом в специализированных магазинах"]
[{"$f":"IF('Отрасли ОКВЭД'!$C1797<>\"\",'Отрасли ОКВЭД'!$C1797,'Отрасли ОКВЭД'!$B1797)","v":"47.30"},"G","47.30","Торговля розничная моторным топливом в специализированных магазинах"]
[{"$f":"IF('Отрасли ОКВЭД'!$C1798<>\"\",'Отрасли ОКВЭД'!$C1798,'Отрасли ОКВЭД'!$B1798)","v":"47.30.1"},"G","47.30.1","Торговля розничная моторным топливом в специализированных магазинах"]
[{"$f":"IF('Отрасли ОКВЭД'!$C1799<>\"\",'Отрасли ОКВЭД'!$C1799,'Отрасли ОКВЭД'!$B1799)","v":"47.30.11"},"G","47.30.11","Торговля розничная бензином и дизельным топливом в специализированных магазинах"]
[{"$f":"IF('Отрасли ОКВЭД'!$C1800<>\"\",'Отрасли ОКВЭД'!$C1800,'Отрасли ОКВЭД'!$B1800)","v":"47.30.12"},"G","47.30.12","Торговля розничная газом для заправки автомобилей в специализированных магазинах"]
[{"$f":"IF('Отрасли ОКВЭД'!$C1801<>\"\",'Отрасли ОКВЭД'!$C1801,'Отрасли ОКВЭД'!$B1801)","v":"47.30.2"},"G","47.30.2","Торговля розничная смазочными материалами и охлаждающими жидкостями для автотранспортных средств"]
[{"$f":"IF('Отрасли ОКВЭД'!$C1802<>\"\",'Отрасли ОКВЭД'!$C1802,'Отрасли ОКВЭД'!$B1802)","v":"47.4"},"G","47.4","Торговля розничная информационным и коммуникационным оборудованием в специализированных магазинах"]
[{"$f":"IF('Отрасли ОКВЭД'!$C1803<>\"\",'Отрасли ОКВЭД'!$C1803,'Отрасли ОКВЭД'!$B1803)","v":"47.41"},"G","47.41","Торговля розничная компьютерами, периферийными устройствами к ним и программным обеспечением в специализированных магазинах"]
[{"$f":"IF('Отрасли ОКВЭД'!$C1804<>\"\",'Отрасли ОКВЭД'!$C1804,'Отрасли ОКВЭД'!$B1804)","v":"47.41.1"},"G","47.41.1","Торговля розничная компьютерами в специализированных магазинах"]
[{"$f":"IF('Отрасли ОКВЭД'!$C1805<>\"\",'Отрасли ОКВЭД'!$C1805,'Отрасли ОКВЭД'!$B1805)","v":"47.41.2"},"G","47.41.2","Торговля розничная программным обеспечением в специализированных магазинах"]
[{"$f":"IF('Отрасли ОКВЭД'!$C1806<>\"\",'Отрасли ОКВЭД'!$C1806,'Отрасли ОКВЭД'!$B1806)","v":"47.41.3"},"G","47.41.3","Торговля розничная периферийными устройствами в специализированных магазинах"]
[{"$f":"IF('Отрасли ОКВЭД'!$C1807<>\"\",'Отрасли ОКВЭД'!$C1807,'Отрасли ОКВЭД'!$B1807)","v":"47.41.4"},"G","47.41.4","Торговля розничная офисными машинами и оборудованием в специализированных магазинах"]
[{"$f":"IF('Отрасли ОКВЭД'!$C1808<>\"\",'Отрасли ОКВЭД'!$C1808,'Отрасли ОКВЭД'!$B1808)","v":"47.42"},"G","47.42","Торговля розничная телекоммуникационным оборудованием, включая розничную торговлю мобильными телефонами, в специализированных магазинах"]
[{"$f":"IF('Отрасли ОКВЭД'!$C1809<>\"\",'Отрасли ОКВЭД'!$C1809,'Отрасли ОКВЭД'!$B1809)","v":"47.43"},"G","47.43","Торговля розничная аудио- и видеотехникой в специализированных магазинах"]
[{"$f":"IF('Отрасли ОКВЭД'!$C1810<>\"\",'Отрасли ОКВЭД'!$C1810,'Отрасли ОКВЭД'!$B1810)","v":"47.5"},"G","47.5","Торговля розничная прочими бытовыми изделиями в специализированных магазинах"]
[{"$f":"IF('Отрасли ОКВЭД'!$C1811<>\"\",'Отрасли ОКВЭД'!$C1811,'Отрасли ОКВЭД'!$B1811)","v":"47.51"},"G","47.51","Торговля розничная текстильными изделиями в специализированных магазинах"]
[{"$f":"IF('Отрасли ОКВЭД'!$C1812<>\"\",'Отрасли ОКВЭД'!$C1812,'Отрасли ОКВЭД'!$B1812)","v":"47.51.1"},"G","47.51.1","Торговля розничная текстильными изделиями в специализированных магазинах"]
[{"$f":"IF('Отрасли ОКВЭД'!$C1813<>\"\",'Отрасли ОКВЭД'!$C1813,'Отрасли ОКВЭД'!$B1813)","v":"47.51.2"},"G","47.51.2","Торговля розничная галантерейными изделиями в специализированных магазинах"]
[{"$f":"IF('Отрасли ОКВЭД'!$C1814<>\"\",'Отрасли ОКВЭД'!$C1814,'Отрасли ОКВЭД'!$B1814)","v":"47.52"},"G","47.52","Торговля розничная скобяными изделиями, лакокрасочными материалами и стеклом в специализированных магазинах"]
[{"$f":"IF('Отрасли ОКВЭД'!$C1815<>\"\",'Отрасли ОКВЭД'!$C1815,'Отрасли ОКВЭД'!$B1815)","v":"47.52.1"},"G","47.52.1","Торговля розничная скобяными изделиями в специализированных магазинах"]
[{"$f":"IF('Отрасли ОКВЭД'!$C1816<>\"\",'Отрасли ОКВЭД'!$C1816,'Отрасли ОКВЭД'!$B1816)","v":"47.52.2"},"G","47.52.2","Торговля розничная лакокрасочными материалами в специализированных магазинах"]
[{"$f":"IF('Отрасли ОКВЭД'!$C1817<>\"\",'Отрасли ОКВЭД'!$C1817,'Отрасли ОКВЭД'!$B1817)","v":"47.52.3"},"G","47.52.3","Торговля розничная стеклом в специализированных магазинах"]
[{"$f":"IF('Отрасли ОКВЭД'!$C1818<>\"\",'Отрасли ОКВЭД'!$C1818,'Отрасли ОКВЭД'!$B1818)","v":"47.52.4"},"G","47.52.4","Торговля розничная материалами и оборудованием для изготовления поделок в специализированных магазинах"]
[{"$f":"IF('Отрасли ОКВЭД'!$C1819<>\"\",'Отрасли ОКВЭД'!$C1819,'Отрасли ОКВЭД'!$B1819)","v":"47.52.5"},"G","47.52.5","Торговля розничная санитарно-техническим оборудованием в специализированных магазинах"]
[{"$f":"IF('Отрасли ОКВЭД'!$C1820<>\"\",'Отрасли ОКВЭД'!$C1820,'Отрасли ОКВЭД'!$B1820)","v":"47.52.6"},"G","47.52.6","Торговля розничная садово-огородной техникой и инвентарем в специализированных магазинах"]
[{"$f":"IF('Отрасли ОКВЭД'!$C1821<>\"\",'Отрасли ОКВЭД'!$C1821,'Отрасли ОКВЭД'!$B1821)","v":"47.52.7"},"G","47.52.7","Торговля розничная строительными материалами, не включенными в другие группировки, в специализированных магазинах"]
[{"$f":"IF('Отрасли ОКВЭД'!$C1822<>\"\",'Отрасли ОКВЭД'!$C1822,'Отрасли ОКВЭД'!$B1822)","v":"47.52.71"},"G","47.52.71","Торговля розничная пиломатериалами в специализированных магазинах"]
[{"$f":"IF('Отрасли ОКВЭД'!$C1823<>\"\",'Отрасли ОКВЭД'!$C1823,'Отрасли ОКВЭД'!$B1823)","v":"47.52.72"},"G","47.52.72","Торговля розничная кирпичом в специализированных магазинах"]
[{"$f":"IF('Отрасли ОКВЭД'!$C1824<>\"\",'Отрасли ОКВЭД'!$C1824,'Отрасли ОКВЭД'!$B1824)","v":"47.52.73"},"G","47.52.73","Торговля розничная металлическими и неметаллическими конструкциями в специализированных магазинах"]
[{"$f":"IF('Отрасли ОКВЭД'!$C1825<>\"\",'Отрасли ОКВЭД'!$C1825,'Отрасли ОКВЭД'!$B1825)","v":"47.52.74"},"G","47.52.74","Торговля розничная сборными деревянными строениями в специализированных магазинах"]
[{"$f":"IF('Отрасли ОКВЭД'!$C1826<>\"\",'Отрасли ОКВЭД'!$C1826,'Отрасли ОКВЭД'!$B1826)","v":"47.52.79"},"G","47.52.79","Торговля розничная прочими строительными материалами, не включенными в другие группировки, в специализированных магазинах"]
[{"$f":"IF('Отрасли ОКВЭД'!$C1827<>\"\",'Отрасли ОКВЭД'!$C1827,'Отрасли ОКВЭД'!$B1827)","v":"47.53"},"G","47.53","Торговля розничная коврами, ковровыми изделиями, покрытиями для пола и стен в специализированных магазинах"]
[{"$f":"IF('Отрасли ОКВЭД'!$C1828<>\"\",'Отрасли ОКВЭД'!$C1828,'Отрасли ОКВЭД'!$B1828)","v":"47.53.1"},"G","47.53.1","Торговля розничная коврами и ковровыми изделиями в специализированных магазинах"]
[{"$f":"IF('Отрасли ОКВЭД'!$C1829<>\"\",'Отрасли ОКВЭД'!$C1829,'Отрасли ОКВЭД'!$B1829)","v":"47.53.2"},"G","47.53.2","Торговля розничная портьерами, тюлевыми занавесями в специализированных магазинах"]
[{"$f":"IF('Отрасли ОКВЭД'!$C1830<>\"\",'Отрасли ОКВЭД'!$C1830,'Отрасли ОКВЭД'!$B1830)","v":"47.53.3"},"G","47.53.3","Торговля розничная обоями и напольными покрытиями в специализированных магазинах"]
[{"$f":"IF('Отрасли ОКВЭД'!$C1831<>\"\",'Отрасли ОКВЭД'!$C1831,'Отрасли ОКВЭД'!$B1831)","v":"47.54"},"G","47.54","Торговля розничная бытовыми электротоварами в специализированных магазинах"]
[{"$f":"IF('Отрасли ОКВЭД'!$C1832<>\"\",'Отрасли ОКВЭД'!$C1832,'Отрасли ОКВЭД'!$B1832)","v":"47.59"},"G","47.59","Торговля розничная мебелью, осветительными приборами и прочими бытовыми изделиями в специализированных магазинах"]
[{"$f":"IF('Отрасли ОКВЭД'!$C1833<>\"\",'Отрасли ОКВЭД'!$C1833,'Отрасли ОКВЭД'!$B1833)","v":"47.59.1"},"G","47.59.1","Торговля розничная мебелью в специализированных магазинах"]
[{"$f":"IF('Отрасли ОКВЭД'!$C1834<>\"\",'Отрасли ОКВЭД'!$C1834,'Отрасли ОКВЭД'!$B1834)","v":"47.59.2"},"G","47.59.2","Торговля розничная различной домашней утварью, ножевыми изделиями, посудой, изделиями из стекла и керамики, в том числе фарфора и фаянса в специализированных магазинах"]
[{"$f":"IF('Отрасли ОКВЭД'!$C1835<>\"\",'Отрасли ОКВЭД'!$C1835,'Отрасли ОКВЭД'!$B1835)","v":"47.59.3"},"G","47.59.3","Торговля розничная осветительными приборами в специализированных магазинах"]
[{"$f":"IF('Отрасли ОКВЭД'!$C1836<>\"\",'Отрасли ОКВЭД'!$C1836,'Отрасли ОКВЭД'!$B1836)","v":"47.59.4"},"G","47.59.4","Торговля розничная изделиями из дерева, пробки и плетеными изделиями в специализированных магазинах"]
[{"$f":"IF('Отрасли ОКВЭД'!$C1837<>\"\",'Отрасли ОКВЭД'!$C1837,'Отрасли ОКВЭД'!$B1837)","v":"47.59.5"},"G","47.59.5","Торговля розничная музыкальными инструментами и нотными изданиями в специализированных магазинах"]
[{"$f":"IF('Отрасли ОКВЭД'!$C1838<>\"\",'Отрасли ОКВЭД'!$C1838,'Отрасли ОКВЭД'!$B1838)","v":"47.59.6"},"G","47.59.6","Торговля розничная неэлектрическими бытовыми приборами в специализированных магазинах"]
[{"$f":"IF('Отрасли ОКВЭД'!$C1839<>\"\",'Отрасли ОКВЭД'!$C1839,'Отрасли ОКВЭД'!$B1839)","v":"47.59.7"},"G","47.59.7","Торговля розничная электрическими системами охранной сигнализации, такими как запорные устройства, сейфы и хранилища"]
[{"$f":"IF('Отрасли ОКВЭД'!$C1840<>\"\",'Отрасли ОКВЭД'!$C1840,'Отрасли ОКВЭД'!$B1840)","v":"47.59.9"},"G","47.59.9","Торговля розничная бытовыми изделиями и приборами, не включенными в другие группировки, в специализированных магазинах"]
[{"$f":"IF('Отрасли ОКВЭД'!$C1841<>\"\",'Отрасли ОКВЭД'!$C1841,'Отрасли ОКВЭД'!$B1841)","v":"47.6"},"G","47.6","Торговля розничная товарами культурно-развлекательного назначения в специализированных магазинах"]
[{"$f":"IF('Отрасли ОКВЭД'!$C1842<>\"\",'Отрасли ОКВЭД'!$C1842,'Отрасли ОКВЭД'!$B1842)","v":"47.61"},"G","47.61","Торговля розничная книгами в специализированных магазинах"]
[{"$f":"IF('Отрасли ОКВЭД'!$C1843<>\"\",'Отрасли ОКВЭД'!$C1843,'Отрасли ОКВЭД'!$B1843)","v":"47.62"},"G","47.62","Торговля розничная газетами и канцелярскими товарами в специализированных магазинах"]
[{"$f":"IF('Отрасли ОКВЭД'!$C1844<>\"\",'Отрасли ОКВЭД'!$C1844,'Отрасли ОКВЭД'!$B1844)","v":"47.62.1"},"G","47.62.1","Торговля розничная газетами и журналами в специализированных магазинах"]
[{"$f":"IF('Отрасли ОКВЭД'!$C1845<>\"\",'Отрасли ОКВЭД'!$C1845,'Отрасли ОКВЭД'!$B1845)","v":"47.62.2"},"G","47.62.2","Торговля розничная писчебумажными и канцелярскими товарами в специализированных магазинах"]
[{"$f":"IF('Отрасли ОКВЭД'!$C1846<>\"\",'Отрасли ОКВЭД'!$C1846,'Отрасли ОКВЭД'!$B1846)","v":"47.63"},"G","47.63","Торговля розничная музыкальными и видеозаписями в специализированных магазинах"]
[{"$f":"IF('Отрасли ОКВЭД'!$C1847<>\"\",'Отрасли ОКВЭД'!$C1847,'Отрасли ОКВЭД'!$B1847)","v":"47.63.1"},"G","47.63.1","Торговля розничная музыкальными записями, аудиолентами, компакт-дисками и кассетами в специализированных магазинах"]
[{"$f":"IF('Отрасли ОКВЭД'!$C1848<>\"\",'Отрасли ОКВЭД'!$C1848,'Отрасли ОКВЭД'!$B1848)","v":"47.63.2"},"G","47.63.2","Торговля розничная лентами и дисками без записей в специализированных магазинах"]
[{"$f":"IF('Отрасли ОКВЭД'!$C1849<>\"\",'Отрасли ОКВЭД'!$C1849,'Отрасли ОКВЭД'!$B1849)","v":"47.64"},"G","47.64","Торговля розничная спортивным оборудованием и спортивными товарами в специализированных магазинах"]
[{"$f":"IF('Отрасли ОКВЭД'!$C1850<>\"\",'Отрасли ОКВЭД'!$C1850,'Отрасли ОКВЭД'!$B1850)","v":"47.64.1"},"G","47.64.1","Торговля розничная спортивным оборудованием и спортивными товарами в специализированных магазинах"]
[{"$f":"IF('Отрасли ОКВЭД'!$C1851<>\"\",'Отрасли ОКВЭД'!$C1851,'Отрасли ОКВЭД'!$B1851)","v":"47.64.2"},"G","47.64.2","Торговля розничная рыболовными принадлежностями в специализированных магазинах"]
[{"$f":"IF('Отрасли ОКВЭД'!$C1852<>\"\",'Отрасли ОКВЭД'!$C1852,'Отрасли ОКВЭД'!$B1852)","v":"47.64.3"},"G","47.64.3","Торговля розничная туристическим снаряжением в специализированных магазинах"]
[{"$f":"IF('Отрасли ОКВЭД'!$C1853<>\"\",'Отрасли ОКВЭД'!$C1853,'Отрасли ОКВЭД'!$B1853)","v":"47.64.4"},"G","47.64.4","Торговля розничная лодками в специализированных магазинах"]
[{"$f":"IF('Отрасли ОКВЭД'!$C1854<>\"\",'Отрасли ОКВЭД'!$C1854,'Отрасли ОКВЭД'!$B1854)","v":"47.64.5"},"G","47.64.5","Торговля розничная велосипедами в специализированных магазинах"]
[{"$f":"IF('Отрасли ОКВЭД'!$C1855<>\"\",'Отрасли ОКВЭД'!$C1855,'Отрасли ОКВЭД'!$B1855)","v":"47.65"},"G","47.65","Торговля розничная играми и игрушками в специализированных магазинах"]
[{"$f":"IF('Отрасли ОКВЭД'!$C1856<>\"\",'Отрасли ОКВЭД'!$C1856,'Отрасли ОКВЭД'!$B1856)","v":"47.7"},"G","47.7","Торговля розничная прочими товарами в специализированных магазинах"]
[{"$f":"IF('Отрасли ОКВЭД'!$C1857<>\"\",'Отрасли ОКВЭД'!$C1857,'Отрасли ОКВЭД'!$B1857)","v":"47.71"},"G","47.71","Торговля розничная одеждой в специализированных магазинах"]
[{"$f":"IF('Отрасли ОКВЭД'!$C1858<>\"\",'Отрасли ОКВЭД'!$C1858,'Отрасли ОКВЭД'!$B1858)","v":"47.71.1"},"G","47.71.1","Торговля розничная мужской, женской и детской одеждой в специализированных магазинах"]
[{"$f":"IF('Отрасли ОКВЭД'!$C1859<>\"\",'Отрасли ОКВЭД'!$C1859,'Отрасли ОКВЭД'!$B1859)","v":"47.71.2"},"G","47.71.2","Торговля розничная нательным бельем в специализированных магазинах"]
[{"$f":"IF('Отрасли ОКВЭД'!$C1860<>\"\",'Отрасли ОКВЭД'!$C1860,'Отрасли ОКВЭД'!$B1860)","v":"47.71.3"},"G","47.71.3","Торговля розничная изделиями из меха в специализированных магазинах"]
[{"$f":"IF('Отрасли ОКВЭД'!$C1861<>\"\",'Отрасли ОКВЭД'!$C1861,'Отрасли ОКВЭД'!$B1861)","v":"47.71.4"},"G","47.71.4","Торговля розничная одеждой из кожи в специализированных магазинах"]
[{"$f":"IF('Отрасли ОКВЭД'!$C1862<>\"\",'Отрасли ОКВЭД'!$C1862,'Отрасли ОКВЭД'!$B1862)","v":"47.71.5"},"G","47.71.5","Торговля розничная спортивной одеждой в специализированных магазинах"]
[{"$f":"IF('Отрасли ОКВЭД'!$C1863<>\"\",'Отрасли ОКВЭД'!$C1863,'Отрасли ОКВЭД'!$B1863)","v":"47.71.6"},"G","47.71.6","Торговля розничная чулочно-носочными изделиями в специализированных магазинах"]
[{"$f":"IF('Отрасли ОКВЭД'!$C1864<>\"\",'Отрасли ОКВЭД'!$C1864,'Отрасли ОКВЭД'!$B1864)","v":"47.71.7"},"G","47.71.7","Торговля розничная головными уборами в специализированных магазинах"]
[{"$f":"IF('Отрасли ОКВЭД'!$C1865<>\"\",'Отрасли ОКВЭД'!$C1865,'Отрасли ОКВЭД'!$B1865)","v":"47.71.8"},"G","47.71.8","Торговля розничная аксессуарами одежды (перчатками, галстуками, шарфами, ремнями, подтяжками и т. п.) в специализированных магазинах"]
[{"$f":"IF('Отрасли ОКВЭД'!$C1866<>\"\",'Отрасли ОКВЭД'!$C1866,'Отрасли ОКВЭД'!$B1866)","v":"47.72"},"G","47.72","Торговля розничная обувью и изделиями из кожи в специализированных магазинах"]
[{"$f":"IF('Отрасли ОКВЭД'!$C1867<>\"\",'Отрасли ОКВЭД'!$C1867,'Отрасли ОКВЭД'!$B1867)","v":"47.72.1"},"G","47.72.1","Торговля розничная обувью в специализированных магазинах"]
[{"$f":"IF('Отрасли ОКВЭД'!$C1868<>\"\",'Отрасли ОКВЭД'!$C1868,'Отрасли ОКВЭД'!$B1868)","v":"47.72.2"},"G","47.72.2","Торговля розничная изделиями из кожи и дорожными принадлежностями в специализированных магазинах"]
[{"$f":"IF('Отрасли ОКВЭД'!$C1869<>\"\",'Отрасли ОКВЭД'!$C1869,'Отрасли ОКВЭД'!$B1869)","v":"47.73"},"G","47.73","Торговля розничная лекарственными средствами в специализированных магазинах (аптеках)"]
[{"$f":"IF('Отрасли ОКВЭД'!$C1870<>\"\",'Отрасли ОКВЭД'!$C1870,'Отрасли ОКВЭД'!$B1870)","v":"47.74"},"G","47.74","Торговля розничная изделиями, применяемыми в медицинских целях, ортопедическими изделиями в специализированных магазинах"]
[{"$f":"IF('Отрасли ОКВЭД'!$C1871<>\"\",'Отрасли ОКВЭД'!$C1871,'Отрасли ОКВЭД'!$B1871)","v":"47.74.1"},"G","47.74.1","Торговля розничная изделиями, применяемыми в медицинских целях, в специализированных магазинах"]
[{"$f":"IF('Отрасли ОКВЭД'!$C1872<>\"\",'Отрасли ОКВЭД'!$C1872,'Отрасли ОКВЭД'!$B1872)","v":"47.74.2"},"G","47.74.2","Торговля розничная ортопедическими изделиями в специализированных магазинах"]
[{"$f":"IF('Отрасли ОКВЭД'!$C1873<>\"\",'Отрасли ОКВЭД'!$C1873,'Отрасли ОКВЭД'!$B1873)","v":"47.75"},"G","47.75","Торговля розничная косметическими и товарами личной гигиены в специализированных магазинах"]
[{"$f":"IF('Отрасли ОКВЭД'!$C1874<>\"\",'Отрасли ОКВЭД'!$C1874,'Отрасли ОКВЭД'!$B1874)","v":"47.75.1"},"G","47.75.1","Торговля розничная косметическими и парфюмерными товарами, кроме мыла в специализированных магазинах"]
[{"$f":"IF('Отрасли ОКВЭД'!$C1875<>\"\",'Отрасли ОКВЭД'!$C1875,'Отрасли ОКВЭД'!$B1875)","v":"47.75.2"},"G","47.75.2","Торговля розничная туалетным и хозяйственным мылом в специализированных магазинах"]
[{"$f":"IF('Отрасли ОКВЭД'!$C1876<>\"\",'Отрасли ОКВЭД'!$C1876,'Отрасли ОКВЭД'!$B1876)","v":"47.75.3"},"G","47.75.3","Торговля розничная предметами личной гигиены в специализированных магазинах"]
[{"$f":"IF('Отрасли ОКВЭД'!$C1877<>\"\",'Отрасли ОКВЭД'!$C1877,'Отрасли ОКВЭД'!$B1877)","v":"47.76"},"G","47.76","Торговля розничная цветами и другими растениями, семенами, удобрениями, домашними животными и кормами для домашних животных в специализированных магазинах"]
[{"$f":"IF('Отрасли ОКВЭД'!$C1878<>\"\",'Отрасли ОКВЭД'!$C1878,'Отрасли ОКВЭД'!$B1878)","v":"47.76.1"},"G","47.76.1","Торговля розничная цветами и другими растениями, семенами и удобрениями в специализированных магазинах"]
[{"$f":"IF('Отрасли ОКВЭД'!$C1879<>\"\",'Отрасли ОКВЭД'!$C1879,'Отрасли ОКВЭД'!$B1879)","v":"47.76.2"},"G","47.76.2","Торговля розничная домашними животными и кормами для домашних животных в специализированных магазинах"]
[{"$f":"IF('Отрасли ОКВЭД'!$C1880<>\"\",'Отрасли ОКВЭД'!$C1880,'Отрасли ОКВЭД'!$B1880)","v":"47.77"},"G","47.77","Торговля розничная часами и ювелирными изделиями в специализированных магазинах"]
[{"$f":"IF('Отрасли ОКВЭД'!$C1881<>\"\",'Отрасли ОКВЭД'!$C1881,'Отрасли ОКВЭД'!$B1881)","v":"47.77.1"},"G","47.77.1","Торговля розничная часами в специализированных магазинах"]
[{"$f":"IF('Отрасли ОКВЭД'!$C1882<>\"\",'Отрасли ОКВЭД'!$C1882,'Отрасли ОКВЭД'!$B1882)","v":"47.77.2"},"G","47.77.2","Торговля розничная ювелирными изделиями в специализированных магазинах"]
[{"$f":"IF('Отрасли ОКВЭД'!$C1883<>\"\",'Отрасли ОКВЭД'!$C1883,'Отрасли ОКВЭД'!$B1883)","v":"47.78"},"G","47.78","Торговля розничная прочая в специализированных магазинах"]
[{"$f":"IF('Отрасли ОКВЭД'!$C1884<>\"\",'Отрасли ОКВЭД'!$C1884,'Отрасли ОКВЭД'!$B1884)","v":"47.78.1"},"G","47.78.1","Торговля розничная фотоаппаратурой, оптическими приборами и средствами измерений, кроме очков, в специализированных магазинах"]
[{"$f":"IF('Отрасли ОКВЭД'!$C1885<>\"\",'Отрасли ОКВЭД'!$C1885,'Отрасли ОКВЭД'!$B1885)","v":"47.78.2"},"G","47.78.2","Торговля розничная очками, включая сборку и ремонт очков в специализированных магазинах"]
[{"$f":"IF('Отрасли ОКВЭД'!$C1886<>\"\",'Отрасли ОКВЭД'!$C1886,'Отрасли ОКВЭД'!$B1886)","v":"47.78.21"},"G","47.78.21","Торговля розничная очками в специализированных магазинах"]
[{"$f":"IF('Отрасли ОКВЭД'!$C1887<>\"\",'Отрасли ОКВЭД'!$C1887,'Отрасли ОКВЭД'!$B1887)","v":"47.78.22"},"G","47.78.22","Сборка и ремонт очков в специализированных магазинах"]
[{"$f":"IF('Отрасли ОКВЭД'!$C1888<>\"\",'Отрасли ОКВЭД'!$C1888,'Отрасли ОКВЭД'!$B1888)","v":"47.78.3"},"G","47.78.3","Торговля розничная сувенирами, изделиями народных художественных промыслов"]
[{"$f":"IF('Отрасли ОКВЭД'!$C1889<>\"\",'Отрасли ОКВЭД'!$C1889,'Отрасли ОКВЭД'!$B1889)","v":"47.78.4"},"G","47.78.4","Торговля розничная предметами культового и религиозного назначения, похоронными принадлежностями в специализированных магазинах"]
[{"$f":"IF('Отрасли ОКВЭД'!$C1890<>\"\",'Отрасли ОКВЭД'!$C1890,'Отрасли ОКВЭД'!$B1890)","v":"47.78.5"},"G","47.78.5","Деятельность коммерческих художественных галерей, торговля розничная произведениями искусства в коммерческих художественных галереях"]
[{"$f":"IF('Отрасли ОКВЭД'!$C1891<>\"\",'Отрасли ОКВЭД'!$C1891,'Отрасли ОКВЭД'!$B1891)","v":"47.78.6"},"G","47.78.6","Торговля розничная бытовым жидким котельным топливом, газом в баллонах, углем, древесным топливом, топливным торфом в специализированных магазинах"]
[{"$f":"IF('Отрасли ОКВЭД'!$C1892<>\"\",'Отрасли ОКВЭД'!$C1892,'Отрасли ОКВЭД'!$B1892)","v":"47.78.61"},"G","47.78.61","Торговля розничная бытовым жидким котельным топливом, углем, древесным топливом, топливным торфом в специализированных магазинах"]
[{"$f":"IF('Отрасли ОКВЭД'!$C1893<>\"\",'Отрасли ОКВЭД'!$C1893,'Отрасли ОКВЭД'!$B1893)","v":"47.78.62"},"G","47.78.62","Торговля розничная газом в баллонах в специализированных магазинах по регулируемым государствам ценам (тарифам)"]
[{"$f":"IF('Отрасли ОКВЭД'!$C1894<>\"\",'Отрасли ОКВЭД'!$C1894,'Отрасли ОКВЭД'!$B1894)","v":"47.78.63"},"G","47.78.63","Торговля розничная газом в баллонах в специализированных магазинах по нерегулируемым государством ценам (тарифам)"]
[{"$f":"IF('Отрасли ОКВЭД'!$C1895<>\"\",'Отрасли ОКВЭД'!$C1895,'Отрасли ОКВЭД'!$B1895)","v":"47.78.7"},"G","47.78.7","Торговля розничная оружием и боеприпасами в специализированных магазинах"]
[{"$f":"IF('Отрасли ОКВЭД'!$C1896<>\"\",'Отрасли ОКВЭД'!$C1896,'Отрасли ОКВЭД'!$B1896)","v":"47.78.8"},"G","47.78.8","Торговля розничная филателистическими и нумизматическими товарами в специализированных магазинах"]
[{"$f":"IF('Отрасли ОКВЭД'!$C1897<>\"\",'Отрасли ОКВЭД'!$C1897,'Отрасли ОКВЭД'!$B1897)","v":"47.78.9"},"G","47.78.9","Торговля розничная непродовольственными товарами, не включенными в другие группировки, в специализированных магазинах"]
[{"$f":"IF('Отрасли ОКВЭД'!$C1898<>\"\",'Отрасли ОКВЭД'!$C1898,'Отрасли ОКВЭД'!$B1898)","v":"47.79"},"G","47.79","Торговля розничная бывшими в употреблении товарами в магазинах"]
[{"$f":"IF('Отрасли ОКВЭД'!$C1899<>\"\",'Отрасли ОКВЭД'!$C1899,'Отрасли ОКВЭД'!$B1899)","v":"47.79.1"},"G","47.79.1","Торговля розничная предметами антиквариата"]
[{"$f":"IF('Отрасли ОКВЭД'!$C1900<>\"\",'Отрасли ОКВЭД'!$C1900,'Отрасли ОКВЭД'!$B1900)","v":"47.79.2"},"G","47.79.2","Торговля розничная букинистическими книгами"]
[{"$f":"IF('Отрасли ОКВЭД'!$C1901<>\"\",'Отрасли ОКВЭД'!$C1901,'Отрасли ОКВЭД'!$B1901)","v":"47.79.3"},"G","47.79.3","Торговля розничная прочими бывшими в употреблении товарами"]
[{"$f":"IF('Отрасли ОКВЭД'!$C1902<>\"\",'Отрасли ОКВЭД'!$C1902,'Отрасли ОКВЭД'!$B1902)","v":"47.79.4"},"G","47.79.4","Деятельность аукционных домов по розничной торговле"]
[{"$f":"IF('Отрасли ОКВЭД'!$C1903<>\"\",'Отрасли ОКВЭД'!$C1903,'Отрасли ОКВЭД'!$B1903)","v":"47.8"},"G","47.8","Торговля розничная в нестационарных торговых объектах и на рынках"]
[{"$f":"IF('Отрасли ОКВЭД'!$C1904<>\"\",'Отрасли ОКВЭД'!$C1904,'Отрасли ОКВЭД'!$B1904)","v":"47.81"},"G","47.81","Торговля розничная в нестационарных торговых объектах и на рынках пищевыми продуктами, напитками и табачной продукцией"]
[{"$f":"IF('Отрасли ОКВЭД'!$C1905<>\"\",'Отрасли ОКВЭД'!$C1905,'Отрасли ОКВЭД'!$B1905)","v":"47.81.1"},"G","47.81.1","Торговля розничная в нестационарных торговых объектах напитками и табачной продукцией"]
[{"$f":"IF('Отрасли ОКВЭД'!$C1906<>\"\",'Отрасли ОКВЭД'!$C1906,'Отрасли ОКВЭД'!$B1906)","v":"47.81.2"},"G","47.81.2","Торговля розничная на рынках пищевыми продуктами, напитками и табачной продукцией"]
[{"$f":"IF('Отрасли ОКВЭД'!$C1907<>\"\",'Отрасли ОКВЭД'!$C1907,'Отрасли ОКВЭД'!$B1907)","v":"47.82"},"G","47.82","Торговля розничная в нестационарных торговых объектах и на рынках текстилем, одеждой и обувью"]
[{"$f":"IF('Отрасли ОКВЭД'!$C1908<>\"\",'Отрасли ОКВЭД'!$C1908,'Отрасли ОКВЭД'!$B1908)","v":"47.82.1"},"G","47.82.1","Торговля розничная в нестационарных торговых объектах текстилем, одеждой и обувью"]
[{"$f":"IF('Отрасли ОКВЭД'!$C1909<>\"\",'Отрасли ОКВЭД'!$C1909,'Отрасли ОКВЭД'!$B1909)","v":"47.82.2"},"G","47.82.2","Торговля розничная на рынках текстилем, одеждой и обувью"]
[{"$f":"IF('Отрасли ОКВЭД'!$C1910<>\"\",'Отрасли ОКВЭД'!$C1910,'Отрасли ОКВЭД'!$B1910)","v":"47.89"},"G","47.89","Торговля розничная в нестационарных торговых объектах и на рынках прочими товарами"]
[{"$f":"IF('Отрасли ОКВЭД'!$C1911<>\"\",'Отрасли ОКВЭД'!$C1911,'Отрасли ОКВЭД'!$B1911)","v":"47.89.1"},"G","47.89.1","Торговля розничная в нестационарных торговых объектах прочими товарами"]
[{"$f":"IF('Отрасли ОКВЭД'!$C1912<>\"\",'Отрасли ОКВЭД'!$C1912,'Отрасли ОКВЭД'!$B1912)","v":"47.89.2"},"G","47.89.2","Торговля розничная на рынках прочими товарами"]
[{"$f":"IF('Отрасли ОКВЭД'!$C1913<>\"\",'Отрасли ОКВЭД'!$C1913,'Отрасли ОКВЭД'!$B1913)","v":"47.9"},"G","47.9","Торговля розничная вне магазинов, палаток, рынков"]
[{"$f":"IF('Отрасли ОКВЭД'!$C1914<>\"\",'Отрасли ОКВЭД'!$C1914,'Отрасли ОКВЭД'!$B1914)","v":"47.91"},"G","47.91","Торговля розничная по почте или по информационно-коммуникационной сети Интернет"]
[{"$f":"IF('Отрасли ОКВЭД'!$C1915<>\"\",'Отрасли ОКВЭД'!$C1915,'Отрасли ОКВЭД'!$B1915)","v":"47.91.1"},"G","47.91.1","Торговля розничная по почте"]
[{"$f":"IF('Отрасли ОКВЭД'!$C1916<>\"\",'Отрасли ОКВЭД'!$C1916,'Отрасли ОКВЭД'!$B1916)","v":"47.91.2"},"G","47.91.2","Торговля розничная, осуществляемая непосредственно при помощи информационно-коммуникационной сети Интернет"]
[{"$f":"IF('Отрасли ОКВЭД'!$C1917<>\"\",'Отрасли ОКВЭД'!$C1917,'Отрасли ОКВЭД'!$B1917)","v":"47.91.3"},"G","47.91.3","Торговля розничная через Интернет-аукционы"]
[{"$f":"IF('Отрасли ОКВЭД'!$C1918<>\"\",'Отрасли ОКВЭД'!$C1918,'Отрасли ОКВЭД'!$B1918)","v":"47.91.4"},"G","47.91.4","Торговля розничная, осуществляемая непосредственно при помощи телевидения, радио, телефона"]
[{"$f":"IF('Отрасли ОКВЭД'!$C1919<>\"\",'Отрасли ОКВЭД'!$C1919,'Отрасли ОКВЭД'!$B1919)","v":"47.99"},"G","47.99","Торговля розничная прочая вне магазинов, палаток, рынков"]
[{"$f":"IF('Отрасли ОКВЭД'!$C1920<>\"\",'Отрасли ОКВЭД'!$C1920,'Отрасли ОКВЭД'!$B1920)","v":"47.99.1"},"G","47.99.1","Деятельность по осуществлению прямых продаж или продаж торговыми агентами с доставкой"]
[{"$f":"IF('Отрасли ОКВЭД'!$C1921<>\"\",'Отрасли ОКВЭД'!$C1921,'Отрасли ОКВЭД'!$B1921)","v":"47.99.2"},"G","47.99.2","Деятельность по осуществлению торговли через автоматы"]
[{"$f":"IF('Отрасли ОКВЭД'!$C1922<>\"\",'Отрасли ОКВЭД'!$C1922,'Отрасли ОКВЭД'!$B1922)","v":"47.99.3"},"G","47.99.3","Деятельность по осуществлению прямых продаж топлива с доставкой по адресу клиента"]
[{"$f":"IF('Отрасли ОКВЭД'!$C1923<>\"\",'Отрасли ОКВЭД'!$C1923,'Отрасли ОКВЭД'!$B1923)","v":"47.99.4"},"G","47.99.4","Деятельность аукционов по розничной торговле вне магазинов, за исключением продаж через Интернет-аукционы"]
[{"$f":"IF('Отрасли ОКВЭД'!$C1924<>\"\",'Отрасли ОКВЭД'!$C1924,'Отрасли ОКВЭД'!$B1924)","v":"47.99.5"},"G","47.99.5","Деятельность по осуществлению розничных продаж комиссионными агентами вне магазинов"]
[{"$f":"IF('Отрасли ОКВЭД'!$C1925<>\"\",'Отрасли ОКВЭД'!$C1925,'Отрасли ОКВЭД'!$B1925)","v":"H"},"H","","ТРАНСПОРТИРОВКА И ХРАНЕНИЕ"]
[{"$f":"IF('Отрасли ОКВЭД'!$C1926<>\"\",'Отрасли ОКВЭД'!$C1926,'Отрасли ОКВЭД'!$B1926)","v":"49"},"H","49","Деятельность сухопутного и трубопроводного транспорта"]
[{"$f":"IF('Отрасли ОКВЭД'!$C1927<>\"\",'Отрасли ОКВЭД'!$C1927,'Отрасли ОКВЭД'!$B1927)","v":"49.1"},"H","49.1","Деятельность железнодорожного транспорта: междугородные и международные пассажирские перевозки"]
[{"$f":"IF('Отрасли ОКВЭД'!$C1928<>\"\",'Отрасли ОКВЭД'!$C1928,'Отрасли ОКВЭД'!$B1928)","v":"49.10"},"H","49.10","Деятельность железнодорожного транспорта: междугородные и международные пассажирские перевозки"]
[{"$f":"IF('Отрасли ОКВЭД'!$C1929<>\"\",'Отрасли ОКВЭД'!$C1929,'Отрасли ОКВЭД'!$B1929)","v":"49.10.1"},"H","49.10.1","Перевозка пассажиров железнодорожным транспортом в междугородном сообщении"]
[{"$f":"IF('Отрасли ОКВЭД'!$C1930<>\"\",'Отрасли ОКВЭД'!$C1930,'Отрасли ОКВЭД'!$B1930)","v":"49.10.11"},"H","49.10.11","Перевозка пассажиров железнодорожным транспортом в междугородном сообщении в регулируемом секторе"]
[{"$f":"IF('Отрасли ОКВЭД'!$C1931<>\"\",'Отрасли ОКВЭД'!$C1931,'Отрасли ОКВЭД'!$B1931)","v":"49.10.12"},"H","49.10.12","Перевозка пассажиров железнодорожным транспортом в междугородном сообщении в нерегулируемом секторе"]
[{"$f":"IF('Отрасли ОКВЭД'!$C1932<>\"\",'Отрасли ОКВЭД'!$C1932,'Отрасли ОКВЭД'!$B1932)","v":"49.10.2"},"H","49.10.2","Перевозка пассажиров железнодорожным транспортом в международном сообщении"]
[{"$f":"IF('Отрасли ОКВЭД'!$C1933<>\"\",'Отрасли ОКВЭД'!$C1933,'Отрасли ОКВЭД'!$B1933)","v":"49.2"},"H","49.2","Деятельность железнодорожного транспорта: грузовые перевозки"]
[{"$f":"IF('Отрасли ОКВЭД'!$C1934<>\"\",'Отрасли ОКВЭД'!$C1934,'Отрасли ОКВЭД'!$B1934)","v":"49.20"},"H","49.20","Деятельность железнодорожного транспорта: грузовые перевозки"]
[{"$f":"IF('Отрасли ОКВЭД'!$C1935<>\"\",'Отрасли ОКВЭД'!$C1935,'Отрасли ОКВЭД'!$B1935)","v":"49.20.1"},"H","49.20.1","Перевозка опасных грузов"]
[{"$f":"IF('Отрасли ОКВЭД'!$C1936<>\"\",'Отрасли ОКВЭД'!$C1936,'Отрасли ОКВЭД'!$B1936)","v":"49.20.9"},"H","49.20.9","Перевозка прочих грузов"]
[{"$f":"IF('Отрасли ОКВЭД'!$C1937<>\"\",'Отрасли ОКВЭД'!$C1937,'Отрасли ОКВЭД'!$B1937)","v":"49.3"},"H","49.3","Деятельность прочего сухопутного пассажирского транспорта"]
[{"$f":"IF('Отрасли ОКВЭД'!$C1938<>\"\",'Отрасли ОКВЭД'!$C1938,'Отрасли ОКВЭД'!$B1938)","v":"49.31"},"H","49.31","Деятельность сухопутного пассажирского транспорта: внутригородские и пригородные перевозки пассажиров"]
[{"$f":"IF('Отрасли ОКВЭД'!$C1939<>\"\",'Отрасли ОКВЭД'!$C1939,'Отрасли ОКВЭД'!$B1939)","v":"49.31.1"},"H","49.31.1","Перевозка пассажиров железнодорожным транспортом в пригородном сообщении"]
[{"$f":"IF('Отрасли ОКВЭД'!$C1940<>\"\",'Отрасли ОКВЭД'!$C1940,'Отрасли ОКВЭД'!$B1940)","v":"49.31.11"},"H","49.31.11","Перевозка пассажиров железнодорожным транспортом в пригородном сообщении в регулируемом секторе"]
[{"$f":"IF('Отрасли ОКВЭД'!$C1941<>\"\",'Отрасли ОКВЭД'!$C1941,'Отрасли ОКВЭД'!$B1941)","v":"49.31.12"},"H","49.31.12","Перевозка пассажиров железнодорожным транспортом в пригородном сообщении в нерегулируемом секторе"]
[{"$f":"IF('Отрасли ОКВЭД'!$C1942<>\"\",'Отрасли ОКВЭД'!$C1942,'Отрасли ОКВЭД'!$B1942)","v":"49.31.2"},"H","49.31.2","Деятельность прочего сухопутного транспорта по регулярным внутригородским и пригородным пассажирским перевозкам"]
[{"$f":"IF('Отрасли ОКВЭД'!$C1943<>\"\",'Отрасли ОКВЭД'!$C1943,'Отрасли ОКВЭД'!$B1943)","v":"49.31.21"},"H","49.31.21","Деятельность автобусного транспорта по регулярным внутригородским и пригородным пассажирским перевозкам"]
[{"$f":"IF('Отрасли ОКВЭД'!$C1944<>\"\",'Отрасли ОКВЭД'!$C1944,'Отрасли ОКВЭД'!$B1944)","v":"49.31.22"},"H","49.31.22","Деятельность троллейбусного транспорта по регулярным внутригородским и пригородным пассажирским перевозкам"]
[{"$f":"IF('Отрасли ОКВЭД'!$C1945<>\"\",'Отрасли ОКВЭД'!$C1945,'Отрасли ОКВЭД'!$B1945)","v":"49.31.23"},"H","49.31.23","Деятельность трамвайного транспорта по регулярным внутригородским и пригородным пассажирским перевозкам"]
[{"$f":"IF('Отрасли ОКВЭД'!$C1946<>\"\",'Отрасли ОКВЭД'!$C1946,'Отрасли ОКВЭД'!$B1946)","v":"49.31.24"},"H","49.31.24","Деятельность метро по перевозке пассажиров"]
[{"$f":"IF('Отрасли ОКВЭД'!$C1947<>\"\",'Отрасли ОКВЭД'!$C1947,'Отрасли ОКВЭД'!$B1947)","v":"49.31.25"},"H","49.31.25","Перевозка пассажиров фуникулерами, подвесными канатными дорогами и подъемниками, являющимися частью городской или пригородной транспортной системы"]
[{"$f":"IF('Отрасли ОКВЭД'!$C1948<>\"\",'Отрасли ОКВЭД'!$C1948,'Отрасли ОКВЭД'!$B1948)","v":"49.32"},"H","49.32","Деятельность такси"]
[{"$f":"IF('Отрасли ОКВЭД'!$C1949<>\"\",'Отрасли ОКВЭД'!$C1949,'Отрасли ОКВЭД'!$B1949)","v":"49.39"},"H","49.39","Деятельность прочего сухопутного пассажирского транспорта, не включенная в другие группировки"]
[{"$f":"IF('Отрасли ОКВЭД'!$C1950<>\"\",'Отрасли ОКВЭД'!$C1950,'Отрасли ОКВЭД'!$B1950)","v":"49.39.1"},"H","49.39.1","Перевозки междугородные и специальные сухопутным пассажирским транспортом по расписанию"]
[{"$f":"IF('Отрасли ОКВЭД'!$C1951<>\"\",'Отрасли ОКВЭД'!$C1951,'Отрасли ОКВЭД'!$B1951)","v":"49.39.11"},"H","49.39.11","Перевозки автомобильным (автобусным) пассажирским транспортом в междугородном сообщении по расписанию"]
[{"$f":"IF('Отрасли ОКВЭД'!$C1952<>\"\",'Отрасли ОКВЭД'!$C1952,'Отрасли ОКВЭД'!$B1952)","v":"49.39.12"},"H","49.39.12","Перевозки автомобильным (автобусным) пассажирским транспортом в международном сообщении по расписанию"]
[{"$f":"IF('Отрасли ОКВЭД'!$C1953<>\"\",'Отрасли ОКВЭД'!$C1953,'Отрасли ОКВЭД'!$B1953)","v":"49.39.13"},"H","49.39.13","Перевозки специальные автомобильным (автобусным) пассажирским транспортом по расписанию"]
[{"$f":"IF('Отрасли ОКВЭД'!$C1954<>\"\",'Отрасли ОКВЭД'!$C1954,'Отрасли ОКВЭД'!$B1954)","v":"49.39.2"},"H","49.39.2","Перевозка пассажиров фуникулерами, подвесными канатными дорогами и лыжными подъемниками, не являющимися частью внутригородской, пригородной или городской и пригородной транспортных систем"]
[{"$f":"IF('Отрасли ОКВЭД'!$C1955<>\"\",'Отрасли ОКВЭД'!$C1955,'Отрасли ОКВЭД'!$B1955)","v":"49.39.3"},"H","49.39.3","Перевозки пассажиров сухопутным транспортом нерегулярные"]
[{"$f":"IF('Отрасли ОКВЭД'!$C1956<>\"\",'Отрасли ОКВЭД'!$C1956,'Отрасли ОКВЭД'!$B1956)","v":"49.39.31"},"H","49.39.31","Аренда городских и междугородных автобусов с водителем"]
[{"$f":"IF('Отрасли ОКВЭД'!$C1957<>\"\",'Отрасли ОКВЭД'!$C1957,'Отрасли ОКВЭД'!$B1957)","v":"49.39.32"},"H","49.39.32","Перевозка пассажиров автодорожными средствами для осмотра достопримечательностей"]
[{"$f":"IF('Отрасли ОКВЭД'!$C1958<>\"\",'Отрасли ОКВЭД'!$C1958,'Отрасли ОКВЭД'!$B1958)","v":"49.39.33"},"H","49.39.33","Перевозки чартерные нерегулярные на близкие расстояния городскими и междугородными автобусами"]
[{"$f":"IF('Отрасли ОКВЭД'!$C1959<>\"\",'Отрасли ОКВЭД'!$C1959,'Отрасли ОКВЭД'!$B1959)","v":"49.39.34"},"H","49.39.34","Перевозки чартерные нерегулярные на дальние расстояния городскими и междугородными автобусами"]
[{"$f":"IF('Отрасли ОКВЭД'!$C1960<>\"\",'Отрасли ОКВЭД'!$C1960,'Отрасли ОКВЭД'!$B1960)","v":"49.39.35"},"H","49.39.35","Перевозка пассажиров транспортными средствами, приводимыми в движение человеком или животными"]
[{"$f":"IF('Отрасли ОКВЭД'!$C1961<>\"\",'Отрасли ОКВЭД'!$C1961,'Отрасли ОКВЭД'!$B1961)","v":"49.39.39"},"H","49.39.39","Перевозки пассажиров сухопутным транспортом прочие, не включенные в другие группировки"]
[{"$f":"IF('Отрасли ОКВЭД'!$C1962<>\"\",'Отрасли ОКВЭД'!$C1962,'Отрасли ОКВЭД'!$B1962)","v":"49.4"},"H","49.4","Деятельность автомобильного грузового транспорта и услуги по перевозкам"]
[{"$f":"IF('Отрасли ОКВЭД'!$C1963<>\"\",'Отрасли ОКВЭД'!$C1963,'Отрасли ОКВЭД'!$B1963)","v":"49.41"},"H","49.41","Деятельность автомобильного грузового транспорта"]
[{"$f":"IF('Отрасли ОКВЭД'!$C1964<>\"\",'Отрасли ОКВЭД'!$C1964,'Отрасли ОКВЭД'!$B1964)","v":"49.41.1"},"H","49.41.1","Перевозка грузов специализированными автотранспортными средствами"]
[{"$f":"IF('Отрасли ОКВЭД'!$C1965<>\"\",'Отрасли ОКВЭД'!$C1965,'Отрасли ОКВЭД'!$B1965)","v":"49.41.2"},"H","49.41.2","Перевозка грузов неспециализированными автотранспортными средствами"]
[{"$f":"IF('Отрасли ОКВЭД'!$C1966<>\"\",'Отрасли ОКВЭД'!$C1966,'Отрасли ОКВЭД'!$B1966)","v":"49.41.3"},"H","49.41.3","Аренда грузового автомобильного транспорта с водителем"]
[{"$f":"IF('Отрасли ОКВЭД'!$C1967<>\"\",'Отрасли ОКВЭД'!$C1967,'Отрасли ОКВЭД'!$B1967)","v":"49.42"},"H","49.42","Предоставление услуг по перевозкам"]
[{"$f":"IF('Отрасли ОКВЭД'!$C1968<>\"\",'Отрасли ОКВЭД'!$C1968,'Отрасли ОКВЭД'!$B1968)","v":"49.5"},"H","49.5","Деятельность трубопроводного транспорта"]
[{"$f":"IF('Отрасли ОКВЭД'!$C1969<>\"\",'Отрасли ОКВЭД'!$C1969,'Отрасли ОКВЭД'!$B1969)","v":"49.50"},"H","49.50","Деятельность трубопроводного транспорта"]
[{"$f":"IF('Отрасли ОКВЭД'!$C1970<>\"\",'Отрасли ОКВЭД'!$C1970,'Отрасли ОКВЭД'!$B1970)","v":"49.50.1"},"H","49.50.1","Транспортирование по трубопроводам нефти и нефтепродуктов"]
[{"$f":"IF('Отрасли ОКВЭД'!$C1971<>\"\",'Отрасли ОКВЭД'!$C1971,'Отрасли ОКВЭД'!$B1971)","v":"49.50.11"},"H","49.50.11","Транспортирование по трубопроводам нефти"]
[{"$f":"IF('Отрасли ОКВЭД'!$C1972<>\"\",'Отрасли ОКВЭД'!$C1972,'Отрасли ОКВЭД'!$B1972)","v":"49.50.12"},"H","49.50.12","Транспортирование по трубопроводам нефтепродуктов"]
[{"$f":"IF('Отрасли ОКВЭД'!$C1973<>\"\",'Отрасли ОКВЭД'!$C1973,'Отрасли ОКВЭД'!$B1973)","v":"49.50.2"},"H","49.50.2","Транспортирование по трубопроводам газа и продуктов его переработки"]
[{"$f":"IF('Отрасли ОКВЭД'!$C1974<>\"\",'Отрасли ОКВЭД'!$C1974,'Отрасли ОКВЭД'!$B1974)","v":"49.50.21"},"H","49.50.21","Транспортирование по трубопроводам газа"]
[{"$f":"IF('Отрасли ОКВЭД'!$C1975<>\"\",'Отрасли ОКВЭД'!$C1975,'Отрасли ОКВЭД'!$B1975)","v":"49.50.22"},"H","49.50.22","Транспортирование по трубопроводам продуктов переработки газа"]
[{"$f":"IF('Отрасли ОКВЭД'!$C1976<>\"\",'Отрасли ОКВЭД'!$C1976,'Отрасли ОКВЭД'!$B1976)","v":"49.50.3"},"H","49.50.3","Транспортирование по трубопроводам прочих видов грузов"]
[{"$f":"IF('Отрасли ОКВЭД'!$C1977<>\"\",'Отрасли ОКВЭД'!$C1977,'Отрасли ОКВЭД'!$B1977)","v":"50"},"H","50","Деятельность водного транспорта"]
[{"$f":"IF('Отрасли ОКВЭД'!$C1978<>\"\",'Отрасли ОКВЭД'!$C1978,'Отрасли ОКВЭД'!$B1978)","v":"50.1"},"H","50.1","Деятельность морского пассажирского транспорта"]
[{"$f":"IF('Отрасли ОКВЭД'!$C1979<>\"\",'Отрасли ОКВЭД'!$C1979,'Отрасли ОКВЭД'!$B1979)","v":"50.10"},"H","50.10","Деятельность морского пассажирского транспорта"]
[{"$f":"IF('Отрасли ОКВЭД'!$C1980<>\"\",'Отрасли ОКВЭД'!$C1980,'Отрасли ОКВЭД'!$B1980)","v":"50.10.1"},"H","50.10.1","Перевозка пассажиров морскими судами заграничного плавания"]
[{"$f":"IF('Отрасли ОКВЭД'!$C1981<>\"\",'Отрасли ОКВЭД'!$C1981,'Отрасли ОКВЭД'!$B1981)","v":"50.10.11"},"H","50.10.11","Перевозка пассажиров морскими судами заграничного плавания, подчиняющимися расписанию"]
[{"$f":"IF('Отрасли ОКВЭД'!$C1982<>\"\",'Отрасли ОКВЭД'!$C1982,'Отрасли ОКВЭД'!$B1982)","v":"50.10.12"},"H","50.10.12","Перевозка пассажиров морскими судами заграничного плавания, не подчиняющимися расписанию"]
[{"$f":"IF('Отрасли ОКВЭД'!$C1983<>\"\",'Отрасли ОКВЭД'!$C1983,'Отрасли ОКВЭД'!$B1983)","v":"50.10.2"},"H","50.10.2","Перевозка пассажиров морскими судами каботажного плавания"]
[{"$f":"IF('Отрасли ОКВЭД'!$C1984<>\"\",'Отрасли ОКВЭД'!$C1984,'Отрасли ОКВЭД'!$B1984)","v":"50.10.21"},"H","50.10.21","Перевозка пассажиров морскими судами каботажного плавания, подчиняющимися расписанию"]
[{"$f":"IF('Отрасли ОКВЭД'!$C1985<>\"\",'Отрасли ОКВЭД'!$C1985,'Отрасли ОКВЭД'!$B1985)","v":"50.10.22"},"H","50.10.22","Перевозка пассажиров морскими судами каботажного плавания, не подчиняющимися расписанию"]
[{"$f":"IF('Отрасли ОКВЭД'!$C1986<>\"\",'Отрасли ОКВЭД'!$C1986,'Отрасли ОКВЭД'!$B1986)","v":"50.10.3"},"H","50.10.3","Аренда морских судов заграничного и каботажного плавания для перевозки пассажиров с экипажем"]
[{"$f":"IF('Отрасли ОКВЭД'!$C1987<>\"\",'Отрасли ОКВЭД'!$C1987,'Отрасли ОКВЭД'!$B1987)","v":"50.10.31"},"H","50.10.31","Аренда морских судов заграничного плавания для перевозки пассажиров с экипажем"]
[{"$f":"IF('Отрасли ОКВЭД'!$C1988<>\"\",'Отрасли ОКВЭД'!$C1988,'Отрасли ОКВЭД'!$B1988)","v":"50.10.32"},"H","50.10.32","Аренда морских судов каботажного плавания для перевозки пассажиров с экипажем"]
[{"$f":"IF('Отрасли ОКВЭД'!$C1989<>\"\",'Отрасли ОКВЭД'!$C1989,'Отрасли ОКВЭД'!$B1989)","v":"50.10.39"},"H","50.10.39","Аренда прочих морских судов для перевозки пассажиров с экипажем"]
[{"$f":"IF('Отрасли ОКВЭД'!$C1990<>\"\",'Отрасли ОКВЭД'!$C1990,'Отрасли ОКВЭД'!$B1990)","v":"50.2"},"H","50.2","Деятельность морского грузового транспорта"]
[{"$f":"IF('Отрасли ОКВЭД'!$C1991<>\"\",'Отрасли ОКВЭД'!$C1991,'Отрасли ОКВЭД'!$B1991)","v":"50.20"},"H","50.20","Деятельность морского грузового транспорта"]
[{"$f":"IF('Отрасли ОКВЭД'!$C1992<>\"\",'Отрасли ОКВЭД'!$C1992,'Отрасли ОКВЭД'!$B1992)","v":"50.20.1"},"H","50.20.1","Перевозка грузов морскими судами заграничного плавания"]
[{"$f":"IF('Отрасли ОКВЭД'!$C1993<>\"\",'Отрасли ОКВЭД'!$C1993,'Отрасли ОКВЭД'!$B1993)","v":"50.20.11"},"H","50.20.11","Перевозка замороженных или охлажденных грузов судами-рефрижераторами заграничного плавания"]
[{"$f":"IF('Отрасли ОКВЭД'!$C1994<>\"\",'Отрасли ОКВЭД'!$C1994,'Отрасли ОКВЭД'!$B1994)","v":"50.20.12"},"H","50.20.12","Перевозка сырой нефти морскими судами-танкерами заграничного плавания"]
[{"$f":"IF('Отрасли ОКВЭД'!$C1995<>\"\",'Отрасли ОКВЭД'!$C1995,'Отрасли ОКВЭД'!$B1995)","v":"50.20.13"},"H","50.20.13","Перевозка прочих жидкостей или газов морскими судами-танкерами заграничного плавания"]
[{"$f":"IF('Отрасли ОКВЭД'!$C1996<>\"\",'Отрасли ОКВЭД'!$C1996,'Отрасли ОКВЭД'!$B1996)","v":"50.20.14"},"H","50.20.14","Перевозка контейнерных грузов судами-контейнеровозами заграничного плавания"]
[{"$f":"IF('Отрасли ОКВЭД'!$C1997<>\"\",'Отрасли ОКВЭД'!$C1997,'Отрасли ОКВЭД'!$B1997)","v":"50.20.15"},"H","50.20.15","Перевозка сухих сыпучих грузов морскими судами заграничного плавания"]
[{"$f":"IF('Отрасли ОКВЭД'!$C1998<>\"\",'Отрасли ОКВЭД'!$C1998,'Отрасли ОКВЭД'!$B1998)","v":"50.20.16"},"H","50.20.16","Транспортирование (перевозка) ядерных материалов, радиоактивных веществ, радиационных источников, частей ядерных установок, радиоактивных отходов морскими судами заграничного плавания"]
[{"$f":"IF('Отрасли ОКВЭД'!$C1999<>\"\",'Отрасли ОКВЭД'!$C1999,'Отрасли ОКВЭД'!$B1999)","v":"50.20.19"},"H","50.20.19","Перевозка прочих грузов морскими судами заграничного плавания"]
[{"$f":"IF('Отрасли ОКВЭД'!$C2000<>\"\",'Отрасли ОКВЭД'!$C2000,'Отрасли ОКВЭД'!$B2000)","v":"50.20.2"},"H","50.20.2","Перевозка грузов морскими судами каботажного плавания"]
[{"$f":"IF('Отрасли ОКВЭД'!$C2001<>\"\",'Отрасли ОКВЭД'!$C2001,'Отрасли ОКВЭД'!$B2001)","v":"50.20.21"},"H","50.20.21","Перевозка замороженных или охлажденных грузов судами-рефрижераторами каботажного плавания"]
[{"$f":"IF('Отрасли ОКВЭД'!$C2002<>\"\",'Отрасли ОКВЭД'!$C2002,'Отрасли ОКВЭД'!$B2002)","v":"50.20.22"},"H","50.20.22","Перевозка сырой нефти морскими судами-танкерами каботажного плавания"]
[{"$f":"IF('Отрасли ОКВЭД'!$C2003<>\"\",'Отрасли ОКВЭД'!$C2003,'Отрасли ОКВЭД'!$B2003)","v":"50.20.23"},"H","50.20.23","Перевозка прочих жидкостей или газов морскими судами-танкерами каботажного плавания"]
[{"$f":"IF('Отрасли ОКВЭД'!$C2004<>\"\",'Отрасли ОКВЭД'!$C2004,'Отрасли ОКВЭД'!$B2004)","v":"50.20.24"},"H","50.20.24","Перевозка контейнерных грузов судами-контейнеровозами каботажного плавания"]
[{"$f":"IF('Отрасли ОКВЭД'!$C2005<>\"\",'Отрасли ОКВЭД'!$C2005,'Отрасли ОКВЭД'!$B2005)","v":"50.20.25"},"H","50.20.25","Перевозка сухих сыпучих грузов морскими судами каботажного плавания"]
[{"$f":"IF('Отрасли ОКВЭД'!$C2006<>\"\",'Отрасли ОКВЭД'!$C2006,'Отрасли ОКВЭД'!$B2006)","v":"50.20.26"},"H","50.20.26","Транспортирование (перевозка) ядерных материалов, радиоактивных веществ, радиационных источников, частей ядерных установок, радиоактивных отходов морскими судами каботажного плавания"]
[{"$f":"IF('Отрасли ОКВЭД'!$C2007<>\"\",'Отрасли ОКВЭД'!$C2007,'Отрасли ОКВЭД'!$B2007)","v":"50.20.29"},"H","50.20.29","Перевозка прочих грузов морскими судами каботажного плавания"]
[{"$f":"IF('Отрасли ОКВЭД'!$C2008<>\"\",'Отрасли ОКВЭД'!$C2008,'Отрасли ОКВЭД'!$B2008)","v":"50.20.3"},"H","50.20.3","Аренда морских судов заграничного и каботажного плавания для перевозки грузов с экипажем"]
[{"$f":"IF('Отрасли ОКВЭД'!$C2009<>\"\",'Отрасли ОКВЭД'!$C2009,'Отрасли ОКВЭД'!$B2009)","v":"50.20.31"},"H","50.20.31","Аренда морских судов заграничного плавания для перевозки грузов с экипажем"]
[{"$f":"IF('Отрасли ОКВЭД'!$C2010<>\"\",'Отрасли ОКВЭД'!$C2010,'Отрасли ОКВЭД'!$B2010)","v":"50.20.32"},"H","50.20.32","Аренда морских судов каботажного плавания для перевозки грузов с экипажем"]
[{"$f":"IF('Отрасли ОКВЭД'!$C2011<>\"\",'Отрасли ОКВЭД'!$C2011,'Отрасли ОКВЭД'!$B2011)","v":"50.20.4"},"H","50.20.4","Буксировка и маневровые услуги, оказываемые судами заграничного и каботажного плавания"]
[{"$f":"IF('Отрасли ОКВЭД'!$C2012<>\"\",'Отрасли ОКВЭД'!$C2012,'Отрасли ОКВЭД'!$B2012)","v":"50.20.41"},"H","50.20.41","Буксировка судами заграничного и каботажного плавания"]
[{"$f":"IF('Отрасли ОКВЭД'!$C2013<>\"\",'Отрасли ОКВЭД'!$C2013,'Отрасли ОКВЭД'!$B2013)","v":"50.20.42"},"H","50.20.42","Деятельность по оказанию маневровых услуг судами заграничного и каботажного плавания"]
[{"$f":"IF('Отрасли ОКВЭД'!$C2014<>\"\",'Отрасли ОКВЭД'!$C2014,'Отрасли ОКВЭД'!$B2014)","v":"50.3"},"H","50.3","Деятельность внутреннего водного пассажирского транспорта"]
[{"$f":"IF('Отрасли ОКВЭД'!$C2015<>\"\",'Отрасли ОКВЭД'!$C2015,'Отрасли ОКВЭД'!$B2015)","v":"50.30"},"H","50.30","Деятельность внутреннего водного пассажирского транспорта"]
[{"$f":"IF('Отрасли ОКВЭД'!$C2016<>\"\",'Отрасли ОКВЭД'!$C2016,'Отрасли ОКВЭД'!$B2016)","v":"50.30.1"},"H","50.30.1","Перевозка пассажиров по внутренним водным путям"]
[{"$f":"IF('Отрасли ОКВЭД'!$C2017<>\"\",'Отрасли ОКВЭД'!$C2017,'Отрасли ОКВЭД'!$B2017)","v":"50.30.2"},"H","50.30.2","Аренда судов внутреннего водного транспорта для перевозки пассажиров с экипажем"]
[{"$f":"IF('Отрасли ОКВЭД'!$C2018<>\"\",'Отрасли ОКВЭД'!$C2018,'Отрасли ОКВЭД'!$B2018)","v":"50.4"},"H","50.4","Деятельность внутреннего водного грузового транспорта"]
[{"$f":"IF('Отрасли ОКВЭД'!$C2019<>\"\",'Отрасли ОКВЭД'!$C2019,'Отрасли ОКВЭД'!$B2019)","v":"50.40"},"H","50.40","Деятельность внутреннего водного грузового транспорта"]
[{"$f":"IF('Отрасли ОКВЭД'!$C2020<>\"\",'Отрасли ОКВЭД'!$C2020,'Отрасли ОКВЭД'!$B2020)","v":"50.40.1"},"H","50.40.1","Перевозка грузов по внутренним водным путям"]
[{"$f":"IF('Отрасли ОКВЭД'!$C2021<>\"\",'Отрасли ОКВЭД'!$C2021,'Отрасли ОКВЭД'!$B2021)","v":"50.40.2"},"H","50.40.2","Буксировка и маневровые услуги на внутренних водных путях"]
[{"$f":"IF('Отрасли ОКВЭД'!$C2022<>\"\",'Отрасли ОКВЭД'!$C2022,'Отрасли ОКВЭД'!$B2022)","v":"50.40.3"},"H","50.40.3","Аренда судов внутреннего водного транспорта для перевозки грузов с экипажем"]
[{"$f":"IF('Отрасли ОКВЭД'!$C2023<>\"\",'Отрасли ОКВЭД'!$C2023,'Отрасли ОКВЭД'!$B2023)","v":"51"},"H","51","Деятельность воздушного и космического транспорта"]
[{"$f":"IF('Отрасли ОКВЭД'!$C2024<>\"\",'Отрасли ОКВЭД'!$C2024,'Отрасли ОКВЭД'!$B2024)","v":"51.1"},"H","51.1","Деятельность пассажирского воздушного транспорта"]
[{"$f":"IF('Отрасли ОКВЭД'!$C2025<>\"\",'Отрасли ОКВЭД'!$C2025,'Отрасли ОКВЭД'!$B2025)","v":"51.10"},"H","51.10","Деятельность пассажирского воздушного транспорта"]
[{"$f":"IF('Отрасли ОКВЭД'!$C2026<>\"\",'Отрасли ОКВЭД'!$C2026,'Отрасли ОКВЭД'!$B2026)","v":"51.10.1"},"H","51.10.1","Перевозка воздушным пассажирским транспортом, подчиняющимся расписанию"]
[{"$f":"IF('Отрасли ОКВЭД'!$C2027<>\"\",'Отрасли ОКВЭД'!$C2027,'Отрасли ОКВЭД'!$B2027)","v":"51.10.2"},"H","51.10.2","Перевозка воздушным пассажирским транспортом, не подчиняющимся расписанию"]
[{"$f":"IF('Отрасли ОКВЭД'!$C2028<>\"\",'Отрасли ОКВЭД'!$C2028,'Отрасли ОКВЭД'!$B2028)","v":"51.10.3"},"H","51.10.3","Аренда воздушного судна с экипажем для перевозки пассажиров"]
[{"$f":"IF('Отрасли ОКВЭД'!$C2029<>\"\",'Отрасли ОКВЭД'!$C2029,'Отрасли ОКВЭД'!$B2029)","v":"51.2"},"H","51.2","Деятельность грузового воздушного транспорта и космического транспорта"]
[{"$f":"IF('Отрасли ОКВЭД'!$C2030<>\"\",'Отрасли ОКВЭД'!$C2030,'Отрасли ОКВЭД'!$B2030)","v":"51.21"},"H","51.21","Деятельность грузового воздушного транспорта"]
[{"$f":"IF('Отрасли ОКВЭД'!$C2031<>\"\",'Отрасли ОКВЭД'!$C2031,'Отрасли ОКВЭД'!$B2031)","v":"51.21.1"},"H","51.21.1","Перевозка воздушным грузовым транспортом, подчиняющимся расписанию"]
[{"$f":"IF('Отрасли ОКВЭД'!$C2032<>\"\",'Отрасли ОКВЭД'!$C2032,'Отрасли ОКВЭД'!$B2032)","v":"51.21.2"},"H","51.21.2","Перевозка воздушным грузовым транспортом, не подчиняющимся расписанию"]
[{"$f":"IF('Отрасли ОКВЭД'!$C2033<>\"\",'Отрасли ОКВЭД'!$C2033,'Отрасли ОКВЭД'!$B2033)","v":"51.21.3"},"H","51.21.3","Аренда грузовых воздушных судов с экипажем"]
[{"$f":"IF('Отрасли ОКВЭД'!$C2034<>\"\",'Отрасли ОКВЭД'!$C2034,'Отрасли ОКВЭД'!$B2034)","v":"51.22"},"H","51.22","Деятельность космического транспорта"]
[{"$f":"IF('Отрасли ОКВЭД'!$C2035<>\"\",'Отрасли ОКВЭД'!$C2035,'Отрасли ОКВЭД'!$B2035)","v":"51.22.1"},"H","51.22.1","Перевозка пассажиров космическим транспортом"]
[{"$f":"IF('Отрасли ОКВЭД'!$C2036<>\"\",'Отрасли ОКВЭД'!$C2036,'Отрасли ОКВЭД'!$B2036)","v":"51.22.2"},"H","51.22.2","Перевозка грузов космическим транспортом"]
[{"$f":"IF('Отрасли ОКВЭД'!$C2037<>\"\",'Отрасли ОКВЭД'!$C2037,'Отрасли ОКВЭД'!$B2037)","v":"51.22.3"},"H","51.22.3","Запуск ракет космического назначения и выведение космических объектов на орбиту"]
[{"$f":"IF('Отрасли ОКВЭД'!$C2038<>\"\",'Отрасли ОКВЭД'!$C2038,'Отрасли ОКВЭД'!$B2038)","v":"51.22.4"},"H","51.22.4","Деятельность космических лабораторий"]
[{"$f":"IF('Отрасли ОКВЭД'!$C2039<>\"\",'Отрасли ОКВЭД'!$C2039,'Отрасли ОКВЭД'!$B2039)","v":"52"},"H","52","Складское хозяйство и вспомогательная транспортная деятельность"]
[{"$f":"IF('Отрасли ОКВЭД'!$C2040<>\"\",'Отрасли ОКВЭД'!$C2040,'Отрасли ОКВЭД'!$B2040)","v":"52.1"},"H","52.1","Деятельность по складированию и хранению"]
[{"$f":"IF('Отрасли ОКВЭД'!$C2041<>\"\",'Отрасли ОКВЭД'!$C2041,'Отрасли ОКВЭД'!$B2041)","v":"52.10"},"H","52.10","Деятельность по складированию и хранению"]
[{"$f":"IF('Отрасли ОКВЭД'!$C2042<>\"\",'Отрасли ОКВЭД'!$C2042,'Отрасли ОКВЭД'!$B2042)","v":"52.10.1"},"H","52.10.1","Хранение и складирование замороженных или охлажденных грузов"]
[{"$f":"IF('Отрасли ОКВЭД'!$C2043<>\"\",'Отрасли ОКВЭД'!$C2043,'Отрасли ОКВЭД'!$B2043)","v":"52.10.2"},"H","52.10.2","Хранение и складирование жидких или газообразных грузов"]
[{"$f":"IF('Отрасли ОКВЭД'!$C2044<>\"\",'Отрасли ОКВЭД'!$C2044,'Отрасли ОКВЭД'!$B2044)","v":"52.10.21"},"H","52.10.21","Хранение и складирование нефти и продуктов ее переработки"]
[{"$f":"IF('Отрасли ОКВЭД'!$C2045<>\"\",'Отрасли ОКВЭД'!$C2045,'Отрасли ОКВЭД'!$B2045)","v":"52.10.22"},"H","52.10.22","Хранение и складирование газа и продуктов его переработки"]
[{"$f":"IF('Отрасли ОКВЭД'!$C2046<>\"\",'Отрасли ОКВЭД'!$C2046,'Отрасли ОКВЭД'!$B2046)","v":"52.10.23"},"H","52.10.23","Хранение и складирование прочих жидких или газообразных грузов"]
[{"$f":"IF('Отрасли ОКВЭД'!$C2047<>\"\",'Отрасли ОКВЭД'!$C2047,'Отрасли ОКВЭД'!$B2047)","v":"52.10.3"},"H","52.10.3","Хранение и складирование зерна"]
[{"$f":"IF('Отрасли ОКВЭД'!$C2048<>\"\",'Отрасли ОКВЭД'!$C2048,'Отрасли ОКВЭД'!$B2048)","v":"52.10.4"},"H","52.10.4","Хранение ядерных материалов и радиоактивных веществ"]
[{"$f":"IF('Отрасли ОКВЭД'!$C2049<>\"\",'Отрасли ОКВЭД'!$C2049,'Отрасли ОКВЭД'!$B2049)","v":"52.10.9"},"H","52.10.9","Хранение и складирование прочих грузов"]
[{"$f":"IF('Отрасли ОКВЭД'!$C2050<>\"\",'Отрасли ОКВЭД'!$C2050,'Отрасли ОКВЭД'!$B2050)","v":"52.2"},"H","52.2","Деятельность транспортная вспомогательная"]
[{"$f":"IF('Отрасли ОКВЭД'!$C2051<>\"\",'Отрасли ОКВЭД'!$C2051,'Отрасли ОКВЭД'!$B2051)","v":"52.21"},"H","52.21","Деятельность вспомогательная, связанная с сухопутным транспортом"]
[{"$f":"IF('Отрасли ОКВЭД'!$C2052<>\"\",'Отрасли ОКВЭД'!$C2052,'Отрасли ОКВЭД'!$B2052)","v":"52.21.1"},"H","52.21.1","Деятельность вспомогательная, связанная с железнодорожным транспортом"]
[{"$f":"IF('Отрасли ОКВЭД'!$C2053<>\"\",'Отрасли ОКВЭД'!$C2053,'Отрасли ОКВЭД'!$B2053)","v":"52.21.11"},"H","52.21.11","Предоставление железнодорожных маневровых или буксировочных услуг"]
[{"$f":"IF('Отрасли ОКВЭД'!$C2054<>\"\",'Отрасли ОКВЭД'!$C2054,'Отрасли ОКВЭД'!$B2054)","v":"52.21.12"},"H","52.21.12","Деятельность железнодорожных пассажирских вокзалов и грузовых терминалов"]
[{"$f":"IF('Отрасли ОКВЭД'!$C2055<>\"\",'Отрасли ОКВЭД'!$C2055,'Отрасли ОКВЭД'!$B2055)","v":"52.21.13"},"H","52.21.13","Деятельность железнодорожной инфраструктуры"]
[{"$f":"IF('Отрасли ОКВЭД'!$C2056<>\"\",'Отрасли ОКВЭД'!$C2056,'Отрасли ОКВЭД'!$B2056)","v":"52.21.19"},"H","52.21.19","Деятельность вспомогательная прочая, связанная с железнодорожным транспортом"]
[{"$f":"IF('Отрасли ОКВЭД'!$C2057<>\"\",'Отрасли ОКВЭД'!$C2057,'Отрасли ОКВЭД'!$B2057)","v":"52.21.2"},"H","52.21.2","Деятельность вспомогательная, связанная с автомобильным транспортом"]
[{"$f":"IF('Отрасли ОКВЭД'!$C2058<>\"\",'Отрасли ОКВЭД'!$C2058,'Отрасли ОКВЭД'!$B2058)","v":"52.21.21"},"H","52.21.21","Деятельность автобусных станций"]
[{"$f":"IF('Отрасли ОКВЭД'!$C2059<>\"\",'Отрасли ОКВЭД'!$C2059,'Отрасли ОКВЭД'!$B2059)","v":"52.21.22"},"H","52.21.22","Деятельность по эксплуатации автомобильных дорог и автомагистралей"]
[{"$f":"IF('Отрасли ОКВЭД'!$C2060<>\"\",'Отрасли ОКВЭД'!$C2060,'Отрасли ОКВЭД'!$B2060)","v":"52.21.23"},"H","52.21.23","Деятельность по эксплуатации мостов и тоннелей"]
[{"$f":"IF('Отрасли ОКВЭД'!$C2061<>\"\",'Отрасли ОКВЭД'!$C2061,'Отрасли ОКВЭД'!$B2061)","v":"52.21.24"},"H","52.21.24","Деятельность стоянок для транспортных средств"]
[{"$f":"IF('Отрасли ОКВЭД'!$C2062<>\"\",'Отрасли ОКВЭД'!$C2062,'Отрасли ОКВЭД'!$B2062)","v":"52.21.25"},"H","52.21.25","Деятельность по буксировке автотранспортных средств"]
[{"$f":"IF('Отрасли ОКВЭД'!$C2063<>\"\",'Отрасли ОКВЭД'!$C2063,'Отрасли ОКВЭД'!$B2063)","v":"52.21.29"},"H","52.21.29","Деятельность вспомогательная прочая, связанная с автомобильным транспортом"]
[{"$f":"IF('Отрасли ОКВЭД'!$C2064<>\"\",'Отрасли ОКВЭД'!$C2064,'Отрасли ОКВЭД'!$B2064)","v":"52.21.3"},"H","52.21.3","Деятельность вспомогательная, связанная с трубопроводным транспортом"]
[{"$f":"IF('Отрасли ОКВЭД'!$C2065<>\"\",'Отрасли ОКВЭД'!$C2065,'Отрасли ОКВЭД'!$B2065)","v":"52.22"},"H","52.22","Деятельность вспомогательная, связанная с водным транспортом"]
[{"$f":"IF('Отрасли ОКВЭД'!$C2066<>\"\",'Отрасли ОКВЭД'!$C2066,'Отрасли ОКВЭД'!$B2066)","v":"52.22.1"},"H","52.22.1","Деятельность вспомогательная, связанная с морским транспортом"]
[{"$f":"IF('Отрасли ОКВЭД'!$C2067<>\"\",'Отрасли ОКВЭД'!$C2067,'Отрасли ОКВЭД'!$B2067)","v":"52.22.11"},"H","52.22.11","Деятельность инфраструктуры морских портов, включая портовые гидротехнические сооружения (причалы, морские терминалы, доки и др.)"]
[{"$f":"IF('Отрасли ОКВЭД'!$C2068<>\"\",'Отрасли ОКВЭД'!$C2068,'Отрасли ОКВЭД'!$B2068)","v":"52.22.12"},"H","52.22.12","Обеспечение судоходства в морских и прибрежных водах, включая лоцманскую проводку судов"]
[{"$f":"IF('Отрасли ОКВЭД'!$C2069<>\"\",'Отрасли ОКВЭД'!$C2069,'Отрасли ОКВЭД'!$B2069)","v":"52.22.13"},"H","52.22.13","Деятельность по постановке судов к причалу, осуществление швартовых операций с судами в морских портах"]
[{"$f":"IF('Отрасли ОКВЭД'!$C2070<>\"\",'Отрасли ОКВЭД'!$C2070,'Отрасли ОКВЭД'!$B2070)","v":"52.22.14"},"H","52.22.14","Деятельность по навигационному обеспечению судоходства на морском транспорте"]
[{"$f":"IF('Отрасли ОКВЭД'!$C2071<>\"\",'Отрасли ОКВЭД'!$C2071,'Отрасли ОКВЭД'!$B2071)","v":"52.22.15"},"H","52.22.15","Деятельность аварийно-спасательная и судоподъемная на морском транспорте"]
[{"$f":"IF('Отрасли ОКВЭД'!$C2072<>\"\",'Отрасли ОКВЭД'!$C2072,'Отрасли ОКВЭД'!$B2072)","v":"52.22.16"},"H","52.22.16","Снабженческое (шипчандлерское) обслуживание судов, включая бункеровку судов топливом, обслуживание судов в период стоянки в портах: агентирование судов, обследовательское (сюрвейерское) обслуживание судов на морском транспорте"]
[{"$f":"IF('Отрасли ОКВЭД'!$C2073<>\"\",'Отрасли ОКВЭД'!$C2073,'Отрасли ОКВЭД'!$B2073)","v":"52.22.17"},"H","52.22.17","Производство водолазных работ по обслуживанию морских судов"]
[{"$f":"IF('Отрасли ОКВЭД'!$C2074<>\"\",'Отрасли ОКВЭД'!$C2074,'Отрасли ОКВЭД'!$B2074)","v":"52.22.18"},"H","52.22.18","Деятельность ледокольного флота на морском транспорте"]
[{"$f":"IF('Отрасли ОКВЭД'!$C2075<>\"\",'Отрасли ОКВЭД'!$C2075,'Отрасли ОКВЭД'!$B2075)","v":"52.22.19"},"H","52.22.19","Деятельность вспомогательная, связанная морским транспортом, прочая, не включенная в другие группировки"]
[{"$f":"IF('Отрасли ОКВЭД'!$C2076<>\"\",'Отрасли ОКВЭД'!$C2076,'Отрасли ОКВЭД'!$B2076)","v":"52.22.2"},"H","52.22.2","Деятельность вспомогательная, связанная с внутренним водным транспортом"]
[{"$f":"IF('Отрасли ОКВЭД'!$C2077<>\"\",'Отрасли ОКВЭД'!$C2077,'Отрасли ОКВЭД'!$B2077)","v":"52.22.21"},"H","52.22.21","Деятельность инфраструктуры речных портов и гидротехнических сооружений"]
[{"$f":"IF('Отрасли ОКВЭД'!$C2078<>\"\",'Отрасли ОКВЭД'!$C2078,'Отрасли ОКВЭД'!$B2078)","v":"52.22.22"},"H","52.22.22","Обеспечение судоходства по внутренним водным путям, в том числе лоцманская проводка судов"]
[{"$f":"IF('Отрасли ОКВЭД'!$C2079<>\"\",'Отрасли ОКВЭД'!$C2079,'Отрасли ОКВЭД'!$B2079)","v":"52.22.23"},"H","52.22.23","Деятельность по постановке судов к причалу, осуществление швартовых операций в речных портах на внутреннем водном транспорте"]
[{"$f":"IF('Отрасли ОКВЭД'!$C2080<>\"\",'Отрасли ОКВЭД'!$C2080,'Отрасли ОКВЭД'!$B2080)","v":"52.22.24"},"H","52.22.24","Деятельность по навигационному обеспечению судоходства на внутреннем водном транспорте"]
[{"$f":"IF('Отрасли ОКВЭД'!$C2081<>\"\",'Отрасли ОКВЭД'!$C2081,'Отрасли ОКВЭД'!$B2081)","v":"52.22.25"},"H","52.22.25","Деятельность аварийно-спасательная и судоподъемная на внутреннем водном транспорте"]
[{"$f":"IF('Отрасли ОКВЭД'!$C2082<>\"\",'Отрасли ОКВЭД'!$C2082,'Отрасли ОКВЭД'!$B2082)","v":"52.22.26"},"H","52.22.26","Снабженческое (шипчандлерское) обслуживание судов, включая бункеровку судов топливом, обслуживание судов в период стоянки в портах: агентирование судов, обследовательское (сюрвейерское) обслуживание судов на внутреннем водном транспорте"]
[{"$f":"IF('Отрасли ОКВЭД'!$C2083<>\"\",'Отрасли ОКВЭД'!$C2083,'Отрасли ОКВЭД'!$B2083)","v":"52.22.27"},"H","52.22.27","Производство водолазных работ по обслуживанию судов на внутреннем водном транспорте"]
[{"$f":"IF('Отрасли ОКВЭД'!$C2084<>\"\",'Отрасли ОКВЭД'!$C2084,'Отрасли ОКВЭД'!$B2084)","v":"52.22.28"},"H","52.22.28","Деятельность ледокольного флота на внутреннем водном транспорте"]
[{"$f":"IF('Отрасли ОКВЭД'!$C2085<>\"\",'Отрасли ОКВЭД'!$C2085,'Отрасли ОКВЭД'!$B2085)","v":"52.22.29"},"H","52.22.29","Деятельность вспомогательная, связанная с внутренним водным транспортом, прочая, не включенная в другие группировки"]
[{"$f":"IF('Отрасли ОКВЭД'!$C2086<>\"\",'Отрасли ОКВЭД'!$C2086,'Отрасли ОКВЭД'!$B2086)","v":"52.23"},"H","52.23","Деятельность вспомогательная, связанная с воздушным и космическим транспортом"]
[{"$f":"IF('Отрасли ОКВЭД'!$C2087<>\"\",'Отрасли ОКВЭД'!$C2087,'Отрасли ОКВЭД'!$B2087)","v":"52.23.1"},"H","52.23.1","Деятельность вспомогательная, связанная с воздушным транспортом"]
[{"$f":"IF('Отрасли ОКВЭД'!$C2088<>\"\",'Отрасли ОКВЭД'!$C2088,'Отрасли ОКВЭД'!$B2088)","v":"52.23.11"},"H","52.23.11","Деятельность аэропортовая"]
[{"$f":"IF('Отрасли ОКВЭД'!$C2089<>\"\",'Отрасли ОКВЭД'!$C2089,'Отрасли ОКВЭД'!$B2089)","v":"52.23.12"},"H","52.23.12","Обеспечение обслуживания (управления) воздушного движения"]
[{"$f":"IF('Отрасли ОКВЭД'!$C2090<>\"\",'Отрасли ОКВЭД'!$C2090,'Отрасли ОКВЭД'!$B2090)","v":"52.23.13"},"H","52.23.13","Выполнение авиационных работ"]
[{"$f":"IF('Отрасли ОКВЭД'!$C2091<>\"\",'Отрасли ОКВЭД'!$C2091,'Отрасли ОКВЭД'!$B2091)","v":"52.23.19"},"H","52.23.19","Деятельность вспомогательная прочая, связанная с воздушным транспортом"]
[{"$f":"IF('Отрасли ОКВЭД'!$C2092<>\"\",'Отрасли ОКВЭД'!$C2092,'Отрасли ОКВЭД'!$B2092)","v":"52.23.2"},"H","52.23.2","Деятельность вспомогательная, связанная с космическим транспортом"]
[{"$f":"IF('Отрасли ОКВЭД'!$C2093<>\"\",'Отрасли ОКВЭД'!$C2093,'Отрасли ОКВЭД'!$B2093)","v":"52.23.21"},"H","52.23.21","Деятельность наземных центров управления полетами космических объектов в космическом пространстве и центров (пунктов) космической связи"]
[{"$f":"IF('Отрасли ОКВЭД'!$C2094<>\"\",'Отрасли ОКВЭД'!$C2094,'Отрасли ОКВЭД'!$B2094)","v":"52.23.22"},"H","52.23.22","Деятельность поисковых и аварийно-спасательных служб, в том числе по эвакуации спускаемых аппаратов (капсул), составных частей ракет космического назначения"]
[{"$f":"IF('Отрасли ОКВЭД'!$C2095<>\"\",'Отрасли ОКВЭД'!$C2095,'Отрасли ОКВЭД'!$B2095)","v":"52.23.23"},"H","52.23.23","Деятельность, связанная с подготовкой космонавтов для работы непосредственно в космическом пространстве"]
[{"$f":"IF('Отрасли ОКВЭД'!$C2096<>\"\",'Отрасли ОКВЭД'!$C2096,'Отрасли ОКВЭД'!$B2096)","v":"52.23.29"},"H","52.23.29","Деятельность вспомогательная прочая, связанная с космическим транспортом"]
[{"$f":"IF('Отрасли ОКВЭД'!$C2097<>\"\",'Отрасли ОКВЭД'!$C2097,'Отрасли ОКВЭД'!$B2097)","v":"52.24"},"H","52.24","Транспортная обработка грузов"]
[{"$f":"IF('Отрасли ОКВЭД'!$C2098<>\"\",'Отрасли ОКВЭД'!$C2098,'Отрасли ОКВЭД'!$B2098)","v":"52.24.1"},"H","52.24.1","Транспортная обработка контейнеров"]
[{"$f":"IF('Отрасли ОКВЭД'!$C2099<>\"\",'Отрасли ОКВЭД'!$C2099,'Отрасли ОКВЭД'!$B2099)","v":"52.24.2"},"H","52.24.2","Транспортная обработка прочих грузов"]
[{"$f":"IF('Отрасли ОКВЭД'!$C2100<>\"\",'Отрасли ОКВЭД'!$C2100,'Отрасли ОКВЭД'!$B2100)","v":"52.29"},"H","52.29","Деятельность вспомогательная прочая, связанная с перевозками"]
[{"$f":"IF('Отрасли ОКВЭД'!$C2101<>\"\",'Отрасли ОКВЭД'!$C2101,'Отрасли ОКВЭД'!$B2101)","v":"53"},"H","53","Деятельность почтовой связи и курьерская деятельность"]
[{"$f":"IF('Отрасли ОКВЭД'!$C2102<>\"\",'Отрасли ОКВЭД'!$C2102,'Отрасли ОКВЭД'!$B2102)","v":"53.1"},"H","53.1","Деятельность почтовой связи общего пользования"]
[{"$f":"IF('Отрасли ОКВЭД'!$C2103<>\"\",'Отрасли ОКВЭД'!$C2103,'Отрасли ОКВЭД'!$B2103)","v":"53.10"},"H","53.10","Деятельность почтовой связи общего пользования"]
[{"$f":"IF('Отрасли ОКВЭД'!$C2104<>\"\",'Отрасли ОКВЭД'!$C2104,'Отрасли ОКВЭД'!$B2104)","v":"53.10.1"},"H","53.10.1","Деятельность почтовой связи, связанная с пересылкой газет и других периодических изданий"]
[{"$f":"IF('Отрасли ОКВЭД'!$C2105<>\"\",'Отрасли ОКВЭД'!$C2105,'Отрасли ОКВЭД'!$B2105)","v":"53.10.2"},"H","53.10.2","Деятельность почтовой связи, связанная с пересылкой письменной корреспонденции"]
[{"$f":"IF('Отрасли ОКВЭД'!$C2106<>\"\",'Отрасли ОКВЭД'!$C2106,'Отрасли ОКВЭД'!$B2106)","v":"53.10.3"},"H","53.10.3","Деятельность почтовой связи, связанная с пересылкой посылочной почты"]
[{"$f":"IF('Отрасли ОКВЭД'!$C2107<>\"\",'Отрасли ОКВЭД'!$C2107,'Отрасли ОКВЭД'!$B2107)","v":"53.10.4"},"H","53.10.4","Деятельность почтовой связи дополнительная"]
[{"$f":"IF('Отрасли ОКВЭД'!$C2108<>\"\",'Отрасли ОКВЭД'!$C2108,'Отрасли ОКВЭД'!$B2108)","v":"53.10.9"},"H","53.10.9","Деятельность почтовой связи общего пользования прочая"]
[{"$f":"IF('Отрасли ОКВЭД'!$C2109<>\"\",'Отрасли ОКВЭД'!$C2109,'Отрасли ОКВЭД'!$B2109)","v":"53.2"},"H","53.2","Деятельность почтовой связи прочая и курьерская деятельность"]
[{"$f":"IF('Отрасли ОКВЭД'!$C2110<>\"\",'Отрасли ОКВЭД'!$C2110,'Отрасли ОКВЭД'!$B2110)","v":"53.20"},"H","53.20","Деятельность почтовой связи прочая и курьерская деятельность"]
[{"$f":"IF('Отрасли ОКВЭД'!$C2111<>\"\",'Отрасли ОКВЭД'!$C2111,'Отрасли ОКВЭД'!$B2111)","v":"53.20.1"},"H","53.20.1","Деятельность специальной почтовой связи"]
[{"$f":"IF('Отрасли ОКВЭД'!$C2112<>\"\",'Отрасли ОКВЭД'!$C2112,'Отрасли ОКВЭД'!$B2112)","v":"53.20.2"},"H","53.20.2","Деятельность фельдъегерской связи"]
[{"$f":"IF('Отрасли ОКВЭД'!$C2113<>\"\",'Отрасли ОКВЭД'!$C2113,'Отрасли ОКВЭД'!$B2113)","v":"53.20.21"},"H","53.20.21","Деятельность федеральной фельдъегерской связи"]
[{"$f":"IF('Отрасли ОКВЭД'!$C2114<>\"\",'Отрасли ОКВЭД'!$C2114,'Отрасли ОКВЭД'!$B2114)","v":"53.20.22"},"H","53.20.22","Деятельность фельдъегерско-почтовой связи"]
[{"$f":"IF('Отрасли ОКВЭД'!$C2115<>\"\",'Отрасли ОКВЭД'!$C2115,'Отрасли ОКВЭД'!$B2115)","v":"53.20.29"},"H","53.20.29","Деятельность почтовой связи прочая, не включенная в другие группировки"]
[{"$f":"IF('Отрасли ОКВЭД'!$C2116<>\"\",'Отрасли ОКВЭД'!$C2116,'Отрасли ОКВЭД'!$B2116)","v":"53.20.3"},"H","53.20.3","Деятельность курьерская"]
[{"$f":"IF('Отрасли ОКВЭД'!$C2117<>\"\",'Отрасли ОКВЭД'!$C2117,'Отрасли ОКВЭД'!$B2117)","v":"53.20.31"},"H","53.20.31","Деятельность по курьерской доставке различными видами транспорта"]
[{"$f":"IF('Отрасли ОКВЭД'!$C2118<>\"\",'Отрасли ОКВЭД'!$C2118,'Отрасли ОКВЭД'!$B2118)","v":"53.20.32"},"H","53.20.32","Деятельность по доставке еды на дом"]
[{"$f":"IF('Отрасли ОКВЭД'!$C2119<>\"\",'Отрасли ОКВЭД'!$C2119,'Отрасли ОКВЭД'!$B2119)","v":"53.20.39"},"H","53.20.39","Деятельность курьерская прочая"]
[{"$f":"IF('Отрасли ОКВЭД'!$C2120<>\"\",'Отрасли ОКВЭД'!$C2120,'Отрасли ОКВЭД'!$B2120)","v":"I"},"I","","ДЕЯТЕЛЬНОСТЬ ГОСТИНИЦ И ПРЕДПРИЯТИЙ ОБЩЕСТВЕННОГО ПИТАНИЯ"]
[{"$f":"IF('Отрасли ОКВЭД'!$C2121<>\"\",'Отрасли ОКВЭД'!$C2121,'Отрасли ОКВЭД'!$B2121)","v":"55"},"I","55","Деятельность по предоставлению мест для временного проживания"]
[{"$f":"IF('Отрасли ОКВЭД'!$C2122<>\"\",'Отрасли ОКВЭД'!$C2122,'Отрасли ОКВЭД'!$B2122)","v":"55.1"},"I","55.1","Деятельность гостиниц и прочих мест для временного проживания"]
[{"$f":"IF('Отрасли ОКВЭД'!$C2123<>\"\",'Отрасли ОКВЭД'!$C2123,'Отрасли ОКВЭД'!$B2123)","v":"55.10"},"I","55.10","Деятельность гостиниц и прочих мест для временного проживания"]
[{"$f":"IF('Отрасли ОКВЭД'!$C2124<>\"\",'Отрасли ОКВЭД'!$C2124,'Отрасли ОКВЭД'!$B2124)","v":"55.2"},"I","55.2","Деятельность по предоставлению мест для краткосрочного проживания"]
[{"$f":"IF('Отрасли ОКВЭД'!$C2125<>\"\",'Отрасли ОКВЭД'!$C2125,'Отрасли ОКВЭД'!$B2125)","v":"55.20"},"I","55.20","Деятельность по предоставлению мест для краткосрочного проживания"]
[{"$f":"IF('Отрасли ОКВЭД'!$C2126<>\"\",'Отрасли ОКВЭД'!$C2126,'Отрасли ОКВЭД'!$B2126)","v":"55.3"},"I","55.3","Деятельность по предоставлению мест для временного проживания в кемпингах, жилых автофургонах и туристических автоприцепах"]
[{"$f":"IF('Отрасли ОКВЭД'!$C2127<>\"\",'Отрасли ОКВЭД'!$C2127,'Отрасли ОКВЭД'!$B2127)","v":"55.30"},"I","55.30","Деятельность по предоставлению мест для временного проживания в кемпингах, жилых автофургонах и туристических автоприцепах"]
[{"$f":"IF('Отрасли ОКВЭД'!$C2128<>\"\",'Отрасли ОКВЭД'!$C2128,'Отрасли ОКВЭД'!$B2128)","v":"55.9"},"I","55.9","Деятельность по предоставлению прочих мест для временного проживания"]
[{"$f":"IF('Отрасли ОКВЭД'!$C2129<>\"\",'Отрасли ОКВЭД'!$C2129,'Отрасли ОКВЭД'!$B2129)","v":"55.90"},"I","55.90","Деятельность по предоставлению прочих мест для временного проживания"]
[{"$f":"IF('Отрасли ОКВЭД'!$C2130<>\"\",'Отрасли ОКВЭД'!$C2130,'Отрасли ОКВЭД'!$B2130)","v":"56"},"I","56","Деятельность по предоставлению продуктов питания и напитков"]
[{"$f":"IF('Отрасли ОКВЭД'!$C2131<>\"\",'Отрасли ОКВЭД'!$C2131,'Отрасли ОКВЭД'!$B2131)","v":"56.1"},"I","56.1","Деятельность ресторанов и услуги по доставке продуктов питания"]
[{"$f":"IF('Отрасли ОКВЭД'!$C2132<>\"\",'Отрасли ОКВЭД'!$C2132,'Отрасли ОКВЭД'!$B2132)","v":"56.10"},"I","56.10","Деятельность ресторанов и услуги по доставке продуктов питания"]
[{"$f":"IF('Отрасли ОКВЭД'!$C2133<>\"\",'Отрасли ОКВЭД'!$C2133,'Отрасли ОКВЭД'!$B2133)","v":"56.10.1"},"I","56.10.1","Деятельность ресторанов и кафе с полным ресторанным обслуживанием, кафетериев, ресторанов быстрого питания и самообслуживания"]
[{"$f":"IF('Отрасли ОКВЭД'!$C2134<>\"\",'Отрасли ОКВЭД'!$C2134,'Отрасли ОКВЭД'!$B2134)","v":"56.10.2"},"I","56.10.2","Деятельность по приготовлению и/или продаже пищи, готовой к непосредственному употреблению на месте, с транспортных средств или передвижных лавок"]
[{"$f":"IF('Отрасли ОКВЭД'!$C2135<>\"\",'Отрасли ОКВЭД'!$C2135,'Отрасли ОКВЭД'!$B2135)","v":"56.10.21"},"I","56.10.21","Деятельность предприятий общественного питания с обслуживанием на вынос"]
[{"$f":"IF('Отрасли ОКВЭД'!$C2136<>\"\",'Отрасли ОКВЭД'!$C2136,'Отрасли ОКВЭД'!$B2136)","v":"56.10.22"},"I","56.10.22","Деятельность передвижных продовольственных лавок по приготовлению и/или продаже пищи, готовой к употреблению"]
[{"$f":"IF('Отрасли ОКВЭД'!$C2137<>\"\",'Отрасли ОКВЭД'!$C2137,'Отрасли ОКВЭД'!$B2137)","v":"56.10.23"},"I","56.10.23","Деятельность вагончиков, палаток по приготовлению и продаже мороженого"]
[{"$f":"IF('Отрасли ОКВЭД'!$C2138<>\"\",'Отрасли ОКВЭД'!$C2138,'Отрасли ОКВЭД'!$B2138)","v":"56.10.24"},"I","56.10.24","Деятельность рыночных киосков и торговых палаток по приготовлению пищи"]
[{"$f":"IF('Отрасли ОКВЭД'!$C2139<>\"\",'Отрасли ОКВЭД'!$C2139,'Отрасли ОКВЭД'!$B2139)","v":"56.10.3"},"I","56.10.3","Деятельность ресторанов и баров по обеспечению питанием в железнодорожных вагонах-ресторанах и на судах"]
[{"$f":"IF('Отрасли ОКВЭД'!$C2140<>\"\",'Отрасли ОКВЭД'!$C2140,'Отрасли ОКВЭД'!$B2140)","v":"56.2"},"I","56.2","Деятельность предприятий общественного питания по обслуживанию торжественных мероприятий и прочим видам организации питания"]
[{"$f":"IF('Отрасли ОКВЭД'!$C2141<>\"\",'Отрасли ОКВЭД'!$C2141,'Отрасли ОКВЭД'!$B2141)","v":"56.21"},"I","56.21","Деятельность предприятий общественного питания по обслуживанию торжественных мероприятий"]
[{"$f":"IF('Отрасли ОКВЭД'!$C2142<>\"\",'Отрасли ОКВЭД'!$C2142,'Отрасли ОКВЭД'!$B2142)","v":"56.29"},"I","56.29","Деятельность предприятий общественного питания по прочим видам организации питания"]
[{"$f":"IF('Отрасли ОКВЭД'!$C2143<>\"\",'Отрасли ОКВЭД'!$C2143,'Отрасли ОКВЭД'!$B2143)","v":"56.29.1"},"I","56.29.1","Деятельность организаций общественного питания, поставляющих готовую пищу (для транспортных и строительных компаний, туристическим группам, личному составу вооруженных сил, предприятиям розничной торговли и другим группам потребителей) по договору"]
[{"$f":"IF('Отрасли ОКВЭД'!$C2144<>\"\",'Отрасли ОКВЭД'!$C2144,'Отрасли ОКВЭД'!$B2144)","v":"56.29.2"},"I","56.29.2","Деятельность столовых и буфетов при предприятиях и учреждениях"]
[{"$f":"IF('Отрасли ОКВЭД'!$C2145<>\"\",'Отрасли ОКВЭД'!$C2145,'Отрасли ОКВЭД'!$B2145)","v":"56.29.3"},"I","56.29.3","Деятельность по доставке продуктов питания учебным, спортивным и прочим учреждениям (по льготным ценам)"]
[{"$f":"IF('Отрасли ОКВЭД'!$C2146<>\"\",'Отрасли ОКВЭД'!$C2146,'Отрасли ОКВЭД'!$B2146)","v":"56.29.4"},"I","56.29.4","Деятельность социальных столовых, буфетов или кафетериев (в офисах, больницах, школах, институтах и пр.) на основе льготных цен на питание"]
[{"$f":"IF('Отрасли ОКВЭД'!$C2147<>\"\",'Отрасли ОКВЭД'!$C2147,'Отрасли ОКВЭД'!$B2147)","v":"56.3"},"I","56.3","Подача напитков"]
[{"$f":"IF('Отрасли ОКВЭД'!$C2148<>\"\",'Отрасли ОКВЭД'!$C2148,'Отрасли ОКВЭД'!$B2148)","v":"56.30"},"I","56.30","Подача напитков"]
[{"$f":"IF('Отрасли ОКВЭД'!$C2149<>\"\",'Отрасли ОКВЭД'!$C2149,'Отрасли ОКВЭД'!$B2149)","v":"J"},"J","","ДЕЯТЕЛЬНОСТЬ В ОБЛАСТИ ИНФОРМАЦИИ И СВЯЗИ"]
[{"$f":"IF('Отрасли ОКВЭД'!$C2150<>\"\",'Отрасли ОКВЭД'!$C2150,'Отрасли ОКВЭД'!$B2150)","v":"58"},"J","58","Деятельность издательская"]
[{"$f":"IF('Отрасли ОКВЭД'!$C2151<>\"\",'Отрасли ОКВЭД'!$C2151,'Отрасли ОКВЭД'!$B2151)","v":"58.1"},"J","58.1","Издание книг, периодических публикаций и другие виды издательской деятельности"]
[{"$f":"IF('Отрасли ОКВЭД'!$C2152<>\"\",'Отрасли ОКВЭД'!$C2152,'Отрасли ОКВЭД'!$B2152)","v":"58.11"},"J","58.11","Издание книг"]
[{"$f":"IF('Отрасли ОКВЭД'!$C2153<>\"\",'Отрасли ОКВЭД'!$C2153,'Отрасли ОКВЭД'!$B2153)","v":"58.11.1"},"J","58.11.1","Издание книг, брошюр, рекламных буклетов и аналогичных изданий, включая издание словарей и энциклопедий, в том числе для слепых, в печатном виде"]
[{"$f":"IF('Отрасли ОКВЭД'!$C2154<>\"\",'Отрасли ОКВЭД'!$C2154,'Отрасли ОКВЭД'!$B2154)","v":"58.11.2"},"J","58.11.2","Издание книг, брошюр, рекламных буклетов и аналогичных изданий, включая издание словарей и энциклопедий на электронных носителях"]
[{"$f":"IF('Отрасли ОКВЭД'!$C2155<>\"\",'Отрасли ОКВЭД'!$C2155,'Отрасли ОКВЭД'!$B2155)","v":"58.11.3"},"J","58.11.3","Издание атласов, карт и таблиц, в том числе для слепых, в печатном виде"]
[{"$f":"IF('Отрасли ОКВЭД'!$C2156<>\"\",'Отрасли ОКВЭД'!$C2156,'Отрасли ОКВЭД'!$B2156)","v":"58.11.4"},"J","58.11.4","Издание атласов, карт и таблиц на электронных носителях"]
[{"$f":"IF('Отрасли ОКВЭД'!$C2157<>\"\",'Отрасли ОКВЭД'!$C2157,'Отрасли ОКВЭД'!$B2157)","v":"58.12"},"J","58.12","Издание адресных справочников и списков адресатов"]
[{"$f":"IF('Отрасли ОКВЭД'!$C2158<>\"\",'Отрасли ОКВЭД'!$C2158,'Отрасли ОКВЭД'!$B2158)","v":"58.12.1"},"J","58.12.1","Издание справочников в печатном виде"]
[{"$f":"IF('Отрасли ОКВЭД'!$C2159<>\"\",'Отрасли ОКВЭД'!$C2159,'Отрасли ОКВЭД'!$B2159)","v":"58.12.2"},"J","58.12.2","Издание справочников на электронных носителях"]
[{"$f":"IF('Отрасли ОКВЭД'!$C2160<>\"\",'Отрасли ОКВЭД'!$C2160,'Отрасли ОКВЭД'!$B2160)","v":"58.13"},"J","58.13","Издание газет"]
[{"$f":"IF('Отрасли ОКВЭД'!$C2161<>\"\",'Отрасли ОКВЭД'!$C2161,'Отрасли ОКВЭД'!$B2161)","v":"58.13.1"},"J","58.13.1","Издание газет в печатном виде"]
[{"$f":"IF('Отрасли ОКВЭД'!$C2162<>\"\",'Отрасли ОКВЭД'!$C2162,'Отрасли ОКВЭД'!$B2162)","v":"58.13.2"},"J","58.13.2","Издание газет на электронных носителях"]
[{"$f":"IF('Отрасли ОКВЭД'!$C2163<>\"\",'Отрасли ОКВЭД'!$C2163,'Отрасли ОКВЭД'!$B2163)","v":"58.14"},"J","58.14","Издание журналов и периодических изданий"]
[{"$f":"IF('Отрасли ОКВЭД'!$C2164<>\"\",'Отрасли ОКВЭД'!$C2164,'Отрасли ОКВЭД'!$B2164)","v":"58.14.1"},"J","58.14.1","Издание журналов и периодических публикаций в печатном виде"]
[{"$f":"IF('Отрасли ОКВЭД'!$C2165<>\"\",'Отрасли ОКВЭД'!$C2165,'Отрасли ОКВЭД'!$B2165)","v":"58.14.2"},"J","58.14.2","Издание журналов и периодических публикаций на электронных носителях"]
[{"$f":"IF('Отрасли ОКВЭД'!$C2166<>\"\",'Отрасли ОКВЭД'!$C2166,'Отрасли ОКВЭД'!$B2166)","v":"58.19"},"J","58.19","Виды издательской деятельности прочие"]
[{"$f":"IF('Отрасли ОКВЭД'!$C2167<>\"\",'Отрасли ОКВЭД'!$C2167,'Отрасли ОКВЭД'!$B2167)","v":"58.2"},"J","58.2","Издание программного обеспечения"]
[{"$f":"IF('Отрасли ОКВЭД'!$C2168<>\"\",'Отрасли ОКВЭД'!$C2168,'Отрасли ОКВЭД'!$B2168)","v":"58.21"},"J","58.21","Издание компьютерных игр"]
[{"$f":"IF('Отрасли ОКВЭД'!$C2169<>\"\",'Отрасли ОКВЭД'!$C2169,'Отрасли ОКВЭД'!$B2169)","v":"58.29"},"J","58.29","Издание прочих программных продуктов"]
[{"$f":"IF('Отрасли ОКВЭД'!$C2170<>\"\",'Отрасли ОКВЭД'!$C2170,'Отрасли ОКВЭД'!$B2170)","v":"59"},"J","59","Производство кинофильмов, видеофильмов и телевизионных программ, издание звукозаписей и нот"]
[{"$f":"IF('Отрасли ОКВЭД'!$C2171<>\"\",'Отрасли ОКВЭД'!$C2171,'Отрасли ОКВЭД'!$B2171)","v":"59.1"},"J","59.1","Производство кинофильмов, видеофильмов и телевизионных программ"]
[{"$f":"IF('Отрасли ОКВЭД'!$C2172<>\"\",'Отрасли ОКВЭД'!$C2172,'Отрасли ОКВЭД'!$B2172)","v":"59.11"},"J","59.11","Производство кинофильмов, видеофильмов и телевизионных программ"]
[{"$f":"IF('Отрасли ОКВЭД'!$C2173<>\"\",'Отрасли ОКВЭД'!$C2173,'Отрасли ОКВЭД'!$B2173)","v":"59.12"},"J","59.12","Деятельность монтажно-компоновочная в области производства кинофильмов, видеофильмов и телевизионных программ"]
[{"$f":"IF('Отрасли ОКВЭД'!$C2174<>\"\",'Отрасли ОКВЭД'!$C2174,'Отрасли ОКВЭД'!$B2174)","v":"59.13"},"J","59.13","Деятельность по распространению кинофильмов, видеофильмов и телевизионных программ"]
[{"$f":"IF('Отрасли ОКВЭД'!$C2175<>\"\",'Отрасли ОКВЭД'!$C2175,'Отрасли ОКВЭД'!$B2175)","v":"59.14"},"J","59.14","Деятельность в области демонстрации кинофильмов"]
[{"$f":"IF('Отрасли ОКВЭД'!$C2176<>\"\",'Отрасли ОКВЭД'!$C2176,'Отрасли ОКВЭД'!$B2176)","v":"59.2"},"J","59.2","Деятельность в области звукозаписи и издания музыкальных произведений"]
[{"$f":"IF('Отрасли ОКВЭД'!$C2177<>\"\",'Отрасли ОКВЭД'!$C2177,'Отрасли ОКВЭД'!$B2177)","v":"59.20"},"J","59.20","Деятельность в области звукозаписи и издания музыкальных произведений"]
[{"$f":"IF('Отрасли ОКВЭД'!$C2178<>\"\",'Отрасли ОКВЭД'!$C2178,'Отрасли ОКВЭД'!$B2178)","v":"59.20.1"},"J","59.20.1","Издание аудиовизуальных произведений на магнитных, электронных и цифровых носителях"]
[{"$f":"IF('Отрасли ОКВЭД'!$C2179<>\"\",'Отрасли ОКВЭД'!$C2179,'Отрасли ОКВЭД'!$B2179)","v":"59.20.2"},"J","59.20.2","Деятельность студий звукозаписи"]
[{"$f":"IF('Отрасли ОКВЭД'!$C2180<>\"\",'Отрасли ОКВЭД'!$C2180,'Отрасли ОКВЭД'!$B2180)","v":"59.20.3"},"J","59.20.3","Издание музыкальных и нотных тетрадей, в том числе для слепых"]
[{"$f":"IF('Отрасли ОКВЭД'!$C2181<>\"\",'Отрасли ОКВЭД'!$C2181,'Отрасли ОКВЭД'!$B2181)","v":"60"},"J","60","Деятельность в области телевизионного и радиовещания"]
[{"$f":"IF('Отрасли ОКВЭД'!$C2182<>\"\",'Отрасли ОКВЭД'!$C2182,'Отрасли ОКВЭД'!$B2182)","v":"60.1"},"J","60.1","Деятельность в области радиовещания"]
[{"$f":"IF('Отрасли ОКВЭД'!$C2183<>\"\",'Отрасли ОКВЭД'!$C2183,'Отрасли ОКВЭД'!$B2183)","v":"60.10"},"J","60.10","Деятельность в области радиовещания"]
[{"$f":"IF('Отрасли ОКВЭД'!$C2184<>\"\",'Отрасли ОКВЭД'!$C2184,'Отрасли ОКВЭД'!$B2184)","v":"60.2"},"J","60.2","Деятельность в области телевизионного вещания"]
[{"$f":"IF('Отрасли ОКВЭД'!$C2185<>\"\",'Отрасли ОКВЭД'!$C2185,'Отрасли ОКВЭД'!$B2185)","v":"60.20"},"J","60.20","Деятельность в области телевизионного вещания"]
[{"$f":"IF('Отрасли ОКВЭД'!$C2186<>\"\",'Отрасли ОКВЭД'!$C2186,'Отрасли ОКВЭД'!$B2186)","v":"61"},"J","61","Деятельность в сфере телекоммуникаций"]
[{"$f":"IF('Отрасли ОКВЭД'!$C2187<>\"\",'Отрасли ОКВЭД'!$C2187,'Отрасли ОКВЭД'!$B2187)","v":"61.1"},"J","61.1","Деятельность в области связи на базе проводных технологий"]
[{"$f":"IF('Отрасли ОКВЭД'!$C2188<>\"\",'Отрасли ОКВЭД'!$C2188,'Отрасли ОКВЭД'!$B2188)","v":"61.10"},"J","61.10","Деятельность в области связи на базе проводных технологий"]
[{"$f":"IF('Отрасли ОКВЭД'!$C2189<>\"\",'Отрасли ОКВЭД'!$C2189,'Отрасли ОКВЭД'!$B2189)","v":"61.10.1"},"J","61.10.1","Деятельность по предоставлению услуг телефонной связи"]
[{"$f":"IF('Отрасли ОКВЭД'!$C2190<>\"\",'Отрасли ОКВЭД'!$C2190,'Отрасли ОКВЭД'!$B2190)","v":"61.10.2"},"J","61.10.2","Деятельность по предоставлению услуг по передаче данных для целей передачи голосовой информации (IР-телефония)"]
[{"$f":"IF('Отрасли ОКВЭД'!$C2191<>\"\",'Отрасли ОКВЭД'!$C2191,'Отрасли ОКВЭД'!$B2191)","v":"61.10.3"},"J","61.10.3","Деятельность по предоставлению услуг по передаче данных и услуг доступа к информационно-коммуникационной сети Интернет"]
[{"$f":"IF('Отрасли ОКВЭД'!$C2192<>\"\",'Отрасли ОКВЭД'!$C2192,'Отрасли ОКВЭД'!$B2192)","v":"61.10.4"},"J","61.10.4","Деятельность в области документальной электросвязи"]
[{"$f":"IF('Отрасли ОКВЭД'!$C2193<>\"\",'Отрасли ОКВЭД'!$C2193,'Отрасли ОКВЭД'!$B2193)","v":"61.10.5"},"J","61.10.5","Деятельность по трансляции телерадиоканалов по сетям кабельного телерадиовещания"]
[{"$f":"IF('Отрасли ОКВЭД'!$C2194<>\"\",'Отрасли ОКВЭД'!$C2194,'Отрасли ОКВЭД'!$B2194)","v":"61.10.6"},"J","61.10.6","Деятельность операторов связи по присоединению и пропуску трафика"]
[{"$f":"IF('Отрасли ОКВЭД'!$C2195<>\"\",'Отрасли ОКВЭД'!$C2195,'Отрасли ОКВЭД'!$B2195)","v":"61.10.8"},"J","61.10.8","Деятельность операторов связи по присоединению и пропуску международного трафика"]
[{"$f":"IF('Отрасли ОКВЭД'!$C2196<>\"\",'Отрасли ОКВЭД'!$C2196,'Отрасли ОКВЭД'!$B2196)","v":"61.10.9"},"J","61.10.9","Деятельность в области связи на базе проводных технологий прочая"]
[{"$f":"IF('Отрасли ОКВЭД'!$C2197<>\"\",'Отрасли ОКВЭД'!$C2197,'Отрасли ОКВЭД'!$B2197)","v":"61.2"},"J","61.2","Деятельность в области связи на базе беспроводных технологий"]
[{"$f":"IF('Отрасли ОКВЭД'!$C2198<>\"\",'Отрасли ОКВЭД'!$C2198,'Отрасли ОКВЭД'!$B2198)","v":"61.20"},"J","61.20","Деятельность в области связи на базе беспроводных технологий"]
[{"$f":"IF('Отрасли ОКВЭД'!$C2199<>\"\",'Отрасли ОКВЭД'!$C2199,'Отрасли ОКВЭД'!$B2199)","v":"61.20.1"},"J","61.20.1","Деятельность по предоставлению услуг подвижной связи для целей передачи голоса"]
[{"$f":"IF('Отрасли ОКВЭД'!$C2200<>\"\",'Отрасли ОКВЭД'!$C2200,'Отрасли ОКВЭД'!$B2200)","v":"61.20.2"},"J","61.20.2","Деятельность по предоставлению услуг подвижной связи для целей передачи данных"]
[{"$f":"IF('Отрасли ОКВЭД'!$C2201<>\"\",'Отрасли ОКВЭД'!$C2201,'Отрасли ОКВЭД'!$B2201)","v":"61.20.3"},"J","61.20.3","Деятельность по предоставлению услуг подвижной связи для доступа к информационно-коммуникационной сети Интернет"]
[{"$f":"IF('Отрасли ОКВЭД'!$C2202<>\"\",'Отрасли ОКВЭД'!$C2202,'Отрасли ОКВЭД'!$B2202)","v":"61.20.4"},"J","61.20.4","Деятельность по предоставлению услуг связи для целей открытого эфирного вещания"]
[{"$f":"IF('Отрасли ОКВЭД'!$C2203<>\"\",'Отрасли ОКВЭД'!$C2203,'Отрасли ОКВЭД'!$B2203)","v":"61.20.5"},"J","61.20.5","Деятельность по предоставлению услуг цифрового телерадиовещания на базе беспроводных технологий"]
[{"$f":"IF('Отрасли ОКВЭД'!$C2204<>\"\",'Отрасли ОКВЭД'!$C2204,'Отрасли ОКВЭД'!$B2204)","v":"61.3"},"J","61.3","Деятельность в области спутниковой связи"]
[{"$f":"IF('Отрасли ОКВЭД'!$C2205<>\"\",'Отрасли ОКВЭД'!$C2205,'Отрасли ОКВЭД'!$B2205)","v":"61.30"},"J","61.30","Деятельность в области спутниковой связи"]
[{"$f":"IF('Отрасли ОКВЭД'!$C2206<>\"\",'Отрасли ОКВЭД'!$C2206,'Отрасли ОКВЭД'!$B2206)","v":"61.30.1"},"J","61.30.1","Деятельность по предоставлению услуг доступа к информационно-коммуникационной сети Интернет оператором спутниковой связи"]
[{"$f":"IF('Отрасли ОКВЭД'!$C2207<>\"\",'Отрасли ОКВЭД'!$C2207,'Отрасли ОКВЭД'!$B2207)","v":"61.30.2"},"J","61.30.2","Деятельность по предоставлению услуг трансляции телерадиоканалов по сетям спутникового телерадиовещания"]
[{"$f":"IF('Отрасли ОКВЭД'!$C2208<>\"\",'Отрасли ОКВЭД'!$C2208,'Отрасли ОКВЭД'!$B2208)","v":"61.9"},"J","61.9","Деятельность в области телекоммуникаций прочая"]
[{"$f":"IF('Отрасли ОКВЭД'!$C2209<>\"\",'Отрасли ОКВЭД'!$C2209,'Отрасли ОКВЭД'!$B2209)","v":"61.90"},"J","61.90","Деятельность в области телекоммуникаций прочая"]
[{"$f":"IF('Отрасли ОКВЭД'!$C2210<>\"\",'Отрасли ОКВЭД'!$C2210,'Отрасли ОКВЭД'!$B2210)","v":"62"},"J","62","Разработка компьютерного программного обеспечения, консультационные услуги в данной области и другие сопутствующие услуги"]
[{"$f":"IF('Отрасли ОКВЭД'!$C2211<>\"\",'Отрасли ОКВЭД'!$C2211,'Отрасли ОКВЭД'!$B2211)","v":"62.0"},"J","62.0","Разработка компьютерного программного обеспечения, консультационные услуги в данной области и другие сопутствующие услуги"]
[{"$f":"IF('Отрасли ОКВЭД'!$C2212<>\"\",'Отрасли ОКВЭД'!$C2212,'Отрасли ОКВЭД'!$B2212)","v":"62.01"},"J","62.01","Разработка компьютерного программного обеспечения"]
[{"$f":"IF('Отрасли ОКВЭД'!$C2213<>\"\",'Отрасли ОКВЭД'!$C2213,'Отрасли ОКВЭД'!$B2213)","v":"62.02"},"J","62.02","Деятельность консультативная и работы в области компьютерных технологий"]
[{"$f":"IF('Отрасли ОКВЭД'!$C2214<>\"\",'Отрасли ОКВЭД'!$C2214,'Отрасли ОКВЭД'!$B2214)","v":"62.02.1"},"J","62.02.1","Деятельность по планированию, проектированию компьютерных систем"]
[{"$f":"IF('Отрасли ОКВЭД'!$C2215<>\"\",'Отрасли ОКВЭД'!$C2215,'Отрасли ОКВЭД'!$B2215)","v":"62.02.2"},"J","62.02.2","Деятельность по обследованию и экспертизе компьютерных систем"]
[{"$f":"IF('Отрасли ОКВЭД'!$C2216<>\"\",'Отрасли ОКВЭД'!$C2216,'Отрасли ОКВЭД'!$B2216)","v":"62.02.3"},"J","62.02.3","Деятельность по обучению пользователей"]
[{"$f":"IF('Отрасли ОКВЭД'!$C2217<>\"\",'Отрасли ОКВЭД'!$C2217,'Отрасли ОКВЭД'!$B2217)","v":"62.02.4"},"J","62.02.4","Деятельность по подготовке компьютерных систем к эксплуатации"]
[{"$f":"IF('Отрасли ОКВЭД'!$C2218<>\"\",'Отрасли ОКВЭД'!$C2218,'Отрасли ОКВЭД'!$B2218)","v":"62.02.9"},"J","62.02.9","Деятельность консультативная в области компьютерных технологий прочая"]
[{"$f":"IF('Отрасли ОКВЭД'!$C2219<>\"\",'Отрасли ОКВЭД'!$C2219,'Отрасли ОКВЭД'!$B2219)","v":"62.03"},"J","62.03","Деятельность по управлению компьютерным оборудованием"]
[{"$f":"IF('Отрасли ОКВЭД'!$C2220<>\"\",'Отрасли ОКВЭД'!$C2220,'Отрасли ОКВЭД'!$B2220)","v":"62.03.1"},"J","62.03.1","Деятельность по управлению компьютерными системами"]
[{"$f":"IF('Отрасли ОКВЭД'!$C2221<>\"\",'Отрасли ОКВЭД'!$C2221,'Отрасли ОКВЭД'!$B2221)","v":"62.03.11"},"J","62.03.11","Деятельность по управлению компьютерными системами непосредственно"]
[{"$f":"IF('Отрасли ОКВЭД'!$C2222<>\"\",'Отрасли ОКВЭД'!$C2222,'Отрасли ОКВЭД'!$B2222)","v":"62.03.12"},"J","62.03.12","Деятельность по управлению компьютерными системами дистанционно"]
[{"$f":"IF('Отрасли ОКВЭД'!$C2223<>\"\",'Отрасли ОКВЭД'!$C2223,'Отрасли ОКВЭД'!$B2223)","v":"62.03.13"},"J","62.03.13","Деятельность по сопровождению компьютерных систем"]
[{"$f":"IF('Отрасли ОКВЭД'!$C2224<>\"\",'Отрасли ОКВЭД'!$C2224,'Отрасли ОКВЭД'!$B2224)","v":"62.03.19"},"J","62.03.19","Деятельность по управлению компьютерным оборудованием прочая, не включенная в другие группировки"]
[{"$f":"IF('Отрасли ОКВЭД'!$C2225<>\"\",'Отрасли ОКВЭД'!$C2225,'Отрасли ОКВЭД'!$B2225)","v":"62.09"},"J","62.09","Деятельность, связанная с использованием вычислительной техники и информационных технологий, прочая"]
[{"$f":"IF('Отрасли ОКВЭД'!$C2226<>\"\",'Отрасли ОКВЭД'!$C2226,'Отрасли ОКВЭД'!$B2226)","v":"63"},"J","63","Деятельность в области информационных технологий"]
[{"$f":"IF('Отрасли ОКВЭД'!$C2227<>\"\",'Отрасли ОКВЭД'!$C2227,'Отрасли ОКВЭД'!$B2227)","v":"63.1"},"J","63.1","Деятельность по обработке данных, предоставление услуг по размещению информации, деятельность порталов в информационно-коммуникационной сети Интернет"]
[{"$f":"IF('Отрасли ОКВЭД'!$C2228<>\"\",'Отрасли ОКВЭД'!$C2228,'Отрасли ОКВЭД'!$B2228)","v":"63.11"},"J","63.11","Деятельность по обработке данных, предоставление услуг по размещению информации и связанная с этим деятельность"]
[{"$f":"IF('Отрасли ОКВЭД'!$C2229<>\"\",'Отрасли ОКВЭД'!$C2229,'Отрасли ОКВЭД'!$B2229)","v":"63.11.1"},"J","63.11.1","Деятельность по созданию и использованию баз данных и информационных ресурсов"]
[{"$f":"IF('Отрасли ОКВЭД'!$C2230<>\"\",'Отрасли ОКВЭД'!$C2230,'Отрасли ОКВЭД'!$B2230)","v":"63.11.9"},"J","63.11.9","Деятельность по предоставлению услуг по размещению информации прочая"]
[{"$f":"IF('Отрасли ОКВЭД'!$C2231<>\"\",'Отрасли ОКВЭД'!$C2231,'Отрасли ОКВЭД'!$B2231)","v":"63.12"},"J","63.12","Деятельность web-порталов"]
[{"$f":"IF('Отрасли ОКВЭД'!$C2232<>\"\",'Отрасли ОКВЭД'!$C2232,'Отрасли ОКВЭД'!$B2232)","v":"63.12.1"},"J","63.12.1","Деятельность сетевых изданий"]
[{"$f":"IF('Отрасли ОКВЭД'!$C2233<>\"\",'Отрасли ОКВЭД'!$C2233,'Отрасли ОКВЭД'!$B2233)","v":"63.9"},"J","63.9","Деятельность в области информационных услуг прочая"]
[{"$f":"IF('Отрасли ОКВЭД'!$C2234<>\"\",'Отрасли ОКВЭД'!$C2234,'Отрасли ОКВЭД'!$B2234)","v":"63.91"},"J","63.91","Деятельность информационных агентств"]
[{"$f":"IF('Отрасли ОКВЭД'!$C2235<>\"\",'Отрасли ОКВЭД'!$C2235,'Отрасли ОКВЭД'!$B2235)","v":"63.99"},"J","63.99","Деятельность информационных служб прочая, не включенная в другие группировки"]
[{"$f":"IF('Отрасли ОКВЭД'!$C2236<>\"\",'Отрасли ОКВЭД'!$C2236,'Отрасли ОКВЭД'!$B2236)","v":"63.99.1"},"J","63.99.1","Деятельность по оказанию консультационных и информационных услуг"]
[{"$f":"IF('Отрасли ОКВЭД'!$C2237<>\"\",'Отрасли ОКВЭД'!$C2237,'Отрасли ОКВЭД'!$B2237)","v":"63.99.11"},"J","63.99.11","Деятельность по оказанию компьютерных информационных услуг телефонной связи"]
[{"$f":"IF('Отрасли ОКВЭД'!$C2238<>\"\",'Отрасли ОКВЭД'!$C2238,'Отрасли ОКВЭД'!$B2238)","v":"63.99.12"},"J","63.99.12","Деятельность по оказанию услуг службами информационного поиска по договору или на платной основе"]
[{"$f":"IF('Отрасли ОКВЭД'!$C2239<>\"\",'Отрасли ОКВЭД'!$C2239,'Отрасли ОКВЭД'!$B2239)","v":"63.99.2"},"J","63.99.2","Деятельность по оказанию услуг по составлению обзоров новостей, услуг по подборке печатных изданий и подобной информации"]
[{"$f":"IF('Отрасли ОКВЭД'!$C2240<>\"\",'Отрасли ОКВЭД'!$C2240,'Отрасли ОКВЭД'!$B2240)","v":"K"},"K","","ДЕЯТЕЛЬНОСТЬ ФИНАНСОВАЯ И СТРАХОВАЯ"]
[{"$f":"IF('Отрасли ОКВЭД'!$C2241<>\"\",'Отрасли ОКВЭД'!$C2241,'Отрасли ОКВЭД'!$B2241)","v":"64"},"K","64","Деятельность по предоставлению финансовых услуг, кроме услуг по страхованию и пенсионному обеспечению"]
[{"$f":"IF('Отрасли ОКВЭД'!$C2242<>\"\",'Отрасли ОКВЭД'!$C2242,'Отрасли ОКВЭД'!$B2242)","v":"64.1"},"K","64.1","Денежное посредничество"]
[{"$f":"IF('Отрасли ОКВЭД'!$C2243<>\"\",'Отрасли ОКВЭД'!$C2243,'Отрасли ОКВЭД'!$B2243)","v":"64.11"},"K","64.11","Деятельность Центрального банка Российской Федерации (Банка России)"]
[{"$f":"IF('Отрасли ОКВЭД'!$C2244<>\"\",'Отрасли ОКВЭД'!$C2244,'Отрасли ОКВЭД'!$B2244)","v":"64.19"},"K","64.19","Денежное посредничество прочее"]
[{"$f":"IF('Отрасли ОКВЭД'!$C2245<>\"\",'Отрасли ОКВЭД'!$C2245,'Отрасли ОКВЭД'!$B2245)","v":"64.2"},"K","64.2","Деятельность холдинговых компаний"]
[{"$f":"IF('Отрасли ОКВЭД'!$C2246<>\"\",'Отрасли ОКВЭД'!$C2246,'Отрасли ОКВЭД'!$B2246)","v":"64.20"},"K","64.20","Деятельность холдинговых компаний"]
[{"$f":"IF('Отрасли ОКВЭД'!$C2247<>\"\",'Отрасли ОКВЭД'!$C2247,'Отрасли ОКВЭД'!$B2247)","v":"64.3"},"K","64.3","Деятельность инвестиционных фондов и аналогичных финансовых организаций"]
[{"$f":"IF('Отрасли ОКВЭД'!$C2248<>\"\",'Отрасли ОКВЭД'!$C2248,'Отрасли ОКВЭД'!$B2248)","v":"64.30"},"K","64.30","Деятельность инвестиционных фондов и аналогичных финансовых организаций"]
[{"$f":"IF('Отрасли ОКВЭД'!$C2249<>\"\",'Отрасли ОКВЭД'!$C2249,'Отрасли ОКВЭД'!$B2249)","v":"64.9"},"K","64.9","Деятельность по предоставлению прочих финансовых услуг, кроме услуг по страхованию и пенсионному обеспечению"]
[{"$f":"IF('Отрасли ОКВЭД'!$C2250<>\"\",'Отрасли ОКВЭД'!$C2250,'Отрасли ОКВЭД'!$B2250)","v":"64.91"},"K","64.91","Деятельность по финансовой аренде (лизингу/сублизингу)"]
[{"$f":"IF('Отрасли ОКВЭД'!$C2251<>\"\",'Отрасли ОКВЭД'!$C2251,'Отрасли ОКВЭД'!$B2251)","v":"64.91.1"},"K","64.91.1","Деятельность по финансовой аренде (лизингу/сублизингу) племенных животных"]
[{"$f":"IF('Отрасли ОКВЭД'!$C2252<>\"\",'Отрасли ОКВЭД'!$C2252,'Отрасли ОКВЭД'!$B2252)","v":"64.91.2"},"K","64.91.2","Деятельность по финансовой аренде (лизингу/сублизингу) в прочих областях, кроме племенных животных"]
[{"$f":"IF('Отрасли ОКВЭД'!$C2253<>\"\",'Отрасли ОКВЭД'!$C2253,'Отрасли ОКВЭД'!$B2253)","v":"64.92"},"K","64.92","Предоставление займов и прочих видов кредита"]
[{"$f":"IF('Отрасли ОКВЭД'!$C2254<>\"\",'Отрасли ОКВЭД'!$C2254,'Отрасли ОКВЭД'!$B2254)","v":"64.92.1"},"K","64.92.1","Деятельность по предоставлению потребительского кредита"]
[{"$f":"IF('Отрасли ОКВЭД'!$C2255<>\"\",'Отрасли ОКВЭД'!$C2255,'Отрасли ОКВЭД'!$B2255)","v":"64.92.2"},"K","64.92.2","Деятельность по предоставлению займов промышленности"]
[{"$f":"IF('Отрасли ОКВЭД'!$C2256<>\"\",'Отрасли ОКВЭД'!$C2256,'Отрасли ОКВЭД'!$B2256)","v":"64.92.3"},"K","64.92.3","Деятельность по предоставлению денежных ссуд под залог недвижимого имущества"]
[{"$f":"IF('Отрасли ОКВЭД'!$C2257<>\"\",'Отрасли ОКВЭД'!$C2257,'Отрасли ОКВЭД'!$B2257)","v":"64.92.4"},"K","64.92.4","Деятельность по предоставлению кредитов на покупку домов специализированными учреждениями, не принимающими депозиты"]
[{"$f":"IF('Отрасли ОКВЭД'!$C2258<>\"\",'Отрасли ОКВЭД'!$C2258,'Отрасли ОКВЭД'!$B2258)","v":"64.92.6"},"K","64.92.6","Деятельность по предоставлению ломбардами краткосрочных займов под залог движимого имущества"]
[{"$f":"IF('Отрасли ОКВЭД'!$C2259<>\"\",'Отрасли ОКВЭД'!$C2259,'Отрасли ОКВЭД'!$B2259)","v":"64.92.7"},"K","64.92.7","Деятельность микрофинансовая"]
[{"$f":"IF('Отрасли ОКВЭД'!$C2260<>\"\",'Отрасли ОКВЭД'!$C2260,'Отрасли ОКВЭД'!$B2260)","v":"64.99"},"K","64.99","Предоставление прочих финансовых услуг, кроме услуг по страхованию и пенсионному обеспечению, не включенных в другие группировки"]
[{"$f":"IF('Отрасли ОКВЭД'!$C2261<>\"\",'Отрасли ОКВЭД'!$C2261,'Отрасли ОКВЭД'!$B2261)","v":"64.99.1"},"K","64.99.1","Вложения в ценные бумаги"]
[{"$f":"IF('Отрасли ОКВЭД'!$C2262<>\"\",'Отрасли ОКВЭД'!$C2262,'Отрасли ОКВЭД'!$B2262)","v":"64.99.2"},"K","64.99.2","Деятельность дилерская"]
[{"$f":"IF('Отрасли ОКВЭД'!$C2263<>\"\",'Отрасли ОКВЭД'!$C2263,'Отрасли ОКВЭД'!$B2263)","v":"64.99.3"},"K","64.99.3","Капиталовложения в уставные капиталы, венчурное инвестирование, в том числе посредством инвестиционных компаний"]
[{"$f":"IF('Отрасли ОКВЭД'!$C2264<>\"\",'Отрасли ОКВЭД'!$C2264,'Отрасли ОКВЭД'!$B2264)","v":"64.99.4"},"K","64.99.4","Заключение свопов, опционов и других срочных сделок"]
[{"$f":"IF('Отрасли ОКВЭД'!$C2265<>\"\",'Отрасли ОКВЭД'!$C2265,'Отрасли ОКВЭД'!$B2265)","v":"64.99.5"},"K","64.99.5","Предоставление факторинговых услуг"]
[{"$f":"IF('Отрасли ОКВЭД'!$C2266<>\"\",'Отрасли ОКВЭД'!$C2266,'Отрасли ОКВЭД'!$B2266)","v":"64.99.6"},"K","64.99.6","Деятельность по финансовой взаимопомощи"]
[{"$f":"IF('Отрасли ОКВЭД'!$C2267<>\"\",'Отрасли ОКВЭД'!$C2267,'Отрасли ОКВЭД'!$B2267)","v":"64.99.7"},"K","64.99.7","Деятельность специализированного депозитария инвестиционных фондов, паевых инвестиционных фондов, негосударственных пенсионных фондов"]
[{"$f":"IF('Отрасли ОКВЭД'!$C2268<>\"\",'Отрасли ОКВЭД'!$C2268,'Отрасли ОКВЭД'!$B2268)","v":"64.99.8"},"K","64.99.8","Деятельность ипотечных агентов, управляющих ипотечным покрытием; деятельность специализированных депозитариев ипотечного покрытия"]
[{"$f":"IF('Отрасли ОКВЭД'!$C2269<>\"\",'Отрасли ОКВЭД'!$C2269,'Отрасли ОКВЭД'!$B2269)","v":"64.99.9"},"K","64.99.9","Деятельность жилищных накопительных кооперативов"]
[{"$f":"IF('Отрасли ОКВЭД'!$C2270<>\"\",'Отрасли ОКВЭД'!$C2270,'Отрасли ОКВЭД'!$B2270)","v":"65"},"K","65","Страхование, перестрахование, деятельность негосударственных пенсионных фондов, кроме обязательного социального обеспечения"]
[{"$f":"IF('Отрасли ОКВЭД'!$C2271<>\"\",'Отрасли ОКВЭД'!$C2271,'Отрасли ОКВЭД'!$B2271)","v":"65.1"},"K","65.1","Страхование"]
[{"$f":"IF('Отрасли ОКВЭД'!$C2272<>\"\",'Отрасли ОКВЭД'!$C2272,'Отрасли ОКВЭД'!$B2272)","v":"65.11"},"K","65.11","Страхование жизни"]
[{"$f":"IF('Отрасли ОКВЭД'!$C2273<>\"\",'Отрасли ОКВЭД'!$C2273,'Отрасли ОКВЭД'!$B2273)","v":"65.12"},"K","65.12","Страхование, кроме страхования жизни"]
[{"$f":"IF('Отрасли ОКВЭД'!$C2274<>\"\",'Отрасли ОКВЭД'!$C2274,'Отрасли ОКВЭД'!$B2274)","v":"65.12.1"},"K","65.12.1","Страхование медицинское"]
[{"$f":"IF('Отрасли ОКВЭД'!$C2275<>\"\",'Отрасли ОКВЭД'!$C2275,'Отрасли ОКВЭД'!$B2275)","v":"65.12.2"},"K","65.12.2","Страхование имущества"]
[{"$f":"IF('Отрасли ОКВЭД'!$C2276<>\"\",'Отрасли ОКВЭД'!$C2276,'Отрасли ОКВЭД'!$B2276)","v":"65.12.3"},"K","65.12.3","Страхование гражданской ответственности"]
[{"$f":"IF('Отрасли ОКВЭД'!$C2277<>\"\",'Отрасли ОКВЭД'!$C2277,'Отрасли ОКВЭД'!$B2277)","v":"65.12.4"},"K","65.12.4","Страхование от несчастных случаев и болезней"]
[{"$f":"IF('Отрасли ОКВЭД'!$C2278<>\"\",'Отрасли ОКВЭД'!$C2278,'Отрасли ОКВЭД'!$B2278)","v":"65.12.5"},"K","65.12.5","Страхование рисков"]
[{"$f":"IF('Отрасли ОКВЭД'!$C2279<>\"\",'Отрасли ОКВЭД'!$C2279,'Отрасли ОКВЭД'!$B2279)","v":"65.12.6"},"K","65.12.6","Страхование для путешественника, выезжающего за пределы постоянного проживания"]
[{"$f":"IF('Отрасли ОКВЭД'!$C2280<>\"\",'Отрасли ОКВЭД'!$C2280,'Отрасли ОКВЭД'!$B2280)","v":"65.12.9"},"K","65.12.9","Прочие виды страхования, не включенные в другие группировки"]
[{"$f":"IF('Отрасли ОКВЭД'!$C2281<>\"\",'Отрасли ОКВЭД'!$C2281,'Отрасли ОКВЭД'!$B2281)","v":"65.2"},"K","65.2","Перестрахование"]
[{"$f":"IF('Отрасли ОКВЭД'!$C2282<>\"\",'Отрасли ОКВЭД'!$C2282,'Отрасли ОКВЭД'!$B2282)","v":"65.20"},"K","65.20","Перестрахование"]
[{"$f":"IF('Отрасли ОКВЭД'!$C2283<>\"\",'Отрасли ОКВЭД'!$C2283,'Отрасли ОКВЭД'!$B2283)","v":"65.3"},"K","65.3","Деятельность негосударственных пенсионных фондов"]
[{"$f":"IF('Отрасли ОКВЭД'!$C2284<>\"\",'Отрасли ОКВЭД'!$C2284,'Отрасли ОКВЭД'!$B2284)","v":"65.30"},"K","65.30","Деятельность негосударственных пенсионных фондов"]
[{"$f":"IF('Отрасли ОКВЭД'!$C2285<>\"\",'Отрасли ОКВЭД'!$C2285,'Отрасли ОКВЭД'!$B2285)","v":"66"},"K","66","Деятельность вспомогательная в сфере финансовых услуг и страхования"]
[{"$f":"IF('Отрасли ОКВЭД'!$C2286<>\"\",'Отрасли ОКВЭД'!$C2286,'Отрасли ОКВЭД'!$B2286)","v":"66.1"},"K","66.1","Деятельность вспомогательная в сфере финансовых услуг, кроме страхования и пенсионного обеспечения"]
[{"$f":"IF('Отрасли ОКВЭД'!$C2287<>\"\",'Отрасли ОКВЭД'!$C2287,'Отрасли ОКВЭД'!$B2287)","v":"66.11"},"K","66.11","Управление финансовыми рынками"]
[{"$f":"IF('Отрасли ОКВЭД'!$C2288<>\"\",'Отрасли ОКВЭД'!$C2288,'Отрасли ОКВЭД'!$B2288)","v":"66.11.1"},"K","66.11.1","Деятельность по организации торговли на финансовых рынках"]
[{"$f":"IF('Отрасли ОКВЭД'!$C2289<>\"\",'Отрасли ОКВЭД'!$C2289,'Отрасли ОКВЭД'!$B2289)","v":"66.11.2"},"K","66.11.2","Управление и контроль за деятельностью фондовых, товарных, валютных и валютнофондовых бирж"]
[{"$f":"IF('Отрасли ОКВЭД'!$C2290<>\"\",'Отрасли ОКВЭД'!$C2290,'Отрасли ОКВЭД'!$B2290)","v":"66.11.3"},"K","66.11.3","Деятельность регистраторов по ведению реестра владельцев ценных бумаг"]
[{"$f":"IF('Отрасли ОКВЭД'!$C2291<>\"\",'Отрасли ОКВЭД'!$C2291,'Отрасли ОКВЭД'!$B2291)","v":"66.11.4"},"K","66.11.4","Деятельность по обеспечению эффективности функционирования финансовых рынков"]
[{"$f":"IF('Отрасли ОКВЭД'!$C2292<>\"\",'Отрасли ОКВЭД'!$C2292,'Отрасли ОКВЭД'!$B2292)","v":"66.11.5"},"K","66.11.5","Деятельность по определению взаимных обязательств (клиринг)"]
[{"$f":"IF('Отрасли ОКВЭД'!$C2293<>\"\",'Отрасли ОКВЭД'!$C2293,'Отрасли ОКВЭД'!$B2293)","v":"66.12"},"K","66.12","Деятельность брокерская по сделкам с ценными бумагами и товарами"]
[{"$f":"IF('Отрасли ОКВЭД'!$C2294<>\"\",'Отрасли ОКВЭД'!$C2294,'Отрасли ОКВЭД'!$B2294)","v":"66.12.1"},"K","66.12.1","Деятельность биржевых посредников и биржевых брокеров, совершающих товарные фьючерсные и опционные сделки в биржевой торговле"]
[{"$f":"IF('Отрасли ОКВЭД'!$C2295<>\"\",'Отрасли ОКВЭД'!$C2295,'Отрасли ОКВЭД'!$B2295)","v":"66.12.2"},"K","66.12.2","Деятельность по управлению ценными бумагами"]
[{"$f":"IF('Отрасли ОКВЭД'!$C2296<>\"\",'Отрасли ОКВЭД'!$C2296,'Отрасли ОКВЭД'!$B2296)","v":"66.12.3"},"K","66.12.3","Деятельность эмиссионная"]
[{"$f":"IF('Отрасли ОКВЭД'!$C2297<>\"\",'Отрасли ОКВЭД'!$C2297,'Отрасли ОКВЭД'!$B2297)","v":"66.19"},"K","66.19","Деятельность вспомогательная прочая в сфере финансовых услуг, кроме страхования и пенсионного обеспечения"]
[{"$f":"IF('Отрасли ОКВЭД'!$C2298<>\"\",'Отрасли ОКВЭД'!$C2298,'Отрасли ОКВЭД'!$B2298)","v":"66.19.1"},"K","66.19.1","Деятельность по предоставлению брокерских услуг по ипотечным операциям"]
[{"$f":"IF('Отрасли ОКВЭД'!$C2299<>\"\",'Отрасли ОКВЭД'!$C2299,'Отрасли ОКВЭД'!$B2299)","v":"66.19.3"},"K","66.19.3","Деятельность по предоставлению услуг по обработке наличных денег"]
[{"$f":"IF('Отрасли ОКВЭД'!$C2300<>\"\",'Отрасли ОКВЭД'!$C2300,'Отрасли ОКВЭД'!$B2300)","v":"66.19.4"},"K","66.19.4","Деятельность по предоставлению консультационных услуг по вопросам финансового посредничества"]
[{"$f":"IF('Отрасли ОКВЭД'!$C2301<>\"\",'Отрасли ОКВЭД'!$C2301,'Отрасли ОКВЭД'!$B2301)","v":"66.19.5"},"K","66.19.5","Предоставление услуг по хранению ценностей, депозитарная деятельность"]
[{"$f":"IF('Отрасли ОКВЭД'!$C2302<>\"\",'Отрасли ОКВЭД'!$C2302,'Отрасли ОКВЭД'!$B2302)","v":"66.19.6"},"K","66.19.6","Деятельность по приему платежей физических лиц платежными агентами"]
[{"$f":"IF('Отрасли ОКВЭД'!$C2303<>\"\",'Отрасли ОКВЭД'!$C2303,'Отрасли ОКВЭД'!$B2303)","v":"66.19.61"},"K","66.19.61","Деятельность операторов по приему платежей физических лиц"]
[{"$f":"IF('Отрасли ОКВЭД'!$C2304<>\"\",'Отрасли ОКВЭД'!$C2304,'Отрасли ОКВЭД'!$B2304)","v":"66.19.62"},"K","66.19.62","Деятельность платежных субагентов по приему платежей физических лиц"]
[{"$f":"IF('Отрасли ОКВЭД'!$C2305<>\"\",'Отрасли ОКВЭД'!$C2305,'Отрасли ОКВЭД'!$B2305)","v":"66.2"},"K","66.2","Деятельность вспомогательная в сфере страхования и пенсионного обеспечения"]
[{"$f":"IF('Отрасли ОКВЭД'!$C2306<>\"\",'Отрасли ОКВЭД'!$C2306,'Отрасли ОКВЭД'!$B2306)","v":"66.21"},"K","66.21","Оценка рисков и ущерба"]
[{"$f":"IF('Отрасли ОКВЭД'!$C2307<>\"\",'Отрасли ОКВЭД'!$C2307,'Отрасли ОКВЭД'!$B2307)","v":"66.22"},"K","66.22","Деятельность страховых агентов и брокеров"]
[{"$f":"IF('Отрасли ОКВЭД'!$C2308<>\"\",'Отрасли ОКВЭД'!$C2308,'Отрасли ОКВЭД'!$B2308)","v":"66.29"},"K","66.29","Деятельность вспомогательная прочая в сфере страхования и пенсионного обеспечения"]
[{"$f":"IF('Отрасли ОКВЭД'!$C2309<>\"\",'Отрасли ОКВЭД'!$C2309,'Отрасли ОКВЭД'!$B2309)","v":"66.29.1"},"K","66.29.1","Деятельность страховых актуариев"]
[{"$f":"IF('Отрасли ОКВЭД'!$C2310<>\"\",'Отрасли ОКВЭД'!$C2310,'Отрасли ОКВЭД'!$B2310)","v":"66.29.2"},"K","66.29.2","Деятельность распорядителей спасательными работами"]
[{"$f":"IF('Отрасли ОКВЭД'!$C2311<>\"\",'Отрасли ОКВЭД'!$C2311,'Отрасли ОКВЭД'!$B2311)","v":"66.29.9"},"K","66.29.9","Деятельность вспомогательная прочая в сфере страхования, кроме обязательного социального страхования"]
[{"$f":"IF('Отрасли ОКВЭД'!$C2312<>\"\",'Отрасли ОКВЭД'!$C2312,'Отрасли ОКВЭД'!$B2312)","v":"66.3"},"K","66.3","Деятельность по управлению фондами"]
[{"$f":"IF('Отрасли ОКВЭД'!$C2313<>\"\",'Отрасли ОКВЭД'!$C2313,'Отрасли ОКВЭД'!$B2313)","v":"66.30"},"K","66.30","Деятельность по управлению фондами"]
[{"$f":"IF('Отрасли ОКВЭД'!$C2314<>\"\",'Отрасли ОКВЭД'!$C2314,'Отрасли ОКВЭД'!$B2314)","v":"66.30.1"},"K","66.30.1","Управление инвестиционными фондами"]
[{"$f":"IF('Отрасли ОКВЭД'!$C2315<>\"\",'Отрасли ОКВЭД'!$C2315,'Отрасли ОКВЭД'!$B2315)","v":"66.30.2"},"K","66.30.2","Управление фондами денежного рынка"]
[{"$f":"IF('Отрасли ОКВЭД'!$C2316<>\"\",'Отрасли ОКВЭД'!$C2316,'Отрасли ОКВЭД'!$B2316)","v":"66.30.3"},"K","66.30.3","Управление пенсионными накоплениями негосударственных пенсионных фондов"]
[{"$f":"IF('Отрасли ОКВЭД'!$C2317<>\"\",'Отрасли ОКВЭД'!$C2317,'Отрасли ОКВЭД'!$B2317)","v":"66.30.4"},"K","66.30.4","Управление пенсионными резервами негосударственных пенсионных фондов"]
[{"$f":"IF('Отрасли ОКВЭД'!$C2318<>\"\",'Отрасли ОКВЭД'!$C2318,'Отрасли ОКВЭД'!$B2318)","v":"66.30.5"},"K","66.30.5","Управление страховыми резервами субъектов страхового дела"]
[{"$f":"IF('Отрасли ОКВЭД'!$C2319<>\"\",'Отрасли ОКВЭД'!$C2319,'Отрасли ОКВЭД'!$B2319)","v":"66.30.6"},"K","66.30.6","Управление на основе индивидуальных договоров доверительного управления активами"]
[{"$f":"IF('Отрасли ОКВЭД'!$C2320<>\"\",'Отрасли ОКВЭД'!$C2320,'Отрасли ОКВЭД'!$B2320)","v":"66.30.9"},"K","66.30.9","Другие виды деятельности по управлению активами"]
[{"$f":"IF('Отрасли ОКВЭД'!$C2321<>\"\",'Отрасли ОКВЭД'!$C2321,'Отрасли ОКВЭД'!$B2321)","v":"L"},"L","","ДЕЯТЕЛЬНОСТЬ ПО ОПЕРАЦИЯМ С НЕДВИЖИМЫМ ИМУЩЕСТВОМ"]
[{"$f":"IF('Отрасли ОКВЭД'!$C2322<>\"\",'Отрасли ОКВЭД'!$C2322,'Отрасли ОКВЭД'!$B2322)","v":"68"},"L","68","Операции с недвижимым имуществом"]
[{"$f":"IF('Отрасли ОКВЭД'!$C2323<>\"\",'Отрасли ОКВЭД'!$C2323,'Отрасли ОКВЭД'!$B2323)","v":"68.1"},"L","68.1","Покупка и продажа собственного недвижимого имущества"]
[{"$f":"IF('Отрасли ОКВЭД'!$C2324<>\"\",'Отрасли ОКВЭД'!$C2324,'Отрасли ОКВЭД'!$B2324)","v":"68.10"},"L","68.10","Покупка и продажа собственного недвижимого имущества"]
[{"$f":"IF('Отрасли ОКВЭД'!$C2325<>\"\",'Отрасли ОКВЭД'!$C2325,'Отрасли ОКВЭД'!$B2325)","v":"68.10.1"},"L","68.10.1","Подготовка к продаже собственного недвижимого имущества"]
[{"$f":"IF('Отрасли ОКВЭД'!$C2326<>\"\",'Отрасли ОКВЭД'!$C2326,'Отрасли ОКВЭД'!$B2326)","v":"68.10.11"},"L","68.10.11","Подготовка к продаже собственного жилого недвижимого имущества"]
[{"$f":"IF('Отрасли ОКВЭД'!$C2327<>\"\",'Отрасли ОКВЭД'!$C2327,'Отрасли ОКВЭД'!$B2327)","v":"68.10.12"},"L","68.10.12","Подготовка к продаже собственного нежилого недвижимого имущества"]
[{"$f":"IF('Отрасли ОКВЭД'!$C2328<>\"\",'Отрасли ОКВЭД'!$C2328,'Отрасли ОКВЭД'!$B2328)","v":"68.10.2"},"L","68.10.2","Покупка и продажа собственного недвижимого имущества"]
[{"$f":"IF('Отрасли ОКВЭД'!$C2329<>\"\",'Отрасли ОКВЭД'!$C2329,'Отрасли ОКВЭД'!$B2329)","v":"68.10.21"},"L","68.10.21","Покупка и продажа собственного жилого недвижимого имущества"]
[{"$f":"IF('Отрасли ОКВЭД'!$C2330<>\"\",'Отрасли ОКВЭД'!$C2330,'Отрасли ОКВЭД'!$B2330)","v":"68.10.22"},"L","68.10.22","Покупка и продажа собственных нежилых зданий и помещений"]
[{"$f":"IF('Отрасли ОКВЭД'!$C2331<>\"\",'Отрасли ОКВЭД'!$C2331,'Отрасли ОКВЭД'!$B2331)","v":"68.10.23"},"L","68.10.23","Покупка и продажа земельных участков"]
[{"$f":"IF('Отрасли ОКВЭД'!$C2332<>\"\",'Отрасли ОКВЭД'!$C2332,'Отрасли ОКВЭД'!$B2332)","v":"68.2"},"L","68.2","Аренда и управление собственным или арендованным недвижимым имуществом"]
[{"$f":"IF('Отрасли ОКВЭД'!$C2333<>\"\",'Отрасли ОКВЭД'!$C2333,'Отрасли ОКВЭД'!$B2333)","v":"68.20"},"L","68.20","Аренда и управление собственным или арендованным недвижимым имуществом"]
[{"$f":"IF('Отрасли ОКВЭД'!$C2334<>\"\",'Отрасли ОКВЭД'!$C2334,'Отрасли ОКВЭД'!$B2334)","v":"68.20.1"},"L","68.20.1","Аренда и управление собственным или арендованным жилым недвижимым имуществом"]
[{"$f":"IF('Отрасли ОКВЭД'!$C2335<>\"\",'Отрасли ОКВЭД'!$C2335,'Отрасли ОКВЭД'!$B2335)","v":"68.20.2"},"L","68.20.2","Аренда и управление собственным или арендованным нежилым недвижимым имуществом"]
[{"$f":"IF('Отрасли ОКВЭД'!$C2336<>\"\",'Отрасли ОКВЭД'!$C2336,'Отрасли ОКВЭД'!$B2336)","v":"68.3"},"L","68.3","Операции с недвижимым имуществом за вознаграждение или на договорной основе"]
[{"$f":"IF('Отрасли ОКВЭД'!$C2337<>\"\",'Отрасли ОКВЭД'!$C2337,'Отрасли ОКВЭД'!$B2337)","v":"68.31"},"L","68.31","Деятельность агентств недвижимости за вознаграждение или на договорной основе"]
[{"$f":"IF('Отрасли ОКВЭД'!$C2338<>\"\",'Отрасли ОКВЭД'!$C2338,'Отрасли ОКВЭД'!$B2338)","v":"68.31.1"},"L","68.31.1","Предоставление посреднических услуг при купле-продаже недвижимого имущества за вознаграждение или на договорной основе"]
[{"$f":"IF('Отрасли ОКВЭД'!$C2339<>\"\",'Отрасли ОКВЭД'!$C2339,'Отрасли ОКВЭД'!$B2339)","v":"68.31.11"},"L","68.31.11","Предоставление посреднических услуг при купле-продаже жилого недвижимого имущества за вознаграждение или на договорной основе"]
[{"$f":"IF('Отрасли ОКВЭД'!$C2340<>\"\",'Отрасли ОКВЭД'!$C2340,'Отрасли ОКВЭД'!$B2340)","v":"68.31.12"},"L","68.31.12","Предоставление посреднических услуг при купле-продаже нежилого недвижимого имущества за вознаграждение или на договорной основе"]
[{"$f":"IF('Отрасли ОКВЭД'!$C2341<>\"\",'Отрасли ОКВЭД'!$C2341,'Отрасли ОКВЭД'!$B2341)","v":"68.31.2"},"L","68.31.2","Предоставление посреднических услуг по аренде недвижимого имущества за вознаграждение или на договорной основе"]
[{"$f":"IF('Отрасли ОКВЭД'!$C2342<>\"\",'Отрасли ОКВЭД'!$C2342,'Отрасли ОКВЭД'!$B2342)","v":"68.31.21"},"L","68.31.21","Предоставление посреднических услуг по аренде жилого недвижимого имущества за вознаграждение или на договорной основе"]
[{"$f":"IF('Отрасли ОКВЭД'!$C2343<>\"\",'Отрасли ОКВЭД'!$C2343,'Отрасли ОКВЭД'!$B2343)","v":"68.31.22"},"L","68.31.22","Предоставление посреднических услуг по аренде нежилого недвижимого имущества за вознаграждение или на договорной основе"]
[{"$f":"IF('Отрасли ОКВЭД'!$C2344<>\"\",'Отрасли ОКВЭД'!$C2344,'Отрасли ОКВЭД'!$B2344)","v":"68.31.3"},"L","68.31.3","Предоставление консультационных услуг при купле-продаже недвижимого имущества за вознаграждение или на договорной основе"]
[{"$f":"IF('Отрасли ОКВЭД'!$C2345<>\"\",'Отрасли ОКВЭД'!$C2345,'Отрасли ОКВЭД'!$B2345)","v":"68.31.31"},"L","68.31.31","Предоставление консультационных услуг при купле-продаже жилого недвижимого имущества за вознаграждение или на договорной основе"]
[{"$f":"IF('Отрасли ОКВЭД'!$C2346<>\"\",'Отрасли ОКВЭД'!$C2346,'Отрасли ОКВЭД'!$B2346)","v":"68.31.32"},"L","68.31.32","Предоставление консультационных услуг при купле-продаже нежилого недвижимого имущества за вознаграждение или на договорной основе"]
[{"$f":"IF('Отрасли ОКВЭД'!$C2347<>\"\",'Отрасли ОКВЭД'!$C2347,'Отрасли ОКВЭД'!$B2347)","v":"68.31.4"},"L","68.31.4","Предоставление консультационных услуг по аренде недвижимого имущества за вознаграждение или на договорной основе"]
[{"$f":"IF('Отрасли ОКВЭД'!$C2348<>\"\",'Отрасли ОКВЭД'!$C2348,'Отрасли ОКВЭД'!$B2348)","v":"68.31.41"},"L","68.31.41","Предоставление консультационных услуг по аренде жилого недвижимого имущества за вознаграждение или на договорной основе"]
[{"$f":"IF('Отрасли ОКВЭД'!$C2349<>\"\",'Отрасли ОКВЭД'!$C2349,'Отрасли ОКВЭД'!$B2349)","v":"68.31.42"},"L","68.31.42","Предоставление консультационных услуг по аренде нежилого недвижимого имущества за вознаграждение или на договорной основе"]
[{"$f":"IF('Отрасли ОКВЭД'!$C2350<>\"\",'Отрасли ОКВЭД'!$C2350,'Отрасли ОКВЭД'!$B2350)","v":"68.31.5"},"L","68.31.5","Предоставление посреднических услуг при оценке недвижимого имущества за вознаграждение или на договорной основе"]
[{"$f":"IF('Отрасли ОКВЭД'!$C2351<>\"\",'Отрасли ОКВЭД'!$C2351,'Отрасли ОКВЭД'!$B2351)","v":"68.31.51"},"L","68.31.51","Предоставление посреднических услуг при оценке жилого недвижимого имущества за вознаграждение или на договорной основе"]
[{"$f":"IF('Отрасли ОКВЭД'!$C2352<>\"\",'Отрасли ОКВЭД'!$C2352,'Отрасли ОКВЭД'!$B2352)","v":"68.31.52"},"L","68.31.52","Предоставление посреднических услуг при оценке нежилого недвижимого имущества за вознаграждение или на договорной основе"]
[{"$f":"IF('Отрасли ОКВЭД'!$C2353<>\"\",'Отрасли ОКВЭД'!$C2353,'Отрасли ОКВЭД'!$B2353)","v":"68.32"},"L","68.32","Управление недвижимым имуществом за вознаграждение или на договорной основе"]
[{"$f":"IF('Отрасли ОКВЭД'!$C2354<>\"\",'Отрасли ОКВЭД'!$C2354,'Отрасли ОКВЭД'!$B2354)","v":"68.32.1"},"L","68.32.1","Управление эксплуатацией жилого фонда за вознаграждение или на договорной основе"]
[{"$f":"IF('Отрасли ОКВЭД'!$C2355<>\"\",'Отрасли ОКВЭД'!$C2355,'Отрасли ОКВЭД'!$B2355)","v":"68.32.2"},"L","68.32.2","Управление эксплуатацией нежилого фонда за вознаграждение или на договорной основе"]
[{"$f":"IF('Отрасли ОКВЭД'!$C2356<>\"\",'Отрасли ОКВЭД'!$C2356,'Отрасли ОКВЭД'!$B2356)","v":"68.32.3"},"L","68.32.3","Деятельность по технической инвентаризации недвижимого имущества"]
[{"$f":"IF('Отрасли ОКВЭД'!$C2357<>\"\",'Отрасли ОКВЭД'!$C2357,'Отрасли ОКВЭД'!$B2357)","v":"M"},"M","","ДЕЯТЕЛЬНОСТЬ ПРОФЕССИОНАЛЬНАЯ, НАУЧНАЯ И ТЕХНИЧЕСКАЯ"]
[{"$f":"IF('Отрасли ОКВЭД'!$C2358<>\"\",'Отрасли ОКВЭД'!$C2358,'Отрасли ОКВЭД'!$B2358)","v":"69"},"M","69","Деятельность в области права и бухгалтерского учета"]
[{"$f":"IF('Отрасли ОКВЭД'!$C2359<>\"\",'Отрасли ОКВЭД'!$C2359,'Отрасли ОКВЭД'!$B2359)","v":"69.1"},"M","69.1","Деятельность в области права"]
[{"$f":"IF('Отрасли ОКВЭД'!$C2360<>\"\",'Отрасли ОКВЭД'!$C2360,'Отрасли ОКВЭД'!$B2360)","v":"69.10"},"M","69.10","Деятельность в области права"]
[{"$f":"IF('Отрасли ОКВЭД'!$C2361<>\"\",'Отрасли ОКВЭД'!$C2361,'Отрасли ОКВЭД'!$B2361)","v":"69.2"},"M","69.2","Деятельность по оказанию услуг в области бухгалтерского учета, по проведению финансового аудита, по налоговому консультированию"]
[{"$f":"IF('Отрасли ОКВЭД'!$C2362<>\"\",'Отрасли ОКВЭД'!$C2362,'Отрасли ОКВЭД'!$B2362)","v":"69.20"},"M","69.20","Деятельность по оказанию услуг в области бухгалтерского учета, по проведению финансового аудита, по налоговому консультированию"]
[{"$f":"IF('Отрасли ОКВЭД'!$C2363<>\"\",'Отрасли ОКВЭД'!$C2363,'Отрасли ОКВЭД'!$B2363)","v":"69.20.1"},"M","69.20.1","Деятельность по проведению финансового аудита"]
[{"$f":"IF('Отрасли ОКВЭД'!$C2364<>\"\",'Отрасли ОКВЭД'!$C2364,'Отрасли ОКВЭД'!$B2364)","v":"69.20.2"},"M","69.20.2","Деятельность по оказанию услуг в области бухгалтерского учета"]
[{"$f":"IF('Отрасли ОКВЭД'!$C2365<>\"\",'Отрасли ОКВЭД'!$C2365,'Отрасли ОКВЭД'!$B2365)","v":"69.20.3"},"M","69.20.3","Деятельность области налогового консультирования"]
[{"$f":"IF('Отрасли ОКВЭД'!$C2366<>\"\",'Отрасли ОКВЭД'!$C2366,'Отрасли ОКВЭД'!$B2366)","v":"70"},"M","70","Деятельность головных офисов; консультирование по вопросам управления"]
[{"$f":"IF('Отрасли ОКВЭД'!$C2367<>\"\",'Отрасли ОКВЭД'!$C2367,'Отрасли ОКВЭД'!$B2367)","v":"70.1"},"M","70.1","Деятельность головных офисов"]
[{"$f":"IF('Отрасли ОКВЭД'!$C2368<>\"\",'Отрасли ОКВЭД'!$C2368,'Отрасли ОКВЭД'!$B2368)","v":"70.10"},"M","70.10","Деятельность головных офисов"]
[{"$f":"IF('Отрасли ОКВЭД'!$C2369<>\"\",'Отрасли ОКВЭД'!$C2369,'Отрасли ОКВЭД'!$B2369)","v":"70.10.1"},"M","70.10.1","Деятельность по управлению финансово-промышленными группами"]
[{"$f":"IF('Отрасли ОКВЭД'!$C2370<>\"\",'Отрасли ОКВЭД'!$C2370,'Отрасли ОКВЭД'!$B2370)","v":"70.10.2"},"M","70.10.2","Деятельность по управлению холдинг-компаниями"]
[{"$f":"IF('Отрасли ОКВЭД'!$C2371<>\"\",'Отрасли ОКВЭД'!$C2371,'Отрасли ОКВЭД'!$B2371)","v":"70.2"},"M","70.2","Консультирование по вопросам управления"]
[{"$f":"IF('Отрасли ОКВЭД'!$C2372<>\"\",'Отрасли ОКВЭД'!$C2372,'Отрасли ОКВЭД'!$B2372)","v":"70.21"},"M","70.21","Деятельность в сфере связей с общественностью"]
[{"$f":"IF('Отрасли ОКВЭД'!$C2373<>\"\",'Отрасли ОКВЭД'!$C2373,'Отрасли ОКВЭД'!$B2373)","v":"70.22"},"M","70.22","Консультирование по вопросам коммерческой деятельности и управления"]
[{"$f":"IF('Отрасли ОКВЭД'!$C2374<>\"\",'Отрасли ОКВЭД'!$C2374,'Отрасли ОКВЭД'!$B2374)","v":"71"},"M","71","Деятельность в области архитектуры и инженерно-технического проектирования; технических испытаний, исследований и анализа"]
[{"$f":"IF('Отрасли ОКВЭД'!$C2375<>\"\",'Отрасли ОКВЭД'!$C2375,'Отрасли ОКВЭД'!$B2375)","v":"71.1"},"M","71.1","Деятельность в области архитектуры, инженерных изысканий и предоставление технических консультаций в этих областях"]
[{"$f":"IF('Отрасли ОКВЭД'!$C2376<>\"\",'Отрасли ОКВЭД'!$C2376,'Отрасли ОКВЭД'!$B2376)","v":"71.11"},"M","71.11","Деятельность в области архитектуры"]
[{"$f":"IF('Отрасли ОКВЭД'!$C2377<>\"\",'Отрасли ОКВЭД'!$C2377,'Отрасли ОКВЭД'!$B2377)","v":"71.11.1"},"M","71.11.1","Деятельность в области архитектуры, связанная с созданием архитектурного объекта"]
[{"$f":"IF('Отрасли ОКВЭД'!$C2378<>\"\",'Отрасли ОКВЭД'!$C2378,'Отрасли ОКВЭД'!$B2378)","v":"71.11.2"},"M","71.11.2","Деятельность по территориальному планированию и планировке территории"]
[{"$f":"IF('Отрасли ОКВЭД'!$C2379<>\"\",'Отрасли ОКВЭД'!$C2379,'Отрасли ОКВЭД'!$B2379)","v":"71.11.3"},"M","71.11.3","Деятельность в области ландшафтной архитектуры и консультативные услуги в области архитектуры"]
[{"$f":"IF('Отрасли ОКВЭД'!$C2380<>\"\",'Отрасли ОКВЭД'!$C2380,'Отрасли ОКВЭД'!$B2380)","v":"71.12"},"M","71.12","Деятельность в области инженерных изысканий, инженерно-технического проектирования, управления проектами строительства, выполнения строительного контроля и авторского надзора, предоставление технических консультаций в этих областях"]
[{"$f":"IF('Отрасли ОКВЭД'!$C2381<>\"\",'Отрасли ОКВЭД'!$C2381,'Отрасли ОКВЭД'!$B2381)","v":"71.12.1"},"M","71.12.1","Деятельность, связанная с инженерно-техническим проектированием, управлением проектами строительства, выполнением строительного контроля и авторского надзора"]
[{"$f":"IF('Отрасли ОКВЭД'!$C2382<>\"\",'Отрасли ОКВЭД'!$C2382,'Отрасли ОКВЭД'!$B2382)","v":"71.12.11"},"M","71.12.11","Разработка проектов тепло-, водо-, газоснабжения"]
[{"$f":"IF('Отрасли ОКВЭД'!$C2383<>\"\",'Отрасли ОКВЭД'!$C2383,'Отрасли ОКВЭД'!$B2383)","v":"71.12.12"},"M","71.12.12","Разработка проектов промышленных процессов и производств, относящихся к электротехнике, электронной технике, горному делу, химической технологии, машиностроению, а также в области промышленного строительства, системотехники и техники безопасности"]
[{"$f":"IF('Отрасли ОКВЭД'!$C2384<>\"\",'Отрасли ОКВЭД'!$C2384,'Отрасли ОКВЭД'!$B2384)","v":"71.12.13"},"M","71.12.13","Разработка проектов по кондиционированию воздуха, холодильной технике, санитарной технике и мониторингу загрязнения окружающей среды, строительной акустике"]
[{"$f":"IF('Отрасли ОКВЭД'!$C2385<>\"\",'Отрасли ОКВЭД'!$C2385,'Отрасли ОКВЭД'!$B2385)","v":"71.12.14"},"M","71.12.14","Разработка инженерно-технических проектов и контроль при строительстве и модернизации объектов использования атомной энергии"]
[{"$f":"IF('Отрасли ОКВЭД'!$C2386<>\"\",'Отрасли ОКВЭД'!$C2386,'Отрасли ОКВЭД'!$B2386)","v":"71.12.2"},"M","71.12.2","Деятельность заказчика-застройщика, генерального подрядчика"]
[{"$f":"IF('Отрасли ОКВЭД'!$C2387<>\"\",'Отрасли ОКВЭД'!$C2387,'Отрасли ОКВЭД'!$B2387)","v":"71.12.3"},"M","71.12.3","Работы геолого-разведочные, геофизические и геохимические в области изучения недр и воспроизводства минерально-сырьевой базы"]
[{"$f":"IF('Отрасли ОКВЭД'!$C2388<>\"\",'Отрасли ОКВЭД'!$C2388,'Отрасли ОКВЭД'!$B2388)","v":"71.12.4"},"M","71.12.4","Деятельность геодезическая и картографическая"]
[{"$f":"IF('Отрасли ОКВЭД'!$C2389<>\"\",'Отрасли ОКВЭД'!$C2389,'Отрасли ОКВЭД'!$B2389)","v":"71.12.41"},"M","71.12.41","Деятельность топографо-геодезическая"]
[{"$f":"IF('Отрасли ОКВЭД'!$C2390<>\"\",'Отрасли ОКВЭД'!$C2390,'Отрасли ОКВЭД'!$B2390)","v":"71.12.42"},"M","71.12.42","Деятельность картографическая, включая деятельность в областях наименований географических объектов и создания и ведения картографо-геодезического фонда"]
[{"$f":"IF('Отрасли ОКВЭД'!$C2391<>\"\",'Отрасли ОКВЭД'!$C2391,'Отрасли ОКВЭД'!$B2391)","v":"71.12.43"},"M","71.12.43","Работы гидрографические изыскательские"]
[{"$f":"IF('Отрасли ОКВЭД'!$C2392<>\"\",'Отрасли ОКВЭД'!$C2392,'Отрасли ОКВЭД'!$B2392)","v":"71.12.44"},"M","71.12.44","Деятельность, связанная со сбором, обработкой и подготовкой картографической и космической информации, включая аэросъемку"]
[{"$f":"IF('Отрасли ОКВЭД'!$C2393<>\"\",'Отрасли ОКВЭД'!$C2393,'Отрасли ОКВЭД'!$B2393)","v":"71.12.45"},"M","71.12.45","Инженерные изыскания в строительстве"]
[{"$f":"IF('Отрасли ОКВЭД'!$C2394<>\"\",'Отрасли ОКВЭД'!$C2394,'Отрасли ОКВЭД'!$B2394)","v":"71.12.46"},"M","71.12.46","Землеустройство"]
[{"$f":"IF('Отрасли ОКВЭД'!$C2395<>\"\",'Отрасли ОКВЭД'!$C2395,'Отрасли ОКВЭД'!$B2395)","v":"71.12.5"},"M","71.12.5","Деятельность в области гидрометеорологии и смежных с ней областях, мониторинга состояния окружающей среды, ее загрязнения"]
[{"$f":"IF('Отрасли ОКВЭД'!$C2396<>\"\",'Отрасли ОКВЭД'!$C2396,'Отрасли ОКВЭД'!$B2396)","v":"71.12.51"},"M","71.12.51","Деятельность наблюдательной гидрометеорологической сети"]
[{"$f":"IF('Отрасли ОКВЭД'!$C2397<>\"\",'Отрасли ОКВЭД'!$C2397,'Отрасли ОКВЭД'!$B2397)","v":"71.12.52"},"M","71.12.52","Проведение гелиофизических и геофизических работ"]
[{"$f":"IF('Отрасли ОКВЭД'!$C2398<>\"\",'Отрасли ОКВЭД'!$C2398,'Отрасли ОКВЭД'!$B2398)","v":"71.12.53"},"M","71.12.53","Деятельность по мониторингу загрязнения окружающей среды для физических и юридических лиц"]
[{"$f":"IF('Отрасли ОКВЭД'!$C2399<>\"\",'Отрасли ОКВЭД'!$C2399,'Отрасли ОКВЭД'!$B2399)","v":"71.12.54"},"M","71.12.54","Работы полевые и изыскания в области гидрометеорологии и смежных с ней областях, экспедиционные обследования объектов окружающей среды с целью оценки уровней загрязнения"]
[{"$f":"IF('Отрасли ОКВЭД'!$C2400<>\"\",'Отрасли ОКВЭД'!$C2400,'Отрасли ОКВЭД'!$B2400)","v":"71.12.55"},"M","71.12.55","Деятельность по обработке и предоставлению гидрометеорологической информации органам государственной власти и населению"]
[{"$f":"IF('Отрасли ОКВЭД'!$C2401<>\"\",'Отрасли ОКВЭД'!$C2401,'Отрасли ОКВЭД'!$B2401)","v":"71.12.56"},"M","71.12.56","Обеспечение гидрометеорологическое деятельности физических и юридических лиц"]
[{"$f":"IF('Отрасли ОКВЭД'!$C2402<>\"\",'Отрасли ОКВЭД'!$C2402,'Отрасли ОКВЭД'!$B2402)","v":"71.12.57"},"M","71.12.57","Деятельность, связанная с активными воздействиями на метеорологические и геофизические процессы и явления"]
[{"$f":"IF('Отрасли ОКВЭД'!$C2403<>\"\",'Отрасли ОКВЭД'!$C2403,'Отрасли ОКВЭД'!$B2403)","v":"71.12.6"},"M","71.12.6","Деятельность в области технического регулирования, стандартизации, метрологии, аккредитации, каталогизации продукции"]
[{"$f":"IF('Отрасли ОКВЭД'!$C2404<>\"\",'Отрасли ОКВЭД'!$C2404,'Отрасли ОКВЭД'!$B2404)","v":"71.12.61"},"M","71.12.61","Деятельность в области технического регулирования и стандартизации"]
[{"$f":"IF('Отрасли ОКВЭД'!$C2405<>\"\",'Отрасли ОКВЭД'!$C2405,'Отрасли ОКВЭД'!$B2405)","v":"71.12.62"},"M","71.12.62","Деятельность в области метрологии"]
[{"$f":"IF('Отрасли ОКВЭД'!$C2406<>\"\",'Отрасли ОКВЭД'!$C2406,'Отрасли ОКВЭД'!$B2406)","v":"71.12.63"},"M","71.12.63","Деятельность в области аккредитации"]
[{"$f":"IF('Отрасли ОКВЭД'!$C2407<>\"\",'Отрасли ОКВЭД'!$C2407,'Отрасли ОКВЭД'!$B2407)","v":"71.12.64"},"M","71.12.64","Государственный контроль (надзор) за соблюдением требований технических регламентов"]
[{"$f":"IF('Отрасли ОКВЭД'!$C2408<>\"\",'Отрасли ОКВЭД'!$C2408,'Отрасли ОКВЭД'!$B2408)","v":"71.12.65"},"M","71.12.65","Федеральный государственный метрологический надзор"]
[{"$f":"IF('Отрасли ОКВЭД'!$C2409<>\"\",'Отрасли ОКВЭД'!$C2409,'Отрасли ОКВЭД'!$B2409)","v":"71.12.66"},"M","71.12.66","Деятельность в области каталогизации продукции"]
[{"$f":"IF('Отрасли ОКВЭД'!$C2410<>\"\",'Отрасли ОКВЭД'!$C2410,'Отрасли ОКВЭД'!$B2410)","v":"71.12.7"},"M","71.12.7","Кадастровая деятельность"]
[{"$f":"IF('Отрасли ОКВЭД'!$C2411<>\"\",'Отрасли ОКВЭД'!$C2411,'Отрасли ОКВЭД'!$B2411)","v":"71.12.8"},"M","71.12.8","Деятельность по предоставлению инженерно-технических консультаций в сфере энергосбережения и повышения энергетической эффективности использования энергетических ресурсов"]
[{"$f":"IF('Отрасли ОКВЭД'!$C2412<>\"\",'Отрасли ОКВЭД'!$C2412,'Отрасли ОКВЭД'!$B2412)","v":"71.2"},"M","71.2","Технические испытания, исследования, анализ и сертификация"]
[{"$f":"IF('Отрасли ОКВЭД'!$C2413<>\"\",'Отрасли ОКВЭД'!$C2413,'Отрасли ОКВЭД'!$B2413)","v":"71.20"},"M","71.20","Технические испытания, исследования, анализ и сертификация"]
[{"$f":"IF('Отрасли ОКВЭД'!$C2414<>\"\",'Отрасли ОКВЭД'!$C2414,'Отрасли ОКВЭД'!$B2414)","v":"71.20.1"},"M","71.20.1","Испытания и анализ состава и чистоты материалов и веществ: анализ химических и биологических свойств материалов и веществ; испытания и анализ в области гигиены питания, включая ветеринарный контроль и контроль за производством продуктов питания"]
[{"$f":"IF('Отрасли ОКВЭД'!$C2415<>\"\",'Отрасли ОКВЭД'!$C2415,'Отрасли ОКВЭД'!$B2415)","v":"71.20.2"},"M","71.20.2","Судебно-экспертная деятельность"]
[{"$f":"IF('Отрасли ОКВЭД'!$C2416<>\"\",'Отрасли ОКВЭД'!$C2416,'Отрасли ОКВЭД'!$B2416)","v":"71.20.3"},"M","71.20.3","Испытания и анализ физико-механических свойств материалов и веществ"]
[{"$f":"IF('Отрасли ОКВЭД'!$C2417<>\"\",'Отрасли ОКВЭД'!$C2417,'Отрасли ОКВЭД'!$B2417)","v":"71.20.4"},"M","71.20.4","Испытания, исследования и анализ целостных механических и электрических систем, энергетическое обследование"]
[{"$f":"IF('Отрасли ОКВЭД'!$C2418<>\"\",'Отрасли ОКВЭД'!$C2418,'Отрасли ОКВЭД'!$B2418)","v":"71.20.5"},"M","71.20.5","Технический осмотр автотранспортных средств"]
[{"$f":"IF('Отрасли ОКВЭД'!$C2419<>\"\",'Отрасли ОКВЭД'!$C2419,'Отрасли ОКВЭД'!$B2419)","v":"71.20.6"},"M","71.20.6","Экспертиза проектной документации и результатов инженерных изысканий"]
[{"$f":"IF('Отрасли ОКВЭД'!$C2420<>\"\",'Отрасли ОКВЭД'!$C2420,'Отрасли ОКВЭД'!$B2420)","v":"71.20.61"},"M","71.20.61","Экспертиза проектной документации и результатов инженерных изысканий государственная"]
[{"$f":"IF('Отрасли ОКВЭД'!$C2421<>\"\",'Отрасли ОКВЭД'!$C2421,'Отрасли ОКВЭД'!$B2421)","v":"71.20.62"},"M","71.20.62","Экспертиза проектной документации и результатов инженерных изысканий негосударственная"]
[{"$f":"IF('Отрасли ОКВЭД'!$C2422<>\"\",'Отрасли ОКВЭД'!$C2422,'Отрасли ОКВЭД'!$B2422)","v":"71.20.7"},"M","71.20.7","Деятельность по оценке условий труда"]
[{"$f":"IF('Отрасли ОКВЭД'!$C2423<>\"\",'Отрасли ОКВЭД'!$C2423,'Отрасли ОКВЭД'!$B2423)","v":"71.20.8"},"M","71.20.8","Сертификация продукции, услуг и организаций"]
[{"$f":"IF('Отрасли ОКВЭД'!$C2424<>\"\",'Отрасли ОКВЭД'!$C2424,'Отрасли ОКВЭД'!$B2424)","v":"71.20.9"},"M","71.20.9","Деятельность по техническому контролю, испытаниям и анализу прочая"]
[{"$f":"IF('Отрасли ОКВЭД'!$C2425<>\"\",'Отрасли ОКВЭД'!$C2425,'Отрасли ОКВЭД'!$B2425)","v":"72"},"M","72","Научные исследования и разработки"]
[{"$f":"IF('Отрасли ОКВЭД'!$C2426<>\"\",'Отрасли ОКВЭД'!$C2426,'Отрасли ОКВЭД'!$B2426)","v":"72.1"},"M","72.1","Научные исследования и разработки в области естественных и технических наук"]
[{"$f":"IF('Отрасли ОКВЭД'!$C2427<>\"\",'Отрасли ОКВЭД'!$C2427,'Отрасли ОКВЭД'!$B2427)","v":"72.11"},"M","72.11","Научные исследования и разработки в области биотехнологии"]
[{"$f":"IF('Отрасли ОКВЭД'!$C2428<>\"\",'Отрасли ОКВЭД'!$C2428,'Отрасли ОКВЭД'!$B2428)","v":"72.19"},"M","72.19","Научные исследования и разработки в области естественных и технических наук прочие"]
[{"$f":"IF('Отрасли ОКВЭД'!$C2429<>\"\",'Отрасли ОКВЭД'!$C2429,'Отрасли ОКВЭД'!$B2429)","v":"72.19.1"},"M","72.19.1","Проведение фундаментальных исследований и научно-исследовательских и опытно-конструкторских работ в области использования атомной энергии и в области ядерной оружейной продукции"]
[{"$f":"IF('Отрасли ОКВЭД'!$C2430<>\"\",'Отрасли ОКВЭД'!$C2430,'Отрасли ОКВЭД'!$B2430)","v":"72.19.11"},"M","72.19.11","Проведение фундаментальных исследований, научно-исследовательских и опытно-конструкторских работ в области использования атомной энергии"]
[{"$f":"IF('Отрасли ОКВЭД'!$C2431<>\"\",'Отрасли ОКВЭД'!$C2431,'Отрасли ОКВЭД'!$B2431)","v":"72.19.12"},"M","72.19.12","Научные исследования и разработки в области ядерной оружейной продукции"]
[{"$f":"IF('Отрасли ОКВЭД'!$C2432<>\"\",'Отрасли ОКВЭД'!$C2432,'Отрасли ОКВЭД'!$B2432)","v":"72.19.3"},"M","72.19.3","Научные исследования и разработки в области нанотехнологий"]
[{"$f":"IF('Отрасли ОКВЭД'!$C2433<>\"\",'Отрасли ОКВЭД'!$C2433,'Отрасли ОКВЭД'!$B2433)","v":"72.19.4"},"M","72.19.4","Научные исследования и разработки в области защиты информации"]
[{"$f":"IF('Отрасли ОКВЭД'!$C2434<>\"\",'Отрасли ОКВЭД'!$C2434,'Отрасли ОКВЭД'!$B2434)","v":"72.19.9"},"M","72.19.9","Научные исследования и разработки в области естественных и технических наук прочие, не включенные в другие группировки"]
[{"$f":"IF('Отрасли ОКВЭД'!$C2435<>\"\",'Отрасли ОКВЭД'!$C2435,'Отрасли ОКВЭД'!$B2435)","v":"72.2"},"M","72.2","Научные исследования и разработки в области общественных и гуманитарных наук"]
[{"$f":"IF('Отрасли ОКВЭД'!$C2436<>\"\",'Отрасли ОКВЭД'!$C2436,'Отрасли ОКВЭД'!$B2436)","v":"72.20"},"M","72.20","Научные исследования и разработки в области общественных и гуманитарных наук"]
[{"$f":"IF('Отрасли ОКВЭД'!$C2437<>\"\",'Отрасли ОКВЭД'!$C2437,'Отрасли ОКВЭД'!$B2437)","v":"72.20.1"},"M","72.20.1","Научные исследования и разработки в области общественных наук"]
[{"$f":"IF('Отрасли ОКВЭД'!$C2438<>\"\",'Отрасли ОКВЭД'!$C2438,'Отрасли ОКВЭД'!$B2438)","v":"72.20.2"},"M","72.20.2","Научные исследования и разработки в области гуманитарных наук"]
[{"$f":"IF('Отрасли ОКВЭД'!$C2439<>\"\",'Отрасли ОКВЭД'!$C2439,'Отрасли ОКВЭД'!$B2439)","v":"73"},"M","73","Деятельность рекламная и исследование конъюнктуры рынка"]
[{"$f":"IF('Отрасли ОКВЭД'!$C2440<>\"\",'Отрасли ОКВЭД'!$C2440,'Отрасли ОКВЭД'!$B2440)","v":"73.1"},"M","73.1","Деятельность рекламная"]
[{"$f":"IF('Отрасли ОКВЭД'!$C2441<>\"\",'Отрасли ОКВЭД'!$C2441,'Отрасли ОКВЭД'!$B2441)","v":"73.11"},"M","73.11","Деятельность рекламных агентств"]
[{"$f":"IF('Отрасли ОКВЭД'!$C2442<>\"\",'Отрасли ОКВЭД'!$C2442,'Отрасли ОКВЭД'!$B2442)","v":"73.12"},"M","73.12","Представление в средствах массовой информации"]
[{"$f":"IF('Отрасли ОКВЭД'!$C2443<>\"\",'Отрасли ОКВЭД'!$C2443,'Отрасли ОКВЭД'!$B2443)","v":"73.2"},"M","73.2","Исследование конъюнктуры рынка и изучение общественного мнения"]
[{"$f":"IF('Отрасли ОКВЭД'!$C2444<>\"\",'Отрасли ОКВЭД'!$C2444,'Отрасли ОКВЭД'!$B2444)","v":"73.20"},"M","73.20","Исследование конъюнктуры рынка и изучение общественного мнения"]
[{"$f":"IF('Отрасли ОКВЭД'!$C2445<>\"\",'Отрасли ОКВЭД'!$C2445,'Отрасли ОКВЭД'!$B2445)","v":"73.20.1"},"M","73.20.1","Исследование конъюнктуры рынка"]
[{"$f":"IF('Отрасли ОКВЭД'!$C2446<>\"\",'Отрасли ОКВЭД'!$C2446,'Отрасли ОКВЭД'!$B2446)","v":"73.20.2"},"M","73.20.2","Деятельность по изучению общественного мнения"]
[{"$f":"IF('Отрасли ОКВЭД'!$C2447<>\"\",'Отрасли ОКВЭД'!$C2447,'Отрасли ОКВЭД'!$B2447)","v":"74"},"M","74","Деятельность профессиональная научная и техническая прочая"]
[{"$f":"IF('Отрасли ОКВЭД'!$C2448<>\"\",'Отрасли ОКВЭД'!$C2448,'Отрасли ОКВЭД'!$B2448)","v":"74.1"},"M","74.1","Деятельность специализированная в области дизайна"]
[{"$f":"IF('Отрасли ОКВЭД'!$C2449<>\"\",'Отрасли ОКВЭД'!$C2449,'Отрасли ОКВЭД'!$B2449)","v":"74.10"},"M","74.10","Деятельность специализированная в области дизайна"]
[{"$f":"IF('Отрасли ОКВЭД'!$C2450<>\"\",'Отрасли ОКВЭД'!$C2450,'Отрасли ОКВЭД'!$B2450)","v":"74.2"},"M","74.2","Деятельность в области фотографии"]
[{"$f":"IF('Отрасли ОКВЭД'!$C2451<>\"\",'Отрасли ОКВЭД'!$C2451,'Отрасли ОКВЭД'!$B2451)","v":"74.20"},"M","74.20","Деятельность в области фотографии"]
[{"$f":"IF('Отрасли ОКВЭД'!$C2452<>\"\",'Отрасли ОКВЭД'!$C2452,'Отрасли ОКВЭД'!$B2452)","v":"74.3"},"M","74.3","Деятельность по письменному и устному переводу"]
[{"$f":"IF('Отрасли ОКВЭД'!$C2453<>\"\",'Отрасли ОКВЭД'!$C2453,'Отрасли ОКВЭД'!$B2453)","v":"74.30"},"M","74.30","Деятельность по письменному и устному переводу"]
[{"$f":"IF('Отрасли ОКВЭД'!$C2454<>\"\",'Отрасли ОКВЭД'!$C2454,'Отрасли ОКВЭД'!$B2454)","v":"74.9"},"M","74.9","Деятельность профессиональная, научная и техническая прочая, не включенная в другие группировки"]
[{"$f":"IF('Отрасли ОКВЭД'!$C2455<>\"\",'Отрасли ОКВЭД'!$C2455,'Отрасли ОКВЭД'!$B2455)","v":"74.90"},"M","74.90","Деятельность профессиональная, научная и техническая прочая, не включенная в другие группировки"]
[{"$f":"IF('Отрасли ОКВЭД'!$C2456<>\"\",'Отрасли ОКВЭД'!$C2456,'Отрасли ОКВЭД'!$B2456)","v":"74.90.1"},"M","74.90.1","Предоставление посреднических услуг по организации покупки и продажи мелких или средних коммерческих предприятий, включая профессиональную практику"]
[{"$f":"IF('Отрасли ОКВЭД'!$C2457<>\"\",'Отрасли ОКВЭД'!$C2457,'Отрасли ОКВЭД'!$B2457)","v":"74.90.2"},"M","74.90.2","Деятельность, направленная на установление рыночной или иной стоимости (оценочная деятельность), кроме оценки, связанной с недвижимым имуществом или страхованием"]
[{"$f":"IF('Отрасли ОКВЭД'!$C2458<>\"\",'Отрасли ОКВЭД'!$C2458,'Отрасли ОКВЭД'!$B2458)","v":"74.90.21"},"M","74.90.21","Деятельность, направленная на установление рыночной или иной стоимости отдельных материальных объектов (вещей)"]
[{"$f":"IF('Отрасли ОКВЭД'!$C2459<>\"\",'Отрасли ОКВЭД'!$C2459,'Отрасли ОКВЭД'!$B2459)","v":"74.90.22"},"M","74.90.22","Деятельность, направленная на установление рыночной или иной стоимости совокупности вещей, составляющих имущество лица, в том числе имущество определенного вида (движимое или недвижимое, в том числе предприятия)"]
[{"$f":"IF('Отрасли ОКВЭД'!$C2460<>\"\",'Отрасли ОКВЭД'!$C2460,'Отрасли ОКВЭД'!$B2460)","v":"74.90.23"},"M","74.90.23","Деятельность, направленная на установление рыночной или иной стоимости права собственности или иных вещных прав на имущество или отдельные вещи из состава имущества"]
[{"$f":"IF('Отрасли ОКВЭД'!$C2461<>\"\",'Отрасли ОКВЭД'!$C2461,'Отрасли ОКВЭД'!$B2461)","v":"74.90.24"},"M","74.90.24","Деятельность, направленная на установление рыночной или иной стоимости прав требования, обязательств (долгов)"]
[{"$f":"IF('Отрасли ОКВЭД'!$C2462<>\"\",'Отрасли ОКВЭД'!$C2462,'Отрасли ОКВЭД'!$B2462)","v":"74.90.25"},"M","74.90.25","Деятельность, направленная на установление рыночной или иной стоимости работ, услуг, информации"]
[{"$f":"IF('Отрасли ОКВЭД'!$C2463<>\"\",'Отрасли ОКВЭД'!$C2463,'Отрасли ОКВЭД'!$B2463)","v":"74.90.26"},"M","74.90.26","Деятельность, направленная на установление рыночной или иной стоимости иных объектов гражданских прав, в отношении которых законодательством Российской Федерации установлена возможность их участия в гражданском обороте"]
[{"$f":"IF('Отрасли ОКВЭД'!$C2464<>\"\",'Отрасли ОКВЭД'!$C2464,'Отрасли ОКВЭД'!$B2464)","v":"74.90.3"},"M","74.90.3","Предоставление консультационных услуг по вопросам безопасности"]
[{"$f":"IF('Отрасли ОКВЭД'!$C2465<>\"\",'Отрасли ОКВЭД'!$C2465,'Отрасли ОКВЭД'!$B2465)","v":"74.90.31"},"M","74.90.31","Предоставление услуг по проведению оценки уязвимости объектов транспортной инфраструктуры и транспортных средств"]
[{"$f":"IF('Отрасли ОКВЭД'!$C2466<>\"\",'Отрасли ОКВЭД'!$C2466,'Отрасли ОКВЭД'!$B2466)","v":"74.90.32"},"M","74.90.32","Предоставление услуг по проведению оценки уязвимости объектов промышленного назначения, связи, здравоохранения и т. д."]
[{"$f":"IF('Отрасли ОКВЭД'!$C2467<>\"\",'Отрасли ОКВЭД'!$C2467,'Отрасли ОКВЭД'!$B2467)","v":"74.90.4"},"M","74.90.4","Предоставление консультационных услуг в области сельского хозяйства"]
[{"$f":"IF('Отрасли ОКВЭД'!$C2468<>\"\",'Отрасли ОКВЭД'!$C2468,'Отрасли ОКВЭД'!$B2468)","v":"74.90.5"},"M","74.90.5","Предоставление консультационных услуг в области экологии"]
[{"$f":"IF('Отрасли ОКВЭД'!$C2469<>\"\",'Отрасли ОКВЭД'!$C2469,'Отрасли ОКВЭД'!$B2469)","v":"74.90.6"},"M","74.90.6","Предоставление прочих технических консультаций, деятельность консультантов, кроме архитекторов, проектировщиков и консультантов по управлению"]
[{"$f":"IF('Отрасли ОКВЭД'!$C2470<>\"\",'Отрасли ОКВЭД'!$C2470,'Отрасли ОКВЭД'!$B2470)","v":"74.90.7"},"M","74.90.7","Деятельность по подготовке метеорологических прогнозов"]
[{"$f":"IF('Отрасли ОКВЭД'!$C2471<>\"\",'Отрасли ОКВЭД'!$C2471,'Отрасли ОКВЭД'!$B2471)","v":"74.90.8"},"M","74.90.8","Деятельность агентств и агентов, действующих от имени физических лиц, и обычно связанную с заключением контрактов (договоров) на участие в кинофильмах, театральных постановках и других развлекательных или спортивных мероприятиях, а также с предложением книг, пьес, предметов изобразительного искусства, фотографий и аналогичных предметов издателям, продюсерам"]
[{"$f":"IF('Отрасли ОКВЭД'!$C2472<>\"\",'Отрасли ОКВЭД'!$C2472,'Отрасли ОКВЭД'!$B2472)","v":"74.90.9"},"M","74.90.9","Деятельность в области защиты информации"]
[{"$f":"IF('Отрасли ОКВЭД'!$C2473<>\"\",'Отрасли ОКВЭД'!$C2473,'Отрасли ОКВЭД'!$B2473)","v":"74.90.91"},"M","74.90.91","Деятельность по разработке средств защиты информации"]
[{"$f":"IF('Отрасли ОКВЭД'!$C2474<>\"\",'Отрасли ОКВЭД'!$C2474,'Отрасли ОКВЭД'!$B2474)","v":"74.90.92"},"M","74.90.92","Деятельность по разработке информационных и телекоммуникационных систем, защищенных с использованием средств защиты информации"]
[{"$f":"IF('Отрасли ОКВЭД'!$C2475<>\"\",'Отрасли ОКВЭД'!$C2475,'Отрасли ОКВЭД'!$B2475)","v":"74.90.99"},"M","74.90.99","Деятельность в области защиты информации прочая"]
[{"$f":"IF('Отрасли ОКВЭД'!$C2476<>\"\",'Отрасли ОКВЭД'!$C2476,'Отрасли ОКВЭД'!$B2476)","v":"75"},"M","75","Деятельность ветеринарная"]
[{"$f":"IF('Отрасли ОКВЭД'!$C2477<>\"\",'Отрасли ОКВЭД'!$C2477,'Отрасли ОКВЭД'!$B2477)","v":"75.0"},"M","75.0","Деятельность ветеринарная"]
[{"$f":"IF('Отрасли ОКВЭД'!$C2478<>\"\",'Отрасли ОКВЭД'!$C2478,'Отрасли ОКВЭД'!$B2478)","v":"75.00"},"M","75.00","Деятельность ветеринарная"]
[{"$f":"IF('Отрасли ОКВЭД'!$C2479<>\"\",'Отрасли ОКВЭД'!$C2479,'Отрасли ОКВЭД'!$B2479)","v":"75.00.1"},"M","75.00.1","Деятельность ветеринарная для сельскохозяйственных животных"]
[{"$f":"IF('Отрасли ОКВЭД'!$C2480<>\"\",'Отрасли ОКВЭД'!$C2480,'Отрасли ОКВЭД'!$B2480)","v":"75.00.2"},"M","75.00.2","Деятельность ветеринарная для домашних животных"]
[{"$f":"IF('Отрасли ОКВЭД'!$C2481<>\"\",'Отрасли ОКВЭД'!$C2481,'Отрасли ОКВЭД'!$B2481)","v":"N"},"N","","ДЕЯТЕЛЬНОСТЬ АДМИНИСТРАТИВНАЯ И СОПУТСТВУЮЩИЕ ДОПОЛНИТЕЛЬНЫЕ УСЛУГИ"]
[{"$f":"IF('Отрасли ОКВЭД'!$C2482<>\"\",'Отрасли ОКВЭД'!$C2482,'Отрасли ОКВЭД'!$B2482)","v":"77"},"N","77","Аренда и лизинг"]
[{"$f":"IF('Отрасли ОКВЭД'!$C2483<>\"\",'Отрасли ОКВЭД'!$C2483,'Отрасли ОКВЭД'!$B2483)","v":"77.1"},"N","77.1","Аренда и лизинг автотранспортных средств"]
[{"$f":"IF('Отрасли ОКВЭД'!$C2484<>\"\",'Отрасли ОКВЭД'!$C2484,'Отрасли ОКВЭД'!$B2484)","v":"77.11"},"N","77.11","Аренда и лизинг легковых автомобилей и легких автотранспортных средств"]
[{"$f":"IF('Отрасли ОКВЭД'!$C2485<>\"\",'Отрасли ОКВЭД'!$C2485,'Отрасли ОКВЭД'!$B2485)","v":"77.12"},"N","77.12","Аренда и лизинг грузовых транспортных средств"]
[{"$f":"IF('Отрасли ОКВЭД'!$C2486<>\"\",'Отрасли ОКВЭД'!$C2486,'Отрасли ОКВЭД'!$B2486)","v":"77.2"},"N","77.2","Прокат и аренда предметов личного пользования и хозяйственно-бытового назначения"]
[{"$f":"IF('Отрасли ОКВЭД'!$C2487<>\"\",'Отрасли ОКВЭД'!$C2487,'Отрасли ОКВЭД'!$B2487)","v":"77.21"},"N","77.21","Прокат и аренда товаров для отдыха и спортивных товаров"]
[{"$f":"IF('Отрасли ОКВЭД'!$C2488<>\"\",'Отрасли ОКВЭД'!$C2488,'Отрасли ОКВЭД'!$B2488)","v":"77.22"},"N","77.22","Прокат видеокассет и аудиокассет, грампластинок, компакт-дисков (CD), цифровых видеодисков (DVD)"]
[{"$f":"IF('Отрасли ОКВЭД'!$C2489<>\"\",'Отрасли ОКВЭД'!$C2489,'Отрасли ОКВЭД'!$B2489)","v":"77.29"},"N","77.29","Прокат и аренда прочих предметов личного пользования и хозяйственно-бытового назначения"]
[{"$f":"IF('Отрасли ОКВЭД'!$C2490<>\"\",'Отрасли ОКВЭД'!$C2490,'Отрасли ОКВЭД'!$B2490)","v":"77.29.1"},"N","77.29.1","Прокат телевизоров, радиоприемников, устройств видеозаписи, аудиозаписи и подобного оборудования"]
[{"$f":"IF('Отрасли ОКВЭД'!$C2491<>\"\",'Отрасли ОКВЭД'!$C2491,'Отрасли ОКВЭД'!$B2491)","v":"77.29.2"},"N","77.29.2","Прокат мебели, электрических и неэлектрических бытовых приборов"]
[{"$f":"IF('Отрасли ОКВЭД'!$C2492<>\"\",'Отрасли ОКВЭД'!$C2492,'Отрасли ОКВЭД'!$B2492)","v":"77.29.3"},"N","77.29.3","Прокат музыкальных инструментов"]
[{"$f":"IF('Отрасли ОКВЭД'!$C2493<>\"\",'Отрасли ОКВЭД'!$C2493,'Отрасли ОКВЭД'!$B2493)","v":"77.29.9"},"N","77.29.9","Прокат прочих бытовых изделий и предметов личного пользования для домашних хозяйств, предприятий и организаций, не включенных в другие группировки"]
[{"$f":"IF('Отрасли ОКВЭД'!$C2494<>\"\",'Отрасли ОКВЭД'!$C2494,'Отрасли ОКВЭД'!$B2494)","v":"77.3"},"N","77.3","Аренда и лизинг прочих машин и оборудования и материальных средств"]
[{"$f":"IF('Отрасли ОКВЭД'!$C2495<>\"\",'Отрасли ОКВЭД'!$C2495,'Отрасли ОКВЭД'!$B2495)","v":"77.31"},"N","77.31","Аренда и лизинг сельскохозяйственных машин и оборудования"]
[{"$f":"IF('Отрасли ОКВЭД'!$C2496<>\"\",'Отрасли ОКВЭД'!$C2496,'Отрасли ОКВЭД'!$B2496)","v":"77.32"},"N","77.32","Аренда и лизинг строительных машин и оборудования"]
[{"$f":"IF('Отрасли ОКВЭД'!$C2497<>\"\",'Отрасли ОКВЭД'!$C2497,'Отрасли ОКВЭД'!$B2497)","v":"77.33"},"N","77.33","Аренда и лизинг офисных машин и оборудования, включая вычислительную технику"]
[{"$f":"IF('Отрасли ОКВЭД'!$C2498<>\"\",'Отрасли ОКВЭД'!$C2498,'Отрасли ОКВЭД'!$B2498)","v":"77.33.1"},"N","77.33.1","Аренда и лизинг офисных машин и оборудования"]
[{"$f":"IF('Отрасли ОКВЭД'!$C2499<>\"\",'Отрасли ОКВЭД'!$C2499,'Отрасли ОКВЭД'!$B2499)","v":"77.33.2"},"N","77.33.2","Аренда и лизинг вычислительных машин и оборудования"]
[{"$f":"IF('Отрасли ОКВЭД'!$C2500<>\"\",'Отрасли ОКВЭД'!$C2500,'Отрасли ОКВЭД'!$B2500)","v":"77.34"},"N","77.34","Аренда и лизинг водных транспортных средств и оборудования"]
[{"$f":"IF('Отрасли ОКВЭД'!$C2501<>\"\",'Отрасли ОКВЭД'!$C2501,'Отрасли ОКВЭД'!$B2501)","v":"77.35"},"N","77.35","Аренда и лизинг воздушных судов и авиационного оборудования"]
[{"$f":"IF('Отрасли ОКВЭД'!$C2502<>\"\",'Отрасли ОКВЭД'!$C2502,'Отрасли ОКВЭД'!$B2502)","v":"77.39"},"N","77.39","Аренда и лизинг прочих видов транспорта, оборудования и материальных средств, не включенных в другие группировки"]
[{"$f":"IF('Отрасли ОКВЭД'!$C2503<>\"\",'Отрасли ОКВЭД'!$C2503,'Отрасли ОКВЭД'!$B2503)","v":"77.39.1"},"N","77.39.1","Аренда и лизинг прочих сухопутных транспортных средств и оборудования"]
[{"$f":"IF('Отрасли ОКВЭД'!$C2504<>\"\",'Отрасли ОКВЭД'!$C2504,'Отрасли ОКВЭД'!$B2504)","v":"77.39.11"},"N","77.39.11","Аренда и лизинг прочего автомобильного транспорта и оборудования"]
[{"$f":"IF('Отрасли ОКВЭД'!$C2505<>\"\",'Отрасли ОКВЭД'!$C2505,'Отрасли ОКВЭД'!$B2505)","v":"77.39.12"},"N","77.39.12","Аренда и лизинг железнодорожного транспорта и оборудования"]
[{"$f":"IF('Отрасли ОКВЭД'!$C2506<>\"\",'Отрасли ОКВЭД'!$C2506,'Отрасли ОКВЭД'!$B2506)","v":"77.39.2"},"N","77.39.2","Аренда и лизинг прочих машин и оборудования, не включенных в другие группировки"]
[{"$f":"IF('Отрасли ОКВЭД'!$C2507<>\"\",'Отрасли ОКВЭД'!$C2507,'Отрасли ОКВЭД'!$B2507)","v":"77.39.21"},"N","77.39.21","Аренда и лизинг двигателей, турбин и станков"]
[{"$f":"IF('Отрасли ОКВЭД'!$C2508<>\"\",'Отрасли ОКВЭД'!$C2508,'Отрасли ОКВЭД'!$B2508)","v":"77.39.22"},"N","77.39.22","Аренда и лизинг горного и нефтепромыслового оборудования"]
[{"$f":"IF('Отрасли ОКВЭД'!$C2509<>\"\",'Отрасли ОКВЭД'!$C2509,'Отрасли ОКВЭД'!$B2509)","v":"77.39.23"},"N","77.39.23","Аренда и лизинг подъемно-транспортного оборудования"]
[{"$f":"IF('Отрасли ОКВЭД'!$C2510<>\"\",'Отрасли ОКВЭД'!$C2510,'Отрасли ОКВЭД'!$B2510)","v":"77.39.24"},"N","77.39.24","Аренда и лизинг профессиональной радио- и телевизионной аппаратуры и аппаратуры связи"]
[{"$f":"IF('Отрасли ОКВЭД'!$C2511<>\"\",'Отрасли ОКВЭД'!$C2511,'Отрасли ОКВЭД'!$B2511)","v":"77.39.25"},"N","77.39.25","Аренда и лизинг контрольно-измерительной аппаратуры"]
[{"$f":"IF('Отрасли ОКВЭД'!$C2512<>\"\",'Отрасли ОКВЭД'!$C2512,'Отрасли ОКВЭД'!$B2512)","v":"77.39.26"},"N","77.39.26","Аренда и лизинг приборов, аппаратов и прочего оборудования, применяемого в медицинских целях"]
[{"$f":"IF('Отрасли ОКВЭД'!$C2513<>\"\",'Отрасли ОКВЭД'!$C2513,'Отрасли ОКВЭД'!$B2513)","v":"77.39.27"},"N","77.39.27","Аренда и лизинг торгового оборудования"]
[{"$f":"IF('Отрасли ОКВЭД'!$C2514<>\"\",'Отрасли ОКВЭД'!$C2514,'Отрасли ОКВЭД'!$B2514)","v":"77.39.29"},"N","77.39.29","Аренда и лизинг прочих машин и оборудования научного и промышленного назначения"]
[{"$f":"IF('Отрасли ОКВЭД'!$C2515<>\"\",'Отрасли ОКВЭД'!$C2515,'Отрасли ОКВЭД'!$B2515)","v":"77.39.3"},"N","77.39.3","Аренда и лизинг племенных сельскохозяйственных животных"]
[{"$f":"IF('Отрасли ОКВЭД'!$C2516<>\"\",'Отрасли ОКВЭД'!$C2516,'Отрасли ОКВЭД'!$B2516)","v":"77.4"},"N","77.4","Аренда интеллектуальной собственности и подобной продукции, кроме авторских прав"]
[{"$f":"IF('Отрасли ОКВЭД'!$C2517<>\"\",'Отрасли ОКВЭД'!$C2517,'Отрасли ОКВЭД'!$B2517)","v":"77.40"},"N","77.40","Аренда интеллектуальной собственности и подобной продукции, кроме авторских прав"]
[{"$f":"IF('Отрасли ОКВЭД'!$C2518<>\"\",'Отрасли ОКВЭД'!$C2518,'Отрасли ОКВЭД'!$B2518)","v":"78"},"N","78","Деятельность по трудоустройству и подбору персонала"]
[{"$f":"IF('Отрасли ОКВЭД'!$C2519<>\"\",'Отрасли ОКВЭД'!$C2519,'Отрасли ОКВЭД'!$B2519)","v":"78.1"},"N","78.1","Деятельность агентств по подбору персонала"]
[{"$f":"IF('Отрасли ОКВЭД'!$C2520<>\"\",'Отрасли ОКВЭД'!$C2520,'Отрасли ОКВЭД'!$B2520)","v":"78.10"},"N","78.10","Деятельность агентств по подбору персонала"]
[{"$f":"IF('Отрасли ОКВЭД'!$C2521<>\"\",'Отрасли ОКВЭД'!$C2521,'Отрасли ОКВЭД'!$B2521)","v":"78.2"},"N","78.2","Деятельность агентств по временному трудоустройству"]
[{"$f":"IF('Отрасли ОКВЭД'!$C2522<>\"\",'Отрасли ОКВЭД'!$C2522,'Отрасли ОКВЭД'!$B2522)","v":"78.20"},"N","78.20","Деятельность агентств по временному трудоустройству"]
[{"$f":"IF('Отрасли ОКВЭД'!$C2523<>\"\",'Отрасли ОКВЭД'!$C2523,'Отрасли ОКВЭД'!$B2523)","v":"78.3"},"N","78.3","Деятельность по подбору персонала прочая"]
[{"$f":"IF('Отрасли ОКВЭД'!$C2524<>\"\",'Отрасли ОКВЭД'!$C2524,'Отрасли ОКВЭД'!$B2524)","v":"78.30"},"N","78.30","Деятельность по подбору персонала прочая"]
[{"$f":"IF('Отрасли ОКВЭД'!$C2525<>\"\",'Отрасли ОКВЭД'!$C2525,'Отрасли ОКВЭД'!$B2525)","v":"79"},"N","79","Деятельность туристических агентств и прочих организаций, предоставляющих услуги в сфере туризма"]
[{"$f":"IF('Отрасли ОКВЭД'!$C2526<>\"\",'Отрасли ОКВЭД'!$C2526,'Отрасли ОКВЭД'!$B2526)","v":"79.1"},"N","79.1","Деятельность туристических агентств и туроператоров"]
[{"$f":"IF('Отрасли ОКВЭД'!$C2527<>\"\",'Отрасли ОКВЭД'!$C2527,'Отрасли ОКВЭД'!$B2527)","v":"79.11"},"N","79.11","Деятельность туристических агентств"]
[{"$f":"IF('Отрасли ОКВЭД'!$C2528<>\"\",'Отрасли ОКВЭД'!$C2528,'Отрасли ОКВЭД'!$B2528)","v":"79.12"},"N","79.12","Деятельность туроператоров"]
[{"$f":"IF('Отрасли ОКВЭД'!$C2529<>\"\",'Отрасли ОКВЭД'!$C2529,'Отрасли ОКВЭД'!$B2529)","v":"79.9"},"N","79.9","Услуги по бронированию прочие и сопутствующая деятельность"]
[{"$f":"IF('Отрасли ОКВЭД'!$C2530<>\"\",'Отрасли ОКВЭД'!$C2530,'Отрасли ОКВЭД'!$B2530)","v":"79.90"},"N","79.90","Услуги по бронированию прочие и сопутствующая деятельность"]
[{"$f":"IF('Отрасли ОКВЭД'!$C2531<>\"\",'Отрасли ОКВЭД'!$C2531,'Отрасли ОКВЭД'!$B2531)","v":"79.90.1"},"N","79.90.1","Деятельность по предоставлению туристических информационных услуг"]
[{"$f":"IF('Отрасли ОКВЭД'!$C2532<>\"\",'Отрасли ОКВЭД'!$C2532,'Отрасли ОКВЭД'!$B2532)","v":"79.90.2"},"N","79.90.2","Деятельность по предоставлению экскурсионных туристических услуг"]
[{"$f":"IF('Отрасли ОКВЭД'!$C2533<>\"\",'Отрасли ОКВЭД'!$C2533,'Отрасли ОКВЭД'!$B2533)","v":"79.90.21"},"N","79.90.21","Деятельность туристических агентств по предоставлению экскурсионных туристических услуг"]
[{"$f":"IF('Отрасли ОКВЭД'!$C2534<>\"\",'Отрасли ОКВЭД'!$C2534,'Отрасли ОКВЭД'!$B2534)","v":"79.90.22"},"N","79.90.22","Деятельность самостоятельных экскурсоводов и гидов по предоставлению экскурсионных туристических услуг"]
[{"$f":"IF('Отрасли ОКВЭД'!$C2535<>\"\",'Отрасли ОКВЭД'!$C2535,'Отрасли ОКВЭД'!$B2535)","v":"79.90.3"},"N","79.90.3","Деятельность по предоставлению туристических услуг, связанных с бронированием"]
[{"$f":"IF('Отрасли ОКВЭД'!$C2536<>\"\",'Отрасли ОКВЭД'!$C2536,'Отрасли ОКВЭД'!$B2536)","v":"79.90.31"},"N","79.90.31","Деятельность по бронированию билетов на культурно-развлекательные мероприятия"]
[{"$f":"IF('Отрасли ОКВЭД'!$C2537<>\"\",'Отрасли ОКВЭД'!$C2537,'Отрасли ОКВЭД'!$B2537)","v":"79.90.32"},"N","79.90.32","Деятельность по оказанию прочих услуг, связанных со службой предварительных заказов"]
[{"$f":"IF('Отрасли ОКВЭД'!$C2538<>\"\",'Отрасли ОКВЭД'!$C2538,'Отрасли ОКВЭД'!$B2538)","v":"80"},"N","80","Деятельность по обеспечению безопасности и проведению расследований"]
[{"$f":"IF('Отрасли ОКВЭД'!$C2539<>\"\",'Отрасли ОКВЭД'!$C2539,'Отрасли ОКВЭД'!$B2539)","v":"80.1"},"N","80.1","Деятельность частных охранных служб"]
[{"$f":"IF('Отрасли ОКВЭД'!$C2540<>\"\",'Отрасли ОКВЭД'!$C2540,'Отрасли ОКВЭД'!$B2540)","v":"80.10"},"N","80.10","Деятельность частных охранных служб"]
[{"$f":"IF('Отрасли ОКВЭД'!$C2541<>\"\",'Отрасли ОКВЭД'!$C2541,'Отрасли ОКВЭД'!$B2541)","v":"80.2"},"N","80.2","Деятельность систем обеспечения безопасности"]
[{"$f":"IF('Отрасли ОКВЭД'!$C2542<>\"\",'Отрасли ОКВЭД'!$C2542,'Отрасли ОКВЭД'!$B2542)","v":"80.20"},"N","80.20","Деятельность систем обеспечения безопасности"]
[{"$f":"IF('Отрасли ОКВЭД'!$C2543<>\"\",'Отрасли ОКВЭД'!$C2543,'Отрасли ОКВЭД'!$B2543)","v":"80.3"},"N","80.3","Деятельность по расследованию"]
[{"$f":"IF('Отрасли ОКВЭД'!$C2544<>\"\",'Отрасли ОКВЭД'!$C2544,'Отрасли ОКВЭД'!$B2544)","v":"80.30"},"N","80.30","Деятельность по расследованию"]
[{"$f":"IF('Отрасли ОКВЭД'!$C2545<>\"\",'Отрасли ОКВЭД'!$C2545,'Отрасли ОКВЭД'!$B2545)","v":"81"},"N","81","Деятельность по обслуживанию зданий и территорий"]
[{"$f":"IF('Отрасли ОКВЭД'!$C2546<>\"\",'Отрасли ОКВЭД'!$C2546,'Отрасли ОКВЭД'!$B2546)","v":"81.1"},"N","81.1","Деятельность по комплексному обслуживанию помещений"]
[{"$f":"IF('Отрасли ОКВЭД'!$C2547<>\"\",'Отрасли ОКВЭД'!$C2547,'Отрасли ОКВЭД'!$B2547)","v":"81.10"},"N","81.10","Деятельность по комплексному обслуживанию помещений"]
[{"$f":"IF('Отрасли ОКВЭД'!$C2548<>\"\",'Отрасли ОКВЭД'!$C2548,'Отрасли ОКВЭД'!$B2548)","v":"81.2"},"N","81.2","Деятельность по чистке и уборке"]
[{"$f":"IF('Отрасли ОКВЭД'!$C2549<>\"\",'Отрасли ОКВЭД'!$C2549,'Отрасли ОКВЭД'!$B2549)","v":"81.21"},"N","81.21","Деятельность по общей уборке зданий"]
[{"$f":"IF('Отрасли ОКВЭД'!$C2550<>\"\",'Отрасли ОКВЭД'!$C2550,'Отрасли ОКВЭД'!$B2550)","v":"81.21.1"},"N","81.21.1","Деятельность по уборке квартир и частных домов"]
[{"$f":"IF('Отрасли ОКВЭД'!$C2551<>\"\",'Отрасли ОКВЭД'!$C2551,'Отрасли ОКВЭД'!$B2551)","v":"81.21.9"},"N","81.21.9","Деятельность по уборке прочих типов зданий и помещений"]
[{"$f":"IF('Отрасли ОКВЭД'!$C2552<>\"\",'Отрасли ОКВЭД'!$C2552,'Отрасли ОКВЭД'!$B2552)","v":"81.22"},"N","81.22","Деятельность по чистке и уборке жилых зданий и нежилых помещений прочая"]
[{"$f":"IF('Отрасли ОКВЭД'!$C2553<>\"\",'Отрасли ОКВЭД'!$C2553,'Отрасли ОКВЭД'!$B2553)","v":"81.29"},"N","81.29","Деятельность по чистке и уборке прочая"]
[{"$f":"IF('Отрасли ОКВЭД'!$C2554<>\"\",'Отрасли ОКВЭД'!$C2554,'Отрасли ОКВЭД'!$B2554)","v":"81.29.1"},"N","81.29.1","Дезинфекция, дезинсекция, дератизация зданий, промышленного оборудования"]
[{"$f":"IF('Отрасли ОКВЭД'!$C2555<>\"\",'Отрасли ОКВЭД'!$C2555,'Отрасли ОКВЭД'!$B2555)","v":"81.29.2"},"N","81.29.2","Подметание улиц и уборка снега"]
[{"$f":"IF('Отрасли ОКВЭД'!$C2556<>\"\",'Отрасли ОКВЭД'!$C2556,'Отрасли ОКВЭД'!$B2556)","v":"81.29.9"},"N","81.29.9","Деятельность по чистке и уборке прочая, не включенная в другие группировки"]
[{"$f":"IF('Отрасли ОКВЭД'!$C2557<>\"\",'Отрасли ОКВЭД'!$C2557,'Отрасли ОКВЭД'!$B2557)","v":"81.3"},"N","81.3","Предоставление услуг по благоустройству ландшафта"]
[{"$f":"IF('Отрасли ОКВЭД'!$C2558<>\"\",'Отрасли ОКВЭД'!$C2558,'Отрасли ОКВЭД'!$B2558)","v":"81.30"},"N","81.30","Деятельность по благоустройству ландшафта"]
[{"$f":"IF('Отрасли ОКВЭД'!$C2559<>\"\",'Отрасли ОКВЭД'!$C2559,'Отрасли ОКВЭД'!$B2559)","v":"82"},"N","82","Деятельность административно-хозяйственная, вспомогательная деятельность по обеспечению функционирования организации, деятельность по предоставлению прочих вспомогательных услуг для бизнеса"]
[{"$f":"IF('Отрасли ОКВЭД'!$C2560<>\"\",'Отрасли ОКВЭД'!$C2560,'Отрасли ОКВЭД'!$B2560)","v":"82.1"},"N","82.1","Деятельность административно-хозяйственная и вспомогательная деятельность по обеспечению функционирования организации"]
[{"$f":"IF('Отрасли ОКВЭД'!$C2561<>\"\",'Отрасли ОКВЭД'!$C2561,'Отрасли ОКВЭД'!$B2561)","v":"82.11"},"N","82.11","Деятельность административно-хозяйственная комплексная по обеспечению работы организации"]
[{"$f":"IF('Отрасли ОКВЭД'!$C2562<>\"\",'Отрасли ОКВЭД'!$C2562,'Отрасли ОКВЭД'!$B2562)","v":"82.19"},"N","82.19","Деятельность по фотокопированию и подготовке документов и прочая специализированная вспомогательная деятельность по обеспечению деятельности офиса"]
[{"$f":"IF('Отрасли ОКВЭД'!$C2563<>\"\",'Отрасли ОКВЭД'!$C2563,'Отрасли ОКВЭД'!$B2563)","v":"82.2"},"N","82.2","Деятельность центров обработки телефонных вызовов"]
[{"$f":"IF('Отрасли ОКВЭД'!$C2564<>\"\",'Отрасли ОКВЭД'!$C2564,'Отрасли ОКВЭД'!$B2564)","v":"82.20"},"N","82.20","Деятельность центров обработки телефонных вызовов"]
[{"$f":"IF('Отрасли ОКВЭД'!$C2565<>\"\",'Отрасли ОКВЭД'!$C2565,'Отрасли ОКВЭД'!$B2565)","v":"82.3"},"N","82.3","Деятельность по организации конференций и выставок"]
[{"$f":"IF('Отрасли ОКВЭД'!$C2566<>\"\",'Отрасли ОКВЭД'!$C2566,'Отрасли ОКВЭД'!$B2566)","v":"82.30"},"N","82.30","Деятельность по организации конференций и выставок"]
[{"$f":"IF('Отрасли ОКВЭД'!$C2567<>\"\",'Отрасли ОКВЭД'!$C2567,'Отрасли ОКВЭД'!$B2567)","v":"82.9"},"N","82.9","Деятельность по предоставлению вспомогательных услуг для бизнеса, не включенная в другие группировки"]
[{"$f":"IF('Отрасли ОКВЭД'!$C2568<>\"\",'Отрасли ОКВЭД'!$C2568,'Отрасли ОКВЭД'!$B2568)","v":"82.91"},"N","82.91","Деятельность агентств по сбору платежей и бюро кредитной информации"]
[{"$f":"IF('Отрасли ОКВЭД'!$C2569<>\"\",'Отрасли ОКВЭД'!$C2569,'Отрасли ОКВЭД'!$B2569)","v":"82.92"},"N","82.92","Деятельность по упаковыванию товаров"]
[{"$f":"IF('Отрасли ОКВЭД'!$C2570<>\"\",'Отрасли ОКВЭД'!$C2570,'Отрасли ОКВЭД'!$B2570)","v":"82.99"},"N","82.99","Деятельность по предоставлению прочих вспомогательных услуг для бизнеса, не включенная в другие группировки"]
[{"$f":"IF('Отрасли ОКВЭД'!$C2571<>\"\",'Отрасли ОКВЭД'!$C2571,'Отрасли ОКВЭД'!$B2571)","v":"O"},"O","","ГОСУДАРСТВЕННОЕ УПРАВЛЕНИЕ И ОБЕСПЕЧЕНИЕ ВОЕННОЙ БЕЗОПАСНОСТИ; СОЦИАЛЬНОЕ ОБЕСПЕЧЕНИЕ"]
[{"$f":"IF('Отрасли ОКВЭД'!$C2572<>\"\",'Отрасли ОКВЭД'!$C2572,'Отрасли ОКВЭД'!$B2572)","v":"84"},"O","84","Деятельность органов государственного управления по обеспечению военной безопасности, обязательному социальному обеспечению"]
[{"$f":"IF('Отрасли ОКВЭД'!$C2573<>\"\",'Отрасли ОКВЭД'!$C2573,'Отрасли ОКВЭД'!$B2573)","v":"84.1"},"O","84.1","Деятельность органов государственного управления и местного самоуправления по вопросам общего и социально-экономического характера"]
[{"$f":"IF('Отрасли ОКВЭД'!$C2574<>\"\",'Отрасли ОКВЭД'!$C2574,'Отрасли ОКВЭД'!$B2574)","v":"84.11"},"O","84.11","Деятельность органов государственного управления и местного самоуправления по вопросам общего характера"]
[{"$f":"IF('Отрасли ОКВЭД'!$C2575<>\"\",'Отрасли ОКВЭД'!$C2575,'Отрасли ОКВЭД'!$B2575)","v":"84.11.1"},"O","84.11.1","Деятельность федеральных органов государственной власти по управлению вопросами общего характера, кроме судебной власти"]
[{"$f":"IF('Отрасли ОКВЭД'!$C2576<>\"\",'Отрасли ОКВЭД'!$C2576,'Отрасли ОКВЭД'!$B2576)","v":"84.11.11"},"O","84.11.11","Деятельность федеральных органов государственной власти, кроме полномочных представителей Президента Российской Федерации и территориальных органов федеральных органов исполнительной власти"]
[{"$f":"IF('Отрасли ОКВЭД'!$C2577<>\"\",'Отрасли ОКВЭД'!$C2577,'Отрасли ОКВЭД'!$B2577)","v":"84.11.12"},"O","84.11.12","Деятельность полномочных представителей Президента Российской Федерации в регионах Российской Федерации и территориальных органов федеральных органов исполнительной власти в субъектах Российской Федерации (республиках, краях, областях)"]
[{"$f":"IF('Отрасли ОКВЭД'!$C2578<>\"\",'Отрасли ОКВЭД'!$C2578,'Отрасли ОКВЭД'!$B2578)","v":"84.11.13"},"O","84.11.13","Деятельность территориальных органов федеральных органов исполнительной власти в городах и районах субъектов Российской Федерации"]
[{"$f":"IF('Отрасли ОКВЭД'!$C2579<>\"\",'Отрасли ОКВЭД'!$C2579,'Отрасли ОКВЭД'!$B2579)","v":"84.11.2"},"O","84.11.2","Деятельность органов государственной власти по управлению вопросами общего характера, кроме судебной власти, субъектов Российской Федерации"]
[{"$f":"IF('Отрасли ОКВЭД'!$C2580<>\"\",'Отрасли ОКВЭД'!$C2580,'Отрасли ОКВЭД'!$B2580)","v":"84.11.21"},"O","84.11.21","Деятельность органов государственной власти субъектов Российской Федерации (республик, краев, областей), кроме судебной власти, представительств исполнительных органов государственной власти субъектов Российской Федерации при Президенте Российской Федерации"]
[{"$f":"IF('Отрасли ОКВЭД'!$C2581<>\"\",'Отрасли ОКВЭД'!$C2581,'Отрасли ОКВЭД'!$B2581)","v":"84.11.22"},"O","84.11.22","Деятельность органов государственной власти субъектов Российской Федерации по осуществлению своих полномочий в городах и районах"]
[{"$f":"IF('Отрасли ОКВЭД'!$C2582<>\"\",'Отрасли ОКВЭД'!$C2582,'Отрасли ОКВЭД'!$B2582)","v":"84.11.23"},"O","84.11.23","Деятельность органов государственной власти субъектов Российской Федерации по осуществлению своих полномочий в сельских населенных пунктах"]
[{"$f":"IF('Отрасли ОКВЭД'!$C2583<>\"\",'Отрасли ОКВЭД'!$C2583,'Отрасли ОКВЭД'!$B2583)","v":"84.11.3"},"O","84.11.3","Деятельность органов местного самоуправления по управлению вопросами общего характера"]
[{"$f":"IF('Отрасли ОКВЭД'!$C2584<>\"\",'Отрасли ОКВЭД'!$C2584,'Отрасли ОКВЭД'!$B2584)","v":"84.11.31"},"O","84.11.31","Деятельность органов местного самоуправления муниципальных районов"]
[{"$f":"IF('Отрасли ОКВЭД'!$C2585<>\"\",'Отрасли ОКВЭД'!$C2585,'Отрасли ОКВЭД'!$B2585)","v":"84.11.32"},"O","84.11.32","Деятельность органов местного самоуправления городских округов"]
[{"$f":"IF('Отрасли ОКВЭД'!$C2586<>\"\",'Отрасли ОКВЭД'!$C2586,'Отрасли ОКВЭД'!$B2586)","v":"84.11.33"},"O","84.11.33","Деятельность органов местного самоуправления внутригородских территорий городов федерального значения"]
[{"$f":"IF('Отрасли ОКВЭД'!$C2587<>\"\",'Отрасли ОКВЭД'!$C2587,'Отрасли ОКВЭД'!$B2587)","v":"84.11.34"},"O","84.11.34","Деятельность органов местного самоуправления городских поселений"]
[{"$f":"IF('Отрасли ОКВЭД'!$C2588<>\"\",'Отрасли ОКВЭД'!$C2588,'Отрасли ОКВЭД'!$B2588)","v":"84.11.35"},"O","84.11.35","Деятельность органов местного самоуправления сельских поселений"]
[{"$f":"IF('Отрасли ОКВЭД'!$C2589<>\"\",'Отрасли ОКВЭД'!$C2589,'Отрасли ОКВЭД'!$B2589)","v":"84.11.4"},"O","84.11.4","Управление финансовой деятельностью и деятельностью в сфере налогообложения"]
[{"$f":"IF('Отрасли ОКВЭД'!$C2590<>\"\",'Отрасли ОКВЭД'!$C2590,'Отрасли ОКВЭД'!$B2590)","v":"84.11.5"},"O","84.11.5","Управление деятельностью в области прогнозирования и планирования"]
[{"$f":"IF('Отрасли ОКВЭД'!$C2591<>\"\",'Отрасли ОКВЭД'!$C2591,'Отрасли ОКВЭД'!$B2591)","v":"84.11.6"},"O","84.11.6","Управление деятельностью в области фундаментальных исследований"]
[{"$f":"IF('Отрасли ОКВЭД'!$C2592<>\"\",'Отрасли ОКВЭД'!$C2592,'Отрасли ОКВЭД'!$B2592)","v":"84.11.7"},"O","84.11.7","Управление деятельностью в области статистики"]
[{"$f":"IF('Отрасли ОКВЭД'!$C2593<>\"\",'Отрасли ОКВЭД'!$C2593,'Отрасли ОКВЭД'!$B2593)","v":"84.11.8"},"O","84.11.8","Управление имуществом, находящимся в государственной собственности"]
[{"$f":"IF('Отрасли ОКВЭД'!$C2594<>\"\",'Отрасли ОКВЭД'!$C2594,'Отрасли ОКВЭД'!$B2594)","v":"84.11.9"},"O","84.11.9","Управление деятельностью в области антимонопольного контроля"]
[{"$f":"IF('Отрасли ОКВЭД'!$C2595<>\"\",'Отрасли ОКВЭД'!$C2595,'Отрасли ОКВЭД'!$B2595)","v":"84.12"},"O","84.12","Государственное регулирование деятельности в области здравоохранения, образования, социально-культурного развития и других социальных услуг, кроме социального обеспечения"]
[{"$f":"IF('Отрасли ОКВЭД'!$C2596<>\"\",'Отрасли ОКВЭД'!$C2596,'Отрасли ОКВЭД'!$B2596)","v":"84.13"},"O","84.13","Регулирование и содействие эффективному ведению экономической деятельности предприятий"]
[{"$f":"IF('Отрасли ОКВЭД'!$C2597<>\"\",'Отрасли ОКВЭД'!$C2597,'Отрасли ОКВЭД'!$B2597)","v":"84.2"},"O","84.2","Предоставление государственных услуг обществу"]
[{"$f":"IF('Отрасли ОКВЭД'!$C2598<>\"\",'Отрасли ОКВЭД'!$C2598,'Отрасли ОКВЭД'!$B2598)","v":"84.21"},"O","84.21","Деятельность международная"]
[{"$f":"IF('Отрасли ОКВЭД'!$C2599<>\"\",'Отрасли ОКВЭД'!$C2599,'Отрасли ОКВЭД'!$B2599)","v":"84.22"},"O","84.22","Деятельность, связанная с обеспечением военной безопасности"]
[{"$f":"IF('Отрасли ОКВЭД'!$C2600<>\"\",'Отрасли ОКВЭД'!$C2600,'Отрасли ОКВЭД'!$B2600)","v":"84.23"},"O","84.23","Деятельность в области юстиции и правосудия"]
[{"$f":"IF('Отрасли ОКВЭД'!$C2601<>\"\",'Отрасли ОКВЭД'!$C2601,'Отрасли ОКВЭД'!$B2601)","v":"84.23.1"},"O","84.23.1","Деятельность федеральных судов"]
[{"$f":"IF('Отрасли ОКВЭД'!$C2602<>\"\",'Отрасли ОКВЭД'!$C2602,'Отрасли ОКВЭД'!$B2602)","v":"84.23.11"},"O","84.23.11","Деятельность Конституционного суда Российской Федерации"]
[{"$f":"IF('Отрасли ОКВЭД'!$C2603<>\"\",'Отрасли ОКВЭД'!$C2603,'Отрасли ОКВЭД'!$B2603)","v":"84.23.12"},"O","84.23.12","Деятельность Верховного суда Российской Федерации"]
[{"$f":"IF('Отрасли ОКВЭД'!$C2604<>\"\",'Отрасли ОКВЭД'!$C2604,'Отрасли ОКВЭД'!$B2604)","v":"84.23.13"},"O","84.23.13","Деятельность Верховных судов субъектов Российской Федерации"]
[{"$f":"IF('Отрасли ОКВЭД'!$C2605<>\"\",'Отрасли ОКВЭД'!$C2605,'Отрасли ОКВЭД'!$B2605)","v":"84.23.14"},"O","84.23.14","Деятельность районных судов"]
[{"$f":"IF('Отрасли ОКВЭД'!$C2606<>\"\",'Отрасли ОКВЭД'!$C2606,'Отрасли ОКВЭД'!$B2606)","v":"84.23.15"},"O","84.23.15","Деятельность военных судов"]
[{"$f":"IF('Отрасли ОКВЭД'!$C2607<>\"\",'Отрасли ОКВЭД'!$C2607,'Отрасли ОКВЭД'!$B2607)","v":"84.23.16"},"O","84.23.16","Деятельность Высшего арбитражного суда Российской Федерации"]
[{"$f":"IF('Отрасли ОКВЭД'!$C2608<>\"\",'Отрасли ОКВЭД'!$C2608,'Отрасли ОКВЭД'!$B2608)","v":"84.23.17"},"O","84.23.17","Деятельность федеральных арбитражных судов округов"]
[{"$f":"IF('Отрасли ОКВЭД'!$C2609<>\"\",'Отрасли ОКВЭД'!$C2609,'Отрасли ОКВЭД'!$B2609)","v":"84.23.18"},"O","84.23.18","Деятельность арбитражных судов субъектов Российской Федерации"]
[{"$f":"IF('Отрасли ОКВЭД'!$C2610<>\"\",'Отрасли ОКВЭД'!$C2610,'Отрасли ОКВЭД'!$B2610)","v":"84.23.19"},"O","84.23.19","Деятельность специализированных судов"]
[{"$f":"IF('Отрасли ОКВЭД'!$C2611<>\"\",'Отрасли ОКВЭД'!$C2611,'Отрасли ОКВЭД'!$B2611)","v":"84.23.2"},"O","84.23.2","Деятельность судов субъектов Российской Федерации"]
[{"$f":"IF('Отрасли ОКВЭД'!$C2612<>\"\",'Отрасли ОКВЭД'!$C2612,'Отрасли ОКВЭД'!$B2612)","v":"84.23.21"},"O","84.23.21","Деятельность конституционных (уставных) судов"]
[{"$f":"IF('Отрасли ОКВЭД'!$C2613<>\"\",'Отрасли ОКВЭД'!$C2613,'Отрасли ОКВЭД'!$B2613)","v":"84.23.22"},"O","84.23.22","Деятельность мировых судей"]
[{"$f":"IF('Отрасли ОКВЭД'!$C2614<>\"\",'Отрасли ОКВЭД'!$C2614,'Отрасли ОКВЭД'!$B2614)","v":"84.23.3"},"O","84.23.3","Деятельность органов прокуратуры Российской Федерации"]
[{"$f":"IF('Отрасли ОКВЭД'!$C2615<>\"\",'Отрасли ОКВЭД'!$C2615,'Отрасли ОКВЭД'!$B2615)","v":"84.23.31"},"O","84.23.31","Деятельность Генеральной прокуратуры Российской Федерации"]
[{"$f":"IF('Отрасли ОКВЭД'!$C2616<>\"\",'Отрасли ОКВЭД'!$C2616,'Отрасли ОКВЭД'!$B2616)","v":"84.23.32"},"O","84.23.32","Деятельность прокуратур субъектов Российской Федерации"]
[{"$f":"IF('Отрасли ОКВЭД'!$C2617<>\"\",'Отрасли ОКВЭД'!$C2617,'Отрасли ОКВЭД'!$B2617)","v":"84.23.33"},"O","84.23.33","Деятельность прокуратур городов и районов"]
[{"$f":"IF('Отрасли ОКВЭД'!$C2618<>\"\",'Отрасли ОКВЭД'!$C2618,'Отрасли ОКВЭД'!$B2618)","v":"84.23.4"},"O","84.23.4","Деятельность по управлению и эксплуатации тюрем, исправительных колоний и других мест лишения свободы, а также по оказанию реабилитационной помощи бывшим заключенным"]
[{"$f":"IF('Отрасли ОКВЭД'!$C2619<>\"\",'Отрасли ОКВЭД'!$C2619,'Отрасли ОКВЭД'!$B2619)","v":"84.23.5"},"O","84.23.5","Деятельность Следственного комитета Российской Федерации"]
[{"$f":"IF('Отрасли ОКВЭД'!$C2620<>\"\",'Отрасли ОКВЭД'!$C2620,'Отрасли ОКВЭД'!$B2620)","v":"84.23.51"},"O","84.23.51","Деятельность центрального аппарата Следственного комитета Российской Федерации"]
[{"$f":"IF('Отрасли ОКВЭД'!$C2621<>\"\",'Отрасли ОКВЭД'!$C2621,'Отрасли ОКВЭД'!$B2621)","v":"84.23.52"},"O","84.23.52","Деятельность Главного военного следственного управления, главных следственных управлений и следственных управлений Следственного комитета Российской Федерации по субъектам Российской Федерации (в том числе подразделений указанных управлений по административным округам) и приравненных к ним специализированных (в том числе военных) следственных управлений и следственных отделов Следственного комитета Российской Федерации"]
[{"$f":"IF('Отрасли ОКВЭД'!$C2622<>\"\",'Отрасли ОКВЭД'!$C2622,'Отрасли ОКВЭД'!$B2622)","v":"84.24"},"O","84.24","Деятельность по обеспечению общественного порядка и безопасности"]
[{"$f":"IF('Отрасли ОКВЭД'!$C2623<>\"\",'Отрасли ОКВЭД'!$C2623,'Отрасли ОКВЭД'!$B2623)","v":"84.25"},"O","84.25","Деятельность по обеспечению безопасности в чрезвычайных ситуациях; деятельность по обеспечению безопасности в области использования атомной энергии"]
[{"$f":"IF('Отрасли ОКВЭД'!$C2624<>\"\",'Отрасли ОКВЭД'!$C2624,'Отрасли ОКВЭД'!$B2624)","v":"84.25.1"},"O","84.25.1","Деятельность по обеспечению пожарной безопасности"]
[{"$f":"IF('Отрасли ОКВЭД'!$C2625<>\"\",'Отрасли ОКВЭД'!$C2625,'Отрасли ОКВЭД'!$B2625)","v":"84.25.2"},"O","84.25.2","Деятельность по обеспечению безопасности на водных объектах"]
[{"$f":"IF('Отрасли ОКВЭД'!$C2626<>\"\",'Отрасли ОКВЭД'!$C2626,'Отрасли ОКВЭД'!$B2626)","v":"84.25.3"},"O","84.25.3","Деятельность по обеспечению безопасности в области использования атомной энергии"]
[{"$f":"IF('Отрасли ОКВЭД'!$C2627<>\"\",'Отрасли ОКВЭД'!$C2627,'Отрасли ОКВЭД'!$B2627)","v":"84.25.9"},"O","84.25.9","Деятельность по обеспечению безопасности в чрезвычайных ситуациях прочая"]
[{"$f":"IF('Отрасли ОКВЭД'!$C2628<>\"\",'Отрасли ОКВЭД'!$C2628,'Отрасли ОКВЭД'!$B2628)","v":"84.3"},"O","84.3","Деятельность в области обязательного социального обеспечения"]
[{"$f":"IF('Отрасли ОКВЭД'!$C2629<>\"\",'Отрасли ОКВЭД'!$C2629,'Отрасли ОКВЭД'!$B2629)","v":"84.30"},"O","84.30","Деятельность в области обязательного социального обеспечения"]
[{"$f":"IF('Отрасли ОКВЭД'!$C2630<>\"\",'Отрасли ОКВЭД'!$C2630,'Отрасли ОКВЭД'!$B2630)","v":"P"},"P","","ОБРАЗОВАНИЕ"]
[{"$f":"IF('Отрасли ОКВЭД'!$C2631<>\"\",'Отрасли ОКВЭД'!$C2631,'Отрасли ОКВЭД'!$B2631)","v":"85"},"P","85","Образование"]
[{"$f":"IF('Отрасли ОКВЭД'!$C2632<>\"\",'Отрасли ОКВЭД'!$C2632,'Отрасли ОКВЭД'!$B2632)","v":"85.1"},"P","85.1","Образование общее"]
[{"$f":"IF('Отрасли ОКВЭД'!$C2633<>\"\",'Отрасли ОКВЭД'!$C2633,'Отрасли ОКВЭД'!$B2633)","v":"85.11"},"P","85.11","Образование дошкольное"]
[{"$f":"IF('Отрасли ОКВЭД'!$C2634<>\"\",'Отрасли ОКВЭД'!$C2634,'Отрасли ОКВЭД'!$B2634)","v":"85.12"},"P","85.12","Образование начальное общее"]
[{"$f":"IF('Отрасли ОКВЭД'!$C2635<>\"\",'Отрасли ОКВЭД'!$C2635,'Отрасли ОКВЭД'!$B2635)","v":"85.13"},"P","85.13","Образование основное общее"]
[{"$f":"IF('Отрасли ОКВЭД'!$C2636<>\"\",'Отрасли ОКВЭД'!$C2636,'Отрасли ОКВЭД'!$B2636)","v":"85.14"},"P","85.14","Образование среднее общее"]
[{"$f":"IF('Отрасли ОКВЭД'!$C2637<>\"\",'Отрасли ОКВЭД'!$C2637,'Отрасли ОКВЭД'!$B2637)","v":"85.2"},"P","85.2","Образование профессиональное"]
[{"$f":"IF('Отрасли ОКВЭД'!$C2638<>\"\",'Отрасли ОКВЭД'!$C2638,'Отрасли ОКВЭД'!$B2638)","v":"85.21"},"P","85.21","Образование профессиональное среднее"]
[{"$f":"IF('Отрасли ОКВЭД'!$C2639<>\"\",'Отрасли ОКВЭД'!$C2639,'Отрасли ОКВЭД'!$B2639)","v":"85.22"},"P","85.22","Образование высшее"]
[{"$f":"IF('Отрасли ОКВЭД'!$C2640<>\"\",'Отрасли ОКВЭД'!$C2640,'Отрасли ОКВЭД'!$B2640)","v":"85.22.1"},"P","85.22.1","Образование высшее - бакалавриат"]
[{"$f":"IF('Отрасли ОКВЭД'!$C2641<>\"\",'Отрасли ОКВЭД'!$C2641,'Отрасли ОКВЭД'!$B2641)","v":"85.22.2"},"P","85.22.2","Образование высшее - специалитет"]
[{"$f":"IF('Отрасли ОКВЭД'!$C2642<>\"\",'Отрасли ОКВЭД'!$C2642,'Отрасли ОКВЭД'!$B2642)","v":"85.22.3"},"P","85.22.3","Образование высшее - магистратура"]
[{"$f":"IF('Отрасли ОКВЭД'!$C2643<>\"\",'Отрасли ОКВЭД'!$C2643,'Отрасли ОКВЭД'!$B2643)","v":"85.23"},"P","85.23","Подготовка кадров высшей квалификации"]
[{"$f":"IF('Отрасли ОКВЭД'!$C2644<>\"\",'Отрасли ОКВЭД'!$C2644,'Отрасли ОКВЭД'!$B2644)","v":"85.3"},"P","85.3","Обучение профессиональное"]
[{"$f":"IF('Отрасли ОКВЭД'!$C2645<>\"\",'Отрасли ОКВЭД'!$C2645,'Отрасли ОКВЭД'!$B2645)","v":"85.30"},"P","85.30","Обучение профессиональное"]
[{"$f":"IF('Отрасли ОКВЭД'!$C2646<>\"\",'Отрасли ОКВЭД'!$C2646,'Отрасли ОКВЭД'!$B2646)","v":"85.4"},"P","85.4","Образование дополнительное"]
[{"$f":"IF('Отрасли ОКВЭД'!$C2647<>\"\",'Отрасли ОКВЭД'!$C2647,'Отрасли ОКВЭД'!$B2647)","v":"85.41"},"P","85.41","Образование дополнительное детей и взрослых"]
[{"$f":"IF('Отрасли ОКВЭД'!$C2648<>\"\",'Отрасли ОКВЭД'!$C2648,'Отрасли ОКВЭД'!$B2648)","v":"85.41.1"},"P","85.41.1","Образование в области спорта и отдыха"]
[{"$f":"IF('Отрасли ОКВЭД'!$C2649<>\"\",'Отрасли ОКВЭД'!$C2649,'Отрасли ОКВЭД'!$B2649)","v":"85.41.2"},"P","85.41.2","Образование в области культуры"]
[{"$f":"IF('Отрасли ОКВЭД'!$C2650<>\"\",'Отрасли ОКВЭД'!$C2650,'Отрасли ОКВЭД'!$B2650)","v":"85.41.9"},"P","85.41.9","Образование дополнительное детей и взрослых прочее, не включенное в другие группировки"]
[{"$f":"IF('Отрасли ОКВЭД'!$C2651<>\"\",'Отрасли ОКВЭД'!$C2651,'Отрасли ОКВЭД'!$B2651)","v":"85.42"},"P","85.42","Образование профессиональное дополнительное"]
[{"$f":"IF('Отрасли ОКВЭД'!$C2652<>\"\",'Отрасли ОКВЭД'!$C2652,'Отрасли ОКВЭД'!$B2652)","v":"85.42.1"},"P","85.42.1","Деятельность школ подготовки водителей автотранспортных средств"]
[{"$f":"IF('Отрасли ОКВЭД'!$C2653<>\"\",'Отрасли ОКВЭД'!$C2653,'Отрасли ОКВЭД'!$B2653)","v":"85.42.2"},"P","85.42.2","Деятельность школ обучения вождению воздушных и плавательных судов, без выдачи коммерческих сертификатов и лицензий"]
[{"$f":"IF('Отрасли ОКВЭД'!$C2654<>\"\",'Отрасли ОКВЭД'!$C2654,'Отрасли ОКВЭД'!$B2654)","v":"85.42.9"},"P","85.42.9","Деятельность по дополнительному профессиональному образованию прочая, не включенная в другие группировки"]
[{"$f":"IF('Отрасли ОКВЭД'!$C2655<>\"\",'Отрасли ОКВЭД'!$C2655,'Отрасли ОКВЭД'!$B2655)","v":"Q"},"Q","","ДЕЯТЕЛЬНОСТЬ В ОБЛАСТИ ЗДРАВООХРАНЕНИЯ И СОЦИАЛЬНЫХ УСЛУГ"]
[{"$f":"IF('Отрасли ОКВЭД'!$C2656<>\"\",'Отрасли ОКВЭД'!$C2656,'Отрасли ОКВЭД'!$B2656)","v":"86"},"Q","86","Деятельность в области здравоохранения"]
[{"$f":"IF('Отрасли ОКВЭД'!$C2657<>\"\",'Отрасли ОКВЭД'!$C2657,'Отрасли ОКВЭД'!$B2657)","v":"86.1"},"Q","86.1","Деятельность больничных организаций"]
[{"$f":"IF('Отрасли ОКВЭД'!$C2658<>\"\",'Отрасли ОКВЭД'!$C2658,'Отрасли ОКВЭД'!$B2658)","v":"86.10"},"Q","86.10","Деятельность больничных организаций"]
[{"$f":"IF('Отрасли ОКВЭД'!$C2659<>\"\",'Отрасли ОКВЭД'!$C2659,'Отрасли ОКВЭД'!$B2659)","v":"86.2"},"Q","86.2","Медицинская и стоматологическая практика"]
[{"$f":"IF('Отрасли ОКВЭД'!$C2660<>\"\",'Отрасли ОКВЭД'!$C2660,'Отрасли ОКВЭД'!$B2660)","v":"86.21"},"Q","86.21","Общая врачебная практика"]
[{"$f":"IF('Отрасли ОКВЭД'!$C2661<>\"\",'Отрасли ОКВЭД'!$C2661,'Отрасли ОКВЭД'!$B2661)","v":"86.22"},"Q","86.22","Специальная врачебная практика"]
[{"$f":"IF('Отрасли ОКВЭД'!$C2662<>\"\",'Отрасли ОКВЭД'!$C2662,'Отрасли ОКВЭД'!$B2662)","v":"86.23"},"Q","86.23","Стоматологическая практика"]
[{"$f":"IF('Отрасли ОКВЭД'!$C2663<>\"\",'Отрасли ОКВЭД'!$C2663,'Отрасли ОКВЭД'!$B2663)","v":"86.9"},"Q","86.9","Деятельность в области медицины прочая"]
[{"$f":"IF('Отрасли ОКВЭД'!$C2664<>\"\",'Отрасли ОКВЭД'!$C2664,'Отрасли ОКВЭД'!$B2664)","v":"86.90"},"Q","86.90","Деятельность в области медицины прочая"]
[{"$f":"IF('Отрасли ОКВЭД'!$C2665<>\"\",'Отрасли ОКВЭД'!$C2665,'Отрасли ОКВЭД'!$B2665)","v":"86.90.1"},"Q","86.90.1","Деятельность организаций санитарно-эпидемиологической службы"]
[{"$f":"IF('Отрасли ОКВЭД'!$C2666<>\"\",'Отрасли ОКВЭД'!$C2666,'Отрасли ОКВЭД'!$B2666)","v":"86.90.2"},"Q","86.90.2","Деятельность организаций судебно-медицинской экспертизы"]
[{"$f":"IF('Отрасли ОКВЭД'!$C2667<>\"\",'Отрасли ОКВЭД'!$C2667,'Отрасли ОКВЭД'!$B2667)","v":"86.90.3"},"Q","86.90.3","Деятельность массажных салонов"]
[{"$f":"IF('Отрасли ОКВЭД'!$C2668<>\"\",'Отрасли ОКВЭД'!$C2668,'Отрасли ОКВЭД'!$B2668)","v":"86.90.4"},"Q","86.90.4","Деятельность санаторно-курортных организаций"]
[{"$f":"IF('Отрасли ОКВЭД'!$C2669<>\"\",'Отрасли ОКВЭД'!$C2669,'Отрасли ОКВЭД'!$B2669)","v":"86.90.9"},"Q","86.90.9","Деятельность в области медицины прочая, не включенная в другие группировки"]
[{"$f":"IF('Отрасли ОКВЭД'!$C2670<>\"\",'Отрасли ОКВЭД'!$C2670,'Отрасли ОКВЭД'!$B2670)","v":"87"},"Q","87","Деятельность по уходу с обеспечением проживания"]
[{"$f":"IF('Отрасли ОКВЭД'!$C2671<>\"\",'Отрасли ОКВЭД'!$C2671,'Отрасли ОКВЭД'!$B2671)","v":"87.1"},"Q","87.1","Деятельность по медицинскому уходу с обеспечением проживания"]
[{"$f":"IF('Отрасли ОКВЭД'!$C2672<>\"\",'Отрасли ОКВЭД'!$C2672,'Отрасли ОКВЭД'!$B2672)","v":"87.10"},"Q","87.10","Деятельность по медицинскому уходу с обеспечением проживания"]
[{"$f":"IF('Отрасли ОКВЭД'!$C2673<>\"\",'Отрасли ОКВЭД'!$C2673,'Отрасли ОКВЭД'!$B2673)","v":"87.2"},"Q","87.2","Деятельность по оказанию помощи на дому для лиц с ограниченными возможностями развития, душевнобольным и наркозависимым"]
[{"$f":"IF('Отрасли ОКВЭД'!$C2674<>\"\",'Отрасли ОКВЭД'!$C2674,'Отрасли ОКВЭД'!$B2674)","v":"87.20"},"Q","87.20","Деятельность по оказанию помощи на дому для лиц с ограниченными возможностями развития, душевнобольным и наркозависимым"]
[{"$f":"IF('Отрасли ОКВЭД'!$C2675<>\"\",'Отрасли ОКВЭД'!$C2675,'Отрасли ОКВЭД'!$B2675)","v":"87.3"},"Q","87.3","Деятельность по уходу за престарелыми и инвалидами с обеспечением проживания"]
[{"$f":"IF('Отрасли ОКВЭД'!$C2676<>\"\",'Отрасли ОКВЭД'!$C2676,'Отрасли ОКВЭД'!$B2676)","v":"87.30"},"Q","87.30","Деятельность по уходу за престарелыми и инвалидами с обеспечением проживания"]
[{"$f":"IF('Отрасли ОКВЭД'!$C2677<>\"\",'Отрасли ОКВЭД'!$C2677,'Отрасли ОКВЭД'!$B2677)","v":"87.9"},"Q","87.9","Деятельность по уходу с обеспечением проживания прочая"]
[{"$f":"IF('Отрасли ОКВЭД'!$C2678<>\"\",'Отрасли ОКВЭД'!$C2678,'Отрасли ОКВЭД'!$B2678)","v":"87.90"},"Q","87.90","Деятельность по уходу с обеспечением проживания прочая"]
[{"$f":"IF('Отрасли ОКВЭД'!$C2679<>\"\",'Отрасли ОКВЭД'!$C2679,'Отрасли ОКВЭД'!$B2679)","v":"88"},"Q","88","Предоставление социальных услуг без обеспечения проживания"]
[{"$f":"IF('Отрасли ОКВЭД'!$C2680<>\"\",'Отрасли ОКВЭД'!$C2680,'Отрасли ОКВЭД'!$B2680)","v":"88.1"},"Q","88.1","Предоставление социальных услуг без обеспечения проживания престарелым и инвалидам"]
[{"$f":"IF('Отрасли ОКВЭД'!$C2681<>\"\",'Отрасли ОКВЭД'!$C2681,'Отрасли ОКВЭД'!$B2681)","v":"88.10"},"Q","88.10","Предоставление социальных услуг без обеспечения проживания престарелым и инвалидам"]
[{"$f":"IF('Отрасли ОКВЭД'!$C2682<>\"\",'Отрасли ОКВЭД'!$C2682,'Отрасли ОКВЭД'!$B2682)","v":"88.9"},"Q","88.9","Предоставление прочих социальных услуг без обеспечения проживания"]
[{"$f":"IF('Отрасли ОКВЭД'!$C2683<>\"\",'Отрасли ОКВЭД'!$C2683,'Отрасли ОКВЭД'!$B2683)","v":"88.91"},"Q","88.91","Предоставление услуг по дневному уходу за детьми"]
[{"$f":"IF('Отрасли ОКВЭД'!$C2684<>\"\",'Отрасли ОКВЭД'!$C2684,'Отрасли ОКВЭД'!$B2684)","v":"88.99"},"Q","88.99","Предоставление прочих социальных услуг без обеспечения проживания, не включенных в другие группировки"]
[{"$f":"IF('Отрасли ОКВЭД'!$C2685<>\"\",'Отрасли ОКВЭД'!$C2685,'Отрасли ОКВЭД'!$B2685)","v":"R"},"R","","ДЕЯТЕЛЬНОСТЬ В ОБЛАСТИ КУЛЬТУРЫ, СПОРТА, ОРГАНИЗАЦИИ ДОСУГА И РАЗВЛЕЧЕНИЙ"]
[{"$f":"IF('Отрасли ОКВЭД'!$C2686<>\"\",'Отрасли ОКВЭД'!$C2686,'Отрасли ОКВЭД'!$B2686)","v":"90"},"R","90","Деятельность творческая, деятельность в области искусства и организации развлечений"]
[{"$f":"IF('Отрасли ОКВЭД'!$C2687<>\"\",'Отрасли ОКВЭД'!$C2687,'Отрасли ОКВЭД'!$B2687)","v":"90.0"},"R","90.0","Деятельность творческая, деятельность в области искусства и организации развлечений"]
[{"$f":"IF('Отрасли ОКВЭД'!$C2688<>\"\",'Отрасли ОКВЭД'!$C2688,'Отрасли ОКВЭД'!$B2688)","v":"90.01"},"R","90.01","Деятельность в области исполнительских искусств"]
[{"$f":"IF('Отрасли ОКВЭД'!$C2689<>\"\",'Отрасли ОКВЭД'!$C2689,'Отрасли ОКВЭД'!$B2689)","v":"90.02"},"R","90.02","Деятельность вспомогательная, связанная с исполнительскими искусствами"]
[{"$f":"IF('Отрасли ОКВЭД'!$C2690<>\"\",'Отрасли ОКВЭД'!$C2690,'Отрасли ОКВЭД'!$B2690)","v":"90.03"},"R","90.03","Деятельность в области художественного творчества"]
[{"$f":"IF('Отрасли ОКВЭД'!$C2691<>\"\",'Отрасли ОКВЭД'!$C2691,'Отрасли ОКВЭД'!$B2691)","v":"90.04"},"R","90.04","Деятельность учреждений культуры и искусства"]
[{"$f":"IF('Отрасли ОКВЭД'!$C2692<>\"\",'Отрасли ОКВЭД'!$C2692,'Отрасли ОКВЭД'!$B2692)","v":"90.04.1"},"R","90.04.1","Деятельность концертных залов, театров, оперных зданий, мюзик-холлов, включая услуги билетных касс"]
[{"$f":"IF('Отрасли ОКВЭД'!$C2693<>\"\",'Отрасли ОКВЭД'!$C2693,'Отрасли ОКВЭД'!$B2693)","v":"90.04.2"},"R","90.04.2","Деятельность многоцелевых центров и подобных заведений с преобладанием культурного обслуживания"]
[{"$f":"IF('Отрасли ОКВЭД'!$C2694<>\"\",'Отрасли ОКВЭД'!$C2694,'Отрасли ОКВЭД'!$B2694)","v":"90.04.3"},"R","90.04.3","Деятельность учреждений клубного типа: клубов, дворцов и домов культуры, домов народного творчества"]
[{"$f":"IF('Отрасли ОКВЭД'!$C2695<>\"\",'Отрасли ОКВЭД'!$C2695,'Отрасли ОКВЭД'!$B2695)","v":"91"},"R","91","Деятельность библиотек, архивов, музеев и прочих объектов культуры"]
[{"$f":"IF('Отрасли ОКВЭД'!$C2696<>\"\",'Отрасли ОКВЭД'!$C2696,'Отрасли ОКВЭД'!$B2696)","v":"91.0"},"R","91.0","Деятельность библиотек, архивов, музеев и прочих объектов культуры"]
[{"$f":"IF('Отрасли ОКВЭД'!$C2697<>\"\",'Отрасли ОКВЭД'!$C2697,'Отрасли ОКВЭД'!$B2697)","v":"91.01"},"R","91.01","Деятельность библиотек и архивов"]
[{"$f":"IF('Отрасли ОКВЭД'!$C2698<>\"\",'Отрасли ОКВЭД'!$C2698,'Отрасли ОКВЭД'!$B2698)","v":"91.02"},"R","91.02","Деятельность музеев"]
[{"$f":"IF('Отрасли ОКВЭД'!$C2699<>\"\",'Отрасли ОКВЭД'!$C2699,'Отрасли ОКВЭД'!$B2699)","v":"91.03"},"R","91.03","Деятельность по охране исторических мест и зданий, памятников культуры"]
[{"$f":"IF('Отрасли ОКВЭД'!$C2700<>\"\",'Отрасли ОКВЭД'!$C2700,'Отрасли ОКВЭД'!$B2700)","v":"91.04"},"R","91.04","Деятельность ботанических садов, зоопарков, государственных природных заповедников и национальных парков"]
[{"$f":"IF('Отрасли ОКВЭД'!$C2701<>\"\",'Отрасли ОКВЭД'!$C2701,'Отрасли ОКВЭД'!$B2701)","v":"91.04.1"},"R","91.04.1","Деятельность зоопарков"]
[{"$f":"IF('Отрасли ОКВЭД'!$C2702<>\"\",'Отрасли ОКВЭД'!$C2702,'Отрасли ОКВЭД'!$B2702)","v":"91.04.2"},"R","91.04.2","Деятельность государственных природных заповедников (в том числе биосферных)"]
[{"$f":"IF('Отрасли ОКВЭД'!$C2703<>\"\",'Отрасли ОКВЭД'!$C2703,'Отрасли ОКВЭД'!$B2703)","v":"91.04.3"},"R","91.04.3","Деятельность национальных парков"]
[{"$f":"IF('Отрасли ОКВЭД'!$C2704<>\"\",'Отрасли ОКВЭД'!$C2704,'Отрасли ОКВЭД'!$B2704)","v":"91.04.4"},"R","91.04.4","Деятельность природных парков"]
[{"$f":"IF('Отрасли ОКВЭД'!$C2705<>\"\",'Отрасли ОКВЭД'!$C2705,'Отрасли ОКВЭД'!$B2705)","v":"91.04.5"},"R","91.04.5","Деятельность природных заказников"]
[{"$f":"IF('Отрасли ОКВЭД'!$C2706<>\"\",'Отрасли ОКВЭД'!$C2706,'Отрасли ОКВЭД'!$B2706)","v":"91.04.6"},"R","91.04.6","Деятельность дендрологических парков и ботанических садов"]
[{"$f":"IF('Отрасли ОКВЭД'!$C2707<>\"\",'Отрасли ОКВЭД'!$C2707,'Отрасли ОКВЭД'!$B2707)","v":"92"},"R","92","Деятельность по организации и проведению азартных игр и заключению пари, по организации и проведению лотерей"]
[{"$f":"IF('Отрасли ОКВЭД'!$C2708<>\"\",'Отрасли ОКВЭД'!$C2708,'Отрасли ОКВЭД'!$B2708)","v":"92.1"},"R","92.1","Деятельность по организации и проведению азартных игр и заключения пари"]
[{"$f":"IF('Отрасли ОКВЭД'!$C2709<>\"\",'Отрасли ОКВЭД'!$C2709,'Отрасли ОКВЭД'!$B2709)","v":"92.11"},"R","92.11","Деятельность казино"]
[{"$f":"IF('Отрасли ОКВЭД'!$C2710<>\"\",'Отрасли ОКВЭД'!$C2710,'Отрасли ОКВЭД'!$B2710)","v":"92.12"},"R","92.12","Деятельность залов игровых автоматов"]
[{"$f":"IF('Отрасли ОКВЭД'!$C2711<>\"\",'Отрасли ОКВЭД'!$C2711,'Отрасли ОКВЭД'!$B2711)","v":"92.13"},"R","92.13","Деятельность по организации заключения пари"]
[{"$f":"IF('Отрасли ОКВЭД'!$C2712<>\"\",'Отрасли ОКВЭД'!$C2712,'Отрасли ОКВЭД'!$B2712)","v":"92.2"},"R","92.2","Деятельность по организации и проведению лотерей"]
[{"$f":"IF('Отрасли ОКВЭД'!$C2713<>\"\",'Отрасли ОКВЭД'!$C2713,'Отрасли ОКВЭД'!$B2713)","v":"92.21"},"R","92.21","Деятельность организаторов лотерей"]
[{"$f":"IF('Отрасли ОКВЭД'!$C2714<>\"\",'Отрасли ОКВЭД'!$C2714,'Отрасли ОКВЭД'!$B2714)","v":"92.22"},"R","92.22","Деятельность операторов лотерей"]
[{"$f":"IF('Отрасли ОКВЭД'!$C2715<>\"\",'Отрасли ОКВЭД'!$C2715,'Отрасли ОКВЭД'!$B2715)","v":"92.23"},"R","92.23","Деятельность распространителей лотерейных билетов"]
[{"$f":"IF('Отрасли ОКВЭД'!$C2716<>\"\",'Отрасли ОКВЭД'!$C2716,'Отрасли ОКВЭД'!$B2716)","v":"93"},"R","93","Деятельность в области спорта, отдыха и развлечений"]
[{"$f":"IF('Отрасли ОКВЭД'!$C2717<>\"\",'Отрасли ОКВЭД'!$C2717,'Отрасли ОКВЭД'!$B2717)","v":"93.1"},"R","93.1","Деятельность в области спорта"]
[{"$f":"IF('Отрасли ОКВЭД'!$C2718<>\"\",'Отрасли ОКВЭД'!$C2718,'Отрасли ОКВЭД'!$B2718)","v":"93.11"},"R","93.11","Деятельность спортивных объектов"]
[{"$f":"IF('Отрасли ОКВЭД'!$C2719<>\"\",'Отрасли ОКВЭД'!$C2719,'Отрасли ОКВЭД'!$B2719)","v":"93.12"},"R","93.12","Деятельность спортивных клубов"]
[{"$f":"IF('Отрасли ОКВЭД'!$C2720<>\"\",'Отрасли ОКВЭД'!$C2720,'Отрасли ОКВЭД'!$B2720)","v":"93.13"},"R","93.13","Деятельность фитнес-центров"]
[{"$f":"IF('Отрасли ОКВЭД'!$C2721<>\"\",'Отрасли ОКВЭД'!$C2721,'Отрасли ОКВЭД'!$B2721)","v":"93.19"},"R","93.19","Деятельность в области спорта прочая"]
[{"$f":"IF('Отрасли ОКВЭД'!$C2722<>\"\",'Отрасли ОКВЭД'!$C2722,'Отрасли ОКВЭД'!$B2722)","v":"93.2"},"R","93.2","Деятельность в области отдыха и развлечений"]
[{"$f":"IF('Отрасли ОКВЭД'!$C2723<>\"\",'Отрасли ОКВЭД'!$C2723,'Отрасли ОКВЭД'!$B2723)","v":"93.21"},"R","93.21","Деятельность парков культуры и отдыха и тематических парков"]
[{"$f":"IF('Отрасли ОКВЭД'!$C2724<>\"\",'Отрасли ОКВЭД'!$C2724,'Отрасли ОКВЭД'!$B2724)","v":"93.29"},"R","93.29","Деятельность зрелищно-развлекательная прочая"]
[{"$f":"IF('Отрасли ОКВЭД'!$C2725<>\"\",'Отрасли ОКВЭД'!$C2725,'Отрасли ОКВЭД'!$B2725)","v":"93.29.1"},"R","93.29.1","Деятельность парков отдыха и пляжей"]
[{"$f":"IF('Отрасли ОКВЭД'!$C2726<>\"\",'Отрасли ОКВЭД'!$C2726,'Отрасли ОКВЭД'!$B2726)","v":"93.29.2"},"R","93.29.2","Деятельность танцплощадок, дискотек, школ танцев"]
[{"$f":"IF('Отрасли ОКВЭД'!$C2727<>\"\",'Отрасли ОКВЭД'!$C2727,'Отрасли ОКВЭД'!$B2727)","v":"93.29.3"},"R","93.29.3","Организация обрядов (свадеб, юбилеев), в т.ч. музыкальное сопровождение"]
[{"$f":"IF('Отрасли ОКВЭД'!$C2728<>\"\",'Отрасли ОКВЭД'!$C2728,'Отрасли ОКВЭД'!$B2728)","v":"93.29.9"},"R","93.29.9","Деятельность зрелищно-развлекательная прочая, не включенная в другие группировки"]
[{"$f":"IF('Отрасли ОКВЭД'!$C2729<>\"\",'Отрасли ОКВЭД'!$C2729,'Отрасли ОКВЭД'!$B2729)","v":"S"},"S","","ПРЕДОСТАВЛЕНИЕ ПРОЧИХ ВИДОВ УСЛУГ"]
[{"$f":"IF('Отрасли ОКВЭД'!$C2730<>\"\",'Отрасли ОКВЭД'!$C2730,'Отрасли ОКВЭД'!$B2730)","v":"94"},"S","94","Деятельность общественных организаций"]
[{"$f":"IF('Отрасли ОКВЭД'!$C2731<>\"\",'Отрасли ОКВЭД'!$C2731,'Отрасли ОКВЭД'!$B2731)","v":"94.1"},"S","94.1","Деятельность коммерческих, предпринимательских и профессиональных организаций"]
[{"$f":"IF('Отрасли ОКВЭД'!$C2732<>\"\",'Отрасли ОКВЭД'!$C2732,'Отрасли ОКВЭД'!$B2732)","v":"94.11"},"S","94.11","Деятельность коммерческих и предпринимательских членских организаций"]
[{"$f":"IF('Отрасли ОКВЭД'!$C2733<>\"\",'Отрасли ОКВЭД'!$C2733,'Отрасли ОКВЭД'!$B2733)","v":"94.12"},"S","94.12","Деятельность профессиональных членских организаций"]
[{"$f":"IF('Отрасли ОКВЭД'!$C2734<>\"\",'Отрасли ОКВЭД'!$C2734,'Отрасли ОКВЭД'!$B2734)","v":"94.2"},"S","94.2","Деятельность профессиональных союзов"]
[{"$f":"IF('Отрасли ОКВЭД'!$C2735<>\"\",'Отрасли ОКВЭД'!$C2735,'Отрасли ОКВЭД'!$B2735)","v":"94.20"},"S","94.20","Деятельность профессиональных союзов"]
[{"$f":"IF('Отрасли ОКВЭД'!$C2736<>\"\",'Отрасли ОКВЭД'!$C2736,'Отрасли ОКВЭД'!$B2736)","v":"94.9"},"S","94.9","Деятельность прочих общественных организаций"]
[{"$f":"IF('Отрасли ОКВЭД'!$C2737<>\"\",'Отрасли ОКВЭД'!$C2737,'Отрасли ОКВЭД'!$B2737)","v":"94.91"},"S","94.91","Деятельность религиозных организаций"]
[{"$f":"IF('Отрасли ОКВЭД'!$C2738<>\"\",'Отрасли ОКВЭД'!$C2738,'Отрасли ОКВЭД'!$B2738)","v":"94.92"},"S","94.92","Деятельность политических организаций"]
[{"$f":"IF('Отрасли ОКВЭД'!$C2739<>\"\",'Отрасли ОКВЭД'!$C2739,'Отрасли ОКВЭД'!$B2739)","v":"94.99"},"S","94.99","Деятельность прочих общественных организаций, не включенных в другие группировки"]
[{"$f":"IF('Отрасли ОКВЭД'!$C2740<>\"\",'Отрасли ОКВЭД'!$C2740,'Отрасли ОКВЭД'!$B2740)","v":"95"},"S","95","Ремонт компьютеров, предметов личного потребления и хозяйственно-бытового назначения"]
[{"$f":"IF('Отрасли ОКВЭД'!$C2741<>\"\",'Отрасли ОКВЭД'!$C2741,'Отрасли ОКВЭД'!$B2741)","v":"95.1"},"S","95.1","Ремонт компьютеров и коммуникационного оборудования"]
[{"$f":"IF('Отрасли ОКВЭД'!$C2742<>\"\",'Отрасли ОКВЭД'!$C2742,'Отрасли ОКВЭД'!$B2742)","v":"95.11"},"S","95.11","Ремонт компьютеров и периферийного компьютерного оборудования"]
[{"$f":"IF('Отрасли ОКВЭД'!$C2743<>\"\",'Отрасли ОКВЭД'!$C2743,'Отрасли ОКВЭД'!$B2743)","v":"95.12"},"S","95.12","Ремонт коммуникационного оборудования"]
[{"$f":"IF('Отрасли ОКВЭД'!$C2744<>\"\",'Отрасли ОКВЭД'!$C2744,'Отрасли ОКВЭД'!$B2744)","v":"95.2"},"S","95.2","Ремонт предметов личного потребления и хозяйственно-бытового назначения"]
[{"$f":"IF('Отрасли ОКВЭД'!$C2745<>\"\",'Отрасли ОКВЭД'!$C2745,'Отрасли ОКВЭД'!$B2745)","v":"95.21"},"S","95.21","Ремонт электронной бытовой техники"]
[{"$f":"IF('Отрасли ОКВЭД'!$C2746<>\"\",'Отрасли ОКВЭД'!$C2746,'Отрасли ОКВЭД'!$B2746)","v":"95.22"},"S","95.22","Ремонт бытовых приборов, домашнего и садового инвентаря"]
[{"$f":"IF('Отрасли ОКВЭД'!$C2747<>\"\",'Отрасли ОКВЭД'!$C2747,'Отрасли ОКВЭД'!$B2747)","v":"95.22.1"},"S","95.22.1","Ремонт бытовой техники"]
[{"$f":"IF('Отрасли ОКВЭД'!$C2748<>\"\",'Отрасли ОКВЭД'!$C2748,'Отрасли ОКВЭД'!$B2748)","v":"95.22.2"},"S","95.22.2","Ремонт домашнего и садового оборудования"]
[{"$f":"IF('Отрасли ОКВЭД'!$C2749<>\"\",'Отрасли ОКВЭД'!$C2749,'Отрасли ОКВЭД'!$B2749)","v":"95.23"},"S","95.23","Ремонт обуви и прочих изделий из кожи"]
[{"$f":"IF('Отрасли ОКВЭД'!$C2750<>\"\",'Отрасли ОКВЭД'!$C2750,'Отрасли ОКВЭД'!$B2750)","v":"95.24"},"S","95.24","Ремонт мебели и предметов домашнего обихода"]
[{"$f":"IF('Отрасли ОКВЭД'!$C2751<>\"\",'Отрасли ОКВЭД'!$C2751,'Отрасли ОКВЭД'!$B2751)","v":"95.24.1"},"S","95.24.1","Ремонт мебели"]
[{"$f":"IF('Отрасли ОКВЭД'!$C2752<>\"\",'Отрасли ОКВЭД'!$C2752,'Отрасли ОКВЭД'!$B2752)","v":"95.24.2"},"S","95.24.2","Ремонт предметов домашнего обихода"]
[{"$f":"IF('Отрасли ОКВЭД'!$C2753<>\"\",'Отрасли ОКВЭД'!$C2753,'Отрасли ОКВЭД'!$B2753)","v":"95.25"},"S","95.25","Ремонт часов и ювелирных изделий"]
[{"$f":"IF('Отрасли ОКВЭД'!$C2754<>\"\",'Отрасли ОКВЭД'!$C2754,'Отрасли ОКВЭД'!$B2754)","v":"95.25.1"},"S","95.25.1","Ремонт часов"]
[{"$f":"IF('Отрасли ОКВЭД'!$C2755<>\"\",'Отрасли ОКВЭД'!$C2755,'Отрасли ОКВЭД'!$B2755)","v":"95.25.2"},"S","95.25.2","Ремонт ювелирных изделий"]
[{"$f":"IF('Отрасли ОКВЭД'!$C2756<>\"\",'Отрасли ОКВЭД'!$C2756,'Отрасли ОКВЭД'!$B2756)","v":"95.29"},"S","95.29","Ремонт прочих предметов личного потребления и бытовых товаров"]
[{"$f":"IF('Отрасли ОКВЭД'!$C2757<>\"\",'Отрасли ОКВЭД'!$C2757,'Отрасли ОКВЭД'!$B2757)","v":"95.29.1"},"S","95.29.1","Ремонт одежды и текстильных изделий"]
[{"$f":"IF('Отрасли ОКВЭД'!$C2758<>\"\",'Отрасли ОКВЭД'!$C2758,'Отрасли ОКВЭД'!$B2758)","v":"95.29.11"},"S","95.29.11","Ремонт одежды"]
[{"$f":"IF('Отрасли ОКВЭД'!$C2759<>\"\",'Отрасли ОКВЭД'!$C2759,'Отрасли ОКВЭД'!$B2759)","v":"95.29.12"},"S","95.29.12","Ремонт текстильных изделий"]
[{"$f":"IF('Отрасли ОКВЭД'!$C2760<>\"\",'Отрасли ОКВЭД'!$C2760,'Отрасли ОКВЭД'!$B2760)","v":"95.29.13"},"S","95.29.13","Ремонт трикотажных изделий"]
[{"$f":"IF('Отрасли ОКВЭД'!$C2761<>\"\",'Отрасли ОКВЭД'!$C2761,'Отрасли ОКВЭД'!$B2761)","v":"95.29.2"},"S","95.29.2","Ремонт спортивного и туристского оборудования"]
[{"$f":"IF('Отрасли ОКВЭД'!$C2762<>\"\",'Отрасли ОКВЭД'!$C2762,'Отрасли ОКВЭД'!$B2762)","v":"95.29.3"},"S","95.29.3","Ремонт игрушек и подобных им изделий"]
[{"$f":"IF('Отрасли ОКВЭД'!$C2763<>\"\",'Отрасли ОКВЭД'!$C2763,'Отрасли ОКВЭД'!$B2763)","v":"95.29.4"},"S","95.29.4","Ремонт металлоизделий бытового и хозяйственного назначения"]
[{"$f":"IF('Отрасли ОКВЭД'!$C2764<>\"\",'Отрасли ОКВЭД'!$C2764,'Отрасли ОКВЭД'!$B2764)","v":"95.29.41"},"S","95.29.41","Ремонт предметов и изделий из металла"]
[{"$f":"IF('Отрасли ОКВЭД'!$C2765<>\"\",'Отрасли ОКВЭД'!$C2765,'Отрасли ОКВЭД'!$B2765)","v":"95.29.42"},"S","95.29.42","Ремонт металлической галантереи, ключей, номерных знаков, указателей улиц"]
[{"$f":"IF('Отрасли ОКВЭД'!$C2766<>\"\",'Отрасли ОКВЭД'!$C2766,'Отрасли ОКВЭД'!$B2766)","v":"95.29.43"},"S","95.29.43","Заточка пил, чертежных и других инструментов, ножей, ножниц, бритв, коньков и т.п."]
[{"$f":"IF('Отрасли ОКВЭД'!$C2767<>\"\",'Отрасли ОКВЭД'!$C2767,'Отрасли ОКВЭД'!$B2767)","v":"95.29.5"},"S","95.29.5","Ремонт бытовых осветительных приборов"]
[{"$f":"IF('Отрасли ОКВЭД'!$C2768<>\"\",'Отрасли ОКВЭД'!$C2768,'Отрасли ОКВЭД'!$B2768)","v":"95.29.6"},"S","95.29.6","Ремонт велосипедов"]
[{"$f":"IF('Отрасли ОКВЭД'!$C2769<>\"\",'Отрасли ОКВЭД'!$C2769,'Отрасли ОКВЭД'!$B2769)","v":"95.29.7"},"S","95.29.7","Ремонт и настройка музыкальных инструментов (кроме органов и исторических музыкальных инструментов)"]
[{"$f":"IF('Отрасли ОКВЭД'!$C2770<>\"\",'Отрасли ОКВЭД'!$C2770,'Отрасли ОКВЭД'!$B2770)","v":"95.29.9"},"S","95.29.9","Ремонт прочих бытовых изделий и предметов личного пользования, не вошедших в другие группировки"]
[{"$f":"IF('Отрасли ОКВЭД'!$C2771<>\"\",'Отрасли ОКВЭД'!$C2771,'Отрасли ОКВЭД'!$B2771)","v":"96"},"S","96","Деятельность по предоставлению прочих персональных услуг"]
[{"$f":"IF('Отрасли ОКВЭД'!$C2772<>\"\",'Отрасли ОКВЭД'!$C2772,'Отрасли ОКВЭД'!$B2772)","v":"96.0"},"S","96.0","Деятельность по предоставлению прочих персональных услуг"]
[{"$f":"IF('Отрасли ОКВЭД'!$C2773<>\"\",'Отрасли ОКВЭД'!$C2773,'Отрасли ОКВЭД'!$B2773)","v":"96.01"},"S","96.01","Стирка и химическая чистка текстильных и меховых изделий"]
[{"$f":"IF('Отрасли ОКВЭД'!$C2774<>\"\",'Отрасли ОКВЭД'!$C2774,'Отрасли ОКВЭД'!$B2774)","v":"96.02"},"S","96.02","Предоставление услуг парикмахерскими и салонами красоты"]
[{"$f":"IF('Отрасли ОКВЭД'!$C2775<>\"\",'Отрасли ОКВЭД'!$C2775,'Отрасли ОКВЭД'!$B2775)","v":"96.02.1"},"S","96.02.1","Предоставление парикмахерских услуг"]
[{"$f":"IF('Отрасли ОКВЭД'!$C2776<>\"\",'Отрасли ОКВЭД'!$C2776,'Отрасли ОКВЭД'!$B2776)","v":"96.02.2"},"S","96.02.2","Предоставление косметических услуг парикмахерскими и салонами красоты"]
[{"$f":"IF('Отрасли ОКВЭД'!$C2777<>\"\",'Отрасли ОКВЭД'!$C2777,'Отрасли ОКВЭД'!$B2777)","v":"96.03"},"S","96.03","Организация похорон и представление связанных с ними услуг"]
[{"$f":"IF('Отрасли ОКВЭД'!$C2778<>\"\",'Отрасли ОКВЭД'!$C2778,'Отрасли ОКВЭД'!$B2778)","v":"96.04"},"S","96.04","Деятельность физкультурно- оздоровительная"]
[{"$f":"IF('Отрасли ОКВЭД'!$C2779<>\"\",'Отрасли ОКВЭД'!$C2779,'Отрасли ОКВЭД'!$B2779)","v":"96.09"},"S","96.09","Предоставление прочих персональных услуг, не включенных в другие группировки"]
[{"$f":"IF('Отрасли ОКВЭД'!$C2780<>\"\",'Отрасли ОКВЭД'!$C2780,'Отрасли ОКВЭД'!$B2780)","v":"T"},"T","","ДЕЯТЕЛЬНОСТЬ ДОМАШНИХ ХОЗЯЙСТВ КАК РАБОТОДАТЕЛЕЙ; НЕДИФФЕРЕНЦИРОВАННАЯ ДЕЯТЕЛЬНОСТЬ ЧАСТНЫХ ДОМАШНИХ ХОЗЯЙСТВ ПО ПРОИЗВОДСТВУ ТОВАРОВ И ОКАЗАНИЮ УСЛУГ ДЛЯ СОБСТВЕННОГО ПОТРЕБЛЕНИЯ"]
[{"$f":"IF('Отрасли ОКВЭД'!$C2781<>\"\",'Отрасли ОКВЭД'!$C2781,'Отрасли ОКВЭД'!$B2781)","v":"97"},"T","97","Деятельность домашних хозяйств с наемными работниками"]
[{"$f":"IF('Отрасли ОКВЭД'!$C2782<>\"\",'Отрасли ОКВЭД'!$C2782,'Отрасли ОКВЭД'!$B2782)","v":"97.0"},"T","97.0","Деятельность домашних хозяйств с наемными работниками"]
[{"$f":"IF('Отрасли ОКВЭД'!$C2783<>\"\",'Отрасли ОКВЭД'!$C2783,'Отрасли ОКВЭД'!$B2783)","v":"97.00"},"T","97.00","Деятельность домашних хозяйств с наемными работниками"]
[{"$f":"IF('Отрасли ОКВЭД'!$C2784<>\"\",'Отрасли ОКВЭД'!$C2784,'Отрасли ОКВЭД'!$B2784)","v":"98"},"T","98","Деятельность недифференцированная частных домашних хозяйств по производству товаров и предоставлению услуг для собственного потребления"]
[{"$f":"IF('Отрасли ОКВЭД'!$C2785<>\"\",'Отрасли ОКВЭД'!$C2785,'Отрасли ОКВЭД'!$B2785)","v":"98.1"},"T","98.1","Деятельность недифференцированная частных домашних хозяйств по производству товаров для собственного потребления"]
[{"$f":"IF('Отрасли ОКВЭД'!$C2786<>\"\",'Отрасли ОКВЭД'!$C2786,'Отрасли ОКВЭД'!$B2786)","v":"98.10"},"T","98.10","Деятельность недифференцированная частных домашних хозяйств по производству товаров для собственного потребления"]
[{"$f":"IF('Отрасли ОКВЭД'!$C2787<>\"\",'Отрасли ОКВЭД'!$C2787,'Отрасли ОКВЭД'!$B2787)","v":"98.2"},"T","98.2","Деятельность недифференцированная частных домашних хозяйств по предоставлению услуг для собственного потребления"]
[{"$f":"IF('Отрасли ОКВЭД'!$C2788<>\"\",'Отрасли ОКВЭД'!$C2788,'Отрасли ОКВЭД'!$B2788)","v":"98.20"},"T","98.20","Деятельность недифференцированная частных домашних хозяйств по предоставлению услуг для собственного потребления"]
[{"$f":"IF('Отрасли ОКВЭД'!$C2789<>\"\",'Отрасли ОКВЭД'!$C2789,'Отрасли ОКВЭД'!$B2789)","v":"U"},"U","","ДЕЯТЕЛЬНОСТЬ ЭКСТЕРРИТОРИАЛЬНЫХ ОРГАНИЗАЦИЙ И ОРГАНОВ"]
[{"$f":"IF('Отрасли ОКВЭД'!$C2790<>\"\",'Отрасли ОКВЭД'!$C2790,'Отрасли ОКВЭД'!$B2790)","v":"99"},"U","99","Деятельность экстерриториальных организаций и органов"]
[{"$f":"IF('Отрасли ОКВЭД'!$C2791<>\"\",'Отрасли ОКВЭД'!$C2791,'Отрасли ОКВЭД'!$B2791)","v":"99.0"},"U","99.0","Деятельность экстерриториальных организаций и органов"]
[{"$f":"IF('Отрасли ОКВЭД'!$C2792<>\"\",'Отрасли ОКВЭД'!$C2792,'Отрасли ОКВЭД'!$B2792)","v":"99.00"},"U","99.00","Деятельность экстерриториальных организаций и органов"]

{"sheet":"Типы проектов","index":34,"n_rows":7,"n_cols":1,"rows_kept":7,"cut":false,"hidden":true,"merged":[]}
["Тип проекта"]
["Создание нового предприятия/производства (или объекта)."]
["Расширение, реконструкция, модернизация, капитальный ремонт ."]
["Выпуск новой продукции на действующем производстве."]
["Иные изменения с целю ведения коммерческой деятельности."]
["Развитие инфраструктуры, промышленности и инновации."]
["Развитие экспорт."]

{"sheet":"Макет","index":35,"n_rows":66,"n_cols":82,"rows_kept":66,"cut":false,"hidden":true,"merged":[[0,75,0,81],[2,0,2,72],[2,73,2,81],[4,2,5,16],[4,18,5,32],[4,34,5,48],[4,50,5,64],[4,66,5,80],[8,0,8,14],[8,15,8,17],[8,18,8,20],[8,21,8,23],[8,24,8,26],[8,27,8,29],[8,60,8,62],[8,63,8,65],[8,30,8,32],[8,57,8,59],[8,66,8,68],[8,69,8,71],[8,72,8,74],[8,75,8,77],[8,78,8,81],[10,36,10,38],[10,39,10,41],[10,42,10,44],[10,45,10,47],[10,48,10,50],[11,63,11,65],[11,66,11,68],[11,69,11,71],[11,72,11,74],[11,15,11,17],[11,18,11,20],[11,24,11,26],[11,27,11,29],[11,30,11,32],[11,33,11,35],[11,36,11,38],[11,39,11,41],[11,42,11,44],[11,45,11,47],[11,48,11,50],[11,51,11,53],[11,54,11,56],[11,75,11,77],[11,78,11,81],[8,33,8,35],[8,36,8,38],[8,39,8,41],[8,42,8,44],[8,45,8,47],[11,21,11,23],[10,51,10,53],[10,54,10,56],[10,57,10,59],[10,60,10,62],[10,63,10,65],[10,66,10,68],[10,69,10,71],[10,72,10,74],[10,75,10,77],[10,78,10,81],[11,57,11,59],[11,60,11,62],[9,2,9,81],[8,48,8,50],[8,51,8,53],[8,54,8,56],[10,2,10,14],[10,15,10,17],[10,18,10,20],[10,21,10,23],[10,24,10,26],[10,27,10,29],[10,30,10,32],[10,33,10,35],[12,2,12,14],[12,15,12,17],[12,18,12,20],[12,21,12,23],[12,24,12,26],[12,27,12,29],[12,30,12,32],[12,33,12,35],[12,36,12,38],[12,39,12,41],[12,42,12,44],[12,45,12,47],[12,48,12,50],[12,51,12,53],[12,54,12,56],[12,57,12,59],[12,60,12,62],[12,63,12,65],[12,66,12,68],[12,69,12,71],[12,72,12,74],[12,75,12,77],[12,78,12,81],[11,2,11,14],[13,72,13,74],[13,75,13,77],[13,78,13,81],[14,2,14,81],[15,2,15,14],[15,15,15,17],[15,18,15,20],[15,21,15,23],[15,24,15,26],[15,27,15,29],[15,30,15,32],[15,33,15,35],[15,36,15,38],[15,39,15,41],[15,42,15,44],[15,45,15,47],[15,48,15,50],[15,51,15,53],[15,54,15,56],[15,57,15,59],[15,60,15,62],[15,63,15,65],[15,66,15,68],[15,69,15,71],[15,72,15,74],[15,75,15,77],[15,78,15,81],[13,2,13,14],[13,15,13,17],[13,18,13,20],[13,21,13,23],[13,24,13,26],[16,30,16,32],[16,33,16,35],[16,36,16,38],[16,39,16,41],[16,42,16,44],[16,45,16,47],[16,48,16,50],[16,51,16,53],[16,54,16,56],[16,57,16,59],[16,60,16,62],[13,63,13,65],[13,66,13,68],[13,69,13,71],[13,27,13,29],[13,30,13,32],[13,33,13,35],[13,36,13,38],[13,39,13,41],[13,42,13,44],[13,45,13,47],[13,48,13,50],[13,51,13,53],[13,54,13,56],[13,57,13,59],[13,60,13,62],[16,63,16,65],[16,66,16,68],[16,69,16,71],[16,72,16,74],[16,75,16,77],[16,78,16,81],[17,2,17,14],[17,15,17,17],[17,18,17,20],[17,21,17,23],[17,24,17,26],[17,27,17,29],[17,30,17,32],[17,33,17,35],[17,36,17,38],[17,39,17,41],[17,42,17,44],[17,45,17,47],[17,48,17,50],[17,51,17,53],[17,54,17,56],[17,57,17,59],[17,60,17,62],[17,63,17,65],[17,66,17,68],[17,69,17,71],[17,72,17,74],[17,75,17,77],[17,78,17,81],[16,2,16,14],[16,15,16,17],[16,18,16,20],[16,21,16,23],[16,24,16,26],[16,27,16,29],[18,72,18,74],[18,75,18,77],[18,78,18,81],[19,2,19,14],[19,15,19,17],[19,18,19,20],[19,21,19,23],[19,24,19,26],[19,27,19,29],[19,30,19,32],[19,33,19,35],[19,36,19,38],[19,39,19,41],[19,42,19,44],[19,45,19,47],[19,48,19,50],[19,51,19,53],[19,54,19,56],[19,57,19,59],[19,60,19,62],[19,63,19,65],[19,66,19,68],[19,69,19,71],[19,72,19,74],[19,75,19,77],[19,78,19,81],[18,2,18,14],[18,15,18,17],[18,18,18,20],[18,21,18,23],[18,24,18,26],[18,27,18,29],[20,21,20,23],[20,24,20,26],[20,27,20,29],[20,30,20,32],[20,33,20,35],[20,36,20,38],[20,39,20,41],[20,42,20,44],[20,45,20,47],[20,48,20,50],[20,51,20,53],[18,63,18,65],[18,66,18,68],[18,69,18,71],[18,30,18,32],[18,33,18,35],[18,36,18,38],[18,39,18,41],[18,42,18,44],[18,45,18,47],[18,48,18,50],[18,51,18,53],[18,54,18,56],[18,57,18,59],[18,60,18,62],[20,63,20,65],[20,66,20,68],[20,69,20,71],[20,72,20,74],[20,75,20,77],[20,78,20,81],[21,2,21,14],[21,15,21,17],[21,18,21,20],[21,21,21,23],[21,24,21,26],[21,27,21,29],[21,30,21,32],[21,33,21,35],[21,36,21,38],[21,39,21,41],[21,42,21,44],[21,45,21,47],[21,48,21,50],[21,51,21,53],[21,54,21,56],[21,57,21,59],[21,60,21,62],[21,63,21,65],[21,66,21,68],[21,69,21,71],[21,72,21,74],[21,75,21,77],[21,78,21,81],[20,2,20,14],[20,15,20,17],[20,18,20,20],[20,54,20,56],[20,57,20,59],[20,60,20,62],[22,72,22,74],[22,75,22,77],[22,78,22,81],[23,2,23,14],[23,15,23,17],[23,18,23,20],[23,21,23,23],[23,24,23,26],[23,27,23,29],[23,30,23,32],[23,33,23,35],[23,36,23,38],[23,39,23,41],[23,42,23,44],[23,45,23,47],[23,48,23,50],[23,51,23,53],[23,54,23,56],[23,57,23,59],[23,60,23,62],[23,63,23,65],[23,66,23,68],[23,69,23,71],[23,72,23,74],[23,75,23,77],[23,78,23,81],[22,2,22,14],[22,15,22,17],[22,18,22,20],[22,21,22,23],[22,24,22,26],[22,27,22,29],[24,30,24,32],[24,33,24,35],[24,36,24,38],[24,39,24,41],[24,42,24,44],[24,45,24,47],[24,48,24,50],[24,51,24,53],[24,54,24,56],[24,57,24,59],[24,60,24,62],[22,63,22,65],[22,66,22,68],[22,69,22,71],[22,30,22,32],[22,33,22,35],[22,36,22,38],[22,39,22,41],[22,42,22,44],[22,45,22,47],[22,48,22,50],[22,51,22,53],[22,54,22,56],[22,57,22,59],[22,60,22,62],[24,63,24,65],[24,66,24,68],[24,69,24,71],[24,72,24,74],[24,75,24,77],[24,78,24,81],[25,2,25,14],[25,15,25,17],[25,18,25,20],[25,21,25,23],[25,24,25,26],[25,27,25,29],[25,30,25,32],[25,33,25,35],[25,36,25,38],[25,39,25,41],[25,42,25,44],[25,45,25,47],[25,48,25,50],[25,51,25,53],[25,54,25,56],[25,57,25,59],[25,60,25,62],[25,63,25,65],[25,66,25,68],[25,69,25,71],[25,72,25,74],[25,75,25,77],[25,78,25,81],[24,2,24,14],[24,15,24,17],[24,18,24,20],[24,21,24,23],[24,24,24,26],[24,27,24,29],[26,72,26,74],[26,75,26,77],[26,78,26,81],[27,2,27,14],[27,15,27,17],[27,18,27,20],[27,21,27,23],[27,24,27,26],[27,27,27,29],[27,30,27,32],[27,33,27,35],[27,36,27,38],[27,39,27,41],[27,42,27,44],[27,45,27,47],[27,48,27,50],[27,51,27,53],[27,54,27,56],[27,57,27,59],[27,60,27,62],[27,63,27,65],[27,66,27,68],[27,69,27,71],[27,72,27,74],[27,75,27,77],[27,78,27,81],[26,2,26,14],[26,15,26,17],[26,18,26,20],[26,21,26,23],[26,24,26,26],[26,27,26,29],[28,30,28,32],[28,33,28,35],[28,36,28,38],[28,39,28,41],[28,42,28,44],[28,45,28,47],[28,48,28,50],[28,51,28,53],[28,54,28,56],[28,57,28,59],[28,60,28,62],[26,63,26,65],[26,66,26,68],[26,69,26,71],[26,30,26,32],[26,33,26,35],[26,36,26,38],[26,39,26,41],[26,42,26,44],[26,45,26,47],[26,48,26,50],[26,51,26,53],[26,54,26,56],[26,57,26,59],[26,60,26,62],[28,63,28,65],[28,66,28,68],[28,69,28,71],[28,72,28,74],[28,75,28,77],[28,78,28,81],[29,2,29,14],[29,15,29,17],[29,18,29,20],[29,21,29,23],[29,24,29,26],[29,27,29,29],[29,30,29,32],[29,33,29,35],[29,36,29,38],[29,39,29,41],[29,42,29,44],[29,45,29,47],[29,48,29,50],[29,51,29,53],[29,54,29,56],[29,57,29,59],[29,60,29,62],[29,63,29,65],[29,66,29,68],[29,69,29,71],[29,72,29,74],[29,75,29,77],[29,78,29,81],[28,2,28,14],[28,15,28,17],[28,18,28,20],[28,21,28,23],[28,24,28,26],[28,27,28,29],[30,72,30,74],[30,75,30,77],[30,78,30,81],[31,2,31,14],[31,15,31,17],[31,18,31,20],[31,21,31,23],[31,24,31,26],[31,27,31,29],[31,30,31,32],[31,33,31,35],[31,36,31,38],[31,39,31,41],[31,42,31,44],[31,45,31,47],[31,48,31,50],[31,51,31,53],[31,54,31,56],[31,57,31,59],[31,60,31,62],[31,63,31,65],[31,66,31,68],[31,69,31,71],[31,72,31,74],[31,75,31,77],[31,78,31,81],[30,2,30,14],[30,15,30,17],[30,18,30,20],[30,21,30,23],[30,24,30,26],[30,27,30,29],[32,30,32,32],[32,33,32,35],[32,36,32,38],[32,39,32,41],[32,42,32,44],[32,45,32,47],[32,48,32,50],[32,51,32,53],[32,54,32,56],[32,57,32,59],[32,60,32,62],[30,63,30,65],[30,66,30,68],[30,69,30,71],[30,30,30,32],[30,33,30,35],[30,36,30,38],[30,39,30,41],[30,42,30,44],[30,45,30,47],[30,48,30,50],[30,51,30,53],[30,54,30,56],[30,57,30,59],[30,60,30,62],[32,63,32,65],[32,66,32,68],[32,69,32,71],[32,72,32,74],[32,75,32,77],[32,78,32,81],[33,2,33,14],[33,15,33,17],[33,18,33,20],[33,21,33,23],[33,24,33,26],[33,27,33,29],[33,30,33,32],[33,33,33,35],[33,36,33,38],[33,39,33,41],[33,42,33,44],[33,45,33,47],[33,48,33,50],[33,51,33,53],[33,54,33,56],[33,57,33,59],[33,60,33,62],[33,63,33,65],[33,66,33,68],[33,69,33,71],[33,72,33,74],[33,75,33,77],[33,78,33,81],[32,2,32,14],[32,15,32,17],[32,18,32,20],[32,21,32,23],[32,24,32,26],[32,27,32,29],[34,72,34,74],[34,75,34,77],[34,78,34,81],[35,2,35,14],[35,15,35,17],[35,18,35,20],[35,21,35,23],[35,24,35,26],[35,27,35,29],[35,30,35,32],[35,33,35,35],[35,36,35,38],[35,39,35,41],[35,42,35,44],[35,45,35,47],[35,48,35,50],[35,51,35,53],[35,54,35,56],[35,57,35,59],[35,60,35,62],[35,63,35,65],[35,66,35,68],[35,69,35,71],[35,72,35,74],[35,75,35,77],[35,78,35,81],[34,2,34,14],[34,15,34,17],[34,18,34,20],[34,21,34,23],[34,24,34,26],[34,27,34,29],[36,30,36,32],[36,33,36,35],[36,36,36,38],[36,39,36,41],[36,42,36,44],[36,45,36,47],[36,48,36,50],[36,51,36,53],[36,54,36,56],[36,57,36,59],[36,60,36,62],[34,63,34,65],[34,66,34,68],[34,69,34,71],[34,30,34,32],[34,33,34,35],[34,36,34,38],[34,39,34,41],[34,42,34,44],[34,45,34,47],[34,48,34,50],[34,51,34,53],[34,54,34,56],[34,57,34,59],[34,60,34,62],[36,63,36,65],[36,66,36,68],[36,69,36,71],[36,72,36,74],[36,75,36,77],[36,78,36,81],[37,2,37,14],[37,15,37,17],[37,18,37,20],[37,21,37,23],[37,24,37,26],[37,27,37,29],[37,30,37,32],[37,33,37,35],[37,36,37,38],[37,39,37,41],[37,42,37,44],[37,45,37,47],[37,48,37,50],[37,51,37,53],[37,54,37,56],[37,57,37,59],[37,60,37,62],[37,63,37,65],[37,66,37,68],[37,69,37,71],[37,72,37,74],[37,75,37,77],[37,78,37,81],[36,2,36,14],[36,15,36,17],[36,18,36,20],[36,21,36,23],[36,24,36,26],[36,27,36,29],[38,72,38,74],[38,75,38,77],[38,78,38,81],[39,2,39,14],[39,15,39,17],[39,18,39,20],[39,21,39,23],[39,24,39,26],[39,27,39,29],[39,30,39,32],[39,33,39,35],[39,36,39,38],[39,39,39,41],[39,42,39,44],[39,45,39,47],[39,48,39,50],[39,51,39,53],[39,54,39,56],[39,57,39,59],[39,60,39,62],[39,63,39,65],[39,66,39,68],[39,69,39,71],[39,72,39,74],[39,75,39,77],[39,78,39,81],[38,2,38,14],[38,15,38,17],[38,18,38,20],[38,21,38,23],[38,24,38,26],[38,27,38,29],[40,30,40,32],[40,33,40,35],[40,36,40,38],[40,39,40,41],[40,42,40,44],[40,45,40,47],[40,48,40,50],[40,51,40,53],[40,54,40,56],[40,57,40,59],[40,60,40,62],[38,63,38,65],[38,66,38,68],[38,69,38,71],[38,30,38,32],[38,33,38,35],[38,36,38,38],[38,39,38,41],[38,42,38,44],[38,45,38,47],[38,48,38,50],[38,51,38,53],[38,54,38,56],[38,57,38,59],[38,60,38,62],[40,63,40,65],[40,66,40,68],[40,69,40,71],[40,72,40,74],[40,75,40,77],[40,78,40,81],[41,2,41,14],[41,15,41,17],[41,18,41,20],[41,21,41,23],[41,24,41,26],[41,27,41,29],[41,30,41,32],[41,33,41,35],[41,36,41,38],[41,39,41,41],[41,42,41,44],[41,45,41,47],[41,48,41,50],[41,51,41,53],[41,54,41,56],[41,57,41,59],[41,60,41,62],[41,63,41,65],[41,66,41,68],[41,69,41,71],[41,72,41,74],[41,75,41,77],[41,78,41,81],[40,2,40,14],[40,15,40,17],[40,18,40,20],[40,21,40,23],[40,24,40,26],[40,27,40,29],[42,72,42,74],[42,75,42,77],[42,78,42,81],[43,2,43,14],[43,15,43,17],[43,18,43,20],[43,21,43,23],[43,24,43,26],[43,27,43,29],[43,30,43,32],[43,33,43,35],[43,36,43,38],[43,39,43,41],[43,42,43,44],[43,45,43,47],[43,48,43,50],[43,51,43,53],[43,54,43,56],[43,57,43,59],[43,60,43,62],[43,63,43,65],[43,66,43,68],[43,69,43,71],[43,72,43,74],[43,75,43,77],[43,78,43,81],[42,2,42,14],[42,15,42,17],[42,18,42,20],[42,21,42,23],[42,24,42,26],[42,27,42,29],[44,30,44,32],[44,33,44,35],[44,36,44,38],[44,39,44,41],[44,42,44,44],[44,45,44,47],[44,48,44,50],[44,51,44,53],[44,54,44,56],[44,57,44,59],[44,60,44,62],[42,63,42,65],[42,66,42,68],[42,69,42,71],[42,30,42,32],[42,33,42,35],[42,36,42,38],[42,39,42,41],[42,42,42,44],[42,45,42,47],[42,48,42,50],[42,51,42,53],[42,54,42,56],[42,57,42,59],[42,60,42,62],[44,63,44,65],[44,66,44,68],[44,69,44,71],[44,72,44,74],[44,75,44,77],[44,78,44,81],[45,2,45,14],[45,15,45,17],[45,18,45,20],[45,21,45,23],[45,24,45,26],[45,27,45,29],[45,30,45,32],[45,33,45,35],[45,36,45,38],[45,39,45,41],[45,42,45,44],[45,45,45,47],[45,48,45,50],[45,51,45,53],[45,54,45,56],[45,57,45,59],[45,60,45,62],[45,63,45,65],[45,66,45,68],[45,69,45,71],[45,72,45,74],[45,75,45,77],[45,78,45,81],[44,2,44,14],[44,15,44,17],[44,18,44,20],[44,21,44,23],[44,24,44,26],[44,27,44,29],[46,72,46,74],[46,75,46,77],[46,78,46,81],[47,2,47,14],[47,15,47,17],[47,18,47,20],[47,21,47,23],[47,24,47,26],[47,27,47,29],[47,30,47,32],[47,33,47,35],[47,36,47,38],[47,39,47,41],[47,42,47,44],[47,45,47,47],[47,48,47,50],[47,51,47,53],[47,54,47,56],[47,57,47,59],[47,60,47,62],[47,63,47,65],[47,66,47,68],[47,69,47,71],[47,72,47,74],[47,75,47,77],[47,78,47,81],[46,2,46,14],[46,15,46,17],[46,18,46,20],[46,21,46,23],[46,24,46,26],[46,27,46,29],[48,30,48,32],[48,33,48,35],[48,36,48,38],[48,39,48,41],[48,42,48,44],[48,45,48,47],[48,48,48,50],[48,51,48,53],[48,54,48,56],[48,57,48,59],[48,60,48,62],[46,63,46,65],[46,66,46,68],[46,69,46,71],[46,30,46,32],[46,33,46,35],[46,36,46,38],[46,39,46,41],[46,42,46,44],[46,45,46,47],[46,48,46,50],[46,51,46,53],[46,54,46,56],[46,57,46,59],[46,60,46,62],[48,63,48,65],[48,66,48,68],[48,69,48,71],[48,72,48,74],[48,75,48,77],[48,78,48,81],[49,2,49,14],[49,15,49,17],[49,18,49,20],[49,21,49,23],[49,24,49,26],[49,27,49,29],[49,30,49,32],[49,33,49,35],[49,36,49,38],[49,39,49,41],[49,42,49,44],[49,45,49,47],[49,48,49,50],[49,51,49,53],[49,54,49,56],[49,57,49,59],[49,60,49,62],[49,63,49,65],[49,66,49,68],[49,69,49,71],[49,72,49,74],[49,75,49,77],[49,78,49,81],[48,2,48,14],[48,15,48,17],[48,18,48,20],[48,21,48,23],[48,24,48,26],[48,27,48,29],[50,72,50,74],[50,75,50,77],[50,78,50,81],[51,2,51,14],[51,15,51,17],[51,18,51,20],[51,21,51,23],[51,24,51,26],[51,27,51,29],[51,30,51,32],[51,33,51,35],[51,36,51,38],[51,39,51,41],[51,42,51,44],[51,45,51,47],[51,48,51,50],[51,51,51,53],[51,54,51,56],[51,57,51,59],[51,60,51,62],[51,63,51,65],[51,66,51,68],[51,69,51,71],[51,72,51,74],[51,75,51,77],[51,78,51,81],[50,2,50,14],[50,15,50,17],[50,18,50,20],[50,21,50,23],[50,24,50,26],[50,27,50,29],[52,30,52,32],[52,33,52,35],[52,36,52,38],[52,39,52,41],[52,42,52,44],[52,45,52,47],[52,48,52,50],[52,51,52,53],[52,54,52,56],[52,57,52,59],[52,60,52,62],[50,63,50,65],[50,66,50,68],[50,69,50,71],[50,30,50,32],[50,33,50,35],[50,36,50,38],[50,39,50,41],[50,42,50,44],[50,45,50,47],[50,48,50,50],[50,51,50,53],[50,54,50,56],[50,57,50,59],[50,60,50,62],[52,63,52,65],[52,66,52,68],[52,69,52,71],[52,72,52,74],[52,75,52,77],[52,78,52,81],[53,2,53,14],[53,15,53,17],[53,18,53,20],[53,21,53,23],[53,24,53,26],[53,27,53,29],[53,30,53,32]],"merged_total":1298,"flags":["merged_cut"]}
[null,null,null,null,"Министерство финансов",null,null,null,null,null,null,null,null,null,null,null,null,null,null,null,null,null,null,null,null,null,null,null,null,null,null,null,null,null,null,null,null,null,null,null,null,null,null,null,null,null,null,null,null,null,null,null,null,null,null,null,null,null,null,null,null,null,null,null,null,null,null,null,null,null,null,null,null,null,null,{"$f":"TODAY()","v":"2020-10-23"}]
[]
["Название проекта",null,null,null,null,null,null,null,null,null,null,null,null,null,null,null,null,null,null,null,null,null,null,null,null,null,null,null,null,null,null,null,null,null,null,null,null,null,null,null,null,null,null,null,null,null,null,null,null,null,null,null,null,null,null,null,null,null,null,null,null,null,null,null,null,null,null,null,null,null,null,null,null,"Портфель №2"]
[]
[null,null,"ФОИВ",null,null,null,null,null,null,null,null,null,null,null,null,null,null,null,"Субъект/Населённый пункт",null,null,null,null,null,null,null,null,null,null,null,null,null,null,null,"Бенефициар",null,null,null,null,null,null,null,null,null,null,null,null,null,null,null,"Компания, реализующая проект",null,null,null,null,null,null,null,null,null,null,null,null,null,null,null,"Нац. проект"]
[]
[]
[null,null,{"$f":"#REF!","v":{"$error":"#REF!"}},null,null,null,null,null,null,null,null,null,null,null,null,null,null,null,{"$f":"S9","v":"2019"},null,{"$f":"S8","v":"2019"},{"$f":"V9","v":2020},null,{"$f":"V8","v":2020},{"$f":"Y9","v":2021},null,{"$f":"Y8","v":2021},{"$f":"AB9","v":2022},null,{"$f":"AB8","v":2022},{"$f":"AE9","v":2023},null,{"$f":"AE8","v":2023},{"$f":"AH9","v":2024},null,{"$f":"AH8","v":2024},{"$f":"AK9","v":2025},null,{"$f":"AK8","v":2025},{"$f":"AN9","v":2026},null,{"$f":"AN8","v":2026},{"$f":"AQ9","v":2027},null,{"$f":"AQ8","v":2027},{"$f":"AT9","v":2028},null,{"$f":"AT8","v":2028},{"$f":"AW9","v":2029},null,{"$f":"AW8","v":2029},{"$f":"AZ9","v":2030},null,{"$f":"AZ8","v":2030},{"$f":"BC9","v":2031},null,{"$f":"BC8","v":2031},{"$f":"BF9","v":2032},null,{"$f":"BF8","v":2032},{"$f":"BI9","v":2033},null,{"$f":"BI8","v":2033},{"$f":"BL9","v":2034},null,{"$f":"BL8","v":2034},{"$f":"BO9","v":2035},null,{"$f":"BO8","v":2035},{"$f":"BR9","v":2036},null,{"$f":"BR8","v":2036},{"$f":"BU9","v":2037},null,{"$f":"BU8","v":2037},{"$f":"BX9","v":2038},null,{"$f":"BX8","v":2038},{"$f":"CA9","v":"2038-20##"},{"$f":"CA8","v":"2038-20##"},null,{"$f":"CB8","v":"2038-20##"}]
["Финансовые показатели (млрд. руб.)",null,null,null,null,null,null,null,null,null,null,null,null,null,null,"Всего",null,null,"2019",null,null,{"$f":"S9+1","v":2020},null,null,{"$f":"V9+1","v":2021},null,null,{"$f":"Y9+1","v":2022},null,null,{"$f":"AB9+1","v":2023},null,null,{"$f":"AE9+1","v":2024},null,null,{"$f":"AH9+1","v":2025},null,null,{"$f":"AK9+1","v":2026},null,null,{"$f":"AN9+1","v":2027},null,null,{"$f":"AQ9+1","v":2028},null,null,{"$f":"AT9+1","v":2029},null,null,{"$f":"AW9+1","v":2030},null,null,{"$f":"AZ9+1","v":2031},null,null,{"$f":"BC9+1","v":2032},null,null,{"$f":"BF9+1","v":2033},null,null,{"$f":"BI9+1","v":2034},null,null,{"$f":"BL9+1","v":2035},null,null,{"$f":"BO9+1","v":2036},null,null,{"$f":"BR9+1","v":2037},null,null,{"$f":"BU9+1","v":2038},null,null,"2038-20##"]
[{"$f":"ROW()-ROW($9:$9)","v":1},1,{"$f":"VLOOKUP($B10,#REF!,MATCH(C$8,#REF!,0)-MATCH(#REF!,#REF!,0)+1,FALSE)","v":{"$error":"#REF!"}}]
[{"$f":"ROW()-ROW($9:$9)","v":2},2,{"$error":"#REF!"},null,null,null,null,null,null,null,null,null,null,null,null,{"$f":"SUM(S11:CD11)","v":{"$error":"#REF!"}},null,null,{"$f":"VLOOKUP($B11,#REF!,MATCH(TEXT(S$8,\"Основной\"),#REF!,0)-MATCH(#REF!,#REF!,0)+1,FALSE)","v":{"$error":"#REF!"}},null,null,{"$f":"VLOOKUP($B11,#REF!,MATCH(TEXT(V$8,\"Основной\"),#REF!,0)-MATCH(#REF!,#REF!,0)+1,FALSE)","v":{"$error":"#REF!"}},null,null,{"$f":"VLOOKUP($B11,#REF!,MATCH(TEXT(Y$8,\"Основной\"),#REF!,0)-MATCH(#REF!,#REF!,0)+1,FALSE)","v":{"$error":"#REF!"}},null,null,{"$f":"VLOOKUP($B11,#REF!,MATCH(TEXT(AB$8,\"Основной\"),#REF!,0)-MATCH(#REF!,#REF!,0)+1,FALSE)","v":{"$error":"#REF!"}},null,null,{"$f":"VLOOKUP($B11,#REF!,MATCH(TEXT(AE$8,\"Основной\"),#REF!,0)-MATCH(#REF!,#REF!,0)+1,FALSE)","v":{"$error":"#REF!"}},null,null,{"$f":"VLOOKUP($B11,#REF!,MATCH(TEXT(AH$8,\"Основной\"),#REF!,0)-MATCH(#REF!,#REF!,0)+1,FALSE)","v":{"$error":"#REF!"}},null,null,{"$f":"VLOOKUP($B11,#REF!,MATCH(TEXT(AK$8,\"Основной\"),#REF!,0)-MATCH(#REF!,#REF!,0)+1,FALSE)","v":{"$error":"#REF!"}},null,null,{"$f":"VLOOKUP($B11,#REF!,MATCH(TEXT(AN$8,\"Основной\"),#REF!,0)-MATCH(#REF!,#REF!,0)+1,FALSE)","v":{"$error":"#REF!"}},null,null,{"$f":"VLOOKUP($B11,#REF!,MATCH(TEXT(AQ$8,\"Основной\"),#REF!,0)-MATCH(#REF!,#REF!,0)+1,FALSE)","v":{"$error":"#REF!"}},null,null,{"$f":"VLOOKUP($B11,#REF!,MATCH(TEXT(AT$8,\"Основной\"),#REF!,0)-MATCH(#REF!,#REF!,0)+1,FALSE)","v":{"$error":"#REF!"}},null,null,{"$f":"VLOOKUP($B11,#REF!,MATCH(TEXT(AW$8,\"Основной\"),#REF!,0)-MATCH(#REF!,#REF!,0)+1,FALSE)","v":{"$error":"#REF!"}},null,null,{"$f":"VLOOKUP($B11,#REF!,MATCH(TEXT(AZ$8,\"Основной\"),#REF!,0)-MATCH(#REF!,#REF!,0)+1,FALSE)","v":{"$error":"#REF!"}},null,null,{"$f":"VLOOKUP($B11,#REF!,MATCH(TEXT(BC$8,\"Основной\"),#REF!,0)-MATCH(#REF!,#REF!,0)+1,FALSE)","v":{"$error":"#REF!"}},null,null,{"$f":"VLOOKUP($B11,#REF!,MATCH(TEXT(BF$8,\"Основной\"),#REF!,0)-MATCH(#REF!,#REF!,0)+1,FALSE)","v":{"$error":"#REF!"}},null,null,{"$f":"VLOOKUP($B11,#REF!,MATCH(TEXT(BI$8,\"Основной\"),#REF!,0)-MATCH(#REF!,#REF!,0)+1,FALSE)","v":{"$error":"#REF!"}},null,null,{"$f":"VLOOKUP($B11,#REF!,MATCH(TEXT(BL$8,\"Основной\"),#REF!,0)-MATCH(#REF!,#REF!,0)+1,FALSE)","v":{"$error":"#REF!"}},null,null,{"$f":"VLOOKUP($B11,#REF!,MATCH(TEXT(BO$8,\"Основной\"),#REF!,0)-MATCH(#REF!,#REF!,0)+1,FALSE)","v":{"$error":"#REF!"}},null,null,{"$f":"VLOOKUP($B11,#REF!,MATCH(TEXT(BR$8,\"Основной\"),#REF!,0)-MATCH(#REF!,#REF!,0)+1,FALSE)","v":{"$error":"#REF!"}},null,null,{"$f":"VLOOKUP($B11,#REF!,MATCH(TEXT(BU$8,\"Основной\"),#REF!,0)-MATCH(#REF!,#REF!,0)+1,FALSE)","v":{"$error":"#REF!"}},null,null,{"$f":"VLOOKUP($B11,#REF!,MATCH(TEXT(BX$8,\"Основной\"),#REF!,0)-MATCH(#REF!,#REF!,0)+1,FALSE)","v":{"$error":"#REF!"}},null,null,{"$f":"VLOOKUP($B11,#REF!,MATCH(TEXT(CA$8,\"Основной\"),#REF!,0)-MATCH(#REF!,#REF!,0)+1,FALSE)","v":{"$error":"#REF!"}}]
[3,3,{"$error":"#REF!"},null,null,null,null,null,null,null,null,null,null,null,null,{"$error":"#REF!"},null,null,{"$f":"VLOOKUP($B12,#REF!,MATCH(TEXT(S$8,\"Основной\"),#REF!,0)-MATCH(#REF!,#REF!,0)+1,FALSE)","v":{"$error":"#REF!"}},null,null,{"$f":"VLOOKUP($B12,#REF!,MATCH(TEXT(V$8,\"Основной\"),#REF!,0)-MATCH(#REF!,#REF!,0)+1,FALSE)","v":{"$error":"#REF!"}},null,null,{"$f":"VLOOKUP($B12,#REF!,MATCH(TEXT(Y$8,\"Основной\"),#REF!,0)-MATCH(#REF!,#REF!,0)+1,FALSE)","v":{"$error":"#REF!"}},null,null,{"$f":"VLOOKUP($B12,#REF!,MATCH(TEXT(AB$8,\"Основной\"),#REF!,0)-MATCH(#REF!,#REF!,0)+1,FALSE)","v":{"$error":"#REF!"}},null,null,{"$f":"VLOOKUP($B12,#REF!,MATCH(TEXT(AE$8,\"Основной\"),#REF!,0)-MATCH(#REF!,#REF!,0)+1,FALSE)","v":{"$error":"#REF!"}},null,null,{"$f":"VLOOKUP($B12,#REF!,MATCH(TEXT(AH$8,\"Основной\"),#REF!,0)-MATCH(#REF!,#REF!,0)+1,FALSE)","v":{"$error":"#REF!"}},null,null,{"$f":"VLOOKUP($B12,#REF!,MATCH(TEXT(AK$8,\"Основной\"),#REF!,0)-MATCH(#REF!,#REF!,0)+1,FALSE)","v":{"$error":"#REF!"}},null,null,{"$f":"VLOOKUP($B12,#REF!,MATCH(TEXT(AN$8,\"Основной\"),#REF!,0)-MATCH(#REF!,#REF!,0)+1,FALSE)","v":{"$error":"#REF!"}},null,null,{"$f":"VLOOKUP($B12,#REF!,MATCH(TEXT(AQ$8,\"Основной\"),#REF!,0)-MATCH(#REF!,#REF!,0)+1,FALSE)","v":{"$error":"#REF!"}},null,null,{"$f":"VLOOKUP($B12,#REF!,MATCH(TEXT(AT$8,\"Основной\"),#REF!,0)-MATCH(#REF!,#REF!,0)+1,FALSE)","v":{"$error":"#REF!"}},null,null,{"$f":"VLOOKUP($B12,#REF!,MATCH(TEXT(AW$8,\"Основной\"),#REF!,0)-MATCH(#REF!,#REF!,0)+1,FALSE)","v":{"$error":"#REF!"}},null,null,{"$f":"VLOOKUP($B12,#REF!,MATCH(TEXT(AZ$8,\"Основной\"),#REF!,0)-MATCH(#REF!,#REF!,0)+1,FALSE)","v":{"$error":"#REF!"}},null,null,{"$f":"VLOOKUP($B12,#REF!,MATCH(TEXT(BC$8,\"Основной\"),#REF!,0)-MATCH(#REF!,#REF!,0)+1,FALSE)","v":{"$error":"#REF!"}},null,null,{"$f":"VLOOKUP($B12,#REF!,MATCH(TEXT(BF$8,\"Основной\"),#REF!,0)-MATCH(#REF!,#REF!,0)+1,FALSE)","v":{"$error":"#REF!"}},null,null,{"$f":"VLOOKUP($B12,#REF!,MATCH(TEXT(BI$8,\"Основной\"),#REF!,0)-MATCH(#REF!,#REF!,0)+1,FALSE)","v":{"$error":"#REF!"}},null,null,{"$f":"VLOOKUP($B12,#REF!,MATCH(TEXT(BL$8,\"Основной\"),#REF!,0)-MATCH(#REF!,#REF!,0)+1,FALSE)","v":{"$error":"#REF!"}},null,null,{"$f":"VLOOKUP($B12,#REF!,MATCH(TEXT(BO$8,\"Основной\"),#REF!,0)-MATCH(#REF!,#REF!,0)+1,FALSE)","v":{"$error":"#REF!"}},null,null,{"$f":"VLOOKUP($B12,#REF!,MATCH(TEXT(BR$8,\"Основной\"),#REF!,0)-MATCH(#REF!,#REF!,0)+1,FALSE)","v":{"$error":"#REF!"}},null,null,{"$f":"VLOOKUP($B12,#REF!,MATCH(TEXT(BU$8,\"Основной\"),#REF!,0)-MATCH(#REF!,#REF!,0)+1,FALSE)","v":{"$error":"#REF!"}},null,null,{"$f":"VLOOKUP($B12,#REF!,MATCH(TEXT(BX$8,\"Основной\"),#REF!,0)-MATCH(#REF!,#REF!,0)+1,FALSE)","v":{"$error":"#REF!"}},null,null,{"$f":"VLOOKUP($B12,#REF!,MATCH(TEXT(CA$8,\"Основной\"),#REF!,0)-MATCH(#REF!,#REF!,0)+1,FALSE)","v":{"$error":"#REF!"}}]
[4,4,{"$error":"#REF!"},null,null,null,null,null,null,null,null,null,null,null,null,{"$f":"IFERROR(P12/P11,0)","v":0},null,null,{"$f":"VLOOKUP($B13,#REF!,MATCH(TEXT(S$8,\"Основной\"),#REF!,0)-MATCH(#REF!,#REF!,0)+1,FALSE)","v":{"$error":"#REF!"}},null,null,{"$f":"VLOOKUP($B13,#REF!,MATCH(TEXT(V$8,\"Основной\"),#REF!,0)-MATCH(#REF!,#REF!,0)+1,FALSE)","v":{"$error":"#REF!"}},null,null,{"$f":"VLOOKUP($B13,#REF!,MATCH(TEXT(Y$8,\"Основной\"),#REF!,0)-MATCH(#REF!,#REF!,0)+1,FALSE)","v":{"$error":"#REF!"}},null,null,{"$f":"VLOOKUP($B13,#REF!,MATCH(TEXT(AB$8,\"Основной\"),#REF!,0)-MATCH(#REF!,#REF!,0)+1,FALSE)","v":{"$error":"#REF!"}},null,null,{"$f":"VLOOKUP($B13,#REF!,MATCH(TEXT(AE$8,\"Основной\"),#REF!,0)-MATCH(#REF!,#REF!,0)+1,FALSE)","v":{"$error":"#REF!"}},null,null,{"$f":"VLOOKUP($B13,#REF!,MATCH(TEXT(AH$8,\"Основной\"),#REF!,0)-MATCH(#REF!,#REF!,0)+1,FALSE)","v":{"$error":"#REF!"}},null,null,{"$f":"VLOOKUP($B13,#REF!,MATCH(TEXT(AK$8,\"Основной\"),#REF!,0)-MATCH(#REF!,#REF!,0)+1,FALSE)","v":{"$error":"#REF!"}},null,null,{"$f":"VLOOKUP($B13,#REF!,MATCH(TEXT(AN$8,\"Основной\"),#REF!,0)-MATCH(#REF!,#REF!,0)+1,FALSE)","v":{"$error":"#REF!"}},null,null,{"$f":"VLOOKUP($B13,#REF!,MATCH(TEXT(AQ$8,\"Основной\"),#REF!,0)-MATCH(#REF!,#REF!,0)+1,FALSE)","v":{"$error":"#REF!"}},null,null,{"$f":"VLOOKUP($B13,#REF!,MATCH(TEXT(AT$8,\"Основной\"),#REF!,0)-MATCH(#REF!,#REF!,0)+1,FALSE)","v":{"$error":"#REF!"}},null,null,{"$f":"VLOOKUP($B13,#REF!,MATCH(TEXT(AW$8,\"Основной\"),#REF!,0)-MATCH(#REF!,#REF!,0)+1,FALSE)","v":{"$error":"#REF!"}},null,null,{"$f":"VLOOKUP($B13,#REF!,MATCH(TEXT(AZ$8,\"Основной\"),#REF!,0)-MATCH(#REF!,#REF!,0)+1,FALSE)","v":{"$error":"#REF!"}},null,null,{"$f":"VLOOKUP($B13,#REF!,MATCH(TEXT(BC$8,\"Основной\"),#REF!,0)-MATCH(#REF!,#REF!,0)+1,FALSE)","v":{"$error":"#REF!"}},null,null,{"$f":"VLOOKUP($B13,#REF!,MATCH(TEXT(BF$8,\"Основной\"),#REF!,0)-MATCH(#REF!,#REF!,0)+1,FALSE)","v":{"$error":"#REF!"}},null,null,{"$f":"VLOOKUP($B13,#REF!,MATCH(TEXT(BI$8,\"Основной\"),#REF!,0)-MATCH(#REF!,#REF!,0)+1,FALSE)","v":{"$error":"#REF!"}},null,null,{"$f":"VLOOKUP($B13,#REF!,MATCH(TEXT(BL$8,\"Основной\"),#REF!,0)-MATCH(#REF!,#REF!,0)+1,FALSE)","v":{"$error":"#REF!"}},null,null,{"$f":"VLOOKUP($B13,#REF!,MATCH(TEXT(BO$8,\"Основной\"),#REF!,0)-MATCH(#REF!,#REF!,0)+1,FALSE)","v":{"$error":"#REF!"}},null,null,{"$f":"VLOOKUP($B13,#REF!,MATCH(TEXT(BR$8,\"Основной\"),#REF!,0)-MATCH(#REF!,#REF!,0)+1,FALSE)","v":{"$error":"#REF!"}},null,null,{"$f":"VLOOKUP($B13,#REF!,MATCH(TEXT(BU$8,\"Основной\"),#REF!,0)-MATCH(#REF!,#REF!,0)+1,FALSE)","v":{"$error":"#REF!"}},null,null,{"$f":"VLOOKUP($B13,#REF!,MATCH(TEXT(BX$8,\"Основной\"),#REF!,0)-MATCH(#REF!,#REF!,0)+1,FALSE)","v":{"$error":"#REF!"}},null,null,{"$f":"VLOOKUP($B13,#REF!,MATCH(TEXT(CA$8,\"Основной\"),#REF!,0)-MATCH(#REF!,#REF!,0)+1,FALSE)","v":{"$error":"#REF!"}}]
[5,5,{"$error":"#REF!"},null,null,null,null,null,null,null,null,null,null,null,null,{"$error":"#REF!"},null,null,{"$f":"VLOOKUP($B14,#REF!,MATCH(TEXT(S$8,\"Основной\"),#REF!,0)-MATCH(#REF!,#REF!,0)+1,FALSE)","v":{"$error":"#REF!"}},null,null,{"$f":"VLOOKUP($B14,#REF!,MATCH(TEXT(V$8,\"Основной\"),#REF!,0)-MATCH(#REF!,#REF!,0)+1,FALSE)","v":{"$error":"#REF!"}},null,null,{"$f":"VLOOKUP($B14,#REF!,MATCH(TEXT(Y$8,\"Основной\"),#REF!,0)-MATCH(#REF!,#REF!,0)+1,FALSE)","v":{"$error":"#REF!"}},null,null,{"$f":"VLOOKUP($B14,#REF!,MATCH(TEXT(AB$8,\"Основной\"),#REF!,0)-MATCH(#REF!,#REF!,0)+1,FALSE)","v":{"$error":"#REF!"}},null,null,{"$f":"VLOOKUP($B14,#REF!,MATCH(TEXT(AE$8,\"Основной\"),#REF!,0)-MATCH(#REF!,#REF!,0)+1,FALSE)","v":{"$error":"#REF!"}},null,null,{"$f":"VLOOKUP($B14,#REF!,MATCH(TEXT(AH$8,\"Основной\"),#REF!,0)-MATCH(#REF!,#REF!,0)+1,FALSE)","v":{"$error":"#REF!"}},null,null,{"$f":"VLOOKUP($B14,#REF!,MATCH(TEXT(AK$8,\"Основной\"),#REF!,0)-MATCH(#REF!,#REF!,0)+1,FALSE)","v":{"$error":"#REF!"}},null,null,{"$f":"VLOOKUP($B14,#REF!,MATCH(TEXT(AN$8,\"Основной\"),#REF!,0)-MATCH(#REF!,#REF!,0)+1,FALSE)","v":{"$error":"#REF!"}},null,null,{"$f":"VLOOKUP($B14,#REF!,MATCH(TEXT(AQ$8,\"Основной\"),#REF!,0)-MATCH(#REF!,#REF!,0)+1,FALSE)","v":{"$error":"#REF!"}},null,null,{"$f":"VLOOKUP($B14,#REF!,MATCH(TEXT(AT$8,\"Основной\"),#REF!,0)-MATCH(#REF!,#REF!,0)+1,FALSE)","v":{"$error":"#REF!"}},null,null,{"$f":"VLOOKUP($B14,#REF!,MATCH(TEXT(AW$8,\"Основной\"),#REF!,0)-MATCH(#REF!,#REF!,0)+1,FALSE)","v":{"$error":"#REF!"}},null,null,{"$f":"VLOOKUP($B14,#REF!,MATCH(TEXT(AZ$8,\"Основной\"),#REF!,0)-MATCH(#REF!,#REF!,0)+1,FALSE)","v":{"$error":"#REF!"}},null,null,{"$f":"VLOOKUP($B14,#REF!,MATCH(TEXT(BC$8,\"Основной\"),#REF!,0)-MATCH(#REF!,#REF!,0)+1,FALSE)","v":{"$error":"#REF!"}},null,null,{"$f":"VLOOKUP($B14,#REF!,MATCH(TEXT(BF$8,\"Основной\"),#REF!,0)-MATCH(#REF!,#REF!,0)+1,FALSE)","v":{"$error":"#REF!"}},null,null,{"$f":"VLOOKUP($B14,#REF!,MATCH(TEXT(BI$8,\"Основной\"),#REF!,0)-MATCH(#REF!,#REF!,0)+1,FALSE)","v":{"$error":"#REF!"}},null,null,{"$f":"VLOOKUP($B14,#REF!,MATCH(TEXT(BL$8,\"Основной\"),#REF!,0)-MATCH(#REF!,#REF!,0)+1,FALSE)","v":{"$error":"#REF!"}},null,null,{"$f":"VLOOKUP($B14,#REF!,MATCH(TEXT(BO$8,\"Основной\"),#REF!,0)-MATCH(#REF!,#REF!,0)+1,FALSE)","v":{"$error":"#REF!"}},null,null,{"$f":"VLOOKUP($B14,#REF!,MATCH(TEXT(BR$8,\"Основной\"),#REF!,0)-MATCH(#REF!,#REF!,0)+1,FALSE)","v":{"$error":"#REF!"}},null,null,{"$f":"VLOOKUP($B14,#REF!,MATCH(TEXT(BU$8,\"Основной\"),#REF!,0)-MATCH(#REF!,#REF!,0)+1,FALSE)","v":{"$error":"#REF!"}},null,null,{"$f":"VLOOKUP($B14,#REF!,MATCH(TEXT(BX$8,\"Основной\"),#REF!,0)-MATCH(#REF!,#REF!,0)+1,FALSE)","v":{"$error":"#REF!"}},null,null,{"$f":"VLOOKUP($B14,#REF!,MATCH(TEXT(CA$8,\"Основной\"),#REF!,0)-MATCH(#REF!,#REF!,0)+1,FALSE)","v":{"$error":"#REF!"}}]
[6,6,{"$error":"#REF!"}]
[7,7,{"$error":"#REF!"},null,null,null,null,null,null,null,null,null,null,null,null,{"$error":"#REF!"},null,null,{"$f":"VLOOKUP($B16,#REF!,MATCH(TEXT(S$8,\"Основной\"),#REF!,0)-MATCH(#REF!,#REF!,0)+1,FALSE)","v":{"$error":"#REF!"}},null,null,{"$f":"VLOOKUP($B16,#REF!,MATCH(TEXT(V$8,\"Основной\"),#REF!,0)-MATCH(#REF!,#REF!,0)+1,FALSE)","v":{"$error":"#REF!"}},null,null,{"$f":"VLOOKUP($B16,#REF!,MATCH(TEXT(Y$8,\"Основной\"),#REF!,0)-MATCH(#REF!,#REF!,0)+1,FALSE)","v":{"$error":"#REF!"}},null,null,{"$f":"VLOOKUP($B16,#REF!,MATCH(TEXT(AB$8,\"Основной\"),#REF!,0)-MATCH(#REF!,#REF!,0)+1,FALSE)","v":{"$error":"#REF!"}},null,null,{"$f":"VLOOKUP($B16,#REF!,MATCH(TEXT(AE$8,\"Основной\"),#REF!,0)-MATCH(#REF!,#REF!,0)+1,FALSE)","v":{"$error":"#REF!"}},null,null,{"$f":"VLOOKUP($B16,#REF!,MATCH(TEXT(AH$8,\"Основной\"),#REF!,0)-MATCH(#REF!,#REF!,0)+1,FALSE)","v":{"$error":"#REF!"}},null,null,{"$f":"VLOOKUP($B16,#REF!,MATCH(TEXT(AK$8,\"Основной\"),#REF!,0)-MATCH(#REF!,#REF!,0)+1,FALSE)","v":{"$error":"#REF!"}},null,null,{"$f":"VLOOKUP($B16,#REF!,MATCH(TEXT(AN$8,\"Основной\"),#REF!,0)-MATCH(#REF!,#REF!,0)+1,FALSE)","v":{"$error":"#REF!"}},null,null,{"$f":"VLOOKUP($B16,#REF!,MATCH(TEXT(AQ$8,\"Основной\"),#REF!,0)-MATCH(#REF!,#REF!,0)+1,FALSE)","v":{"$error":"#REF!"}},null,null,{"$f":"VLOOKUP($B16,#REF!,MATCH(TEXT(AT$8,\"Основной\"),#REF!,0)-MATCH(#REF!,#REF!,0)+1,FALSE)","v":{"$error":"#REF!"}},null,null,{"$f":"VLOOKUP($B16,#REF!,MATCH(TEXT(AW$8,\"Основной\"),#REF!,0)-MATCH(#REF!,#REF!,0)+1,FALSE)","v":{"$error":"#REF!"}},null,null,{"$f":"VLOOKUP($B16,#REF!,MATCH(TEXT(AZ$8,\"Основной\"),#REF!,0)-MATCH(#REF!,#REF!,0)+1,FALSE)","v":{"$error":"#REF!"}},null,null,{"$f":"VLOOKUP($B16,#REF!,MATCH(TEXT(BC$8,\"Основной\"),#REF!,0)-MATCH(#REF!,#REF!,0)+1,FALSE)","v":{"$error":"#REF!"}},null,null,{"$f":"VLOOKUP($B16,#REF!,MATCH(TEXT(BF$8,\"Основной\"),#REF!,0)-MATCH(#REF!,#REF!,0)+1,FALSE)","v":{"$error":"#REF!"}},null,null,{"$f":"VLOOKUP($B16,#REF!,MATCH(TEXT(BI$8,\"Основной\"),#REF!,0)-MATCH(#REF!,#REF!,0)+1,FALSE)","v":{"$error":"#REF!"}},null,null,{"$f":"VLOOKUP($B16,#REF!,MATCH(TEXT(BL$8,\"Основной\"),#REF!,0)-MATCH(#REF!,#REF!,0)+1,FALSE)","v":{"$error":"#REF!"}},null,null,{"$f":"VLOOKUP($B16,#REF!,MATCH(TEXT(BO$8,\"Основной\"),#REF!,0)-MATCH(#REF!,#REF!,0)+1,FALSE)","v":{"$error":"#REF!"}},null,null,{"$f":"VLOOKUP($B16,#REF!,MATCH(TEXT(BR$8,\"Основной\"),#REF!,0)-MATCH(#REF!,#REF!,0)+1,FALSE)","v":{"$error":"#REF!"}},null,null,{"$f":"VLOOKUP($B16,#REF!,MATCH(TEXT(BU$8,\"Основной\"),#REF!,0)-MATCH(#REF!,#REF!,0)+1,FALSE)","v":{"$error":"#REF!"}},null,null,{"$f":"VLOOKUP($B16,#REF!,MATCH(TEXT(BX$8,\"Основной\"),#REF!,0)-MATCH(#REF!,#REF!,0)+1,FALSE)","v":{"$error":"#REF!"}},null,null,{"$f":"VLOOKUP($B16,#REF!,MATCH(TEXT(CA$8,\"Основной\"),#REF!,0)-MATCH(#REF!,#REF!,0)+1,FALSE)","v":{"$error":"#REF!"}}]
[8,8,{"$error":"#REF!"},null,null,null,null,null,null,null,null,null,null,null,null,{"$error":"#REF!"},null,null,{"$error":"#REF!"},null,null,{"$error":"#REF!"},null,null,{"$error":"#REF!"},null,null,{"$error":"#REF!"},null,null,{"$error":"#REF!"},null,null,{"$error":"#REF!"},null,null,{"$error":"#REF!"},null,null,{"$error":"#REF!"},null,null,{"$error":"#REF!"},null,null,{"$error":"#REF!"},null,null,{"$error":"#REF!"},null,null,{"$error":"#REF!"},null,null,{"$error":"#REF!"},null,null,{"$error":"#REF!"},null,null,{"$error":"#REF!"},null,null,{"$error":"#REF!"},null,null,{"$error":"#REF!"},null,null,{"$error":"#REF!"},null,null,{"$error":"#REF!"},null,null,{"$error":"#REF!"},null,null,{"$error":"#REF!"}]
[9,9,{"$error":"#REF!"},null,null,null,null,null,null,null,null,null,null,null,null,{"$error":"#REF!"},null,null,{"$error":"#REF!"},null,null,{"$error":"#REF!"},null,null,{"$error":"#REF!"},null,null,{"$error":"#REF!"},null,null,{"$error":"#REF!"},null,null,{"$error":"#REF!"},null,null,{"$error":"#REF!"},null,null,{"$error":"#REF!"},null,null,{"$error":"#REF!"},null,null,{"$error":"#REF!"},null,null,{"$error":"#REF!"},null,null,{"$error":"#REF!"},null,null,{"$error":"#REF!"},null,null,{"$error":"#REF!"},null,null,{"$error":"#REF!"},null,null,{"$error":"#REF!"},null,null,{"$error":"#REF!"},null,null,{"$error":"#REF!"},null,null,{"$error":"#REF!"},null,null,{"$error":"#REF!"},null,null,{"$error":"#REF!"}]
[10,10,{"$error":"#REF!"},null,null,null,null,null,null,null,null,null,null,null,null,{"$error":"#REF!"},null,null,{"$error":"#REF!"},null,null,{"$error":"#REF!"},null,null,{"$error":"#REF!"},null,null,{"$error":"#REF!"},null,null,{"$error":"#REF!"},null,null,{"$error":"#REF!"},null,null,{"$error":"#REF!"},null,null,{"$error":"#REF!"},null,null,{"$error":"#REF!"},null,null,{"$error":"#REF!"},null,null,{"$error":"#REF!"},null,null,{"$error":"#REF!"},null,null,{"$error":"#REF!"},null,null,{"$error":"#REF!"},null,null,{"$error":"#REF!"},null,null,{"$error":"#REF!"},null,null,{"$error":"#REF!"},null,null,{"$error":"#REF!"},null,null,{"$error":"#REF!"},null,null,{"$error":"#REF!"},null,null,{"$error":"#REF!"}]
[11,11,{"$error":"#REF!"},null,null,null,null,null,null,null,null,null,null,null,null,{"$error":"#REF!"},null,null,{"$error":"#REF!"},null,null,{"$error":"#REF!"},null,null,{"$error":"#REF!"},null,null,{"$error":"#REF!"},null,null,{"$error":"#REF!"},null,null,{"$error":"#REF!"},null,null,{"$error":"#REF!"},null,null,{"$error":"#REF!"},null,null,{"$error":"#REF!"},null,null,{"$error":"#REF!"},null,null,{"$error":"#REF!"},null,null,{"$error":"#REF!"},null,null,{"$error":"#REF!"},null,null,{"$error":"#REF!"},null,null,{"$error":"#REF!"},null,null,{"$error":"#REF!"},null,null,{"$error":"#REF!"},null,null,{"$error":"#REF!"},null,null,{"$error":"#REF!"},null,null,{"$error":"#REF!"},null,null,{"$error":"#REF!"}]
[12,12,{"$error":"#REF!"},null,null,null,null,null,null,null,null,null,null,null,null,{"$error":"#REF!"},null,null,{"$error":"#REF!"},null,null,{"$error":"#REF!"},null,null,{"$error":"#REF!"},null,null,{"$error":"#REF!"},null,null,{"$error":"#REF!"},null,null,{"$error":"#REF!"},null,null,{"$error":"#REF!"},null,null,{"$error":"#REF!"},null,null,{"$error":"#REF!"},null,null,{"$error":"#REF!"},null,null,{"$error":"#REF!"},null,null,{"$error":"#REF!"},null,null,{"$error":"#REF!"},null,null,{"$error":"#REF!"},null,null,{"$error":"#REF!"},null,null,{"$error":"#REF!"},null,null,{"$error":"#REF!"},null,null,{"$error":"#REF!"},null,null,{"$error":"#REF!"},null,null,{"$error":"#REF!"},null,null,{"$error":"#REF!"}]
[13,13,{"$error":"#REF!"},null,null,null,null,null,null,null,null,null,null,null,null,{"$error":"#REF!"},null,null,{"$error":"#REF!"},null,null,{"$error":"#REF!"},null,null,{"$error":"#REF!"},null,null,{"$error":"#REF!"},null,null,{"$error":"#REF!"},null,null,{"$error":"#REF!"},null,null,{"$error":"#REF!"},null,null,{"$error":"#REF!"},null,null,{"$error":"#REF!"},null,null,{"$error":"#REF!"},null,null,{"$error":"#REF!"},null,null,{"$error":"#REF!"},null,null,{"$error":"#REF!"},null,null,{"$error":"#REF!"},null,null,{"$error":"#REF!"},null,null,{"$error":"#REF!"},null,null,{"$error":"#REF!"},null,null,{"$error":"#REF!"},null,null,{"$error":"#REF!"},null,null,{"$error":"#REF!"},null,null,{"$error":"#REF!"}]
[14,14,{"$error":"#REF!"},null,null,null,null,null,null,null,null,null,null,null,null,{"$error":"#REF!"},null,null,{"$error":"#REF!"},null,null,{"$error":"#REF!"},null,null,{"$error":"#REF!"},null,null,{"$error":"#REF!"},null,null,{"$error":"#REF!"},null,null,{"$error":"#REF!"},null,null,{"$error":"#REF!"},null,null,{"$error":"#REF!"},null,null,{"$error":"#REF!"},null,null,{"$error":"#REF!"},null,null,{"$error":"#REF!"},null,null,{"$error":"#REF!"},null,null,{"$error":"#REF!"},null,null,{"$error":"#REF!"},null,null,{"$error":"#REF!"},null,null,{"$error":"#REF!"},null,null,{"$error":"#REF!"},null,null,{"$error":"#REF!"},null,null,{"$error":"#REF!"},null,null,{"$error":"#REF!"},null,null,{"$error":"#REF!"}]
[15,15,{"$error":"#REF!"},null,null,null,null,null,null,null,null,null,null,null,null,{"$error":"#REF!"},null,null,{"$error":"#REF!"},null,null,{"$error":"#REF!"},null,null,{"$error":"#REF!"},null,null,{"$error":"#REF!"},null,null,{"$error":"#REF!"},null,null,{"$error":"#REF!"},null,null,{"$error":"#REF!"},null,null,{"$error":"#REF!"},null,null,{"$error":"#REF!"},null,null,{"$error":"#REF!"},null,null,{"$error":"#REF!"},null,null,{"$error":"#REF!"},null,null,{"$error":"#REF!"},null,null,{"$error":"#REF!"},null,null,{"$error":"#REF!"},null,null,{"$error":"#REF!"},null,null,{"$error":"#REF!"},null,null,{"$error":"#REF!"},null,null,{"$error":"#REF!"},null,null,{"$error":"#REF!"},null,null,{"$error":"#REF!"}]
[16,16,{"$error":"#REF!"},null,null,null,null,null,null,null,null,null,null,null,null,{"$error":"#REF!"},null,null,{"$error":"#REF!"},null,null,{"$error":"#REF!"},null,null,{"$error":"#REF!"},null,null,{"$error":"#REF!"},null,null,{"$error":"#REF!"},null,null,{"$error":"#REF!"},null,null,{"$error":"#REF!"},null,null,{"$error":"#REF!"},null,null,{"$error":"#REF!"},null,null,{"$error":"#REF!"},null,null,{"$error":"#REF!"},null,null,{"$error":"#REF!"},null,null,{"$error":"#REF!"},null,null,{"$error":"#REF!"},null,null,{"$error":"#REF!"},null,null,{"$error":"#REF!"},null,null,{"$error":"#REF!"},null,null,{"$error":"#REF!"},null,null,{"$error":"#REF!"},null,null,{"$error":"#REF!"},null,null,{"$error":"#REF!"}]
[17,17,{"$error":"#REF!"},null,null,null,null,null,null,null,null,null,null,null,null,{"$error":"#REF!"},null,null,{"$error":"#REF!"},null,null,{"$error":"#REF!"},null,null,{"$error":"#REF!"},null,null,{"$error":"#REF!"},null,null,{"$error":"#REF!"},null,null,{"$error":"#REF!"},null,null,{"$error":"#REF!"},null,null,{"$error":"#REF!"},null,null,{"$error":"#REF!"},null,null,{"$error":"#REF!"},null,null,{"$error":"#REF!"},null,null,{"$error":"#REF!"},null,null,{"$error":"#REF!"},null,null,{"$error":"#REF!"},null,null,{"$error":"#REF!"},null,null,{"$error":"#REF!"},null,null,{"$error":"#REF!"},null,null,{"$error":"#REF!"},null,null,{"$error":"#REF!"},null,null,{"$error":"#REF!"},null,null,{"$error":"#REF!"}]
[18,18,{"$error":"#REF!"},null,null,null,null,null,null,null,null,null,null,null,null,{"$f":"SUM(S27:CD27)","v":{"$error":"#REF!"}},null,null,{"$error":"#REF!"},null,null,{"$error":"#REF!"},null,null,{"$error":"#REF!"},null,null,{"$error":"#REF!"},null,null,{"$error":"#REF!"},null,null,{"$error":"#REF!"},null,null,{"$error":"#REF!"},null,null,{"$error":"#REF!"},null,null,{"$error":"#REF!"},null,null,{"$error":"#REF!"},null,null,{"$error":"#REF!"},null,null,{"$error":"#REF!"},null,null,{"$error":"#REF!"},null,null,{"$error":"#REF!"},null,null,{"$error":"#REF!"},null,null,{"$error":"#REF!"},null,null,{"$error":"#REF!"},null,null,{"$error":"#REF!"},null,null,{"$error":"#REF!"},null,null,{"$error":"#REF!"},null,null,{"$error":"#REF!"}]
[19,19,{"$error":"#REF!"},null,null,null,null,null,null,null,null,null,null,null,null,{"$error":"#REF!"},null,null,{"$error":"#REF!"},null,null,{"$error":"#REF!"},null,null,{"$error":"#REF!"},null,null,{"$error":"#REF!"},null,null,{"$error":"#REF!"},null,null,{"$error":"#REF!"},null,null,{"$error":"#REF!"},null,null,{"$error":"#REF!"},null,null,{"$error":"#REF!"},null,null,{"$error":"#REF!"},null,null,{"$error":"#REF!"},null,null,{"$error":"#REF!"},null,null,{"$error":"#REF!"},null,null,{"$error":"#REF!"},null,null,{"$error":"#REF!"},null,null,{"$error":"#REF!"},null,null,{"$error":"#REF!"},null,null,{"$error":"#REF!"},null,null,{"$error":"#REF!"},null,null,{"$error":"#REF!"},null,null,{"$error":"#REF!"}]
[20,20,{"$error":"#REF!"},null,null,null,null,null,null,null,null,null,null,null,null,{"$error":"#REF!"},null,null,{"$error":"#REF!"},null,null,{"$error":"#REF!"},null,null,{"$error":"#REF!"},null,null,{"$error":"#REF!"},null,null,{"$error":"#REF!"},null,null,{"$error":"#REF!"},null,null,{"$error":"#REF!"},null,null,{"$error":"#REF!"},null,null,{"$error":"#REF!"},null,null,{"$error":"#REF!"},null,null,{"$error":"#REF!"},null,null,{"$error":"#REF!"},null,null,{"$error":"#REF!"},null,null,{"$error":"#REF!"},null,null,{"$error":"#REF!"},null,null,{"$error":"#REF!"},null,null,{"$error":"#REF!"},null,null,{"$error":"#REF!"},null,null,{"$error":"#REF!"},null,null,{"$error":"#REF!"},null,null,{"$error":"#REF!"}]
[21,21,{"$error":"#REF!"},null,null,null,null,null,null,null,null,null,null,null,null,{"$error":"#REF!"},null,null,{"$error":"#REF!"},null,null,{"$error":"#REF!"},null,null,{"$error":"#REF!"},null,null,{"$error":"#REF!"},null,null,{"$error":"#REF!"},null,null,{"$error":"#REF!"},null,null,{"$error":"#REF!"},null,null,{"$error":"#REF!"},null,null,{"$error":"#REF!"},null,null,{"$error":"#REF!"},null,null,{"$error":"#REF!"},null,null,{"$error":"#REF!"},null,null,{"$error":"#REF!"},null,null,{"$error":"#REF!"},null,null,{"$error":"#REF!"},null,null,{"$error":"#REF!"},null,null,{"$error":"#REF!"},null,null,{"$error":"#REF!"},null,null,{"$error":"#REF!"},null,null,{"$error":"#REF!"},null,null,{"$error":"#REF!"}]
[22,22,{"$error":"#REF!"},null,null,null,null,null,null,null,null,null,null,null,null,{"$error":"#REF!"},null,null,{"$error":"#REF!"},null,null,{"$error":"#REF!"},null,null,{"$error":"#REF!"},null,null,{"$error":"#REF!"},null,null,{"$error":"#REF!"},null,null,{"$error":"#REF!"},null,null,{"$error":"#REF!"},null,null,{"$error":"#REF!"},null,null,{"$error":"#REF!"},null,null,{"$error":"#REF!"},null,null,{"$error":"#REF!"},null,null,{"$error":"#REF!"},null,null,{"$error":"#REF!"},null,null,{"$error":"#REF!"},null,null,{"$error":"#REF!"},null,null,{"$error":"#REF!"},null,null,{"$error":"#REF!"},null,null,{"$error":"#REF!"},null,null,{"$error":"#REF!"},null,null,{"$error":"#REF!"},null,null,{"$error":"#REF!"}]
[23,23,{"$error":"#REF!"},null,null,null,null,null,null,null,null,null,null,null,null,{"$error":"#REF!"},null,null,{"$error":"#REF!"},null,null,{"$error":"#REF!"},null,null,{"$error":"#REF!"},null,null,{"$error":"#REF!"},null,null,{"$error":"#REF!"},null,null,{"$error":"#REF!"},null,null,{"$error":"#REF!"},null,null,{"$error":"#REF!"},null,null,{"$error":"#REF!"},null,null,{"$error":"#REF!"},null,null,{"$error":"#REF!"},null,null,{"$error":"#REF!"},null,null,{"$error":"#REF!"},null,null,{"$error":"#REF!"},null,null,{"$error":"#REF!"},null,null,{"$error":"#REF!"},null,null,{"$error":"#REF!"},null,null,{"$error":"#REF!"},null,null,{"$error":"#REF!"},null,null,{"$error":"#REF!"},null,null,{"$error":"#REF!"}]
[24,24,{"$error":"#REF!"},null,null,null,null,null,null,null,null,null,null,null,null,{"$error":"#REF!"},null,null,{"$error":"#REF!"},null,null,{"$error":"#REF!"},null,null,{"$error":"#REF!"},null,null,{"$error":"#REF!"},null,null,{"$error":"#REF!"},null,null,{"$error":"#REF!"},null,null,{"$error":"#REF!"},null,null,{"$error":"#REF!"},null,null,{"$error":"#REF!"},null,null,{"$error":"#REF!"},null,null,{"$error":"#REF!"},null,null,{"$error":"#REF!"},null,null,{"$error":"#REF!"},null,null,{"$error":"#REF!"},null,null,{"$error":"#REF!"},null,null,{"$error":"#REF!"},null,null,{"$error":"#REF!"},null,null,{"$error":"#REF!"},null,null,{"$error":"#REF!"},null,null,{"$error":"#REF!"},null,null,{"$error":"#REF!"}]
[25,25,{"$error":"#REF!"},null,null,null,null,null,null,null,null,null,null,null,null,{"$error":"#REF!"},null,null,{"$error":"#REF!"},null,null,{"$error":"#REF!"},null,null,{"$error":"#REF!"},null,null,{"$error":"#REF!"},null,null,{"$error":"#REF!"},null,null,{"$error":"#REF!"},null,null,{"$error":"#REF!"},null,null,{"$error":"#REF!"},null,null,{"$error":"#REF!"},null,null,{"$error":"#REF!"},null,null,{"$error":"#REF!"},null,null,{"$error":"#REF!"},null,null,{"$error":"#REF!"},null,null,{"$error":"#REF!"},null,null,{"$error":"#REF!"},null,null,{"$error":"#REF!"},null,null,{"$error":"#REF!"},null,null,{"$error":"#REF!"},null,null,{"$error":"#REF!"},null,null,{"$error":"#REF!"},null,null,{"$error":"#REF!"}]
[26,26,{"$error":"#REF!"},null,null,null,null,null,null,null,null,null,null,null,null,{"$error":"#REF!"},null,null,{"$error":"#REF!"},null,null,{"$error":"#REF!"},null,null,{"$error":"#REF!"},null,null,{"$error":"#REF!"},null,null,{"$error":"#REF!"},null,null,{"$error":"#REF!"},null,null,{"$error":"#REF!"},null,null,{"$error":"#REF!"},null,null,{"$error":"#REF!"},null,null,{"$error":"#REF!"},null,null,{"$error":"#REF!"},null,null,{"$error":"#REF!"},null,null,{"$error":"#REF!"},null,null,{"$error":"#REF!"},null,null,{"$error":"#REF!"},null,null,{"$error":"#REF!"},null,null,{"$error":"#REF!"},null,null,{"$error":"#REF!"},null,null,{"$error":"#REF!"},null,null,{"$error":"#REF!"},null,null,{"$error":"#REF!"}]
[27,27,{"$error":"#REF!"},null,null,null,null,null,null,null,null,null,null,null,null,{"$error":"#REF!"},null,null,{"$error":"#REF!"},null,null,{"$error":"#REF!"},null,null,{"$error":"#REF!"},null,null,{"$error":"#REF!"},null,null,{"$error":"#REF!"},null,null,{"$error":"#REF!"},null,null,{"$error":"#REF!"},null,null,{"$error":"#REF!"},null,null,{"$error":"#REF!"},null,null,{"$error":"#REF!"},null,null,{"$error":"#REF!"},null,null,{"$error":"#REF!"},null,null,{"$error":"#REF!"},null,null,{"$error":"#REF!"},null,null,{"$error":"#REF!"},null,null,{"$error":"#REF!"},null,null,{"$error":"#REF!"},null,null,{"$error":"#REF!"},null,null,{"$error":"#REF!"},null,null,{"$error":"#REF!"},null,null,{"$error":"#REF!"}]
[28,28,{"$error":"#REF!"},null,null,null,null,null,null,null,null,null,null,null,null,{"$error":"#REF!"},null,null,{"$error":"#REF!"},null,null,{"$error":"#REF!"},null,null,{"$error":"#REF!"},null,null,{"$error":"#REF!"},null,null,{"$error":"#REF!"},null,null,{"$error":"#REF!"},null,null,{"$error":"#REF!"},null,null,{"$error":"#REF!"},null,null,{"$error":"#REF!"},null,null,{"$error":"#REF!"},null,null,{"$error":"#REF!"},null,null,{"$error":"#REF!"},null,null,{"$error":"#REF!"},null,null,{"$error":"#REF!"},null,null,{"$error":"#REF!"},null,null,{"$error":"#REF!"},null,null,{"$error":"#REF!"},null,null,{"$error":"#REF!"},null,null,{"$error":"#REF!"},null,null,{"$error":"#REF!"},null,null,{"$error":"#REF!"}]
[29,29,{"$error":"#REF!"},null,null,null,null,null,null,null,null,null,null,null,null,{"$error":"#REF!"},null,null,{"$error":"#REF!"},null,null,{"$error":"#REF!"},null,null,{"$error":"#REF!"},null,null,{"$error":"#REF!"},null,null,{"$error":"#REF!"},null,null,{"$error":"#REF!"},null,null,{"$error":"#REF!"},null,null,{"$error":"#REF!"},null,null,{"$error":"#REF!"},null,null,{"$error":"#REF!"},null,null,{"$error":"#REF!"},null,null,{"$error":"#REF!"},null,null,{"$error":"#REF!"},null,null,{"$error":"#REF!"},null,null,{"$error":"#REF!"},null,null,{"$error":"#REF!"},null,null,{"$error":"#REF!"},null,null,{"$error":"#REF!"},null,null,{"$error":"#REF!"},null,null,{"$error":"#REF!"},null,null,{"$error":"#REF!"}]
[30,30,{"$error":"#REF!"},null,null,null,null,null,null,null,null,null,null,null,null,{"$error":"#REF!"},null,null,{"$error":"#REF!"},null,null,{"$error":"#REF!"},null,null,{"$error":"#REF!"},null,null,{"$error":"#REF!"},null,null,{"$error":"#REF!"},null,null,{"$error":"#REF!"},null,null,{"$error":"#REF!"},null,null,{"$error":"#REF!"},null,null,{"$error":"#REF!"},null,null,{"$error":"#REF!"},null,null,{"$error":"#REF!"},null,null,{"$error":"#REF!"},null,null,{"$error":"#REF!"},null,null,{"$error":"#REF!"},null,null,{"$error":"#REF!"},null,null,{"$error":"#REF!"},null,null,{"$error":"#REF!"},null,null,{"$error":"#REF!"},null,null,{"$error":"#REF!"},null,null,{"$error":"#REF!"},null,null,{"$error":"#REF!"}]
[31,31,{"$error":"#REF!"},null,null,null,null,null,null,null,null,null,null,null,null,{"$error":"#REF!"},null,null,{"$error":"#REF!"},null,null,{"$error":"#REF!"},null,null,{"$error":"#REF!"},null,null,{"$error":"#REF!"},null,null,{"$error":"#REF!"},null,null,{"$error":"#REF!"},null,null,{"$error":"#REF!"},null,null,{"$error":"#REF!"},null,null,{"$error":"#REF!"},null,null,{"$error":"#REF!"},null,null,{"$error":"#REF!"},null,null,{"$error":"#REF!"},null,null,{"$error":"#REF!"},null,null,{"$error":"#REF!"},null,null,{"$error":"#REF!"},null,null,{"$error":"#REF!"},null,null,{"$error":"#REF!"},null,null,{"$error":"#REF!"},null,null,{"$error":"#REF!"},null,null,{"$error":"#REF!"},null,null,{"$error":"#REF!"}]
[32,32,{"$error":"#REF!"},null,null,null,null,null,null,null,null,null,null,null,null,{"$error":"#REF!"},null,null,{"$error":"#REF!"},null,null,{"$error":"#REF!"},null,null,{"$error":"#REF!"},null,null,{"$error":"#REF!"},null,null,{"$error":"#REF!"},null,null,{"$error":"#REF!"},null,null,{"$error":"#REF!"},null,null,{"$error":"#REF!"},null,null,{"$error":"#REF!"},null,null,{"$error":"#REF!"},null,null,{"$error":"#REF!"},null,null,{"$error":"#REF!"},null,null,{"$error":"#REF!"},null,null,{"$error":"#REF!"},null,null,{"$error":"#REF!"},null,null,{"$error":"#REF!"},null,null,{"$error":"#REF!"},null,null,{"$error":"#REF!"},null,null,{"$error":"#REF!"},null,null,{"$error":"#REF!"},null,null,{"$error":"#REF!"}]
[33,33,{"$error":"#REF!"},null,null,null,null,null,null,null,null,null,null,null,null,{"$f":"SUM(S42:CD42)","v":{"$error":"#REF!"}},null,null,{"$error":"#REF!"},null,null,{"$error":"#REF!"},null,null,{"$error":"#REF!"},null,null,{"$error":"#REF!"},null,null,{"$error":"#REF!"},null,null,{"$error":"#REF!"},null,null,{"$error":"#REF!"},null,null,{"$error":"#REF!"},null,null,{"$error":"#REF!"},null,null,{"$error":"#REF!"},null,null,{"$error":"#REF!"},null,null,{"$error":"#REF!"},null,null,{"$error":"#REF!"},null,null,{"$error":"#REF!"},null,null,{"$error":"#REF!"},null,null,{"$error":"#REF!"},null,null,{"$error":"#REF!"},null,null,{"$error":"#REF!"},null,null,{"$error":"#REF!"},null,null,{"$error":"#REF!"},null,null,{"$error":"#REF!"}]
[34,34,{"$error":"#REF!"},null,null,null,null,null,null,null,null,null,null,null,null,{"$error":"#REF!"},null,null,{"$error":"#REF!"},null,null,{"$error":"#REF!"},null,null,{"$error":"#REF!"},null,null,{"$error":"#REF!"},null,null,{"$error":"#REF!"},null,null,{"$error":"#REF!"},null,null,{"$error":"#REF!"},null,null,{"$error":"#REF!"},null,null,{"$error":"#REF!"},null,null,{"$error":"#REF!"},null,null,{"$error":"#REF!"},null,null,{"$error":"#REF!"},null,null,{"$error":"#REF!"},null,null,{"$error":"#REF!"},null,null,{"$error":"#REF!"},null,null,{"$error":"#REF!"},null,null,{"$error":"#REF!"},null,null,{"$error":"#REF!"},null,null,{"$error":"#REF!"},null,null,{"$error":"#REF!"},null,null,{"$error":"#REF!"}]
[35,35,{"$error":"#REF!"},null,null,null,null,null,null,null,null,null,null,null,null,{"$error":"#REF!"},null,null,{"$error":"#REF!"},null,null,{"$error":"#REF!"},null,null,{"$error":"#REF!"},null,null,{"$error":"#REF!"},null,null,{"$error":"#REF!"},null,null,{"$error":"#REF!"},null,null,{"$error":"#REF!"},null,null,{"$error":"#REF!"},null,null,{"$error":"#REF!"},null,null,{"$error":"#REF!"},null,null,{"$error":"#REF!"},null,null,{"$error":"#REF!"},null,null,{"$error":"#REF!"},null,null,{"$error":"#REF!"},null,null,{"$error":"#REF!"},null,null,{"$error":"#REF!"},null,null,{"$error":"#REF!"},null,null,{"$error":"#REF!"},null,null,{"$error":"#REF!"},null,null,{"$error":"#REF!"},null,null,{"$error":"#REF!"}]
[36,37,{"$error":"#REF!"},null,null,null,null,null,null,null,null,null,null,null,null,{"$error":"#REF!"},null,null,{"$error":"#REF!"},null,null,{"$error":"#REF!"},null,null,{"$error":"#REF!"},null,null,{"$error":"#REF!"},null,null,{"$error":"#REF!"},null,null,{"$error":"#REF!"},null,null,{"$error":"#REF!"},null,null,{"$error":"#REF!"},null,null,{"$error":"#REF!"},null,null,{"$error":"#REF!"},null,null,{"$error":"#REF!"},null,null,{"$error":"#REF!"},null,null,{"$error":"#REF!"},null,null,{"$error":"#REF!"},null,null,{"$error":"#REF!"},null,null,{"$error":"#REF!"},null,null,{"$error":"#REF!"},null,null,{"$error":"#REF!"},null,null,{"$error":"#REF!"},null,null,{"$error":"#REF!"},null,null,{"$error":"#REF!"}]
[37,38,{"$error":"#REF!"},null,null,null,null,null,null,null,null,null,null,null,null,{"$error":"#REF!"},null,null,{"$error":"#REF!"},null,null,{"$error":"#REF!"},null,null,{"$error":"#REF!"},null,null,{"$error":"#REF!"},null,null,{"$error":"#REF!"},null,null,{"$error":"#REF!"},null,null,{"$error":"#REF!"},null,null,{"$error":"#REF!"},null,null,{"$error":"#REF!"},null,null,{"$error":"#REF!"},null,null,{"$error":"#REF!"},null,null,{"$error":"#REF!"},null,null,{"$error":"#REF!"},null,null,{"$error":"#REF!"},null,null,{"$error":"#REF!"},null,null,{"$error":"#REF!"},null,null,{"$error":"#REF!"},null,null,{"$error":"#REF!"},null,null,{"$error":"#REF!"},null,null,{"$error":"#REF!"},null,null,{"$error":"#REF!"}]
[38,39,{"$error":"#REF!"},null,null,null,null,null,null,null,null,null,null,null,null,{"$error":"#REF!"},null,null,{"$error":"#REF!"},null,null,{"$error":"#REF!"},null,null,{"$error":"#REF!"},null,null,{"$error":"#REF!"},null,null,{"$error":"#REF!"},null,null,{"$error":"#REF!"},null,null,{"$error":"#REF!"},null,null,{"$error":"#REF!"},null,null,{"$error":"#REF!"},null,null,{"$error":"#REF!"},null,null,{"$error":"#REF!"},null,null,{"$error":"#REF!"},null,null,{"$error":"#REF!"},null,null,{"$error":"#REF!"},null,null,{"$error":"#REF!"},null,null,{"$error":"#REF!"},null,null,{"$error":"#REF!"},null,null,{"$error":"#REF!"},null,null,{"$error":"#REF!"},null,null,{"$error":"#REF!"},null,null,{"$error":"#REF!"}]
[39,40,{"$error":"#REF!"},null,null,null,null,null,null,null,null,null,null,null,null,{"$f":"SUM(S48:CD48)","v":{"$error":"#REF!"}},null,null,{"$error":"#REF!"},null,null,{"$error":"#REF!"},null,null,{"$error":"#REF!"},null,null,{"$error":"#REF!"},null,null,{"$error":"#REF!"},null,null,{"$error":"#REF!"},null,null,{"$error":"#REF!"},null,null,{"$error":"#REF!"},null,null,{"$error":"#REF!"},null,null,{"$error":"#REF!"},null,null,{"$error":"#REF!"},null,null,{"$error":"#REF!"},null,null,{"$error":"#REF!"},null,null,{"$error":"#REF!"},null,null,{"$error":"#REF!"},null,null,{"$error":"#REF!"},null,null,{"$error":"#REF!"},null,null,{"$error":"#REF!"},null,null,{"$error":"#REF!"},null,null,{"$error":"#REF!"},null,null,{"$error":"#REF!"}]
[40,41,{"$error":"#REF!"},null,null,null,null,null,null,null,null,null,null,null,null,{"$error":"#REF!"},null,null,{"$error":"#REF!"},null,null,{"$error":"#REF!"},null,null,{"$error":"#REF!"},null,null,{"$error":"#REF!"},null,null,{"$error":"#REF!"},null,null,{"$error":"#REF!"},null,null,{"$error":"#REF!"},null,null,{"$error":"#REF!"},null,null,{"$error":"#REF!"},null,null,{"$error":"#REF!"},null,null,{"$error":"#REF!"},null,null,{"$error":"#REF!"},null,null,{"$error":"#REF!"},null,null,{"$error":"#REF!"},null,null,{"$error":"#REF!"},null,null,{"$error":"#REF!"},null,null,{"$error":"#REF!"},null,null,{"$error":"#REF!"},null,null,{"$error":"#REF!"},null,null,{"$error":"#REF!"},null,null,{"$error":"#REF!"}]
[41,42,{"$error":"#REF!"},null,null,null,null,null,null,null,null,null,null,null,null,{"$error":"#REF!"},null,null,{"$error":"#REF!"},null,null,{"$error":"#REF!"},null,null,{"$error":"#REF!"},null,null,{"$error":"#REF!"},null,null,{"$error":"#REF!"},null,null,{"$error":"#REF!"},null,null,{"$error":"#REF!"},null,null,{"$error":"#REF!"},null,null,{"$error":"#REF!"},null,null,{"$error":"#REF!"},null,null,{"$error":"#REF!"},null,null,{"$error":"#REF!"},null,null,{"$error":"#REF!"},null,null,{"$error":"#REF!"},null,null,{"$error":"#REF!"},null,null,{"$error":"#REF!"},null,null,{"$error":"#REF!"},null,null,{"$error":"#REF!"},null,null,{"$error":"#REF!"},null,null,{"$error":"#REF!"},null,null,{"$error":"#REF!"}]
[42,43,{"$error":"#REF!"},null,null,null,null,null,null,null,null,null,null,null,null,{"$error":"#REF!"},null,null,{"$error":"#REF!"},null,null,{"$error":"#REF!"},null,null,{"$error":"#REF!"},null,null,{"$error":"#REF!"},null,null,{"$error":"#REF!"},null,null,{"$error":"#REF!"},null,null,{"$error":"#REF!"},null,null,{"$error":"#REF!"},null,null,{"$error":"#REF!"},null,null,{"$error":"#REF!"},null,null,{"$error":"#REF!"},null,null,{"$error":"#REF!"},null,null,{"$error":"#REF!"},null,null,{"$error":"#REF!"},null,null,{"$error":"#REF!"},null,null,{"$error":"#REF!"},null,null,{"$error":"#REF!"},null,null,{"$error":"#REF!"},null,null,{"$error":"#REF!"},null,null,{"$error":"#REF!"},null,null,{"$error":"#REF!"}]
[43,44,{"$error":"#REF!"},null,null,null,null,null,null,null,null,null,null,null,null,{"$error":"#REF!"},null,null,{"$error":"#REF!"},null,null,{"$error":"#REF!"},null,null,{"$error":"#REF!"},null,null,{"$error":"#REF!"},null,null,{"$error":"#REF!"},null,null,{"$error":"#REF!"},null,null,{"$error":"#REF!"},null,null,{"$error":"#REF!"},null,null,{"$error":"#REF!"},null,null,{"$error":"#REF!"},null,null,{"$error":"#REF!"},null,null,{"$error":"#REF!"},null,null,{"$error":"#REF!"},null,null,{"$error":"#REF!"},null,null,{"$error":"#REF!"},null,null,{"$error":"#REF!"},null,null,{"$error":"#REF!"},null,null,{"$error":"#REF!"},null,null,{"$error":"#REF!"},null,null,{"$error":"#REF!"},null,null,{"$error":"#REF!"}]
[44,45,{"$error":"#REF!"},null,null,null,null,null,null,null,null,null,null,null,null,{"$error":"#REF!"},null,null,{"$error":"#REF!"},null,null,{"$error":"#REF!"},null,null,{"$error":"#REF!"},null,null,{"$error":"#REF!"},null,null,{"$error":"#REF!"},null,null,{"$error":"#REF!"},null,null,{"$error":"#REF!"},null,null,{"$error":"#REF!"},null,null,{"$error":"#REF!"},null,null,{"$error":"#REF!"},null,null,{"$error":"#REF!"},null,null,{"$error":"#REF!"},null,null,{"$error":"#REF!"},null,null,{"$error":"#REF!"},null,null,{"$error":"#REF!"},null,null,{"$error":"#REF!"},null,null,{"$error":"#REF!"},null,null,{"$error":"#REF!"},null,null,{"$error":"#REF!"},null,null,{"$error":"#REF!"},null,null,{"$error":"#REF!"}]
[45,46,{"$error":"#REF!"},null,null,null,null,null,null,null,null,null,null,null,null,{"$f":"SUM(S54:CD54)","v":{"$error":"#REF!"}},null,null,{"$error":"#REF!"},null,null,{"$error":"#REF!"},null,null,{"$error":"#REF!"},null,null,{"$error":"#REF!"},null,null,{"$error":"#REF!"},null,null,{"$error":"#REF!"},null,null,{"$error":"#REF!"},null,null,{"$error":"#REF!"},null,null,{"$error":"#REF!"},null,null,{"$error":"#REF!"},null,null,{"$error":"#REF!"},null,null,{"$error":"#REF!"},null,null,{"$error":"#REF!"},null,null,{"$error":"#REF!"},null,null,{"$error":"#REF!"},null,null,{"$error":"#REF!"},null,null,{"$error":"#REF!"},null,null,{"$error":"#REF!"},null,null,{"$error":"#REF!"},null,null,{"$error":"#REF!"},null,null,{"$error":"#REF!"}]
[46,47,{"$error":"#REF!"},null,null,null,null,null,null,null,null,null,null,null,null,{"$f":"SUM(S55:CD55)","v":{"$error":"#REF!"}},null,null,{"$error":"#REF!"},null,null,{"$error":"#REF!"},null,null,{"$error":"#REF!"},null,null,{"$error":"#REF!"},null,null,{"$error":"#REF!"},null,null,{"$error":"#REF!"},null,null,{"$error":"#REF!"},null,null,{"$error":"#REF!"},null,null,{"$error":"#REF!"},null,null,{"$error":"#REF!"},null,null,{"$error":"#REF!"},null,null,{"$error":"#REF!"},null,null,{"$error":"#REF!"},null,null,{"$error":"#REF!"},null,null,{"$error":"#REF!"},null,null,{"$error":"#REF!"},null,null,{"$error":"#REF!"},null,null,{"$error":"#REF!"},null,null,{"$error":"#REF!"},null,null,{"$error":"#REF!"},null,null,{"$error":"#REF!"}]
[47,48,{"$error":"#REF!"},null,null,null,null,null,null,null,null,null,null,null,null,{"$f":"SUM(S56:CD56)","v":{"$error":"#REF!"}},null,null,{"$error":"#REF!"},null,null,{"$error":"#REF!"},null,null,{"$error":"#REF!"},null,null,{"$error":"#REF!"},null,null,{"$error":"#REF!"},null,null,{"$error":"#REF!"},null,null,{"$error":"#REF!"},null,null,{"$error":"#REF!"},null,null,{"$error":"#REF!"},null,null,{"$error":"#REF!"},null,null,{"$error":"#REF!"},null,null,{"$error":"#REF!"},null,null,{"$error":"#REF!"},null,null,{"$error":"#REF!"},null,null,{"$error":"#REF!"},null,null,{"$error":"#REF!"},null,null,{"$error":"#REF!"},null,null,{"$error":"#REF!"},null,null,{"$error":"#REF!"},null,null,{"$error":"#REF!"},null,null,{"$error":"#REF!"}]
[48,49,{"$error":"#REF!"},null,null,null,null,null,null,null,null,null,null,null,null,{"$error":"#REF!"},null,null,{"$error":"#REF!"},null,null,{"$error":"#REF!"},null,null,{"$error":"#REF!"},null,null,{"$error":"#REF!"},null,null,{"$error":"#REF!"},null,null,{"$error":"#REF!"},null,null,{"$error":"#REF!"},null,null,{"$error":"#REF!"},null,null,{"$error":"#REF!"},null,null,{"$error":"#REF!"},null,null,{"$error":"#REF!"},null,null,{"$error":"#REF!"},null,null,{"$error":"#REF!"},null,null,{"$error":"#REF!"},null,null,{"$error":"#REF!"},null,null,{"$error":"#REF!"},null,null,{"$error":"#REF!"},null,null,{"$error":"#REF!"},null,null,{"$error":"#REF!"},null,null,{"$error":"#REF!"},null,null,{"$error":"#REF!"}]
[49,50,{"$error":"#REF!"},null,null,null,null,null,null,null,null,null,null,null,null,{"$error":"#REF!"},null,null,{"$error":"#REF!"},null,null,{"$error":"#REF!"},null,null,{"$error":"#REF!"},null,null,{"$error":"#REF!"},null,null,{"$error":"#REF!"},null,null,{"$error":"#REF!"},null,null,{"$error":"#REF!"},null,null,{"$error":"#REF!"},null,null,{"$error":"#REF!"},null,null,{"$error":"#REF!"},null,null,{"$error":"#REF!"},null,null,{"$error":"#REF!"},null,null,{"$error":"#REF!"},null,null,{"$error":"#REF!"},null,null,{"$error":"#REF!"},null,null,{"$error":"#REF!"},null,null,{"$error":"#REF!"},null,null,{"$error":"#REF!"},null,null,{"$error":"#REF!"},null,null,{"$error":"#REF!"},null,null,{"$error":"#REF!"}]
[50,52,{"$error":"#REF!"},null,null,null,null,null,null,null,null,null,null,null,null,{"$error":"#REF!"},null,null,{"$error":"#REF!"},null,null,{"$error":"#REF!"},null,null,{"$error":"#REF!"},null,null,{"$error":"#REF!"},null,null,{"$error":"#REF!"},null,null,{"$error":"#REF!"},null,null,{"$error":"#REF!"},null,null,{"$error":"#REF!"},null,null,{"$error":"#REF!"},null,null,{"$error":"#REF!"},null,null,{"$error":"#REF!"},null,null,{"$error":"#REF!"},null,null,{"$error":"#REF!"},null,null,{"$error":"#REF!"},null,null,{"$error":"#REF!"},null,null,{"$error":"#REF!"},null,null,{"$error":"#REF!"},null,null,{"$error":"#REF!"},null,null,{"$error":"#REF!"},null,null,{"$error":"#REF!"},null,null,{"$error":"#REF!"}]
[51,53,{"$error":"#REF!"},null,null,null,null,null,null,null,null,null,null,null,null,{"$error":"#REF!"},null,null,{"$error":"#REF!"},null,null,{"$error":"#REF!"},null,null,{"$error":"#REF!"},null,null,{"$error":"#REF!"},null,null,{"$error":"#REF!"},null,null,{"$error":"#REF!"},null,null,{"$error":"#REF!"},null,null,{"$error":"#REF!"},null,null,{"$error":"#REF!"},null,null,{"$error":"#REF!"},null,null,{"$error":"#REF!"},null,null,{"$error":"#REF!"},null,null,{"$error":"#REF!"},null,null,{"$error":"#REF!"},null,null,{"$error":"#REF!"},null,null,{"$error":"#REF!"},null,null,{"$error":"#REF!"},null,null,{"$error":"#REF!"},null,null,{"$error":"#REF!"},null,null,{"$error":"#REF!"},null,null,{"$error":"#REF!"}]
[52,54,{"$error":"#REF!"},null,null,null,null,null,null,null,null,null,null,null,null,{"$error":"#REF!"},null,null,{"$error":"#REF!"},null,null,{"$error":"#REF!"},null,null,{"$error":"#REF!"},null,null,{"$error":"#REF!"},null,null,{"$error":"#REF!"},null,null,{"$error":"#REF!"},null,null,{"$error":"#REF!"},null,null,{"$error":"#REF!"},null,null,{"$error":"#REF!"},null,null,{"$error":"#REF!"},null,null,{"$error":"#REF!"},null,null,{"$error":"#REF!"},null,null,{"$error":"#REF!"},null,null,{"$error":"#REF!"},null,null,{"$error":"#REF!"},null,null,{"$error":"#REF!"},null,null,{"$error":"#REF!"},null,null,{"$error":"#REF!"},null,null,{"$error":"#REF!"},null,null,{"$error":"#REF!"},null,null,{"$error":"#REF!"}]
[53,55,{"$error":"#REF!"},null,null,null,null,null,null,null,null,null,null,null,null,{"$error":"#REF!"},null,null,{"$error":"#REF!"},null,null,{"$error":"#REF!"},null,null,{"$error":"#REF!"},null,null,{"$error":"#REF!"},null,null,{"$error":"#REF!"},null,null,{"$error":"#REF!"},null,null,{"$error":"#REF!"},null,null,{"$error":"#REF!"},null,null,{"$error":"#REF!"},null,null,{"$error":"#REF!"},null,null,{"$error":"#REF!"},null,null,{"$error":"#REF!"},null,null,{"$error":"#REF!"},null,null,{"$error":"#REF!"},null,null,{"$error":"#REF!"},null,null,{"$error":"#REF!"},null,null,{"$error":"#REF!"},null,null,{"$error":"#REF!"},null,null,{"$error":"#REF!"},null,null,{"$error":"#REF!"},null,null,{"$error":"#REF!"}]
[54,56,{"$error":"#REF!"},null,null,null,null,null,null,null,null,null,null,null,null,{"$error":"#REF!"},null,null,{"$error":"#REF!"},null,null,{"$error":"#REF!"},null,null,{"$error":"#REF!"},null,null,{"$error":"#REF!"},null,null,{"$error":"#REF!"},null,null,{"$error":"#REF!"},null,null,{"$error":"#REF!"},null,null,{"$error":"#REF!"},null,null,{"$error":"#REF!"},null,null,{"$error":"#REF!"},null,null,{"$error":"#REF!"},null,null,{"$error":"#REF!"},null,null,{"$error":"#REF!"},null,null,{"$error":"#REF!"},null,null,{"$error":"#REF!"},null,null,{"$error":"#REF!"},null,null,{"$error":"#REF!"},null,null,{"$error":"#REF!"},null,null,{"$error":"#REF!"},null,null,{"$error":"#REF!"},null,null,{"$error":"#REF!"}]
[55,57,{"$error":"#REF!"},null,null,null,null,null,null,null,null,null,null,null,null,{"$f":"SUM(S64:CD64)","v":{"$error":"#REF!"}},null,null,{"$error":"#REF!"},null,null,{"$error":"#REF!"},null,null,{"$error":"#REF!"},null,null,{"$error":"#REF!"},null,null,{"$error":"#REF!"},null,null,{"$error":"#REF!"},null,null,{"$error":"#REF!"},null,null,{"$error":"#REF!"},null,null,{"$error":"#REF!"},null,null,{"$error":"#REF!"},null,null,{"$error":"#REF!"},null,null,{"$error":"#REF!"},null,null,{"$error":"#REF!"},null,null,{"$error":"#REF!"},null,null,{"$error":"#REF!"},null,null,{"$error":"#REF!"},null,null,{"$error":"#REF!"},null,null,{"$error":"#REF!"},null,null,{"$error":"#REF!"},null,null,{"$error":"#REF!"},null,null,{"$error":"#REF!"}]
[56,58,{"$error":"#REF!"},null,null,null,null,null,null,null,null,null,null,null,null,{"$f":"SUM(S65:CD65)","v":{"$error":"#REF!"}},null,null,{"$error":"#REF!"},null,null,{"$error":"#REF!"},null,null,{"$error":"#REF!"},null,null,{"$error":"#REF!"},null,null,{"$error":"#REF!"},null,null,{"$error":"#REF!"},null,null,{"$error":"#REF!"},null,null,{"$error":"#REF!"},null,null,{"$error":"#REF!"},null,null,{"$error":"#REF!"},null,null,{"$error":"#REF!"},null,null,{"$error":"#REF!"},null,null,{"$error":"#REF!"},null,null,{"$error":"#REF!"},null,null,{"$error":"#REF!"},null,null,{"$error":"#REF!"},null,null,{"$error":"#REF!"},null,null,{"$error":"#REF!"},null,null,{"$error":"#REF!"},null,null,{"$error":"#REF!"},null,null,{"$error":"#REF!"}]
[57,59,{"$error":"#REF!"},null,null,null,null,null,null,null,null,null,null,null,null,{"$f":"SUM(S66:CD66)","v":{"$error":"#REF!"}},null,null,{"$error":"#REF!"},null,null,{"$error":"#REF!"},null,null,{"$error":"#REF!"},null,null,{"$error":"#REF!"},null,null,{"$error":"#REF!"},null,null,{"$error":"#REF!"},null,null,{"$error":"#REF!"},null,null,{"$error":"#REF!"},null,null,{"$error":"#REF!"},null,null,{"$error":"#REF!"},null,null,{"$error":"#REF!"},null,null,{"$error":"#REF!"},null,null,{"$error":"#REF!"},null,null,{"$error":"#REF!"},null,null,{"$error":"#REF!"},null,null,{"$error":"#REF!"},null,null,{"$error":"#REF!"},null,null,{"$error":"#REF!"},null,null,{"$error":"#REF!"},null,null,{"$error":"#REF!"},null,null,{"$error":"#REF!"}]

{"sheet":"Формулы","index":36,"n_rows":39,"n_cols":18,"rows_kept":39,"cut":false,"hidden":true,"merged":[]}
[null,"Пример построения формул и флагов"]
[]
[null,"Предпосылки"]
[null,"Цена, руб. / т, на 01.01.2017",50]
[null,"Инфляция на прогнозный период",0.02]
[null,"Плановый объем, млн. т в год",1000]
[null,"План по загрузке мощностей:"]
[null,"до ","2017-09-30",0.5]
[null,"до ","2017-12-31",0.75]
[null,null,"далее",0.9]
[]
[]
[null,"Некорректные расчет и представление"]
[null,"Период (квартал) №",1,2,3,4,5,6,7,8,9,10,11,12,13,14,15,16]
[null,"Конец периода (квартала)","2017-03-31",{"$f":"C15+91.5","v":"2017-06-30T12:00:00"},"2017-09-30","2017-12-30T12:00:00","2018-04-01","2018-07-01T12:00:00","2018-10-01","2018-12-31T12:00:00","2019-04-02","2019-07-02T12:00:00","2019-10-02","2020-01-01T12:00:00","2020-04-02","2020-07-02T12:00:00","2020-10-02","2021-01-01T12:00:00"]
[null,"Выручка, млн. руб.",{"$f":"IF(C15<=$C$8,$D$8,IF(C15<=$C$9,$D$9,$D$10))*$C$6/4*$C$4*(1+$C$5*C14/4)","v":6281.2499999999991},{"$f":"IF(D15<=$C$8,$D$8,IF(D15<=$C$9,$D$9,$D$10))*$C$6/4*$C$4*(1+$C$5*D14/4)","v":6312.5},{"$f":"IF(E15<=$C$8,$D$8,IF(E15<=$C$9,$D$9,$D$10))*$C$6/4*$C$4*(1+$C$5*E14/4)","v":6343.7499999999991},9562.5,11531.249999999998,11587.5,11643.75,11700,11756.25,11812.5,11868.75,11925,11981.25,12037.5,12093.75,12150]
[]
[]
[]
[]
[null,"Корректные расчет и представление"]
[null,"Период (квартал) №",1,{"$f":"C22+1","v":2},{"$f":"D22+1","v":3},4,5,6,7,8,9,10,11,12,13,14,15,16]
[null,"Начало периода (квартала)","2017-01-01",{"$f":"C24+1","v":"2017-04-01"},{"$f":"D24+1","v":"2017-07-01"},"2017-10-01","2018-01-01","2018-04-01","2018-07-01","2018-10-01","2019-01-01","2019-04-01","2019-07-01","2019-10-01","2020-01-01","2020-04-01","2020-07-01","2020-10-01"]
[null,"Конец периода (квартала)",{"$f":"DATE(YEAR(C23),MONTH(C23)+3,DAY(C23)-1)","v":"2017-03-31"},{"$f":"DATE(YEAR(D23),MONTH(D23)+3,DAY(D23)-1)","v":"2017-06-30"},{"$f":"DATE(YEAR(E23),MONTH(E23)+3,DAY(E23)-1)","v":"2017-09-30"},"2017-12-31","2018-03-31","2018-06-30","2018-09-30","2018-12-31","2019-03-31","2019-06-30","2019-09-30","2019-12-31","2020-03-31","2020-06-30","2020-09-30","2020-12-31"]
[null,"Дней в году",{"$f":"(1+DATE(YEAR(C23),12,31)-DATE(YEAR(C23),1,1))","v":365},{"$f":"(1+DATE(YEAR(D23),12,31)-DATE(YEAR(D23),1,1))","v":365},{"$f":"(1+DATE(YEAR(E23),12,31)-DATE(YEAR(E23),1,1))","v":365},365,365,365,365,365,365,365,365,365,366,366,366,366]
[null,"Продолжительность периода (квартала), дней",{"$f":"C24-C23+1","v":90},{"$f":"D24-D23+1","v":91},{"$f":"E24-E23+1","v":92},92,90,91,92,92,90,91,92,92,91,91,92,92]
[]
[null,"До 30.09.2017",{"$f":"IF(C24<=$C$8,1,0)","v":1},1,1,0,0,0,0,0,0,0,0,0,0,0,0,0]
[null,"От 30.09.2017 до 31.12.2017",{"$f":"IF(AND(C23>=$C$8,C24<=$C$9),1,0)","v":0},0,0,1,0,0,0,0,0,0,0,0,0,0,0,0]
[null,"После 31.12.2017",{"$f":"IF(C23>=$C$9,1,0)","v":0},0,0,0,1,1,1,1,1,1,1,1,1,1,1,1]
[]
[null,"Загрузка",{"$f":"$D$8*C28","v":0.5},0.5,0.5,0,0,0,0,0,0,0,0,0,0,0,0,0]
[null,null,{"$f":"$D$9*C29","v":0},0,0,0.75,0,0,0,0,0,0,0,0,0,0,0,0]
[null,null,{"$f":"$D$10*C30","v":0},0,0,0,0.9,0.9,0.9,0.9,0.9,0.9,0.9,0.9,0.9,0.9,0.9,0.9]
[null,"Загрузка итог",{"$f":"SUM(C32:C34)","v":0.5},0.5,0.5,0.75,0.9,0.9,0.9,0.9,0.9,0.9,0.9,0.9,0.9,0.9,0.9,0.9]
[null,"Объем, млн. т",{"$f":"$C$6*C35*C26/C25","v":123.28767123287672},124.65753424657534,126.02739726027397,189.04109589041096,221.91780821917808,224.38356164383561,226.84931506849315,226.84931506849315,221.91780821917808,224.38356164383561,226.84931506849315,226.84931506849315,223.7704918032787,223.7704918032787,226.2295081967213,226.2295081967213]
[null,"Инфляция накопленная",{"$f":"((1+$C$5)^0.25)^C22","v":1.0049629315732038},{"$f":"((1+$C$5)^0.25)^D22","v":1.0099504938362081},{"$f":"((1+$C$5)^0.25)^E22","v":1.0149628090294405},1.0200000000000005,1.0250621902046684,1.0301495037129327,1.0352620652100297,1.0404000000000009,1.0455634340087621,1.0507524937871917,1.0559673065142308,1.0612080000000015,1.0664747026889378,1.0717675436629361,1.0770866526445158,1.0824321600000018]
[null,"Цена",{"$f":"$C$4*C37","v":50.24814657866019},{"$f":"$C$4*D37","v":50.497524691810405},50.748140451472025,51.000000000000021,51.253109510233422,51.507475185646634,51.763103260501488,52.020000000000046,52.278171700438101,52.537624689359589,52.798365325711536,53.060400000000072,53.323735134446892,53.588377183146804,53.854332632225791,54.121608000000087]
[null,"Выручка, млн. руб.",{"$f":"C36*C38","v":6194.9769754512563},{"$f":"D36*D38","v":6294.8969136366395},6395.6560568978439,9641.095890410963,11373.977726928513,11557.430733436875,11742.424520464447,11800.701369863024,11601.457281467085,11788.579348105617,11977.273010873741,12036.71539726029,11932.278435822953,11991.49751721236,12183.439185651079,12243.904760655756]